{"text_format":"1","workbook":"xlsx","n_sheets":7,"sheets":["Disclaimer","Control","Spectrum","Check","Assessment","Stats","Plots"],"not_rendered":{"charts":7,"images":0,"macros":1,"external_links":0,"defined_names":6,"comments":0,"pivot_tables":0},"unopened":[],"bounds":{"document_bytes":16777216,"sheet_cells":100000,"rows_first":2000,"rows_last":500,"rows_between":2000,"halvings":0,"cell_chars":16384,"cell_head_chars":4096},"cells_cut":0,"cells_raw":0,"read":"whole","date_system":"1900"}

{"sheet":"Disclaimer","index":0,"n_rows":8,"n_cols":2,"rows_kept":8,"cut":false,"hidden":false,"merged":[[6,1,6,8],[7,1,7,8]]}
[]
[null,"Disclaimer"]
[null,{"$f":"CELL(\"filename\",B2)","v":"C:\\Temp Files\\SpecMaker 2025\\specmaker 2025\\[SpecMaker 2025.xlsm]Disclaimer"}]
[null,"Spreadsheet prepared by Dr. Gordon Gilmore "]
[null,"01/08/2009 updated and renamed 3/01/2025"]
[]
[null,"These worksheets are provided in good faith for for the convenience of gamma spectrometrists and readers of Practical Gamma-Ray Spectrometry."]
[null," The author cannot be held responsible for any inconvenience or loss of any kind arising from the use of these spreadsheets or the conclusions drawn from them."]

{"sheet":"Control","index":1,"n_rows":58,"n_cols":21,"rows_kept":58,"cut":false,"hidden":false,"merged":[[31,2,31,3],[15,2,15,3],[5,6,5,9],[6,15,6,16],[30,2,30,3],[13,2,13,3],[16,2,16,4]]}
[]
[null,"SpecMaker - Create Test Spectra"]
[null,{"$f":"CELL(\"filename\",B2)","v":"C:\\Temp Files\\SpecMaker 2025\\specmaker 2025\\[SpecMaker 2025.xlsm]Control"}]
[null,"Spreadsheet prepared by Dr. Gordon Gilmore"]
[]
[null,"Control Data",null,null,null,null,"Peak List",null,null,null,null,null,null,null,null,"Number of Peaks:",{"$f":"COUNT(H9:H58)","v":0},null,"RMS diff:",{"$f":"SQRT(SUMSQ(T9:T58)/Q6)","v":{"$error":"#VALUE!"}},{"$f":"AVERAGE(U9:U58)","v":{"$error":"#DIV/0!"}}]
[null,"Spectrum Size:",{"$f":"VLOOKUP(D43,$C$45:$D$49,2)","v":8192},"channels",null,null,null,"Energy","Peak Area","Position","FWHM","Peak width",null,null,null,"Created"]
[null,"Maximum Energy:",{"$f":"IF(C21<>\"\",$C$20+C7*$C$21+$C$22*C7^2,\"\")","v":2202.2817962765694},"keV",null,null,null,"(keV)","(counts)","(Channel)","(keV)","(Channels)","sigma","ymax","2s^2","Centroid","Count","Midpt","halfwidth","Cent diffs"]
[null,"Background at Channel 2:",6100,"counts",null,null,1,null,null,{"$f":"IF(H9<>\"\",IF(H9>$C$8,\"OFF SCALE\",1/((-$C$21-SQRT($C$21^2-4*($C$20-H9)*$C$22))/(2*($C$20-H9)))),\"\")","v":""},{"$f":"IF(H9<>\"\",IF(H9<>511,($C$24*H9+$C$23+H9^2*$C$25),$C$50*($C$24*H9+$C$23+H9^2*$C$25)),\"\")","v":""},{"$f":"IF(H9<>\"\",ROUND(2*K9*$C$27/$C$21/2.355,0),\"\")","v":""},{"$f":"K9/2.355/$C$21","v":{"$error":"#VALUE!"}},{"$f":"I9/(M9*SQRT(2*PI()))","v":{"$error":"#VALUE!"}},{"$f":"2*M9^2","v":{"$error":"#VALUE!"}},385.68494247123562,9995,386,4,{"$f":"IF(P9<>\"\",P9-J9,\"\")","v":{"$error":"#VALUE!"}},{"$f":"IF(P9<>\"\",Q9/I9,\"\")","v":{"$error":"#DIV/0!"}}]
[null,{"$f":"CONCATENATE(\"Background at Channel \",C7,\":\")","v":"Background at Channel 8192:"},100,"counts",null,null,{"$f":"1+G9","v":2},null,null,{"$f":"IF(H10<>\"\",IF(H10>$C$8,\"OFF SCALE\",1/((-$C$21-SQRT($C$21^2-4*($C$20-H10)*$C$22))/(2*($C$20-H10)))),\"\")","v":""},{"$f":"IF(H10<>\"\",IF(H10<>511,($C$24*H10+$C$23+H10^2*$C$25),$C$50*($C$24*H10+$C$23+H10^2*$C$25)),\"\")","v":""},{"$f":"IF(H10<>\"\",ROUND(2*K10*$C$27/$C$21/2.355,0),\"\")","v":""},{"$f":"K10/2.355/$C$21","v":{"$error":"#VALUE!"}},{"$f":"I10/(M10*SQRT(2*PI()))","v":{"$error":"#VALUE!"}},{"$f":"2*M10^2","v":{"$error":"#VALUE!"}},534.21003252439334,7994,534,4,{"$f":"IF(P10<>\"\",P10-J10,\"\")","v":{"$error":"#VALUE!"}},{"$f":"IF(P10<>\"\",Q10/I10,\"\")","v":{"$error":"#DIV/0!"}}]
[null,{"$f":"IF(C12<>3,\"Background Gradient:\", \"Decay Factor:\")","v":"Background Gradient:"},{"$f":"IF(C12<>3,(C10-C9)/(C7-2),-LN(C10/C9)/C7)","v":-0.73260073260073255},null,null,null,{"$f":"1+G10","v":3},null,null,"","",{"$f":"IF(H11<>\"\",ROUND(2*K11*$C$27/$C$21/2.355,0),\"\")","v":""},{"$error":"#VALUE!"},{"$error":"#VALUE!"},{"$error":"#VALUE!"},682.74386784582009,5993,683,4,{"$f":"IF(P11<>\"\",P11-J11,\"\")","v":{"$error":"#VALUE!"}},{"$error":"#DIV/0!"}]
[null,"Background Mode:",2,null,null,null,4,null,null,"","",{"$f":"IF(H12<>\"\",ROUND(2*K12*$C$27/$C$21/2.355,0),\"\")","v":""},{"$error":"#VALUE!"},{"$error":"#VALUE!"},{"$error":"#VALUE!"},831.26421237165039,3993,831,4,{"$error":"#VALUE!"},{"$error":"#DIV/0!"}]
[null,"OR      ",null,null,null,null,5,null,null,"","","",{"$error":"#VALUE!"},{"$error":"#VALUE!"},{"$error":"#VALUE!"},979.79489744872433,1999,980,5,{"$error":"#VALUE!"},{"$error":"#DIV/0!"}]
[null,"Background Spectrum Filename:",null,null,".CHN",null,6,null,null,"","","",{"$error":"#VALUE!"},{"$error":"#VALUE!"},{"$error":"#VALUE!"},1128.3240000000001,1000,1128,5,{"$error":"#VALUE!"},{"$error":"#DIV/0!"}]
[null,null,{"$f":"IF(C14<>\"\",\"Mathematical Continuum Disabled\",\"\")","v":""},null,null,null,7,null,null,"","","",{"$error":"#VALUE!"},{"$error":"#VALUE!"},{"$error":"#VALUE!"},1276.8642714570858,501,1277,5,{"$error":"#VALUE!"},{"$error":"#DIV/0!"}]
[null,"Working Folder:","c:\\temp files",null,null,null,8,null,null,"","","",{"$error":"#VALUE!"},{"$error":"#VALUE!"},{"$error":"#VALUE!"},1425.37869229999,9987,1425,5,{"$error":"#VALUE!"},{"$error":"#DIV/0!"}]
[null,null,null,null,null,null,9,null,null,"","","",{"$error":"#VALUE!"},{"$error":"#VALUE!"},{"$error":"#VALUE!"},1573.9138708062094,7988,1574,5,{"$error":"#VALUE!"},{"$error":"#DIV/0!"}]
[null,null,null,null,null,null,10,null,null,"","","",{"$error":"#VALUE!"},{"$error":"#VALUE!"},{"$error":"#VALUE!"},1722.4318181818182,5984,1722,5,{"$error":"#VALUE!"},{"$error":"#DIV/0!"}]
[null,"Calibration Data",null,null,null,null,11,null,null,"","","",{"$error":"#VALUE!"},{"$error":"#VALUE!"},{"$error":"#VALUE!"},1911.8185008774128,3989,1912,8,{"$error":"#VALUE!"},{"$error":"#DIV/0!"}]
[null,"Energy Intercept:",-3.8680155277252197,"keV",null,null,{"$f":"1+G19","v":12},null,null,{"$f":"IF(H20<>\"\",IF(H20>$C$8,\"OFF SCALE\",1/((-$C$21-SQRT($C$21^2-4*($C$20-H20)*$C$22))/(2*($C$20-H20)))),\"\")","v":""},"","",{"$error":"#VALUE!"},{"$error":"#VALUE!"},{"$error":"#VALUE!"},2019.4967483741871,1999,2019,6,{"$error":"#VALUE!"},{"$error":"#DIV/0!"}]
[null,"Energy scale:",0.26930925250053406,"keV/ch",null,null,13,null,null,"","","",{"$error":"#VALUE!"},{"$error":"#VALUE!"},{"$error":"#VALUE!"},2168.0239999999999,1000,2168,6,{"$error":"#VALUE!"},{"$error":"#DIV/0!"}]
[null,"Energy Quad Factor:",-4.7064840913435546E-10,"keV/ch2 ",null,null,14,null,null,"","","",{"$error":"#VALUE!"},{"$error":"#VALUE!"},{"$error":"#VALUE!"},2316.58,500,2317,6,{"$error":"#VALUE!"},{"$error":"#DIV/0!"}]
[null,"Width Intercept:",0.71630436182022095,"keV",null,null,15,null,null,"","","",{"$error":"#VALUE!"},{"$error":"#VALUE!"},{"$error":"#VALUE!"},2465.0862293440159,9985,2465,6,{"$error":"#VALUE!"},{"$error":"#DIV/0!"}]
[null,"Width scale:",9.7262975759804249E-4,null,null,null,16,null,null,"","","",{"$error":"#VALUE!"},{"$error":"#VALUE!"},{"$error":"#VALUE!"},2613.6267385039469,7981,2614,6,{"$error":"#VALUE!"},{"$error":"#DIV/0!"}]
[null,"Width Quad Factor:",-1.0239361358799215E-7,"1/keV ",null,null,17,null,null,"","","",{"$f":"K25/2.355/$C$21","v":{"$error":"#VALUE!"}},{"$f":"I25/(M25*SQRT(2*PI()))","v":{"$error":"#VALUE!"}},{"$f":"2*M25^2","v":{"$error":"#VALUE!"}},2762.1430242272349,5985,2762,6,{"$error":"#VALUE!"},{"$error":"#DIV/0!"}]
[null,"Peak Coverage:",0.995,null,null,null,18,null,null,"","","",{"$error":"#VALUE!"},{"$error":"#VALUE!"},{"$error":"#VALUE!"},2910.6782586940203,3997,2911,7,{"$error":"#VALUE!"},{"$error":"#DIV/0!"}]
[null,"Full-width:",{"$f":"NORMSINV((1+C26)/2)","v":2.8070337683438114},"Std. Unc.",null,null,19,null,null,"","","",{"$error":"#VALUE!"},{"$error":"#VALUE!"},{"$error":"#VALUE!"},3059.2036018009003,1999,3059,7,{"$error":"#VALUE!"},{"$error":"#DIV/0!"}]
[null,null,null,null,null,null,20,null,null,"","","",{"$error":"#VALUE!"},{"$error":"#VALUE!"},{"$error":"#VALUE!"},3207.7357357357359,999,3208,7,{"$error":"#VALUE!"},{"$error":"#DIV/0!"}]
[null,"Information for Saved Spectrum",null,null,null,null,21,null,null,"","","",{"$error":"#VALUE!"},{"$error":"#VALUE!"},{"$error":"#VALUE!"},3356.2620000000002,500,3356,7,{"$error":"#VALUE!"},{"$error":"#DIV/0!"}]
[null,"Live time of Count:",null,"seconds",null,null,22,null,null,"","","",{"$error":"#VALUE!"},{"$error":"#VALUE!"},{"$error":"#VALUE!"},3504.7995190862639,9981,3505,7,{"$error":"#VALUE!"},{"$error":"#DIV/0!"}]
[null,"Output Spectrum Filename:",null,null,".CHN",null,23,null,null,"","","",{"$error":"#VALUE!"},{"$error":"#VALUE!"},{"$error":"#VALUE!"},3653.3172474304338,7978,3653,7,{"$error":"#VALUE!"},{"$error":"#DIV/0!"}]
[null,"Spectrum Description:",null,null,null,null,24,null,null,"","","",{"$error":"#VALUE!"},{"$error":"#VALUE!"},{"$error":"#VALUE!"},3801.8586229946523,5984,3802,7,{"$error":"#VALUE!"},{"$error":"#DIV/0!"}]
[null,null,null,null,null,null,25,null,null,"","","",{"$error":"#VALUE!"},{"$error":"#VALUE!"},{"$error":"#VALUE!"},3950.3719879518071,3984,3950,7,{"$error":"#VALUE!"},{"$error":"#DIV/0!"}]
[null,"Useful Information",null,null,null,null,26,null,null,"","","",{"$error":"#VALUE!"},{"$error":"#VALUE!"},{"$error":"#VALUE!"},4098.919839679359,1996,4099,8,{"$error":"#VALUE!"},{"$error":"#DIV/0!"}]
[null,null,"Resolution of this Detector at 1332.5 keV:",{"$f":"ROUND(C23+C24*1332.5+1332.5^2*C25,2)","v":1.83},"keV",null,27,null,null,"","","",{"$error":"#VALUE!"},{"$error":"#VALUE!"},{"$error":"#VALUE!"},4247.4418837675348,998,4247,8,{"$error":"#VALUE!"},{"$error":"#DIV/0!"}]
[null,null,"Typical Resolution at 1332.5 keV:",{"$f":"\"1.80\"","v":"1.80"},"keV",null,28,null,null,"","","",{"$error":"#VALUE!"},{"$error":"#VALUE!"},{"$error":"#VALUE!"},4395.9679358717431,499,4396,8,{"$error":"#VALUE!"},{"$error":"#DIV/0!"}]
[null,"Resolution at this Energy (keV):",511,{"$f":"IF(C37<>511,ROUND(C23+C24*C37+C37^2*C25,2),ROUND(C50*(C23+C24*C37+C37^2*C25),2))","v":2.37},"keV",null,29,null,null,"","","",{"$error":"#VALUE!"},{"$error":"#VALUE!"},{"$error":"#VALUE!"},4544.5167368210059,9978,4545,8,{"$error":"#VALUE!"},{"$error":"#DIV/0!"}]
[null,null,"Peak width at that Energy:",{"$f":"ROUND(2*D37*$C$27/$C$21/2.355,0)","v":21},"chs",null,30,null,null,"","","",{"$error":"#VALUE!"},{"$error":"#VALUE!"},{"$error":"#VALUE!"},4693.0362064645451,7982,4693,8,{"$error":"#VALUE!"},{"$error":"#DIV/0!"}]
[null,null,"Peak Position at that Energy:",{"$f":"1/((-$C$21-SQRT($C$21^2-4*($C$20-C37)*$C$22))/(2*($C$20-C37)))-D38","v":1890.8159921581157},"ch",null,31,null,null,"","","",{"$error":"#VALUE!"},{"$error":"#VALUE!"},{"$error":"#VALUE!"},4841.5801169590641,5985,4842,8,{"$error":"#VALUE!"},{"$error":"#DIV/0!"}]
[null,null,"Critical Limit at that Position:",{"$f":"1.645*SQRT(VLOOKUP(INT(D39),Spectrum!A2:B8191,2)*(1+D38/10))","v":198.92056647692314},"cts",null,32,null,null,"","","",{"$error":"#VALUE!"},{"$error":"#VALUE!"},{"$error":"#VALUE!"},4990.0943301555444,3986,4990,8,{"$error":"#VALUE!"},{"$error":"#DIV/0!"}]
[null,null,null,null,null,null,33,null,null,"","","",{"$error":"#VALUE!"},{"$error":"#VALUE!"},{"$error":"#VALUE!"},5138.6495983935747,1992,5139,8,{"$error":"#VALUE!"},{"$error":"#DIV/0!"}]
[null,"Background Mode",null,"Spec Sizes",null,null,34,null,null,"","","",{"$error":"#VALUE!"},{"$error":"#VALUE!"},{"$error":"#VALUE!"},5287.1679999999997,1000,5287,9,{"$error":"#VALUE!"},{"$error":"#DIV/0!"}]
[null,null,null,5,null,null,35,null,null,"","","",{"$error":"#VALUE!"},{"$error":"#VALUE!"},{"$error":"#VALUE!"},5435.7074148296597,499,5436,9,{"$error":"#VALUE!"},{"$error":"#DIV/0!"}]
[null,null,null," ",null,null,36,null,null,"","","",{"$error":"#VALUE!"},{"$error":"#VALUE!"},{"$error":"#VALUE!"},5584.2175132752227,9981,5584,9,{"$error":"#VALUE!"},{"$error":"#DIV/0!"}]
[1,"Unscattered",1,512,null,null,37,null,null,"","","",{"$error":"#VALUE!"},{"$error":"#VALUE!"},{"$error":"#VALUE!"},5732.7583312453016,7982,5733,9,{"$error":"#VALUE!"},{"$error":"#DIV/0!"}]
[2,"Linear",2,1024,null,null,38,null,null,"","","",{"$error":"#VALUE!"},{"$error":"#VALUE!"},{"$error":"#VALUE!"},5881.2780748663099,5984,5881,9,{"$error":"#VALUE!"},{"$error":"#DIV/0!"}]
[3,"Exponential",3,2048,null,null,39,null,null,"","","",{"$error":"#VALUE!"},{"$error":"#VALUE!"},{"$error":"#VALUE!"},6029.8225563909773,3990,6030,9,{"$error":"#VALUE!"},{"$error":"#DIV/0!"}]
[4,"Linear Flat",4,4096,null,null,40,null,null,"","","",{"$error":"#VALUE!"},{"$error":"#VALUE!"},{"$error":"#VALUE!"},6178.333333333333,1995,6178,9,{"$error":"#VALUE!"},{"$error":"#DIV/0!"}]
[5,"Spectrum",5,8192,null,null,41,null,null,"","","",{"$error":"#VALUE!"},{"$error":"#VALUE!"},{"$error":"#VALUE!"},6326.8814070351755,995,6327,9,{"$error":"#VALUE!"},{"$error":"#DIV/0!"}]
[null,"511 keV width Factor:",2,null,null,null,42,null,null,"","","",{"$error":"#VALUE!"},{"$error":"#VALUE!"},{"$error":"#VALUE!"},6475.4032258064517,496,6475,10,{"$error":"#VALUE!"},{"$error":"#DIV/0!"}]
[null,null,null,null,null,null,43,null,null,"","","",{"$error":"#VALUE!"},{"$error":"#VALUE!"},{"$error":"#VALUE!"},6623.9428084935898,9984,6624,10,{"$error":"#VALUE!"},{"$error":"#DIV/0!"}]
[null,null,null,null,null,null,44,null,null,"","","",{"$error":"#VALUE!"},{"$error":"#VALUE!"},{"$error":"#VALUE!"},6772.4634940513461,7985,6772,10,{"$error":"#VALUE!"},{"$error":"#DIV/0!"}]
[null,null,null,null,null,null,45,null,null,"","","",{"$error":"#VALUE!"},{"$error":"#VALUE!"},{"$error":"#VALUE!"},6921.0058450233801,5988,6921,10,{"$error":"#VALUE!"},{"$error":"#DIV/0!"}]
[null,null,null,null,null,null,46,null,null,"","","",{"$error":"#VALUE!"},{"$error":"#VALUE!"},{"$error":"#VALUE!"},7069.5507391631172,3991,7070,10,{"$error":"#VALUE!"},{"$error":"#DIV/0!"}]
[null,null,null,null,null,null,47,null,null,"","","",{"$error":"#VALUE!"},{"$error":"#VALUE!"},{"$error":"#VALUE!"},7218.0586172344692,1996,7218,10,{"$error":"#VALUE!"},{"$error":"#DIV/0!"}]
[null,null,null,null,null,null,48,null,null,"","","",{"$error":"#VALUE!"},{"$error":"#VALUE!"},{"$error":"#VALUE!"},7366.6094377510044,996,7367,10,{"$error":"#VALUE!"},{"$error":"#DIV/0!"}]
[null,null,null,null,null,null,49,null,null,"","","",{"$error":"#VALUE!"},{"$error":"#VALUE!"},{"$error":"#VALUE!"},7515.1182364729457,499,7515,10,{"$error":"#VALUE!"},{"$error":"#DIV/0!"}]
[null,null,null,null,null,null,50,null,null,"","","",{"$error":"#VALUE!"},{"$error":"#VALUE!"},{"$error":"#VALUE!"},7663.6764381086232,9961,7664,10,{"$error":"#VALUE!"},{"$error":"#DIV/0!"}]

{"sheet":"Spectrum","index":2,"n_rows":8212,"n_cols":15,"rows_kept":4500,"cut":true,"hidden":false,"merged":[],"bounds":{"rows_first":2000,"rows_last":500,"rows_between":2000,"halvings":0}}
["Channel Number","Original Channel Contents","Scattered Channel Contents","Peak Counts",null,null,null,null,null,734,101,{"$f":"IF(K1<>0,ROUND(K1+NORMSINV(RAND())*SQRT(K1),0))","v":91},"Channel Energy keV","2 sigma Upper Limit","2 sigma Lower Limit"]
[2,6100,6029,null,null,null,"Format of CHN files",null,null,{"$f":"NOW()","v":"2025-02-10T11:40:03.970"},null,null,{"$f":"Control!$C$20+Control!$C$21*A2+Control!$C$22*A2^2","v":-3.3293970246067452},{"$f":"Spectrum!B2+2*SQRT(Spectrum!B2)","v":6256.2049935181331},{"$f":"Spectrum!B2-2*SQRT(Spectrum!B2)","v":5943.7950064818669}]
[3,6099,6088,null,null,null,null,null,null,null,null,null,{"$f":"Control!$C$20+Control!$C$21*A3+Control!$C$22*A3^2","v":-3.0600877744594532},{"$f":"IF(D3=0,B3+2*SQRT(B3),N2)","v":6255.1921893053559},{"$f":"IF(D3=0,B3-2*SQRT(B3),O2)","v":5942.8078106946441}]
[4,6099,6050,null,null,null,0,2,"Marker",-1,null,null,{"$f":"Control!$C$20+Control!$C$21*A4+Control!$C$22*A4^2","v":-2.790778525253458},6255.1921893053559,5942.8078106946441]
[5,6098,6102,null,null,null,2,2,"MCA number",0,null,null,{"$f":"Control!$C$20+Control!$C$21*A5+Control!$C$22*A5^2","v":-2.5214692769887597},6254.1793840428372,5941.8206159571628]
[6,6097,5933,null,null,null,4,2,"Segment",1,null,null,{"$f":"Control!$C$20+Control!$C$21*A6+Control!$C$22*A6^2","v":-2.2521600296653581},6253.1665777303197,5940.8334222696803]
[7,6096,5962,null,null,null,6,2,"ASCII Seconds",{"$f":"UPPER(TEXT(NOW(),\"ss\"))","v":"04"},null,null,{"$f":"Control!$C$20+Control!$C$21*A7+Control!$C$22*A7^2","v":-1.9828507832832534},6252.1537703675449,5939.8462296324551]
[8,6096,6091,null,null,null,8,4,"RT in 1/50s units",{"$f":"Control!C30*50","v":0},{"$f":"J8/50","v":0},"s",{"$f":"Control!$C$20+Control!$C$21*A8+Control!$C$22*A8^2","v":-1.7135415378424455},6252.1537703675449,5939.8462296324551]
[9,6095,6122,null,null,null,12,4,"LT in 1/50s units",{"$f":"J8","v":0},{"$f":"J9/50","v":0},"s",{"$f":"Control!$C$20+Control!$C$21*A9+Control!$C$22*A9^2","v":-1.4442322933429343},6251.1409619542546,5938.8590380457454]
[10,6094,5980,null,null,null,16,8,"Date SOC",{"$f":"TEXT(NOW(),\"ddmmmyy\")","v":"10Feb25"},null,null,{"$f":"Control!$C$20+Control!$C$21*A10+Control!$C$22*A10^2","v":-1.1749230497847201},6250.1281524901897,5937.8718475098103]
[11,6093,5970,null,null,null,24,4,"Time SOC",{"$f":"UPPER(TEXT(NOW(),\"hhmmyy\"))","v":"114025"},null,null,{"$f":"Control!$C$20+Control!$C$21*A11+Control!$C$22*A11^2","v":-0.9056138071678026},6249.1153419750926,5936.8846580249074]
[12,6093,6061,null,null,null,28,2,"Channel offset",0,null,null,{"$f":"Control!$C$20+Control!$C$21*A12+Control!$C$22*A12^2","v":-0.63630456549218195},6249.1153419750926,5936.8846580249074]
[13,6092,6234,null,null,null,30,2,"Spectrum Size",{"$f":"Control!C7","v":8192},null,null,{"$f":"Control!$C$20+Control!$C$21*A13+Control!$C$22*A13^2","v":-0.36699532475785812},6248.1025304087025,5935.8974695912975]
[14,6091,6043,null,null,null,null,null,null,null,null,null,{"$f":"Control!$C$20+Control!$C$21*A14+Control!$C$22*A14^2","v":-9.768608496483111E-2},6247.0897177907627,5934.9102822092373]
[15,6090,6099,null,null,null,0,2,"Marker",-102,null,null,{"$f":"Control!$C$20+Control!$C$21*A15+Control!$C$22*A15^2","v":0.17162315388689908},6246.0769041210133,5933.9230958789867]
[16,6090,6124,null,null,null,2,2,"Reserved",null,null,null,{"$f":"Control!$C$20+Control!$C$21*A16+Control!$C$22*A16^2","v":0.44093239179733246},6246.0769041210133,5933.9230958789867]
[17,6089,6183,null,null,null,4,4,"En int",{"$f":"Control!C20","v":-3.8680155277252197},"keV",null,{"$f":"Control!$C$20+Control!$C$21*A17+Control!$C$22*A17^2","v":0.71024162876646901},6245.0640893991949,5932.9359106008051]
[18,6088,6077,null,null,null,8,4,"En grad",{"$f":"Control!C21","v":0.26930925250053406},"keV/ch",null,{"$f":"Control!$C$20+Control!$C$21*A18+Control!$C$22*A18^2","v":0.97955086479430875},6244.0512736250494,5931.9487263749506]
[19,6088,6003,null,null,null,12,4,"En Quad",{"$f":"Control!C22","v":-4.7064840913435546E-10},null,null,{"$f":"Control!$C$20+Control!$C$21*A19+Control!$C$22*A19^2","v":1.2488600998808517},6244.0512736250494,5931.9487263749506]
[20,6087,6103,null,null,null,16,4,"Width Int",{"$f":"Control!C23/J18","v":2.6597837065356695},"ch",null,{"$f":"Control!$C$20+Control!$C$21*A20+Control!$C$22*A20^2","v":1.5181693340260978},6243.0384567983165,5930.9615432016835]
[21,6086,6120,null,null,null,20,4,"Width Grad",{"$f":"Control!C24","v":9.7262975759804249E-4},"ch/ch",null,{"$f":"Control!$C$20+Control!$C$21*A21+Control!$C$22*A21^2","v":1.7874785672300471},6242.0256389187371,5929.9743610812629]
[22,6085,6054,null,null,null,24,4,"Width Quad",{"$f":"Control!C25*J18","v":-2.7575547536210693E-8},null,null,{"$f":"Control!$C$20+Control!$C$21*A22+Control!$C$22*A22^2","v":2.0567877994926995},6241.012819986051,5928.987180013949]
[23,6085,6156,null,null,null,256,1,"Length of descr",{"$f":"LEN(J24)","v":26},null,null,{"$f":"Control!$C$20+Control!$C$21*A23+Control!$C$22*A23^2","v":2.3260970308140552},6241.012819986051,5928.987180013949]
[24,6084,6017,null,null,null,257,63,"Det Descr","SpecMaker Virtual Detector",null,null,{"$f":"Control!$C$20+Control!$C$21*A24+Control!$C$22*A24^2","v":2.595406261194114},6240,5928]
[25,6083,6151,null,null,null,320,1,"Length of descr",{"$f":"LEN(J26)","v":1},null,null,{"$f":"Control!$C$20+Control!$C$21*A25+Control!$C$22*A25^2","v":2.864715490632876},6238.9871789603239,5927.0128210396761]
[26,6082,6103,null,null,null,321,63,"Sample Descr",{"$f":"Control!C32","v":0},null,null,{"$f":"Control!$C$20+Control!$C$21*A26+Control!$C$22*A26^2","v":3.1340247191303412},6237.9743568667618,5926.0256431332382]
[27,6082,6154,null,null,null,384,128,"Reserved",null,null,null,{"$f":"Control!$C$20+Control!$C$21*A27+Control!$C$22*A27^2","v":3.4033339466865096},6237.9743568667618,5926.0256431332382]
[28,6081,6099,null,null,null,null,null,null,null,null,null,{"$f":"Control!$C$20+Control!$C$21*A28+Control!$C$22*A28^2","v":3.6726431733013811},6236.9615337190553,5925.0384662809447]
[29,6080,6096,null,null,null,null,null,"Filepath",{"$f":"CONCATENATE(Control!C16,\"\\\",Control!C31,\".chn\")","v":"c:\\temp files\\.chn"},null,null,{"$f":"Control!$C$20+Control!$C$21*A29+Control!$C$22*A29^2","v":3.9419523989749559},6235.9487095169434,5924.0512904830566]
[30,6079,6170,null,null,null,null,null,"Background",{"$f":"IF(Control!C14<>\"\",CONCATENATE(Control!C16,\"\\\",Control!C14:C14,\".chn\"),\"\")","v":""},null,null,{"$f":"Control!$C$20+Control!$C$21*A30+Control!$C$22*A30^2","v":4.2112616237072338},6234.9358842601659,5923.0641157398341]
[31,6079,6111,null,null,null,null,null,"Csv file:",{"$f":"CONCATENATE(Control!C16,\"\\\",Control!C31,\".csv\")","v":"c:\\temp files\\.csv"},null,null,{"$f":"Control!$C$20+Control!$C$21*A31+Control!$C$22*A31^2","v":4.4805708474982149},6234.9358842601659,5923.0641157398341]
[32,6078,6125,null,null,null,null,null,null,null,null,null,{"$f":"Control!$C$20+Control!$C$21*A32+Control!$C$22*A32^2","v":4.7498800703478992},6233.9230579484638,5922.0769420515362]
[33,6077,6026,null,null,null,null,null,null,null,null,null,{"$f":"Control!$C$20+Control!$C$21*A33+Control!$C$22*A33^2","v":5.0191892922562866},6232.910230581575,5921.089769418425]
[34,6077,5994,null,null,null,null,null,null,null,null,null,{"$f":"Control!$C$20+Control!$C$21*A34+Control!$C$22*A34^2","v":5.2884985132233773},6232.910230581575,5921.089769418425]
[35,6076,6098,null,null,null,null,null,null,null,null,null,{"$f":"Control!$C$20+Control!$C$21*A35+Control!$C$22*A35^2","v":5.5578077332491711},6231.8974021592403,5920.1025978407597]
[36,6075,6032,null,null,null,null,null,null,null,null,null,{"$f":"Control!$C$20+Control!$C$21*A36+Control!$C$22*A36^2","v":5.8271169523336681},6230.8845726811987,5919.1154273188013]
[37,6074,5951,null,null,null,null,null,null,null,null,null,{"$f":"Control!$C$20+Control!$C$21*A37+Control!$C$22*A37^2","v":6.0964261704768683},6229.8717421471902,5918.1282578528098]
[38,6074,6070,null,null,null,null,null,null,null,null,null,{"$f":"Control!$C$20+Control!$C$21*A38+Control!$C$22*A38^2","v":6.3657353876787717},6229.8717421471902,5918.1282578528098]
[39,6073,6059,null,null,null,null,null,null,null,null,null,{"$f":"Control!$C$20+Control!$C$21*A39+Control!$C$22*A39^2","v":6.6350446039393782},6228.8589105569517,5917.1410894430483]
[40,6072,5998,null,null,null,null,null,null,null,null,null,{"$f":"Control!$C$20+Control!$C$21*A40+Control!$C$22*A40^2","v":6.904353819258688},6227.8460779102252,5916.1539220897748]
[41,6071,6089,null,null,null,null,null,null,null,null,null,{"$f":"Control!$C$20+Control!$C$21*A41+Control!$C$22*A41^2","v":7.1736630336367009},6226.8332442067485,5915.1667557932515]
[42,6071,6148,null,null,null,null,null,null,null,null,null,{"$f":"Control!$C$20+Control!$C$21*A42+Control!$C$22*A42^2","v":7.442972247073417},6226.8332442067485,5915.1667557932515]
[43,6070,5992,null,null,null,null,null,null,null,null,null,{"$f":"Control!$C$20+Control!$C$21*A43+Control!$C$22*A43^2","v":7.7122814595688363},6225.8204094462599,5914.1795905537401]
[44,6069,6031,null,null,null,null,null,null,null,null,null,{"$f":"Control!$C$20+Control!$C$21*A44+Control!$C$22*A44^2","v":7.9815906711229587},6224.8075736284982,5913.1924263715018]
[45,6068,5970,null,null,null,null,null,null,null,null,null,{"$f":"Control!$C$20+Control!$C$21*A45+Control!$C$22*A45^2","v":8.2508998817357835},6223.7947367532033,5912.2052632467967]
[46,6068,5919,null,null,null,null,null,null,null,null,null,{"$f":"Control!$C$20+Control!$C$21*A46+Control!$C$22*A46^2","v":8.5202090914073132},6223.7947367532033,5912.2052632467967]
[47,6067,6209,null,null,null,null,null,null,null,null,null,{"$f":"Control!$C$20+Control!$C$21*A47+Control!$C$22*A47^2","v":8.7895183001375443},6222.7818988201134,5911.2181011798866]
[48,6066,6145,null,null,null,null,null,null,null,null,null,{"$f":"Control!$C$20+Control!$C$21*A48+Control!$C$22*A48^2","v":9.0588275079264804},6221.7690598289664,5910.2309401710336]
[49,6066,5995,null,null,null,null,null,null,null,null,null,{"$f":"Control!$C$20+Control!$C$21*A49+Control!$C$22*A49^2","v":9.3281367147741179},6221.7690598289664,5910.2309401710336]
[50,6065,6171,null,null,null,null,null,null,null,null,null,{"$f":"Control!$C$20+Control!$C$21*A50+Control!$C$22*A50^2","v":9.5974459206804603},6220.7562197795005,5909.2437802204995]
[51,6064,6090,null,null,null,null,null,null,null,null,null,{"$f":"Control!$C$20+Control!$C$21*A51+Control!$C$22*A51^2","v":9.8667551256455042},6219.7433786714546,5908.2566213285454]
[52,6063,6101,null,null,null,null,null,null,null,null,null,{"$f":"Control!$C$20+Control!$C$21*A52+Control!$C$22*A52^2","v":10.136064329669253},6218.7305365045659,5907.2694634954341]
[53,6063,5897,null,null,null,null,null,null,null,null,null,{"$f":"Control!$C$20+Control!$C$21*A53+Control!$C$22*A53^2","v":10.405373532751703},6218.7305365045659,5907.2694634954341]
[54,6062,6031,null,null,null,null,null,null,null,null,null,{"$f":"Control!$C$20+Control!$C$21*A54+Control!$C$22*A54^2","v":10.674682734892858},6217.7176932785742,5906.2823067214258]
[55,6061,5893,null,null,null,null,null,null,null,null,null,{"$f":"Control!$C$20+Control!$C$21*A55+Control!$C$22*A55^2","v":10.943991936092715},6216.7048489932149,5905.2951510067851]
[56,6060,6113,null,null,null,null,null,null,null,null,null,{"$f":"Control!$C$20+Control!$C$21*A56+Control!$C$22*A56^2","v":11.213301136351276},6215.6920036482288,5904.3079963517712]
[57,6060,5984,null,null,null,null,null,null,null,null,null,{"$f":"Control!$C$20+Control!$C$21*A57+Control!$C$22*A57^2","v":11.482610335668539},6215.6920036482288,5904.3079963517712]
[58,6059,6123,null,null,null,null,null,null,null,null,null,{"$f":"Control!$C$20+Control!$C$21*A58+Control!$C$22*A58^2","v":11.751919534044507},6214.6791572433513,5903.3208427566487]
[59,6058,6033,null,null,null,null,null,null,null,null,null,{"$f":"Control!$C$20+Control!$C$21*A59+Control!$C$22*A59^2","v":12.021228731479177},6213.6663097783203,5902.3336902216797]
[60,6058,5996,null,null,null,null,null,null,null,null,null,{"$f":"Control!$C$20+Control!$C$21*A60+Control!$C$22*A60^2","v":12.290537927972551},6213.6663097783203,5902.3336902216797]
[61,6057,5979,null,null,null,null,null,null,null,null,null,{"$f":"Control!$C$20+Control!$C$21*A61+Control!$C$22*A61^2","v":12.559847123524627},6212.653461252874,5901.346538747126]
[62,6056,5980,null,null,null,null,null,null,null,null,null,{"$f":"Control!$C$20+Control!$C$21*A62+Control!$C$22*A62^2","v":12.829156318135407},6211.6406116667495,5900.3593883332505]
[63,6055,5947,null,null,null,null,null,null,null,null,null,{"$f":"Control!$C$20+Control!$C$21*A63+Control!$C$22*A63^2","v":13.098465511804889},6210.6277610196848,5899.3722389803152]
[64,6055,6103,null,null,null,null,null,null,null,null,null,{"$f":"Control!$C$20+Control!$C$21*A64+Control!$C$22*A64^2","v":13.367774704533076},6210.6277610196848,5899.3722389803152]
[65,6054,6005,null,null,null,null,null,null,null,null,null,{"$f":"Control!$C$20+Control!$C$21*A65+Control!$C$22*A65^2","v":13.637083896319965},6209.6149093114154,5898.3850906885846]
[66,6053,6145,null,null,null,null,null,null,null,null,null,{"$f":"Control!$C$20+Control!$C$21*A66+Control!$C$22*A66^2","v":13.906393087165558},6208.6020565416793,5897.3979434583207]
[67,6052,6021,null,null,null,null,null,null,null,null,null,{"$f":"Control!$C$20+Control!$C$21*A67+Control!$C$22*A67^2","v":14.175702277069853},{"$f":"IF(D67=0,B67+2*SQRT(B67),N66)","v":6207.5892027102136},{"$f":"IF(D67=0,B67-2*SQRT(B67),O66)","v":5896.4107972897864}]
[68,6052,6054,null,null,null,null,null,null,null,null,null,{"$f":"Control!$C$20+Control!$C$21*A68+Control!$C$22*A68^2","v":14.445011466032852},6207.5892027102136,5896.4107972897864]
[69,6051,6170,null,null,null,null,null,null,null,null,null,{"$f":"Control!$C$20+Control!$C$21*A69+Control!$C$22*A69^2","v":14.714320654054553},6206.5763478167555,5895.4236521832445]
[70,6050,6023,null,null,null,null,null,null,null,null,null,{"$f":"Control!$C$20+Control!$C$21*A70+Control!$C$22*A70^2","v":14.98362984113496},6205.5634918610403,5894.4365081389597]
[71,6049,6015,null,null,null,null,null,null,null,null,null,{"$f":"Control!$C$20+Control!$C$21*A71+Control!$C$22*A71^2","v":15.252939027274067},6204.5506348428062,5893.4493651571938]
[72,6049,6236,null,null,null,null,null,null,null,null,null,{"$f":"Control!$C$20+Control!$C$21*A72+Control!$C$22*A72^2","v":15.522248212471879},6204.5506348428062,5893.4493651571938]
[73,6048,6045,null,null,null,null,null,null,null,null,null,{"$f":"Control!$C$20+Control!$C$21*A73+Control!$C$22*A73^2","v":15.791557396728393},6203.5377767617883,5892.4622232382117]
[74,6047,6008,null,null,null,null,null,null,null,null,null,{"$f":"Control!$C$20+Control!$C$21*A74+Control!$C$22*A74^2","v":16.060866580043612},6202.5249176177249,5891.4750823822751]
[75,6047,5941,null,null,null,null,null,null,null,null,null,{"$f":"Control!$C$20+Control!$C$21*A75+Control!$C$22*A75^2","v":16.330175762417532},6202.5249176177249,5891.4750823822751]
[76,6046,6070,null,null,null,null,null,null,null,null,null,{"$f":"Control!$C$20+Control!$C$21*A76+Control!$C$22*A76^2","v":16.599484943850157},6201.5120574103503,5890.4879425896497]
[77,6045,5956,null,null,null,null,null,null,null,null,null,{"$f":"Control!$C$20+Control!$C$21*A77+Control!$C$22*A77^2","v":16.868794124341484},6200.4991961394016,5889.5008038605984]
[78,6044,6006,null,null,null,null,null,null,null,null,null,{"$f":"Control!$C$20+Control!$C$21*A78+Control!$C$22*A78^2","v":17.138103303891516},6199.4863338046143,5888.5136661953857]
[79,6044,6052,null,null,null,null,null,null,null,null,null,{"$f":"Control!$C$20+Control!$C$21*A79+Control!$C$22*A79^2","v":17.407412482500249},6199.4863338046143,5888.5136661953857]
[80,6043,6111,null,null,null,null,null,null,null,null,null,{"$f":"Control!$C$20+Control!$C$21*A80+Control!$C$22*A80^2","v":17.676721660167686},6198.4734704057255,5887.5265295942745]
[81,6042,6045,null,null,null,null,null,null,null,null,null,{"$f":"Control!$C$20+Control!$C$21*A81+Control!$C$22*A81^2","v":17.946030836893826},6197.4606059424705,5886.5393940575295]
[82,6041,5974,null,null,null,null,null,null,null,null,null,{"$f":"Control!$C$20+Control!$C$21*A82+Control!$C$22*A82^2","v":18.21534001267867},6196.4477404145846,5885.5522595854154]
[83,6041,6083,null,null,null,null,null,null,null,null,null,{"$f":"Control!$C$20+Control!$C$21*A83+Control!$C$22*A83^2","v":18.484649187522216},6196.4477404145846,5885.5522595854154]
[84,6040,6041,null,null,null,null,null,null,null,null,null,{"$f":"Control!$C$20+Control!$C$21*A84+Control!$C$22*A84^2","v":18.753958361424466},6195.4348738218032,5884.5651261781968]
[85,6039,6205,null,null,null,null,null,null,null,null,null,{"$f":"Control!$C$20+Control!$C$21*A85+Control!$C$22*A85^2","v":19.023267534385418},6194.4220061638634,5883.5779938361366]
[86,6038,6096,null,null,null,null,null,null,null,null,null,{"$f":"Control!$C$20+Control!$C$21*A86+Control!$C$22*A86^2","v":19.292576706405075},6193.4091374404998,5882.5908625595002]
[87,6038,6153,null,null,null,null,null,null,null,null,null,{"$f":"Control!$C$20+Control!$C$21*A87+Control!$C$22*A87^2","v":19.561885877483434},6193.4091374404998,5882.5908625595002]
[88,6037,6046,null,null,null,null,null,null,null,null,null,{"$f":"Control!$C$20+Control!$C$21*A88+Control!$C$22*A88^2","v":19.831195047620497},6192.3962676514466,5881.6037323485534]
[89,6036,6085,null,null,null,null,null,null,null,null,null,{"$f":"Control!$C$20+Control!$C$21*A89+Control!$C$22*A89^2","v":20.100504216816262},6191.3833967964401,5880.6166032035599]
[90,6036,6013,null,null,null,null,null,null,null,null,null,{"$f":"Control!$C$20+Control!$C$21*A90+Control!$C$22*A90^2","v":20.369813385070731},6191.3833967964401,5880.6166032035599]
[91,6035,5995,null,null,null,null,null,null,null,null,null,{"$f":"Control!$C$20+Control!$C$21*A91+Control!$C$22*A91^2","v":20.639122552383903},6190.3705248752158,5879.6294751247842]
[92,6034,6106,null,null,null,null,null,null,null,null,null,{"$f":"Control!$C$20+Control!$C$21*A92+Control!$C$22*A92^2","v":20.908431718755779},6189.3576518875079,5878.6423481124921]
[93,6033,6006,null,null,null,null,null,null,null,null,null,{"$f":"Control!$C$20+Control!$C$21*A93+Control!$C$22*A93^2","v":21.177740884186356},6188.344777833051,5877.655222166949]
[94,6033,6019,null,null,null,null,null,null,null,null,null,{"$f":"Control!$C$20+Control!$C$21*A94+Control!$C$22*A94^2","v":21.447050048675639},6188.344777833051,5877.655222166949]
[95,6032,5965,null,null,null,null,null,null,null,null,null,{"$f":"Control!$C$20+Control!$C$21*A95+Control!$C$22*A95^2","v":21.716359212223622},6187.3319027115804,5876.6680972884196]
[96,6031,5864,null,null,null,null,null,null,null,null,null,{"$f":"Control!$C$20+Control!$C$21*A96+Control!$C$22*A96^2","v":21.985668374830311},6186.3190265228313,5875.6809734771687]
[97,6030,6125,null,null,null,null,null,null,null,null,null,{"$f":"Control!$C$20+Control!$C$21*A97+Control!$C$22*A97^2","v":22.254977536495701},6185.3061492665374,5874.6938507334626]
[98,6030,6020,null,null,null,null,null,null,null,null,null,{"$f":"Control!$C$20+Control!$C$21*A98+Control!$C$22*A98^2","v":22.524286697219797},6185.3061492665374,5874.6938507334626]
[99,6029,6031,null,null,null,null,null,null,null,null,null,{"$f":"Control!$C$20+Control!$C$21*A99+Control!$C$22*A99^2","v":22.793595857002593},6184.2932709424331,5873.7067290575669]
[100,6028,5984,null,null,null,null,null,null,null,null,null,{"$f":"Control!$C$20+Control!$C$21*A100+Control!$C$22*A100^2","v":23.062905015844095},6183.2803915502536,5872.7196084497464]
[101,6027,5918,null,null,null,null,null,null,null,null,null,{"$f":"Control!$C$20+Control!$C$21*A101+Control!$C$22*A101^2","v":23.332214173744298},6182.2675110897317,5871.7324889102683]
[102,6027,6126,null,null,null,null,null,null,null,null,null,{"$f":"Control!$C$20+Control!$C$21*A102+Control!$C$22*A102^2","v":23.601523330703206},6182.2675110897317,5871.7324889102683]
[103,6026,6149,null,null,null,null,null,null,null,null,null,{"$f":"Control!$C$20+Control!$C$21*A103+Control!$C$22*A103^2","v":23.870832486720815},6181.2546295606026,5870.7453704393974]
[104,6025,6131,null,null,null,null,null,null,null,null,null,{"$f":"Control!$C$20+Control!$C$21*A104+Control!$C$22*A104^2","v":24.140141641797129},6180.2417469625998,5869.7582530374002]
[105,6025,6072,null,null,null,null,null,null,null,null,null,{"$f":"Control!$C$20+Control!$C$21*A105+Control!$C$22*A105^2","v":24.409450795932145},6180.2417469625998,5869.7582530374002]
[106,6024,6136,null,null,null,null,null,null,null,null,null,{"$f":"Control!$C$20+Control!$C$21*A106+Control!$C$22*A106^2","v":24.678759949125865},6179.2288632954578,5868.7711367045422]
[107,6023,5876,null,null,null,null,null,null,null,null,null,{"$f":"Control!$C$20+Control!$C$21*A107+Control!$C$22*A107^2","v":24.948069101378287},6178.2159785589101,5867.7840214410899]
[108,6022,6031,null,null,null,null,null,null,null,null,null,{"$f":"Control!$C$20+Control!$C$21*A108+Control!$C$22*A108^2","v":25.217378252689414},6177.2030927526894,5866.7969072473106]
[109,6022,6030,null,null,null,null,null,null,null,null,null,{"$f":"Control!$C$20+Control!$C$21*A109+Control!$C$22*A109^2","v":25.486687403059243},6177.2030927526894,5866.7969072473106]
[110,6021,6045,null,null,null,null,null,null,null,null,null,{"$f":"Control!$C$20+Control!$C$21*A110+Control!$C$22*A110^2","v":25.755996552487776},6176.1902058765309,5865.8097941234691]
[111,6020,6058,null,null,null,null,null,null,null,null,null,{"$f":"Control!$C$20+Control!$C$21*A111+Control!$C$22*A111^2","v":26.025305700975011},6175.1773179301663,5864.8226820698337]
[112,6019,6071,null,null,null,null,null,null,null,null,null,{"$f":"Control!$C$20+Control!$C$21*A112+Control!$C$22*A112^2","v":26.294614848520951},6174.1644289133301,5863.8355710866699]
[113,6019,5964,null,null,null,null,null,null,null,null,null,{"$f":"Control!$C$20+Control!$C$21*A113+Control!$C$22*A113^2","v":26.563923995125592},6174.1644289133301,5863.8355710866699]
[114,6018,6013,null,null,null,null,null,null,null,null,null,{"$f":"Control!$C$20+Control!$C$21*A114+Control!$C$22*A114^2","v":26.833233140788938},6173.1515388257558,5862.8484611742442]
[115,6017,6084,null,null,null,null,null,null,null,null,null,{"$f":"Control!$C$20+Control!$C$21*A115+Control!$C$22*A115^2","v":27.102542285510985},6172.1386476671751,5861.8613523328249]
[116,6016,5980,null,null,null,null,null,null,null,null,null,{"$f":"Control!$C$20+Control!$C$21*A116+Control!$C$22*A116^2","v":27.371851429291738},6171.1257554373224,5860.8742445626776]
[117,6016,5955,null,null,null,null,null,null,null,null,null,{"$f":"Control!$C$20+Control!$C$21*A117+Control!$C$22*A117^2","v":27.641160572131191},6171.1257554373224,5860.8742445626776]
[118,6015,6103,null,null,null,null,null,null,null,null,null,{"$f":"Control!$C$20+Control!$C$21*A118+Control!$C$22*A118^2","v":27.91046971402935},6170.1128621359303,5859.8871378640697]
[119,6014,6089,null,null,null,null,null,null,null,null,null,{"$f":"Control!$C$20+Control!$C$21*A119+Control!$C$22*A119^2","v":28.17977885498621},6169.0999677627306,5858.9000322372694]
[120,6014,5904,null,null,null,null,null,null,null,null,null,{"$f":"Control!$C$20+Control!$C$21*A120+Control!$C$22*A120^2","v":28.449087995001776},6169.0999677627306,5858.9000322372694]
[121,6013,5899,null,null,null,null,null,null,null,null,null,{"$f":"Control!$C$20+Control!$C$21*A121+Control!$C$22*A121^2","v":28.718397134076042},6168.0870723174567,5857.9129276825433]
[122,6012,6099,null,null,null,null,null,null,null,null,null,{"$f":"Control!$C$20+Control!$C$21*A122+Control!$C$22*A122^2","v":28.987706272209014},6167.0741757998412,5856.9258242001588]
[123,6011,6083,null,null,null,null,null,null,null,null,null,{"$f":"Control!$C$20+Control!$C$21*A123+Control!$C$22*A123^2","v":29.257015409400687},6166.0612782096159,5855.9387217903841]
[124,6011,6037,null,null,null,null,null,null,null,null,null,{"$f":"Control!$C$20+Control!$C$21*A124+Control!$C$22*A124^2","v":29.526324545651065},6166.0612782096159,5855.9387217903841]
[125,6010,6018,null,null,null,null,null,null,null,null,null,{"$f":"Control!$C$20+Control!$C$21*A125+Control!$C$22*A125^2","v":29.795633680960144},6165.0483795465143,5854.9516204534857]
[126,6009,5866,null,null,null,null,null,null,null,null,null,{"$f":"Control!$C$20+Control!$C$21*A126+Control!$C$22*A126^2","v":30.064942815327928},6164.035479810268,5853.964520189732]
[127,6008,6023,null,null,null,null,null,null,null,null,null,{"$f":"Control!$C$20+Control!$C$21*A127+Control!$C$22*A127^2","v":30.334251948754414},6163.0225790006089,5852.9774209993911]
[128,6008,6022,null,null,null,null,null,null,null,null,null,{"$f":"Control!$C$20+Control!$C$21*A128+Control!$C$22*A128^2","v":30.603561081239604},6163.0225790006089,5852.9774209993911]
[129,6007,6080,null,null,null,null,null,null,null,null,null,{"$f":"Control!$C$20+Control!$C$21*A129+Control!$C$22*A129^2","v":30.872870212783496},6162.0096771172693,5851.9903228827307]
[130,6006,5958,null,null,null,null,null,null,null,null,null,{"$f":"Control!$C$20+Control!$C$21*A130+Control!$C$22*A130^2","v":31.142179343386093},6160.9967741599803,5851.0032258400197]
[131,6005,5920,null,null,null,null,null,null,null,null,null,{"$f":"Control!$C$20+Control!$C$21*A131+Control!$C$22*A131^2","v":31.411488473047392},{"$f":"IF(D131=0,B131+2*SQRT(B131),N130)","v":6159.9838701284752},{"$f":"IF(D131=0,B131-2*SQRT(B131),O130)","v":5850.0161298715248}]
[132,6005,6027,null,null,null,null,null,null,null,null,null,{"$f":"Control!$C$20+Control!$C$21*A132+Control!$C$22*A132^2","v":31.680797601767395},6159.9838701284752,5850.0161298715248]
[133,6004,5930,null,null,null,null,null,null,null,null,null,{"$f":"Control!$C$20+Control!$C$21*A133+Control!$C$22*A133^2","v":31.9501067295461},6158.9709650224841,5849.0290349775159]
[134,6003,5967,null,null,null,null,null,null,null,null,null,{"$f":"Control!$C$20+Control!$C$21*A134+Control!$C$22*A134^2","v":32.219415856383506},6157.9580588417393,5848.0419411582607]
[135,6003,5978,null,null,null,null,null,null,null,null,null,{"$f":"Control!$C$20+Control!$C$21*A135+Control!$C$22*A135^2","v":32.488724982279621},6157.9580588417393,5848.0419411582607]
[136,6002,5958,null,null,null,null,null,null,null,null,null,{"$f":"Control!$C$20+Control!$C$21*A136+Control!$C$22*A136^2","v":32.758034107234437},6156.9451515859728,5847.0548484140272]
[137,6001,5761,null,null,null,null,null,null,null,null,null,{"$f":"Control!$C$20+Control!$C$21*A137+Control!$C$22*A137^2","v":33.027343231247954},6155.9322432549143,5846.0677567450857]
[138,6000,6011,null,null,null,null,null,null,null,null,null,{"$f":"Control!$C$20+Control!$C$21*A138+Control!$C$22*A138^2","v":33.296652354320173},6154.9193338482964,5845.0806661517036]
[139,6000,6066,null,null,null,null,null,null,null,null,null,{"$f":"Control!$C$20+Control!$C$21*A139+Control!$C$22*A139^2","v":33.565961476451101},6154.9193338482964,5845.0806661517036]
[140,5999,5966,null,null,null,null,null,null,null,null,null,{"$f":"Control!$C$20+Control!$C$21*A140+Control!$C$22*A140^2","v":33.835270597640729},6153.9064233658501,5844.0935766341499]
[141,5998,6034,null,null,null,null,null,null,null,null,null,{"$f":"Control!$C$20+Control!$C$21*A141+Control!$C$22*A141^2","v":34.10457971788906},6152.8935118073059,5843.1064881926941]
[142,5997,5878,null,null,null,null,null,null,null,null,null,{"$f":"Control!$C$20+Control!$C$21*A142+Control!$C$22*A142^2","v":34.373888837196091},6151.8805991723948,5842.1194008276052]
[143,5997,6027,null,null,null,null,null,null,null,null,null,{"$f":"Control!$C$20+Control!$C$21*A143+Control!$C$22*A143^2","v":34.643197955561831},6151.8805991723948,5842.1194008276052]
[144,5996,5992,null,null,null,null,null,null,null,null,null,{"$f":"Control!$C$20+Control!$C$21*A144+Control!$C$22*A144^2","v":34.912507072986273},6150.8676854608475,5841.1323145391525]
[145,5995,6001,null,null,null,null,null,null,null,null,null,{"$f":"Control!$C$20+Control!$C$21*A145+Control!$C$22*A145^2","v":35.181816189469416},6149.8547706723948,5840.1452293276052]
[146,5995,6052,null,null,null,null,null,null,null,null,null,{"$f":"Control!$C$20+Control!$C$21*A146+Control!$C$22*A146^2","v":35.45112530501126},6149.8547706723948,5840.1452293276052]
[147,5994,6039,null,null,null,null,null,null,null,null,null,{"$f":"Control!$C$20+Control!$C$21*A147+Control!$C$22*A147^2","v":35.720434419611813},6148.8418548067675,5839.1581451932325]
[148,5993,5911,null,null,null,null,null,null,null,null,null,{"$f":"Control!$C$20+Control!$C$21*A148+Control!$C$22*A148^2","v":35.989743533271067},6147.8289378636955,5838.1710621363045]
[149,5992,6045,null,null,null,null,null,null,null,null,null,{"$f":"Control!$C$20+Control!$C$21*A149+Control!$C$22*A149^2","v":36.259052645989023},6146.8160198429086,5837.1839801570914]
[150,5992,5866,null,null,null,null,null,null,null,null,null,{"$f":"Control!$C$20+Control!$C$21*A150+Control!$C$22*A150^2","v":36.52836175776568},6146.8160198429086,5837.1839801570914]
[151,5991,5960,null,null,null,null,null,null,null,null,null,{"$f":"Control!$C$20+Control!$C$21*A151+Control!$C$22*A151^2","v":36.797670868601045},6145.8031007441386,5836.1968992558614]
[152,5990,6023,null,null,null,null,null,null,null,null,null,{"$f":"Control!$C$20+Control!$C$21*A152+Control!$C$22*A152^2","v":37.066979978495112},6144.7901805671145,5835.2098194328855]
[153,5989,6114,null,null,null,null,null,null,null,null,null,{"$f":"Control!$C$20+Control!$C$21*A153+Control!$C$22*A153^2","v":37.336289087447881},6143.7772593115669,5834.2227406884331]
[154,5989,5806,null,null,null,null,null,null,null,null,null,{"$f":"Control!$C$20+Control!$C$21*A154+Control!$C$22*A154^2","v":37.605598195459351},6143.7772593115669,5834.2227406884331]
[155,5988,6018,null,null,null,null,null,null,null,null,null,{"$f":"Control!$C$20+Control!$C$21*A155+Control!$C$22*A155^2","v":37.874907302529529},6142.764336977225,5833.235663022775]
[156,5987,5945,null,null,null,null,null,null,null,null,null,{"$f":"Control!$C$20+Control!$C$21*A156+Control!$C$22*A156^2","v":38.144216408658409},6141.7514135638185,5832.2485864361815]
[157,5986,6000,null,null,null,null,null,null,null,null,null,{"$f":"Control!$C$20+Control!$C$21*A157+Control!$C$22*A157^2","v":38.41352551384599},6140.7384890710773,5831.2615109289227]
[158,5986,6062,null,null,null,null,null,null,null,null,null,{"$f":"Control!$C$20+Control!$C$21*A158+Control!$C$22*A158^2","v":38.682834618092272},6140.7384890710773,5831.2615109289227]
[159,5985,5899,null,null,null,null,null,null,null,null,null,{"$f":"Control!$C$20+Control!$C$21*A159+Control!$C$22*A159^2","v":38.952143721397263},6139.7255634987314,5830.2744365012686]
[160,5984,5904,null,null,null,null,null,null,null,null,null,{"$f":"Control!$C$20+Control!$C$21*A160+Control!$C$22*A160^2","v":39.221452823760956},6138.7126368465097,5829.2873631534903]
[161,5984,5917,null,null,null,null,null,null,null,null,null,{"$f":"Control!$C$20+Control!$C$21*A161+Control!$C$22*A161^2","v":39.490761925183349},6138.7126368465097,5829.2873631534903]
[162,5983,6001,null,null,null,null,null,null,null,null,null,{"$f":"Control!$C$20+Control!$C$21*A162+Control!$C$22*A162^2","v":39.760071025664445},6137.6997091141411,5828.3002908858589]
[163,5982,5870,null,null,null,null,null,null,null,null,null,{"$f":"Control!$C$20+Control!$C$21*A163+Control!$C$22*A163^2","v":40.029380125204248},6136.6867803013556,5827.3132196986444]
[164,5981,6044,null,null,null,null,null,null,null,null,null,{"$f":"Control!$C$20+Control!$C$21*A164+Control!$C$22*A164^2","v":40.298689223802754},6135.6738504078821,5826.3261495921179]
[165,5981,5990,null,null,null,null,null,null,null,null,null,{"$f":"Control!$C$20+Control!$C$21*A165+Control!$C$22*A165^2","v":40.56799832145996},6135.6738504078821,5826.3261495921179]
[166,5980,6064,null,null,null,null,null,null,null,null,null,{"$f":"Control!$C$20+Control!$C$21*A166+Control!$C$22*A166^2","v":40.837307418175868},6134.6609194334496,5825.3390805665504]
[167,5979,6015,null,null,null,null,null,null,null,null,null,{"$f":"Control!$C$20+Control!$C$21*A167+Control!$C$22*A167^2","v":41.106616513950485},6133.6479873777862,5824.3520126222138]
[168,5978,6025,null,null,null,null,null,null,null,null,null,{"$f":"Control!$C$20+Control!$C$21*A168+Control!$C$22*A168^2","v":41.375925608783803},6132.6350542406217,5823.3649457593783]
[169,5978,6098,null,null,null,null,null,null,null,null,null,{"$f":"Control!$C$20+Control!$C$21*A169+Control!$C$22*A169^2","v":41.645234702675822},6132.6350542406217,5823.3649457593783]
[170,5977,5962,null,null,null,null,null,null,null,null,null,{"$f":"Control!$C$20+Control!$C$21*A170+Control!$C$22*A170^2","v":41.914543795626543},6131.6221200216842,5822.3778799783158]
[171,5976,6075,null,null,null,null,null,null,null,null,null,{"$f":"Control!$C$20+Control!$C$21*A171+Control!$C$22*A171^2","v":42.183852887635972},6130.6091847207017,5821.3908152792983]
[172,5975,5955,null,null,null,null,null,null,null,null,null,{"$f":"Control!$C$20+Control!$C$21*A172+Control!$C$22*A172^2","v":42.453161978704102},6129.5962483374033,5820.4037516625967]
[173,5975,6138,null,null,null,null,null,null,null,null,null,{"$f":"Control!$C$20+Control!$C$21*A173+Control!$C$22*A173^2","v":42.722471068830934},6129.5962483374033,5820.4037516625967]
[174,5974,6074,null,null,null,null,null,null,null,null,null,{"$f":"Control!$C$20+Control!$C$21*A174+Control!$C$22*A174^2","v":42.991780158016468},6128.5833108715169,5819.4166891284831]
[175,5973,6021,null,null,null,null,null,null,null,null,null,{"$f":"Control!$C$20+Control!$C$21*A175+Control!$C$22*A175^2","v":43.26108924626071},6127.5703723227707,5818.4296276772293]
[176,5973,6028,null,null,null,null,null,null,null,null,null,{"$f":"Control!$C$20+Control!$C$21*A176+Control!$C$22*A176^2","v":43.530398333563653},6127.5703723227707,5818.4296276772293]
[177,5972,5977,null,null,null,null,null,null,null,null,null,{"$f":"Control!$C$20+Control!$C$21*A177+Control!$C$22*A177^2","v":43.799707419925298},6126.5574326908936,5817.4425673091064]
[178,5971,5995,null,null,null,null,null,null,null,null,null,{"$f":"Control!$C$20+Control!$C$21*A178+Control!$C$22*A178^2","v":44.069016505345644},6125.5444919756119,5816.4555080243881]
[179,5970,5812,null,null,null,null,null,null,null,null,null,{"$f":"Control!$C$20+Control!$C$21*A179+Control!$C$22*A179^2","v":44.338325589824699},6124.5315501766545,5815.4684498233455]
[180,5970,5998,null,null,null,null,null,null,null,null,null,{"$f":"Control!$C$20+Control!$C$21*A180+Control!$C$22*A180^2","v":44.607634673362455},6124.5315501766545,5815.4684498233455]
[181,5969,6032,null,null,null,null,null,null,null,null,null,{"$f":"Control!$C$20+Control!$C$21*A181+Control!$C$22*A181^2","v":44.876943755958912},6123.5186072937495,5814.4813927062505]
[182,5968,5999,null,null,null,null,null,null,null,null,null,{"$f":"Control!$C$20+Control!$C$21*A182+Control!$C$22*A182^2","v":45.146252837614071},6122.505663326624,5813.494336673376]
[183,5967,6086,null,null,null,null,null,null,null,null,null,{"$f":"Control!$C$20+Control!$C$21*A183+Control!$C$22*A183^2","v":45.415561918327938},6121.4927182750052,5812.5072817249948]
[184,5967,6074,null,null,null,null,null,null,null,null,null,{"$f":"Control!$C$20+Control!$C$21*A184+Control!$C$22*A184^2","v":45.684870998100507},6121.4927182750052,5812.5072817249948]
[185,5966,6103,null,null,null,null,null,null,null,null,null,{"$f":"Control!$C$20+Control!$C$21*A185+Control!$C$22*A185^2","v":45.954180076931777},6120.4797721386203,5811.5202278613797]
[186,5965,6077,null,null,null,null,null,null,null,null,null,{"$f":"Control!$C$20+Control!$C$21*A186+Control!$C$22*A186^2","v":46.223489154821749},6119.4668249171973,5810.5331750828027]
[187,5964,6048,null,null,null,null,null,null,null,null,null,{"$f":"Control!$C$20+Control!$C$21*A187+Control!$C$22*A187^2","v":46.492798231770429},6118.4538766104624,5809.5461233895376]
[188,5964,6094,null,null,null,null,null,null,null,null,null,{"$f":"Control!$C$20+Control!$C$21*A188+Control!$C$22*A188^2","v":46.762107307777811},6118.4538766104624,5809.5461233895376]
[189,5963,6123,null,null,null,null,null,null,null,null,null,{"$f":"Control!$C$20+Control!$C$21*A189+Control!$C$22*A189^2","v":47.031416382843894},6117.4409272181438,5808.5590727818562]
[190,5962,6004,null,null,null,null,null,null,null,null,null,{"$f":"Control!$C$20+Control!$C$21*A190+Control!$C$22*A190^2","v":47.300725456968678},6116.4279767399676,5807.5720232600324]
[191,5962,6080,null,null,null,null,null,null,null,null,null,{"$f":"Control!$C$20+Control!$C$21*A191+Control!$C$22*A191^2","v":47.570034530152171},6116.4279767399676,5807.5720232600324]
[192,5961,5890,null,null,null,null,null,null,null,null,null,{"$f":"Control!$C$20+Control!$C$21*A192+Control!$C$22*A192^2","v":47.839343602394365},6115.415025175661,5806.584974824339]
[193,5960,5989,null,null,null,null,null,null,null,null,null,{"$f":"Control!$C$20+Control!$C$21*A193+Control!$C$22*A193^2","v":48.108652673695261},6114.4020725249502,5805.5979274750498]
[194,5959,6098,null,null,null,null,null,null,null,null,null,{"$f":"Control!$C$20+Control!$C$21*A194+Control!$C$22*A194^2","v":48.377961744054858},6113.3891187875624,5804.6108812124376]
[195,5959,5783,null,null,null,null,null,null,null,null,null,{"$f":"Control!$C$20+Control!$C$21*A195+Control!$C$22*A195^2","v":48.647270813473163},{"$f":"IF(D195=0,B195+2*SQRT(B195),N194)","v":6113.3891187875624},{"$f":"IF(D195=0,B195-2*SQRT(B195),O194)","v":5804.6108812124376}]
[196,5958,5934,null,null,null,null,null,null,null,null,null,{"$f":"Control!$C$20+Control!$C$21*A196+Control!$C$22*A196^2","v":48.91657988195017},6112.376163963223,5803.623836036777]
[197,5957,5871,null,null,null,null,null,null,null,null,null,{"$f":"Control!$C$20+Control!$C$21*A197+Control!$C$22*A197^2","v":49.185888949485879},6111.36320805166,5802.63679194834]
[198,5956,6019,null,null,null,null,null,null,null,null,null,{"$f":"Control!$C$20+Control!$C$21*A198+Control!$C$22*A198^2","v":49.455198016080288},6110.3502510525977,5801.6497489474023]
[199,5956,6022,null,null,null,null,null,null,null,null,null,{"$f":"Control!$C$20+Control!$C$21*A199+Control!$C$22*A199^2","v":49.724507081733407},6110.3502510525977,5801.6497489474023]
[200,5955,6060,null,null,null,null,null,null,null,null,null,{"$f":"Control!$C$20+Control!$C$21*A200+Control!$C$22*A200^2","v":49.993816146445226},6109.3372929657635,5800.6627070342365]
[201,5954,5990,null,null,null,null,null,null,null,null,null,{"$f":"Control!$C$20+Control!$C$21*A201+Control!$C$22*A201^2","v":50.263125210215748},6108.3243337908834,5799.6756662091166]
[202,5953,5993,null,null,null,null,null,null,null,null,null,{"$f":"Control!$C$20+Control!$C$21*A202+Control!$C$22*A202^2","v":50.53243427304497},6107.3113735276829,5798.6886264723171]
[203,5953,6027,null,null,null,null,null,null,null,null,null,{"$f":"Control!$C$20+Control!$C$21*A203+Control!$C$22*A203^2","v":50.801743334932901},6107.3113735276829,5798.6886264723171]
[204,5952,5820,null,null,null,null,null,null,null,null,null,{"$f":"Control!$C$20+Control!$C$21*A204+Control!$C$22*A204^2","v":51.071052395879533},6106.2984121758873,5797.7015878241127]
[205,5951,5956,null,null,null,null,null,null,null,null,null,{"$f":"Control!$C$20+Control!$C$21*A205+Control!$C$22*A205^2","v":51.340361455884867},6105.2854497352228,5796.7145502647772]
[206,5951,6020,null,null,null,null,null,null,null,null,null,{"$f":"Control!$C$20+Control!$C$21*A206+Control!$C$22*A206^2","v":51.609670514948903},6105.2854497352228,5796.7145502647772]
[207,5950,6022,null,null,null,null,null,null,null,null,null,{"$f":"Control!$C$20+Control!$C$21*A207+Control!$C$22*A207^2","v":51.878979573071646},6104.2724862054147,5795.7275137945853]
[208,5949,6007,null,null,null,null,null,null,null,null,null,{"$f":"Control!$C$20+Control!$C$21*A208+Control!$C$22*A208^2","v":52.148288630253091},6103.2595215861893,5794.7404784138107]
[209,5948,5881,null,null,null,null,null,null,null,null,null,{"$f":"Control!$C$20+Control!$C$21*A209+Control!$C$22*A209^2","v":52.417597686493238},6102.246555877271,5793.753444122729]
[210,5948,5931,null,null,null,null,null,null,null,null,null,{"$f":"Control!$C$20+Control!$C$21*A210+Control!$C$22*A210^2","v":52.686906741792086},6102.246555877271,5793.753444122729]
[211,5947,5917,null,null,null,null,null,null,null,null,null,{"$f":"Control!$C$20+Control!$C$21*A211+Control!$C$22*A211^2","v":52.956215796149642},6101.2335890783843,5792.7664109216157]
[212,5946,6024,null,null,null,null,null,null,null,null,null,{"$f":"Control!$C$20+Control!$C$21*A212+Control!$C$22*A212^2","v":53.2255248495659},6100.2206211892562,5791.7793788107438]
[213,5945,5996,null,null,null,null,null,null,null,null,null,{"$f":"Control!$C$20+Control!$C$21*A213+Control!$C$22*A213^2","v":53.49483390204086},6099.2076522096095,5790.7923477903905]
[214,5945,5936,null,null,null,null,null,null,null,null,null,{"$f":"Control!$C$20+Control!$C$21*A214+Control!$C$22*A214^2","v":53.76414295357452},6099.2076522096095,5790.7923477903905]
[215,5944,6012,null,null,null,null,null,null,null,null,null,{"$f":"Control!$C$20+Control!$C$21*A215+Control!$C$22*A215^2","v":54.03345200416689},6098.1946821391712,5789.8053178608288]
[216,5943,5776,null,null,null,null,null,null,null,null,null,{"$f":"Control!$C$20+Control!$C$21*A216+Control!$C$22*A216^2","v":54.30276105381796},6097.1817109776639,5788.8182890223361]
[217,5942,5988,null,null,null,null,null,null,null,null,null,{"$f":"Control!$C$20+Control!$C$21*A217+Control!$C$22*A217^2","v":54.572070102527732},6096.1687387248139,5787.8312612751861]
[218,5942,5807,null,null,null,null,null,null,null,null,null,{"$f":"Control!$C$20+Control!$C$21*A218+Control!$C$22*A218^2","v":54.841379150296206},6096.1687387248139,5787.8312612751861]
[219,5941,5935,null,null,null,null,null,null,null,null,null,{"$f":"Control!$C$20+Control!$C$21*A219+Control!$C$22*A219^2","v":55.110688197123388},6095.1557653803447,5786.8442346196553]
[220,5940,5848,null,null,null,null,null,null,null,null,null,{"$f":"Control!$C$20+Control!$C$21*A220+Control!$C$22*A220^2","v":55.379997243009271},6094.1427909439817,5785.8572090560183]
[221,5940,5911,null,null,null,null,null,null,null,null,null,{"$f":"Control!$C$20+Control!$C$21*A221+Control!$C$22*A221^2","v":55.649306287953856},6094.1427909439817,5785.8572090560183]
[222,5939,5932,null,null,null,null,null,null,null,null,null,{"$f":"Control!$C$20+Control!$C$21*A222+Control!$C$22*A222^2","v":55.918615331957142},6093.1298154154474,5784.8701845845526]
[223,5938,5988,null,null,null,null,null,null,null,null,null,{"$f":"Control!$C$20+Control!$C$21*A223+Control!$C$22*A223^2","v":56.187924375019136},6092.1168387944681,5783.8831612055319]
[224,5937,6023,null,null,null,null,null,null,null,null,null,{"$f":"Control!$C$20+Control!$C$21*A224+Control!$C$22*A224^2","v":56.457233417139832},6091.1038610807664,5782.8961389192336]
[225,5937,5963,null,null,null,null,null,null,null,null,null,{"$f":"Control!$C$20+Control!$C$21*A225+Control!$C$22*A225^2","v":56.72654245831923},6091.1038610807664,5782.8961389192336]
[226,5936,5862,null,null,null,null,null,null,null,null,null,{"$f":"Control!$C$20+Control!$C$21*A226+Control!$C$22*A226^2","v":56.995851498557329},6090.0908822740657,5781.9091177259343]
[227,5935,5915,null,null,null,null,null,null,null,null,null,{"$f":"Control!$C$20+Control!$C$21*A227+Control!$C$22*A227^2","v":57.265160537854136},6089.0779023740915,5780.9220976259085]
[228,5934,5921,null,null,null,null,null,null,null,null,null,{"$f":"Control!$C$20+Control!$C$21*A228+Control!$C$22*A228^2","v":57.534469576209645},6088.0649213805664,5779.9350786194336]
[229,5934,5818,null,null,null,null,null,null,null,null,null,{"$f":"Control!$C$20+Control!$C$21*A229+Control!$C$22*A229^2","v":57.803778613623855},6088.0649213805664,5779.9350786194336]
[230,5933,5926,null,null,null,null,null,null,null,null,null,{"$f":"Control!$C$20+Control!$C$21*A230+Control!$C$22*A230^2","v":58.073087650096767},6087.0519392932138,5778.9480607067862]
[231,5932,5819,null,null,null,null,null,null,null,null,null,{"$f":"Control!$C$20+Control!$C$21*A231+Control!$C$22*A231^2","v":58.342396685628387},6086.0389561117572,5777.9610438882428]
[232,5932,5854,null,null,null,null,null,null,null,null,null,{"$f":"Control!$C$20+Control!$C$21*A232+Control!$C$22*A232^2","v":58.611705720218708},6086.0389561117572,5777.9610438882428]
[233,5931,5994,null,null,null,null,null,null,null,null,null,{"$f":"Control!$C$20+Control!$C$21*A233+Control!$C$22*A233^2","v":58.881014753867731},6085.0259718359212,5776.9740281640788]
[234,5930,5870,null,null,null,null,null,null,null,null,null,{"$f":"Control!$C$20+Control!$C$21*A234+Control!$C$22*A234^2","v":59.150323786575456},6084.0129864654273,5775.9870135345727]
[235,5929,5817,null,null,null,null,null,null,null,null,null,{"$f":"Control!$C$20+Control!$C$21*A235+Control!$C$22*A235^2","v":59.419632818341888},6083,5775]
[236,5929,5907,null,null,null,null,null,null,null,null,null,{"$f":"Control!$C$20+Control!$C$21*A236+Control!$C$22*A236^2","v":59.688941849167023},6083,5775]
[237,5928,5912,null,null,null,null,null,null,null,null,null,{"$f":"Control!$C$20+Control!$C$21*A237+Control!$C$22*A237^2","v":59.958250879050858},6081.987012439361,5774.012987560639]
[238,5927,5850,null,null,null,null,null,null,null,null,null,{"$f":"Control!$C$20+Control!$C$21*A238+Control!$C$22*A238^2","v":60.227559907993395},6080.9740237832339,5773.0259762167661]
[239,5926,5923,null,null,null,null,null,null,null,null,null,{"$f":"Control!$C$20+Control!$C$21*A239+Control!$C$22*A239^2","v":60.496868935994641},6079.961034031342,5772.038965968658]
[240,5926,5845,null,null,null,null,null,null,null,null,null,{"$f":"Control!$C$20+Control!$C$21*A240+Control!$C$22*A240^2","v":60.766177963054588},6079.961034031342,5772.038965968658]
[241,5925,5936,null,null,null,null,null,null,null,null,null,{"$f":"Control!$C$20+Control!$C$21*A241+Control!$C$22*A241^2","v":61.035486989173236},6078.9480431834063,5771.0519568165937]
[242,5924,6010,null,null,null,null,null,null,null,null,null,{"$f":"Control!$C$20+Control!$C$21*A242+Control!$C$22*A242^2","v":61.304796014350586},6077.9350512391511,5770.0649487608489]
[243,5923,5819,null,null,null,null,null,null,null,null,null,{"$f":"Control!$C$20+Control!$C$21*A243+Control!$C$22*A243^2","v":61.574105038586644},6076.9220581982972,5769.0779418017028]
[244,5923,5916,null,null,null,null,null,null,null,null,null,{"$f":"Control!$C$20+Control!$C$21*A244+Control!$C$22*A244^2","v":61.843414061881404},6076.9220581982972,5769.0779418017028]
[245,5922,6055,null,null,null,null,null,null,null,null,null,{"$f":"Control!$C$20+Control!$C$21*A245+Control!$C$22*A245^2","v":62.112723084234865},6075.9090640605682,5768.0909359394318]
[246,5921,5901,null,null,null,null,null,null,null,null,null,{"$f":"Control!$C$20+Control!$C$21*A246+Control!$C$22*A246^2","v":62.382032105647028},6074.8960688256848,5767.1039311743152]
[247,5921,5914,null,null,null,null,null,null,null,null,null,{"$f":"Control!$C$20+Control!$C$21*A247+Control!$C$22*A247^2","v":62.651341126117899},6074.8960688256848,5767.1039311743152]
[248,5920,5932,null,null,null,null,null,null,null,null,null,{"$f":"Control!$C$20+Control!$C$21*A248+Control!$C$22*A248^2","v":62.920650145647471},6073.8830724933705,5766.1169275066295]
[249,5919,5979,null,null,null,null,null,null,null,null,null,{"$f":"Control!$C$20+Control!$C$21*A249+Control!$C$22*A249^2","v":63.189959164235745},6072.870075063347,5765.129924936653]
[250,5918,5840,null,null,null,null,null,null,null,null,null,{"$f":"Control!$C$20+Control!$C$21*A250+Control!$C$22*A250^2","v":63.45926818188272},6071.8570765353352,5764.1429234646648]
[251,5918,6074,null,null,null,null,null,null,null,null,null,{"$f":"Control!$C$20+Control!$C$21*A251+Control!$C$22*A251^2","v":63.728577198588404},6071.8570765353352,5764.1429234646648]
[252,5917,5942,null,null,null,null,null,null,null,null,null,{"$f":"Control!$C$20+Control!$C$21*A252+Control!$C$22*A252^2","v":63.997886214352789},6070.8440769090575,5763.1559230909425]
[253,5916,5944,null,null,null,null,null,null,null,null,null,{"$f":"Control!$C$20+Control!$C$21*A253+Control!$C$22*A253^2","v":64.267195229175883},6069.8310761842349,5762.1689238157651]
[254,5915,6038,null,null,null,null,null,null,null,null,null,{"$f":"Control!$C$20+Control!$C$21*A254+Control!$C$22*A254^2","v":64.536504243057664},6068.8180743605899,5761.1819256394101]
[255,5915,5923,null,null,null,null,null,null,null,null,null,{"$f":"Control!$C$20+Control!$C$21*A255+Control!$C$22*A255^2","v":64.80581325599816},6068.8180743605899,5761.1819256394101]
[256,5914,5951,null,null,null,null,null,null,null,null,null,{"$f":"Control!$C$20+Control!$C$21*A256+Control!$C$22*A256^2","v":65.075122267997358},6067.8050714378433,5760.1949285621567]
[257,5913,5850,null,null,null,null,null,null,null,null,null,{"$f":"Control!$C$20+Control!$C$21*A257+Control!$C$22*A257^2","v":65.344431279055257},6066.7920674157158,5759.2079325842842]
[258,5912,5842,null,null,null,null,null,null,null,null,null,{"$f":"Control!$C$20+Control!$C$21*A258+Control!$C$22*A258^2","v":65.613740289171858},6065.7790622939283,5758.2209377060717]
[259,5912,5962,null,null,null,null,null,null,null,null,null,{"$f":"Control!$C$20+Control!$C$21*A259+Control!$C$22*A259^2","v":65.883049298347174},{"$f":"IF(D259=0,B259+2*SQRT(B259),N258)","v":6065.7790622939283},{"$f":"IF(D259=0,B259-2*SQRT(B259),O258)","v":5758.2209377060717}]
[260,5911,5920,null,null,null,null,null,null,null,null,null,{"$f":"Control!$C$20+Control!$C$21*A260+Control!$C$22*A260^2","v":66.152358306581178},6064.7660560722034,5757.2339439277966]
[261,5910,5889,null,null,null,null,null,null,null,null,null,{"$f":"Control!$C$20+Control!$C$21*A261+Control!$C$22*A261^2","v":66.421667313873897},6063.7530487502609,5756.2469512497391]
[262,5910,5839,null,null,null,null,null,null,null,null,null,{"$f":"Control!$C$20+Control!$C$21*A262+Control!$C$22*A262^2","v":66.690976320225303},6063.7530487502609,5756.2469512497391]
[263,5909,5998,null,null,null,null,null,null,null,null,null,{"$f":"Control!$C$20+Control!$C$21*A263+Control!$C$22*A263^2","v":66.960285325635425},6062.7400403278207,5755.2599596721793]
[264,5908,5995,null,null,null,null,null,null,null,null,null,{"$f":"Control!$C$20+Control!$C$21*A264+Control!$C$22*A264^2","v":67.229594330104248},6061.7270308046054,5754.2729691953946]
[265,5907,5866,null,null,null,null,null,null,null,null,null,{"$f":"Control!$C$20+Control!$C$21*A265+Control!$C$22*A265^2","v":67.498903333631773},6060.714020180334,5753.285979819666]
[266,5907,5825,null,null,null,null,null,null,null,null,null,{"$f":"Control!$C$20+Control!$C$21*A266+Control!$C$22*A266^2","v":67.768212336217999},6060.714020180334,5753.285979819666]
[267,5906,5918,null,null,null,null,null,null,null,null,null,{"$f":"Control!$C$20+Control!$C$21*A267+Control!$C$22*A267^2","v":68.037521337862941},6059.7010084547264,5752.2989915452736]
[268,5905,5893,null,null,null,null,null,null,null,null,null,{"$f":"Control!$C$20+Control!$C$21*A268+Control!$C$22*A268^2","v":68.30683033856657},6058.6879956275052,5751.3120043724948]
[269,5904,5872,null,null,null,null,null,null,null,null,null,{"$f":"Control!$C$20+Control!$C$21*A269+Control!$C$22*A269^2","v":68.576139338328915},6057.6749816983884,5750.3250183016116]
[270,5904,5798,null,null,null,null,null,null,null,null,null,{"$f":"Control!$C$20+Control!$C$21*A270+Control!$C$22*A270^2","v":68.845448337149946},6057.6749816983884,5750.3250183016116]
[271,5903,5952,null,null,null,null,null,null,null,null,null,{"$f":"Control!$C$20+Control!$C$21*A271+Control!$C$22*A271^2","v":69.114757335029694},6056.6619666670967,5749.3380333329033]
[272,5902,5802,null,null,null,null,null,null,null,null,null,{"$f":"Control!$C$20+Control!$C$21*A272+Control!$C$22*A272^2","v":69.384066331968143},6055.6489505333502,5748.3510494666498]
[273,5901,5943,null,null,null,null,null,null,null,null,null,{"$f":"Control!$C$20+Control!$C$21*A273+Control!$C$22*A273^2","v":69.653375327965293},6054.6359332968686,5747.3640667031314]
[274,5901,5964,null,null,null,null,null,null,null,null,null,{"$f":"Control!$C$20+Control!$C$21*A274+Control!$C$22*A274^2","v":69.922684323021144},6054.6359332968686,5747.3640667031314]
[275,5900,5878,null,null,null,null,null,null,null,null,null,{"$f":"Control!$C$20+Control!$C$21*A275+Control!$C$22*A275^2","v":70.191993317135712},6053.6229149573719,5746.3770850426281]
[276,5899,5965,null,null,null,null,null,null,null,null,null,{"$f":"Control!$C$20+Control!$C$21*A276+Control!$C$22*A276^2","v":70.461302310308966},6052.609895514579,5745.390104485421]
[277,5899,5739,null,null,null,null,null,null,null,null,null,{"$f":"Control!$C$20+Control!$C$21*A277+Control!$C$22*A277^2","v":70.730611302540936},6052.609895514579,5745.390104485421]
[278,5898,5921,null,null,null,null,null,null,null,null,null,{"$f":"Control!$C$20+Control!$C$21*A278+Control!$C$22*A278^2","v":70.999920293831593},6051.5968749682106,5744.4031250317894]
[279,5897,5851,null,null,null,null,null,null,null,null,null,{"$f":"Control!$C$20+Control!$C$21*A279+Control!$C$22*A279^2","v":71.269229284180966},6050.583853317984,5743.416146682016]
[280,5896,5883,null,null,null,null,null,null,null,null,null,{"$f":"Control!$C$20+Control!$C$21*A280+Control!$C$22*A280^2","v":71.53853827358904},6049.5708305636199,5742.4291694363801]
[281,5896,5988,null,null,null,null,null,null,null,null,null,{"$f":"Control!$C$20+Control!$C$21*A281+Control!$C$22*A281^2","v":71.807847262055816},6049.5708305636199,5742.4291694363801]
[282,5895,5868,null,null,null,null,null,null,null,null,null,{"$f":"Control!$C$20+Control!$C$21*A282+Control!$C$22*A282^2","v":72.077156249581293},6048.5578067048364,5741.4421932951636]
[283,5894,5849,null,null,null,null,null,null,null,null,null,{"$f":"Control!$C$20+Control!$C$21*A283+Control!$C$22*A283^2","v":72.346465236165486},6047.5447817413542,5740.4552182586458]
[284,5893,5898,null,null,null,null,null,null,null,null,null,{"$f":"Control!$C$20+Control!$C$21*A284+Control!$C$22*A284^2","v":72.615774221808365},6046.5317556728896,5739.4682443271104]
[285,5893,5948,null,null,null,null,null,null,null,null,null,{"$f":"Control!$C$20+Control!$C$21*A285+Control!$C$22*A285^2","v":72.885083206509961},6046.5317556728896,5739.4682443271104]
[286,5892,5784,null,null,null,null,null,null,null,null,null,{"$f":"Control!$C$20+Control!$C$21*A286+Control!$C$22*A286^2","v":73.154392190270244},6045.5187284991644,5738.4812715008356]
[287,5891,5949,null,null,null,null,null,null,null,null,null,{"$f":"Control!$C$20+Control!$C$21*A287+Control!$C$22*A287^2","v":73.423701173089242},6044.5057002198937,5737.4942997801063]
[288,5890,5831,null,null,null,null,null,null,null,null,null,{"$f":"Control!$C$20+Control!$C$21*A288+Control!$C$22*A288^2","v":73.693010154966942},6043.4926708347994,5736.5073291652006]
[289,5890,5898,null,null,null,null,null,null,null,null,null,{"$f":"Control!$C$20+Control!$C$21*A289+Control!$C$22*A289^2","v":73.962319135903343},6043.4926708347994,5736.5073291652006]
[290,5889,5873,null,null,null,null,null,null,null,null,null,{"$f":"Control!$C$20+Control!$C$21*A290+Control!$C$22*A290^2","v":74.231628115898445},6042.4796403435976,5735.5203596564024]
[291,5888,5996,null,null,null,null,null,null,null,null,null,{"$f":"Control!$C$20+Control!$C$21*A291+Control!$C$22*A291^2","v":74.500937094952263},6041.4666087460073,5734.5333912539927]
[292,5888,5904,null,null,null,null,null,null,null,null,null,{"$f":"Control!$C$20+Control!$C$21*A292+Control!$C$22*A292^2","v":74.770246073064769},6041.4666087460073,5734.5333912539927]
[293,5887,5935,null,null,null,null,null,null,null,null,null,{"$f":"Control!$C$20+Control!$C$21*A293+Control!$C$22*A293^2","v":75.03955505023599},6040.4535760417466,5733.5464239582534]
[294,5886,5825,null,null,null,null,null,null,null,null,null,{"$f":"Control!$C$20+Control!$C$21*A294+Control!$C$22*A294^2","v":75.308864026465898},6039.4405422305326,5732.5594577694674]
[295,5885,5884,null,null,null,null,null,null,null,null,null,{"$f":"Control!$C$20+Control!$C$21*A295+Control!$C$22*A295^2","v":75.578173001754521},6038.4275073120853,5731.5724926879147]
[296,5885,6035,null,null,null,null,null,null,null,null,null,{"$f":"Control!$C$20+Control!$C$21*A296+Control!$C$22*A296^2","v":75.847481976101847},6038.4275073120853,5731.5724926879147]
[297,5884,5855,null,null,null,null,null,null,null,null,null,{"$f":"Control!$C$20+Control!$C$21*A297+Control!$C$22*A297^2","v":76.116790949507873},6037.4144712861207,5730.5855287138793]
[298,5883,6045,null,null,null,null,null,null,null,null,null,{"$f":"Control!$C$20+Control!$C$21*A298+Control!$C$22*A298^2","v":76.386099921972601},6036.4014341523571,5729.5985658476429]
[299,5882,6021,null,null,null,null,null,null,null,null,null,{"$f":"Control!$C$20+Control!$C$21*A299+Control!$C$22*A299^2","v":76.655408893496045},6035.3883959105124,5728.6116040894876]
[300,5882,5882,null,null,null,null,null,null,null,null,null,{"$f":"Control!$C$20+Control!$C$21*A300+Control!$C$22*A300^2","v":76.924717864078175},6035.3883959105124,5728.6116040894876]
[301,5881,5992,null,null,null,null,null,null,null,null,null,{"$f":"Control!$C$20+Control!$C$21*A301+Control!$C$22*A301^2","v":77.194026833719022},6034.3753565603029,5727.6246434396971]
[302,5880,5895,null,null,null,null,null,null,null,null,null,{"$f":"Control!$C$20+Control!$C$21*A302+Control!$C$22*A302^2","v":77.463335802418555},6033.3623161014466,5726.6376838985534]
[303,5879,5770,null,null,null,null,null,null,null,null,null,{"$f":"Control!$C$20+Control!$C$21*A303+Control!$C$22*A303^2","v":77.732644770176805},6032.3492745336607,5725.6507254663393]
[304,5879,5912,null,null,null,null,null,null,null,null,null,{"$f":"Control!$C$20+Control!$C$21*A304+Control!$C$22*A304^2","v":78.001953736993755},6032.3492745336607,5725.6507254663393]
[305,5878,5944,null,null,null,null,null,null,null,null,null,{"$f":"Control!$C$20+Control!$C$21*A305+Control!$C$22*A305^2","v":78.271262702869407},6031.3362318566624,5724.6637681433376]
[306,5877,5991,null,null,null,null,null,null,null,null,null,{"$f":"Control!$C$20+Control!$C$21*A306+Control!$C$22*A306^2","v":78.540571667803761},6030.3231880701678,5723.6768119298322]
[307,5877,5800,null,null,null,null,null,null,null,null,null,{"$f":"Control!$C$20+Control!$C$21*A307+Control!$C$22*A307^2","v":78.80988063179683},6030.3231880701678,5723.6768119298322]
[308,5876,5797,null,null,null,null,null,null,null,null,null,{"$f":"Control!$C$20+Control!$C$21*A308+Control!$C$22*A308^2","v":79.079189594848586},6029.3101431738942,5722.6898568261058]
[309,5875,5975,null,null,null,null,null,null,null,null,null,{"$f":"Control!$C$20+Control!$C$21*A309+Control!$C$22*A309^2","v":79.348498556959058},6028.2970971675586,5721.7029028324414]
[310,5874,5820,null,null,null,null,null,null,null,null,null,{"$f":"Control!$C$20+Control!$C$21*A310+Control!$C$22*A310^2","v":79.617807518128217},6027.2840500508773,5720.7159499491227]
[311,5874,5949,null,null,null,null,null,null,null,null,null,{"$f":"Control!$C$20+Control!$C$21*A311+Control!$C$22*A311^2","v":79.887116478356091},6027.2840500508773,5720.7159499491227]
[312,5873,5890,null,null,null,null,null,null,null,null,null,{"$f":"Control!$C$20+Control!$C$21*A312+Control!$C$22*A312^2","v":80.156425437642667},6026.2710018235675,5719.7289981764325]
[313,5872,5756,null,null,null,null,null,null,null,null,null,{"$f":"Control!$C$20+Control!$C$21*A313+Control!$C$22*A313^2","v":80.425734395987945},6025.2579524853445,5718.7420475146555]
[314,5871,5883,null,null,null,null,null,null,null,null,null,{"$f":"Control!$C$20+Control!$C$21*A314+Control!$C$22*A314^2","v":80.695043353391924},6024.2449020359245,5717.7550979640755]
[315,5871,5891,null,null,null,null,null,null,null,null,null,{"$f":"Control!$C$20+Control!$C$21*A315+Control!$C$22*A315^2","v":80.964352309854618},6024.2449020359245,5717.7550979640755]
[316,5870,5834,null,null,null,null,null,null,null,null,null,{"$f":"Control!$C$20+Control!$C$21*A316+Control!$C$22*A316^2","v":81.233661265376},6023.2318504750237,5716.7681495249763]
[317,5869,5859,null,null,null,null,null,null,null,null,null,{"$f":"Control!$C$20+Control!$C$21*A317+Control!$C$22*A317^2","v":81.502970219956097},6022.2187978023585,5715.7812021976415]
[318,5868,5939,null,null,null,null,null,null,null,null,null,{"$f":"Control!$C$20+Control!$C$21*A318+Control!$C$22*A318^2","v":81.772279173594882},6021.2057440176441,5714.7942559823559]
[319,5868,5771,null,null,null,null,null,null,null,null,null,{"$f":"Control!$C$20+Control!$C$21*A319+Control!$C$22*A319^2","v":82.041588126292382},6021.2057440176441,5714.7942559823559]
[320,5867,5898,null,null,null,null,null,null,null,null,null,{"$f":"Control!$C$20+Control!$C$21*A320+Control!$C$22*A320^2","v":82.310897078048583},6020.1926891205976,5713.8073108794024]
[321,5866,5939,null,null,null,null,null,null,null,null,null,{"$f":"Control!$C$20+Control!$C$21*A321+Control!$C$22*A321^2","v":82.580206028863486},6019.1796331109326,5712.8203668890674]
[322,5866,6026,null,null,null,null,null,null,null,null,null,{"$f":"Control!$C$20+Control!$C$21*A322+Control!$C$22*A322^2","v":82.849514978737091},6019.1796331109326,5712.8203668890674]
[323,5865,5786,null,null,null,null,null,null,null,null,null,{"$f":"Control!$C$20+Control!$C$21*A323+Control!$C$22*A323^2","v":83.118823927669411},{"$f":"IF(D323=0,B323+2*SQRT(B323),N322)","v":6018.1665759883663},{"$f":"IF(D323=0,B323-2*SQRT(B323),O322)","v":5711.8334240116337}]
[324,5864,5704,null,null,null,null,null,null,null,null,null,{"$f":"Control!$C$20+Control!$C$21*A324+Control!$C$22*A324^2","v":83.388132875660418},6017.153517752613,5710.846482247387]
[325,5863,5980,null,null,null,null,null,null,null,null,null,{"$f":"Control!$C$20+Control!$C$21*A325+Control!$C$22*A325^2","v":83.65744182271014},6016.1404584033889,5709.8595415966111]
[326,5863,5935,null,null,null,null,null,null,null,null,null,{"$f":"Control!$C$20+Control!$C$21*A326+Control!$C$22*A326^2","v":83.92675076881855},6016.1404584033889,5709.8595415966111]
[327,5862,5893,null,null,null,null,null,null,null,null,null,{"$f":"Control!$C$20+Control!$C$21*A327+Control!$C$22*A327^2","v":84.196059713985676},6015.1273979404077,5708.8726020595923]
[328,5861,5882,null,null,null,null,null,null,null,null,null,{"$f":"Control!$C$20+Control!$C$21*A328+Control!$C$22*A328^2","v":84.465368658211503},6014.1143363633855,5707.8856636366145]
[329,5860,5821,null,null,null,null,null,null,null,null,null,{"$f":"Control!$C$20+Control!$C$21*A329+Control!$C$22*A329^2","v":84.734677601496031},6013.1012736720368,5706.8987263279632]
[330,5860,5823,null,null,null,null,null,null,null,null,null,{"$f":"Control!$C$20+Control!$C$21*A330+Control!$C$22*A330^2","v":85.003986543839261},6013.1012736720368,5706.8987263279632]
[331,5859,5766,null,null,null,null,null,null,null,null,null,{"$f":"Control!$C$20+Control!$C$21*A331+Control!$C$22*A331^2","v":85.273295485241206},6012.0882098660768,5705.9117901339232]
[332,5858,5860,null,null,null,null,null,null,null,null,null,{"$f":"Control!$C$20+Control!$C$21*A332+Control!$C$22*A332^2","v":85.542604425701839},6011.07514494522,5704.92485505478]
[333,5858,5901,null,null,null,null,null,null,null,null,null,{"$f":"Control!$C$20+Control!$C$21*A333+Control!$C$22*A333^2","v":85.811913365221187},6011.07514494522,5704.92485505478]
[334,5857,5899,null,null,null,null,null,null,null,null,null,{"$f":"Control!$C$20+Control!$C$21*A334+Control!$C$22*A334^2","v":86.081222303799223},6010.0620789091799,5703.9379210908201]
[335,5856,5789,null,null,null,null,null,null,null,null,null,{"$f":"Control!$C$20+Control!$C$21*A335+Control!$C$22*A335^2","v":86.350531241435974},6009.0490117576719,5702.9509882423281]
[336,5855,5764,null,null,null,null,null,null,null,null,null,{"$f":"Control!$C$20+Control!$C$21*A336+Control!$C$22*A336^2","v":86.619840178131426},6008.0359434904103,5701.9640565095897]
[337,5855,5961,null,null,null,null,null,null,null,null,null,{"$f":"Control!$C$20+Control!$C$21*A337+Control!$C$22*A337^2","v":86.88914911388558},6008.0359434904103,5701.9640565095897]
[338,5854,5937,null,null,null,null,null,null,null,null,null,{"$f":"Control!$C$20+Control!$C$21*A338+Control!$C$22*A338^2","v":87.158458048698435},6007.0228741071087,5700.9771258928913]
[339,5853,5807,null,null,null,null,null,null,null,null,null,{"$f":"Control!$C$20+Control!$C$21*A339+Control!$C$22*A339^2","v":87.427766982570006},6006.0098036074814,5699.9901963925186]
[340,5852,5902,null,null,null,null,null,null,null,null,null,{"$f":"Control!$C$20+Control!$C$21*A340+Control!$C$22*A340^2","v":87.697075915500264},6004.9967319912421,5699.0032680087579]
[341,5852,5905,null,null,null,null,null,null,null,null,null,{"$f":"Control!$C$20+Control!$C$21*A341+Control!$C$22*A341^2","v":87.966384847489238},6004.9967319912421,5699.0032680087579]
[342,5851,5833,null,null,null,null,null,null,null,null,null,{"$f":"Control!$C$20+Control!$C$21*A342+Control!$C$22*A342^2","v":88.235693778536898},6003.983659258105,5698.016340741895]
[343,5850,5847,null,null,null,null,null,null,null,null,null,{"$f":"Control!$C$20+Control!$C$21*A343+Control!$C$22*A343^2","v":88.505002708643275},6002.9705854077838,5697.0294145922162]
[344,5849,5969,null,null,null,null,null,null,null,null,null,{"$f":"Control!$C$20+Control!$C$21*A344+Control!$C$22*A344^2","v":88.774311637808353},6001.957510439991,5696.042489560009]
[345,5849,5872,null,null,null,null,null,null,null,null,null,{"$f":"Control!$C$20+Control!$C$21*A345+Control!$C$22*A345^2","v":89.043620566032132},6001.957510439991,5696.042489560009]
[346,5848,5874,null,null,null,null,null,null,null,null,null,{"$f":"Control!$C$20+Control!$C$21*A346+Control!$C$22*A346^2","v":89.312929493314613},6000.944434354441,5695.055565645559]
[347,5847,5766,null,null,null,null,null,null,null,null,null,{"$f":"Control!$C$20+Control!$C$21*A347+Control!$C$22*A347^2","v":89.582238419655809},5999.9313571508474,5694.0686428491526]
[348,5847,5803,null,null,null,null,null,null,null,null,null,{"$f":"Control!$C$20+Control!$C$21*A348+Control!$C$22*A348^2","v":89.851547345055693},5999.9313571508474,5694.0686428491526]
[349,5846,5848,null,null,null,null,null,null,null,null,null,{"$f":"Control!$C$20+Control!$C$21*A349+Control!$C$22*A349^2","v":90.120856269514292},5998.9182788289218,5693.0817211710782]
[350,5845,5748,null,null,null,null,null,null,null,null,null,{"$f":"Control!$C$20+Control!$C$21*A350+Control!$C$22*A350^2","v":90.390165193031578},5997.9051993883795,5692.0948006116205]
[351,5844,5874,null,null,null,null,null,null,null,null,null,{"$f":"Control!$C$20+Control!$C$21*A351+Control!$C$22*A351^2","v":90.65947411560758},5996.8921188289314,5691.1078811710686]
[352,5844,5831,null,null,null,null,null,null,null,null,null,{"$f":"Control!$C$20+Control!$C$21*A352+Control!$C$22*A352^2","v":90.928783037242283},5996.8921188289314,5691.1078811710686]
[353,5843,5754,null,null,null,null,null,null,null,null,null,{"$f":"Control!$C$20+Control!$C$21*A353+Control!$C$22*A353^2","v":91.198091957935688},5995.879037150291,5690.120962849709]
[354,5842,5830,null,null,null,null,null,null,null,null,null,{"$f":"Control!$C$20+Control!$C$21*A354+Control!$C$22*A354^2","v":91.467400877687794},5994.8659543521708,5689.1340456478292]
[355,5841,5848,null,null,null,null,null,null,null,null,null,{"$f":"Control!$C$20+Control!$C$21*A355+Control!$C$22*A355^2","v":91.736709796498616},5993.8528704342843,5688.1471295657157]
[356,5841,5956,null,null,null,null,null,null,null,null,null,{"$f":"Control!$C$20+Control!$C$21*A356+Control!$C$22*A356^2","v":92.006018714368125},5993.8528704342843,5688.1471295657157]
[357,5840,5828,null,null,null,null,null,null,null,null,null,{"$f":"Control!$C$20+Control!$C$21*A357+Control!$C$22*A357^2","v":92.275327631296349},5992.8397853963424,5687.1602146036576]
[358,5839,5792,null,null,null,null,null,null,null,null,null,{"$f":"Control!$C$20+Control!$C$21*A358+Control!$C$22*A358^2","v":92.544636547283261},5991.8266992380586,5686.1733007619414]
[359,5838,5880,null,null,null,null,null,null,null,null,null,{"$f":"Control!$C$20+Control!$C$21*A359+Control!$C$22*A359^2","v":92.813945462328888},5990.8136119591445,5685.1863880408555]
[360,5838,5876,null,null,null,null,null,null,null,null,null,{"$f":"Control!$C$20+Control!$C$21*A360+Control!$C$22*A360^2","v":93.083254376433217},5990.8136119591445,5685.1863880408555]
[361,5837,5837,null,null,null,null,null,null,null,null,null,{"$f":"Control!$C$20+Control!$C$21*A361+Control!$C$22*A361^2","v":93.352563289596247},5989.8005235593128,5684.1994764406872]
[362,5836,5929,null,null,null,null,null,null,null,null,null,{"$f":"Control!$C$20+Control!$C$21*A362+Control!$C$22*A362^2","v":93.621872201817979},5988.7874340382741,5683.2125659617259]
[363,5836,5885,null,null,null,null,null,null,null,null,null,{"$f":"Control!$C$20+Control!$C$21*A363+Control!$C$22*A363^2","v":93.891181113098426},5988.7874340382741,5683.2125659617259]
[364,5835,5734,null,null,null,null,null,null,null,null,null,{"$f":"Control!$C$20+Control!$C$21*A364+Control!$C$22*A364^2","v":94.160490023437561},5987.7743433957421,5682.2256566042579]
[365,5834,5849,null,null,null,null,null,null,null,null,null,{"$f":"Control!$C$20+Control!$C$21*A365+Control!$C$22*A365^2","v":94.429798932835411},5986.7612516314266,5681.2387483685734]
[366,5833,5771,null,null,null,null,null,null,null,null,null,{"$f":"Control!$C$20+Control!$C$21*A366+Control!$C$22*A366^2","v":94.699107841291948},5985.7481587450402,5680.2518412549598]
[367,5833,5870,null,null,null,null,null,null,null,null,null,{"$f":"Control!$C$20+Control!$C$21*A367+Control!$C$22*A367^2","v":94.968416748807201},5985.7481587450402,5680.2518412549598]
[368,5832,5622,null,null,null,null,null,null,null,null,null,{"$f":"Control!$C$20+Control!$C$21*A368+Control!$C$22*A368^2","v":95.237725655381155},5984.7350647362946,5679.2649352637054]
[369,5831,5781,null,null,null,null,null,null,null,null,null,{"$f":"Control!$C$20+Control!$C$21*A369+Control!$C$22*A369^2","v":95.507034561013811},5983.7219696048996,5678.2780303951004]
[370,5830,5707,null,null,null,null,null,null,null,null,null,{"$f":"Control!$C$20+Control!$C$21*A370+Control!$C$22*A370^2","v":95.776343465705168},5982.7088733505689,5677.2911266494311]
[371,5830,5957,null,null,null,null,null,null,null,null,null,{"$f":"Control!$C$20+Control!$C$21*A371+Control!$C$22*A371^2","v":96.04565236945524},5982.7088733505689,5677.2911266494311]
[372,5829,5934,null,null,null,null,null,null,null,null,null,{"$f":"Control!$C$20+Control!$C$21*A372+Control!$C$22*A372^2","v":96.314961272264},5981.6957759730112,5676.3042240269888]
[373,5828,5823,null,null,null,null,null,null,null,null,null,{"$f":"Control!$C$20+Control!$C$21*A373+Control!$C$22*A373^2","v":96.584270174131476},5980.6826774719384,5675.3173225280616]
[374,5827,5775,null,null,null,null,null,null,null,null,null,{"$f":"Control!$C$20+Control!$C$21*A374+Control!$C$22*A374^2","v":96.853579075057638},5979.6695778470612,5674.3304221529388]
[375,5827,5811,null,null,null,null,null,null,null,null,null,{"$f":"Control!$C$20+Control!$C$21*A375+Control!$C$22*A375^2","v":97.122887975042516},5979.6695778470612,5674.3304221529388]
[376,5826,5855,null,null,null,null,null,null,null,null,null,{"$f":"Control!$C$20+Control!$C$21*A376+Control!$C$22*A376^2","v":97.392196874086096},5978.6564770980913,5673.3435229019087]
[377,5825,5819,null,null,null,null,null,null,null,null,null,{"$f":"Control!$C$20+Control!$C$21*A377+Control!$C$22*A377^2","v":97.661505772188377},5977.6433752247376,5672.3566247752624]
[378,5825,5836,null,null,null,null,null,null,null,null,null,{"$f":"Control!$C$20+Control!$C$21*A378+Control!$C$22*A378^2","v":97.93081466934936},5977.6433752247376,5672.3566247752624]
[379,5824,5823,null,null,null,null,null,null,null,null,null,{"$f":"Control!$C$20+Control!$C$21*A379+Control!$C$22*A379^2","v":98.200123565569058},5976.630272226711,5671.369727773289]
[380,5823,5834,null,null,null,null,null,null,null,null,null,{"$f":"Control!$C$20+Control!$C$21*A380+Control!$C$22*A380^2","v":98.469432460847443},5975.6171681037231,5670.3828318962769]
[381,5822,5716,null,null,null,null,null,null,null,null,null,{"$f":"Control!$C$20+Control!$C$21*A381+Control!$C$22*A381^2","v":98.738741355184544},5974.604062855482,5669.395937144518]
[382,5872,5934,50,null,null,null,null,null,null,null,null,{"$f":"Control!$C$20+Control!$C$21*A382+Control!$C$22*A382^2","v":99.008050248580332},5974.604062855482,5669.395937144518]
[383,6168,6231,347,null,null,null,null,null,null,null,null,{"$f":"Control!$C$20+Control!$C$21*A383+Control!$C$22*A383^2","v":99.277359141034836},5974.604062855482,5669.395937144518]
[384,7134,7199,1314,null,null,null,null,null,null,null,null,{"$f":"Control!$C$20+Control!$C$21*A384+Control!$C$22*A384^2","v":99.546668032548041},5974.604062855482,5669.395937144518]
[385,8520,8569,2701,null,null,null,null,null,null,null,null,{"$f":"Control!$C$20+Control!$C$21*A385+Control!$C$22*A385^2","v":99.815976923119948},5974.604062855482,5669.395937144518]
[386,8839,8843,3020,null,null,null,null,null,null,null,null,{"$f":"Control!$C$20+Control!$C$21*A386+Control!$C$22*A386^2","v":100.08528581275056},5974.604062855482,5669.395937144518]
[387,7654,7753,1836,null,null,null,null,null,null,null,null,{"$f":"Control!$C$20+Control!$C$21*A387+Control!$C$22*A387^2","v":100.35459470143988},{"$f":"IF(D387=0,B387+2*SQRT(B387),N386)","v":5974.604062855482},{"$f":"IF(D387=0,B387-2*SQRT(B387),O386)","v":5669.395937144518}]
[388,6424,6295,607,null,null,null,null,null,null,null,null,{"$f":"Control!$C$20+Control!$C$21*A388+Control!$C$22*A388^2","v":100.62390358918789},5974.604062855482,5669.395937144518]
[389,5925,5880,109,null,null,null,null,null,null,null,null,{"$f":"Control!$C$20+Control!$C$21*A389+Control!$C$22*A389^2","v":100.89321247599462},5974.604062855482,5669.395937144518]
[390,5827,5825,11,null,null,null,null,null,null,null,null,{"$f":"Control!$C$20+Control!$C$21*A390+Control!$C$22*A390^2","v":101.16252136186003},5974.604062855482,5669.395937144518]
[391,5815,5821,null,null,null,null,null,null,null,null,null,{"$f":"Control!$C$20+Control!$C$21*A391+Control!$C$22*A391^2","v":101.43183024678416},5967.5122945863714,5662.4877054136286]
[392,5814,5780,null,null,null,null,null,null,null,null,null,{"$f":"Control!$C$20+Control!$C$21*A392+Control!$C$22*A392^2","v":101.70113913076699},5966.4991803256662,5661.5008196743338]
[393,5814,5775,null,null,null,null,null,null,null,null,null,{"$f":"Control!$C$20+Control!$C$21*A393+Control!$C$22*A393^2","v":101.97044801380852},5966.4991803256662,5661.5008196743338]
[394,5813,5870,null,null,null,null,null,null,null,null,null,{"$f":"Control!$C$20+Control!$C$21*A394+Control!$C$22*A394^2","v":102.23975689590876},5965.4860649370949,5660.5139350629051]
[395,5812,5748,null,null,null,null,null,null,null,null,null,{"$f":"Control!$C$20+Control!$C$21*A395+Control!$C$22*A395^2","v":102.5090657770677},5964.4729484203672,5659.5270515796328]
[396,5811,5885,null,null,null,null,null,null,null,null,null,{"$f":"Control!$C$20+Control!$C$21*A396+Control!$C$22*A396^2","v":102.77837465728534},5963.4598307751912,5658.5401692248088]
[397,5811,5701,null,null,null,null,null,null,null,null,null,{"$f":"Control!$C$20+Control!$C$21*A397+Control!$C$22*A397^2","v":103.04768353656169},5963.4598307751912,5658.5401692248088]
[398,5810,5852,null,null,null,null,null,null,null,null,null,{"$f":"Control!$C$20+Control!$C$21*A398+Control!$C$22*A398^2","v":103.31699241489673},5962.446712001276,5657.553287998724]
[399,5809,5768,null,null,null,null,null,null,null,null,null,{"$f":"Control!$C$20+Control!$C$21*A399+Control!$C$22*A399^2","v":103.58630129229049},5961.4335920983294,5656.5664079016706]
[400,5808,5845,null,null,null,null,null,null,null,null,null,{"$f":"Control!$C$20+Control!$C$21*A400+Control!$C$22*A400^2","v":103.85561016874294},5960.4204710660615,5655.5795289339385]
[401,5808,5897,null,null,null,null,null,null,null,null,null,{"$f":"Control!$C$20+Control!$C$21*A401+Control!$C$22*A401^2","v":104.1249190442541},5960.4204710660615,5655.5795289339385]
[402,5807,5948,null,null,null,null,null,null,null,null,null,{"$f":"Control!$C$20+Control!$C$21*A402+Control!$C$22*A402^2","v":104.39422791882396},5959.4073489041784,5654.5926510958216]
[403,5806,5841,null,null,null,null,null,null,null,null,null,{"$f":"Control!$C$20+Control!$C$21*A403+Control!$C$22*A403^2","v":104.66353679245253},5958.3942256123901,5653.6057743876099]
[404,5805,5897,null,null,null,null,null,null,null,null,null,{"$f":"Control!$C$20+Control!$C$21*A404+Control!$C$22*A404^2","v":104.93284566513979},5957.3811011904036,5652.6188988095964]
[405,5805,5783,null,null,null,null,null,null,null,null,null,{"$f":"Control!$C$20+Control!$C$21*A405+Control!$C$22*A405^2","v":105.20215453688577},5957.3811011904036,5652.6188988095964]
[406,5804,5716,null,null,null,null,null,null,null,null,null,{"$f":"Control!$C$20+Control!$C$21*A406+Control!$C$22*A406^2","v":105.47146340769044},5956.367975637927,5651.632024362073]
[407,5803,5764,null,null,null,null,null,null,null,null,null,{"$f":"Control!$C$20+Control!$C$21*A407+Control!$C$22*A407^2","v":105.74077227755382},5955.3548489546693,5650.6451510453307]
[408,5803,5886,null,null,null,null,null,null,null,null,null,{"$f":"Control!$C$20+Control!$C$21*A408+Control!$C$22*A408^2","v":106.0100811464759},5955.3548489546693,5650.6451510453307]
[409,5802,5750,null,null,null,null,null,null,null,null,null,{"$f":"Control!$C$20+Control!$C$21*A409+Control!$C$22*A409^2","v":106.27939001445668},5954.3417211403366,5649.6582788596634]
[410,5801,5867,null,null,null,null,null,null,null,null,null,{"$f":"Control!$C$20+Control!$C$21*A410+Control!$C$22*A410^2","v":106.54869888149616},5953.3285921946372,5648.6714078053628]
[411,5800,5955,null,null,null,null,null,null,null,null,null,{"$f":"Control!$C$20+Control!$C$21*A411+Control!$C$22*A411^2","v":106.81800774759436},5952.315462117278,5647.684537882722]
[412,5800,5710,null,null,null,null,null,null,null,null,null,{"$f":"Control!$C$20+Control!$C$21*A412+Control!$C$22*A412^2","v":107.08731661275125},5952.315462117278,5647.684537882722]
[413,5799,5913,null,null,null,null,null,null,null,null,null,{"$f":"Control!$C$20+Control!$C$21*A413+Control!$C$22*A413^2","v":107.35662547696685},5951.3023309079672,5646.6976690920328]
[414,5798,5767,null,null,null,null,null,null,null,null,null,{"$f":"Control!$C$20+Control!$C$21*A414+Control!$C$22*A414^2","v":107.62593434024114},5950.2891985664119,5645.7108014335881]
[415,5797,5912,null,null,null,null,null,null,null,null,null,{"$f":"Control!$C$20+Control!$C$21*A415+Control!$C$22*A415^2","v":107.89524320257415},5949.2760650923183,5644.7239349076817]
[416,5797,5969,null,null,null,null,null,null,null,null,null,{"$f":"Control!$C$20+Control!$C$21*A416+Control!$C$22*A416^2","v":108.16455206396586},5949.2760650923183,5644.7239349076817]
[417,5796,5665,null,null,null,null,null,null,null,null,null,{"$f":"Control!$C$20+Control!$C$21*A417+Control!$C$22*A417^2","v":108.43386092441627},5948.2629304853945,5643.7370695146055]
[418,5795,5940,null,null,null,null,null,null,null,null,null,{"$f":"Control!$C$20+Control!$C$21*A418+Control!$C$22*A418^2","v":108.70316978392538},5947.2497947453458,5642.7502052546542]
[419,5795,5843,null,null,null,null,null,null,null,null,null,{"$f":"Control!$C$20+Control!$C$21*A419+Control!$C$22*A419^2","v":108.9724786424932},5947.2497947453458,5642.7502052546542]
[420,5794,5860,null,null,null,null,null,null,null,null,null,{"$f":"Control!$C$20+Control!$C$21*A420+Control!$C$22*A420^2","v":109.24178750011971},5946.2366578718802,5641.7633421281198]
[421,5793,5857,null,null,null,null,null,null,null,null,null,{"$f":"Control!$C$20+Control!$C$21*A421+Control!$C$22*A421^2","v":109.51109635680494},5945.223519864704,5640.776480135296]
[422,5792,5839,null,null,null,null,null,null,null,null,null,{"$f":"Control!$C$20+Control!$C$21*A422+Control!$C$22*A422^2","v":109.78040521254886},5944.2103807235235,5639.7896192764765]
[423,5792,5747,null,null,null,null,null,null,null,null,null,{"$f":"Control!$C$20+Control!$C$21*A423+Control!$C$22*A423^2","v":110.04971406735149},5944.2103807235235,5639.7896192764765]
[424,5791,5718,null,null,null,null,null,null,null,null,null,{"$f":"Control!$C$20+Control!$C$21*A424+Control!$C$22*A424^2","v":110.31902292121282},5943.1972404480448,5638.8027595519552]
[425,5790,5744,null,null,null,null,null,null,null,null,null,{"$f":"Control!$C$20+Control!$C$21*A425+Control!$C$22*A425^2","v":110.58833177413285},5942.1840990379742,5637.8159009620258]
[426,5789,5738,null,null,null,null,null,null,null,null,null,{"$f":"Control!$C$20+Control!$C$21*A426+Control!$C$22*A426^2","v":110.85764062611159},5941.1709564930179,5636.8290435069821]
[427,5789,5786,null,null,null,null,null,null,null,null,null,{"$f":"Control!$C$20+Control!$C$21*A427+Control!$C$22*A427^2","v":111.12694947714904},5941.1709564930179,5636.8290435069821]
[428,5788,5813,null,null,null,null,null,null,null,null,null,{"$f":"Control!$C$20+Control!$C$21*A428+Control!$C$22*A428^2","v":111.39625832724518},5940.1578128128822,5635.8421871871178]
[429,5787,5744,null,null,null,null,null,null,null,null,null,{"$f":"Control!$C$20+Control!$C$21*A429+Control!$C$22*A429^2","v":111.66556717640003},5939.1446679972714,5634.8553320027286]
[430,5786,5822,null,null,null,null,null,null,null,null,null,{"$f":"Control!$C$20+Control!$C$21*A430+Control!$C$22*A430^2","v":111.93487602461357},5938.1315220458928,5633.8684779541072]
[431,5786,5806,null,null,null,null,null,null,null,null,null,{"$f":"Control!$C$20+Control!$C$21*A431+Control!$C$22*A431^2","v":112.20418487188583},5938.1315220458928,5633.8684779541072]
[432,5785,5801,null,null,null,null,null,null,null,null,null,{"$f":"Control!$C$20+Control!$C$21*A432+Control!$C$22*A432^2","v":112.47349371821679},5937.1183749584516,5632.8816250415484]
[433,5784,5860,null,null,null,null,null,null,null,null,null,{"$f":"Control!$C$20+Control!$C$21*A433+Control!$C$22*A433^2","v":112.74280256360645},5936.1052267346522,5631.8947732653478]
[434,5784,5794,null,null,null,null,null,null,null,null,null,{"$f":"Control!$C$20+Control!$C$21*A434+Control!$C$22*A434^2","v":113.01211140805481},5936.1052267346522,5631.8947732653478]
[435,5783,5830,null,null,null,null,null,null,null,null,null,{"$f":"Control!$C$20+Control!$C$21*A435+Control!$C$22*A435^2","v":113.28142025156188},5935.0920773742009,5630.9079226257991]
[436,5782,5641,null,null,null,null,null,null,null,null,null,{"$f":"Control!$C$20+Control!$C$21*A436+Control!$C$22*A436^2","v":113.55072909412765},5934.0789268768031,5629.9210731231969]
[437,5781,5763,null,null,null,null,null,null,null,null,null,{"$f":"Control!$C$20+Control!$C$21*A437+Control!$C$22*A437^2","v":113.82003793575213},5933.065775242163,5628.934224757837]
[438,5781,5933,null,null,null,null,null,null,null,null,null,{"$f":"Control!$C$20+Control!$C$21*A438+Control!$C$22*A438^2","v":114.08934677643529},5933.065775242163,5628.934224757837]
[439,5780,5854,null,null,null,null,null,null,null,null,null,{"$f":"Control!$C$20+Control!$C$21*A439+Control!$C$22*A439^2","v":114.35865561617717},5932.0526224699861,5627.9473775300139]
[440,5779,5649,null,null,null,null,null,null,null,null,null,{"$f":"Control!$C$20+Control!$C$21*A440+Control!$C$22*A440^2","v":114.62796445497776},5931.0394685599758,5626.9605314400242]
[441,5778,5817,null,null,null,null,null,null,null,null,null,{"$f":"Control!$C$20+Control!$C$21*A441+Control!$C$22*A441^2","v":114.89727329283704},5930.0263135118394,5625.9736864881606]
[442,5778,5975,null,null,null,null,null,null,null,null,null,{"$f":"Control!$C$20+Control!$C$21*A442+Control!$C$22*A442^2","v":115.16658212975503},5930.0263135118394,5625.9736864881606]
[443,5777,5823,null,null,null,null,null,null,null,null,null,{"$f":"Control!$C$20+Control!$C$21*A443+Control!$C$22*A443^2","v":115.43589096573173},5929.0131573252793,5624.9868426747207]
[444,5776,5773,null,null,null,null,null,null,null,null,null,{"$f":"Control!$C$20+Control!$C$21*A444+Control!$C$22*A444^2","v":115.70519980076712},5928,5624]
[445,5775,5938,null,null,null,null,null,null,null,null,null,{"$f":"Control!$C$20+Control!$C$21*A445+Control!$C$22*A445^2","v":115.97450863486122},5926.9868415357068,5623.0131584642932]
[446,5775,5820,null,null,null,null,null,null,null,null,null,{"$f":"Control!$C$20+Control!$C$21*A446+Control!$C$22*A446^2","v":116.24381746801402},5926.9868415357068,5623.0131584642932]
[447,5774,5899,null,null,null,null,null,null,null,null,null,{"$f":"Control!$C$20+Control!$C$21*A447+Control!$C$22*A447^2","v":116.51312630022552},5925.9736819321033,5622.0263180678967]
[448,5773,5707,null,null,null,null,null,null,null,null,null,{"$f":"Control!$C$20+Control!$C$21*A448+Control!$C$22*A448^2","v":116.78243513149573},5924.9605211888929,5621.0394788111071]
[449,5773,5755,null,null,null,null,null,null,null,null,null,{"$f":"Control!$C$20+Control!$C$21*A449+Control!$C$22*A449^2","v":117.05174396182464},5924.9605211888929,5621.0394788111071]
[450,5772,5776,null,null,null,null,null,null,null,null,null,{"$f":"Control!$C$20+Control!$C$21*A450+Control!$C$22*A450^2","v":117.32105279121225},5923.947359305781,5620.052640694219]
[451,5771,5794,null,null,null,null,null,null,null,null,null,{"$f":"Control!$C$20+Control!$C$21*A451+Control!$C$22*A451^2","v":117.59036161965858},{"$f":"IF(D451=0,B451+2*SQRT(B451),N450)","v":5922.9341962824692},{"$f":"IF(D451=0,B451-2*SQRT(B451),O450)","v":5619.0658037175308}]
[452,5770,5740,null,null,null,null,null,null,null,null,null,{"$f":"Control!$C$20+Control!$C$21*A452+Control!$C$22*A452^2","v":117.85967044716359},5921.9210321186638,5618.0789678813362]
[453,5770,5754,null,null,null,null,null,null,null,null,null,{"$f":"Control!$C$20+Control!$C$21*A453+Control!$C$22*A453^2","v":118.12897927372732},5921.9210321186638,5618.0789678813362]
[454,5769,5825,null,null,null,null,null,null,null,null,null,{"$f":"Control!$C$20+Control!$C$21*A454+Control!$C$22*A454^2","v":118.39828809934974},5920.9078668140655,5617.0921331859345]
[455,5768,5771,null,null,null,null,null,null,null,null,null,{"$f":"Control!$C$20+Control!$C$21*A455+Control!$C$22*A455^2","v":118.66759692403087},5919.8947003683807,5616.1052996316193]
[456,5767,5740,null,null,null,null,null,null,null,null,null,{"$f":"Control!$C$20+Control!$C$21*A456+Control!$C$22*A456^2","v":118.93690574777071},5918.8815327813099,5615.1184672186901]
[457,5767,5878,null,null,null,null,null,null,null,null,null,{"$f":"Control!$C$20+Control!$C$21*A457+Control!$C$22*A457^2","v":119.20621457056924},5918.8815327813099,5615.1184672186901]
[458,5766,5759,null,null,null,null,null,null,null,null,null,{"$f":"Control!$C$20+Control!$C$21*A458+Control!$C$22*A458^2","v":119.47552339242648},5917.8683640525569,5614.1316359474431]
[459,5765,5702,null,null,null,null,null,null,null,null,null,{"$f":"Control!$C$20+Control!$C$21*A459+Control!$C$22*A459^2","v":119.74483221334243},5916.8551941818259,5613.1448058181741]
[460,5764,5800,null,null,null,null,null,null,null,null,null,{"$f":"Control!$C$20+Control!$C$21*A460+Control!$C$22*A460^2","v":120.01414103331707},5915.8420231688187,5612.1579768311813]
[461,5764,5724,null,null,null,null,null,null,null,null,null,{"$f":"Control!$C$20+Control!$C$21*A461+Control!$C$22*A461^2","v":120.28344985235043},5915.8420231688187,5612.1579768311813]
[462,5763,5897,null,null,null,null,null,null,null,null,null,{"$f":"Control!$C$20+Control!$C$21*A462+Control!$C$22*A462^2","v":120.55275867044247},5914.8288510132379,5611.1711489867621]
[463,5762,5766,null,null,null,null,null,null,null,null,null,{"$f":"Control!$C$20+Control!$C$21*A463+Control!$C$22*A463^2","v":120.82206748759323},5913.8156777147869,5610.1843222852131]
[464,5762,5754,null,null,null,null,null,null,null,null,null,{"$f":"Control!$C$20+Control!$C$21*A464+Control!$C$22*A464^2","v":121.09137630380269},5913.8156777147869,5610.1843222852131]
[465,5761,5805,null,null,null,null,null,null,null,null,null,{"$f":"Control!$C$20+Control!$C$21*A465+Control!$C$22*A465^2","v":121.36068511907085},5912.8025032731675,5609.1974967268325]
[466,5760,5837,null,null,null,null,null,null,null,null,null,{"$f":"Control!$C$20+Control!$C$21*A466+Control!$C$22*A466^2","v":121.62999393339771},5911.7893276880823,5608.2106723119177]
[467,5759,5806,null,null,null,null,null,null,null,null,null,{"$f":"Control!$C$20+Control!$C$21*A467+Control!$C$22*A467^2","v":121.89930274678329},5910.7761509592337,5607.2238490407663]
[468,5759,5808,null,null,null,null,null,null,null,null,null,{"$f":"Control!$C$20+Control!$C$21*A468+Control!$C$22*A468^2","v":122.16861155922756},5910.7761509592337,5607.2238490407663]
[469,5758,5700,null,null,null,null,null,null,null,null,null,{"$f":"Control!$C$20+Control!$C$21*A469+Control!$C$22*A469^2","v":122.43792037073054},5909.7629730863227,5606.2370269136773]
[470,5757,5803,null,null,null,null,null,null,null,null,null,{"$f":"Control!$C$20+Control!$C$21*A470+Control!$C$22*A470^2","v":122.70722918129221},5908.7497940690528,5605.2502059309472]
[471,5756,5818,null,null,null,null,null,null,null,null,null,{"$f":"Control!$C$20+Control!$C$21*A471+Control!$C$22*A471^2","v":122.97653799091259},5907.7366139071255,5604.2633860928745]
[472,5756,5666,null,null,null,null,null,null,null,null,null,{"$f":"Control!$C$20+Control!$C$21*A472+Control!$C$22*A472^2","v":123.24584679959167},5907.7366139071255,5604.2633860928745]
[473,5755,5812,null,null,null,null,null,null,null,null,null,{"$f":"Control!$C$20+Control!$C$21*A473+Control!$C$22*A473^2","v":123.51515560732946},5906.7234326002417,5603.2765673997583]
[474,5754,5859,null,null,null,null,null,null,null,null,null,{"$f":"Control!$C$20+Control!$C$21*A474+Control!$C$22*A474^2","v":123.78446441412595},5905.7102501481031,5602.2897498518969]
[475,5753,5677,null,null,null,null,null,null,null,null,null,{"$f":"Control!$C$20+Control!$C$21*A475+Control!$C$22*A475^2","v":124.05377321998115},5904.6970665504114,5601.3029334495886]
[476,5753,5759,null,null,null,null,null,null,null,null,null,{"$f":"Control!$C$20+Control!$C$21*A476+Control!$C$22*A476^2","v":124.32308202489504},5904.6970665504114,5601.3029334495886]
[477,5752,5734,null,null,null,null,null,null,null,null,null,{"$f":"Control!$C$20+Control!$C$21*A477+Control!$C$22*A477^2","v":124.59239082886765},5903.6838818068682,5600.3161181931318]
[478,5751,5639,null,null,null,null,null,null,null,null,null,{"$f":"Control!$C$20+Control!$C$21*A478+Control!$C$22*A478^2","v":124.86169963189894},5902.6706959171743,5599.3293040828257]
[479,5751,5721,null,null,null,null,null,null,null,null,null,{"$f":"Control!$C$20+Control!$C$21*A479+Control!$C$22*A479^2","v":125.13100843398895},5902.6706959171743,5599.3293040828257]
[480,5750,5736,null,null,null,null,null,null,null,null,null,{"$f":"Control!$C$20+Control!$C$21*A480+Control!$C$22*A480^2","v":125.40031723513766},5901.6575088810314,5598.3424911189686]
[481,5749,5775,null,null,null,null,null,null,null,null,null,{"$f":"Control!$C$20+Control!$C$21*A481+Control!$C$22*A481^2","v":125.66962603534508},5900.6443206981385,5597.3556793018615]
[482,5748,5729,null,null,null,null,null,null,null,null,null,{"$f":"Control!$C$20+Control!$C$21*A482+Control!$C$22*A482^2","v":125.93893483461119},5899.631131368199,5596.368868631801]
[483,5748,5696,null,null,null,null,null,null,null,null,null,{"$f":"Control!$C$20+Control!$C$21*A483+Control!$C$22*A483^2","v":126.20824363293602},5899.631131368199,5596.368868631801]
[484,5747,5803,null,null,null,null,null,null,null,null,null,{"$f":"Control!$C$20+Control!$C$21*A484+Control!$C$22*A484^2","v":126.47755243031953},5898.617940890912,5595.382059109088]
[485,5746,5910,null,null,null,null,null,null,null,null,null,{"$f":"Control!$C$20+Control!$C$21*A485+Control!$C$22*A485^2","v":126.74686122676177},5897.6047492659782,5594.3952507340218]
[486,5745,5862,null,null,null,null,null,null,null,null,null,{"$f":"Control!$C$20+Control!$C$21*A486+Control!$C$22*A486^2","v":127.01617002226268},5896.5915564930974,5593.4084435069026]
[487,5745,5817,null,null,null,null,null,null,null,null,null,{"$f":"Control!$C$20+Control!$C$21*A487+Control!$C$22*A487^2","v":127.28547881682232},5896.5915564930974,5593.4084435069026]
[488,5744,5802,null,null,null,null,null,null,null,null,null,{"$f":"Control!$C$20+Control!$C$21*A488+Control!$C$22*A488^2","v":127.55478761044066},5895.5783625719714,5592.4216374280286]
[489,5743,5698,null,null,null,null,null,null,null,null,null,{"$f":"Control!$C$20+Control!$C$21*A489+Control!$C$22*A489^2","v":127.82409640311769},5894.5651675022991,5591.4348324977009]
[490,5742,5806,null,null,null,null,null,null,null,null,null,{"$f":"Control!$C$20+Control!$C$21*A490+Control!$C$22*A490^2","v":128.09340519485343},5893.5519712837813,5590.4480287162187]
[491,5742,5809,null,null,null,null,null,null,null,null,null,{"$f":"Control!$C$20+Control!$C$21*A491+Control!$C$22*A491^2","v":128.36271398564787},5893.5519712837813,5590.4480287162187]
[492,5741,5736,null,null,null,null,null,null,null,null,null,{"$f":"Control!$C$20+Control!$C$21*A492+Control!$C$22*A492^2","v":128.63202277550101},5892.538773916117,5589.461226083883]
[493,5740,5749,null,null,null,null,null,null,null,null,null,{"$f":"Control!$C$20+Control!$C$21*A493+Control!$C$22*A493^2","v":128.90133156441289},5891.5255753990068,5588.4744246009932]
[494,5740,5724,null,null,null,null,null,null,null,null,null,{"$f":"Control!$C$20+Control!$C$21*A494+Control!$C$22*A494^2","v":129.17064035238343},5891.5255753990068,5588.4744246009932]
[495,5739,5754,null,null,null,null,null,null,null,null,null,{"$f":"Control!$C$20+Control!$C$21*A495+Control!$C$22*A495^2","v":129.4399491394127},5890.5123757321489,5587.4876242678511]
[496,5738,5718,null,null,null,null,null,null,null,null,null,{"$f":"Control!$C$20+Control!$C$21*A496+Control!$C$22*A496^2","v":129.70925792550065},5889.499174915245,5586.500825084755]
[497,5737,5752,null,null,null,null,null,null,null,null,null,{"$f":"Control!$C$20+Control!$C$21*A497+Control!$C$22*A497^2","v":129.97856671064733},5888.4859729479931,5585.5140270520069]
[498,5737,5745,null,null,null,null,null,null,null,null,null,{"$f":"Control!$C$20+Control!$C$21*A498+Control!$C$22*A498^2","v":130.24787549485268},5888.4859729479931,5585.5140270520069]
[499,5736,5700,null,null,null,null,null,null,null,null,null,{"$f":"Control!$C$20+Control!$C$21*A499+Control!$C$22*A499^2","v":130.51718427811676},5887.4727698300921,5584.5272301699079]
[500,5735,5867,null,null,null,null,null,null,null,null,null,{"$f":"Control!$C$20+Control!$C$21*A500+Control!$C$22*A500^2","v":130.78649306043951},5886.4595655612411,5583.5404344387589]
[501,5734,5862,null,null,null,null,null,null,null,null,null,{"$f":"Control!$C$20+Control!$C$21*A501+Control!$C$22*A501^2","v":131.05580184182099},5885.4463601411408,5582.5536398588592]
[502,5734,5921,null,null,null,null,null,null,null,null,null,{"$f":"Control!$C$20+Control!$C$21*A502+Control!$C$22*A502^2","v":131.32511062226118},5885.4463601411408,5582.5536398588592]
[503,5733,5849,null,null,null,null,null,null,null,null,null,{"$f":"Control!$C$20+Control!$C$21*A503+Control!$C$22*A503^2","v":131.59441940176006},5884.4331535694873,5581.5668464305127]
[504,5732,5778,null,null,null,null,null,null,null,null,null,{"$f":"Control!$C$20+Control!$C$21*A504+Control!$C$22*A504^2","v":131.86372818031765},5883.4199458459816,5580.5800541540184]
[505,5732,5692,null,null,null,null,null,null,null,null,null,{"$f":"Control!$C$20+Control!$C$21*A505+Control!$C$22*A505^2","v":132.13303695793394},5883.4199458459816,5580.5800541540184]
[506,5731,5782,null,null,null,null,null,null,null,null,null,{"$f":"Control!$C$20+Control!$C$21*A506+Control!$C$22*A506^2","v":132.40234573460893},5882.4067369703207,5579.5932630296793]
[507,5730,5605,null,null,null,null,null,null,null,null,null,{"$f":"Control!$C$20+Control!$C$21*A507+Control!$C$22*A507^2","v":132.67165451034262},5881.3935269422045,5578.6064730577955]
[508,5729,5716,null,null,null,null,null,null,null,null,null,{"$f":"Control!$C$20+Control!$C$21*A508+Control!$C$22*A508^2","v":132.94096328513501},5880.3803157613302,5577.6196842386698]
[509,5729,5651,null,null,null,null,null,null,null,null,null,{"$f":"Control!$C$20+Control!$C$21*A509+Control!$C$22*A509^2","v":133.21027205898613},5880.3803157613302,5577.6196842386698]
[510,5728,5793,null,null,null,null,null,null,null,null,null,{"$f":"Control!$C$20+Control!$C$21*A510+Control!$C$22*A510^2","v":133.47958083189593},5879.3671034273957,5576.6328965726043]
[511,5727,5790,null,null,null,null,null,null,null,null,null,{"$f":"Control!$C$20+Control!$C$21*A511+Control!$C$22*A511^2","v":133.74888960386446},5878.3538899401001,5575.6461100598999]
[512,5726,5511,null,null,null,null,null,null,null,null,null,{"$f":"Control!$C$20+Control!$C$21*A512+Control!$C$22*A512^2","v":134.01819837489165},5877.3406752991414,5574.6593247008586]
[513,5726,5777,null,null,null,null,null,null,null,null,null,{"$f":"Control!$C$20+Control!$C$21*A513+Control!$C$22*A513^2","v":134.28750714497758},5877.3406752991414,5574.6593247008586]
[514,5725,5721,null,null,null,null,null,null,null,null,null,{"$f":"Control!$C$20+Control!$C$21*A514+Control!$C$22*A514^2","v":134.55681591412218},5876.3274595042158,5573.6725404957842]
[515,5724,5760,null,null,null,null,null,null,null,null,null,{"$f":"Control!$C$20+Control!$C$21*A515+Control!$C$22*A515^2","v":134.82612468232551},{"$f":"IF(D515=0,B515+2*SQRT(B515),N514)","v":5875.3142425550222},{"$f":"IF(D515=0,B515-2*SQRT(B515),O514)","v":5572.6857574449778}]
[516,5723,5754,null,null,null,null,null,null,null,null,null,{"$f":"Control!$C$20+Control!$C$21*A516+Control!$C$22*A516^2","v":135.09543344958752},5874.301024451257,5571.698975548743]
[517,5723,5715,null,null,null,null,null,null,null,null,null,{"$f":"Control!$C$20+Control!$C$21*A517+Control!$C$22*A517^2","v":135.36474221590825},5874.301024451257,5571.698975548743]
[518,5722,5817,null,null,null,null,null,null,null,null,null,{"$f":"Control!$C$20+Control!$C$21*A518+Control!$C$22*A518^2","v":135.63405098128769},5873.28780519262,5570.71219480738]
[519,5721,5671,null,null,null,null,null,null,null,null,null,{"$f":"Control!$C$20+Control!$C$21*A519+Control!$C$22*A519^2","v":135.90335974572582},5872.2745847788055,5569.7254152211945]
[520,5721,5731,null,null,null,null,null,null,null,null,null,{"$f":"Control!$C$20+Control!$C$21*A520+Control!$C$22*A520^2","v":136.17266850922266},5872.2745847788055,5569.7254152211945]
[521,5720,5831,null,null,null,null,null,null,null,null,null,{"$f":"Control!$C$20+Control!$C$21*A521+Control!$C$22*A521^2","v":136.4419772717782},5871.2613632095126,5568.7386367904874]
[522,5719,5743,null,null,null,null,null,null,null,null,null,{"$f":"Control!$C$20+Control!$C$21*A522+Control!$C$22*A522^2","v":136.71128603339244},5870.2481404844366,5567.7518595155634]
[523,5718,5763,null,null,null,null,null,null,null,null,null,{"$f":"Control!$C$20+Control!$C$21*A523+Control!$C$22*A523^2","v":136.98059479406538},5869.2349166032764,5566.7650833967236]
[524,5718,5752,null,null,null,null,null,null,null,null,null,{"$f":"Control!$C$20+Control!$C$21*A524+Control!$C$22*A524^2","v":137.24990355379703},5869.2349166032764,5566.7650833967236]
[525,5717,5662,null,null,null,null,null,null,null,null,null,{"$f":"Control!$C$20+Control!$C$21*A525+Control!$C$22*A525^2","v":137.5192123125874},5868.2216915657273,5565.7783084342727]
[526,5716,5579,null,null,null,null,null,null,null,null,null,{"$f":"Control!$C$20+Control!$C$21*A526+Control!$C$22*A526^2","v":137.78852107043645},5867.2084653714865,5564.7915346285135]
[527,5715,5744,null,null,null,null,null,null,null,null,null,{"$f":"Control!$C$20+Control!$C$21*A527+Control!$C$22*A527^2","v":138.05782982734422},5866.1952380202501,5563.8047619797499]
[528,5715,5866,null,null,null,null,null,null,null,null,null,{"$f":"Control!$C$20+Control!$C$21*A528+Control!$C$22*A528^2","v":138.32713858331067},5866.1952380202501,5563.8047619797499]
[529,5714,5714,null,null,null,null,null,null,null,null,null,{"$f":"Control!$C$20+Control!$C$21*A529+Control!$C$22*A529^2","v":138.59644733833585},5865.1820095117137,5562.8179904882863]
[530,5730,5838,17,null,null,null,null,null,null,null,null,{"$f":"Control!$C$20+Control!$C$21*A530+Control!$C$22*A530^2","v":138.8657560924197},5865.1820095117137,5562.8179904882863]
[531,5847,5994,135,null,null,null,null,null,null,null,null,{"$f":"Control!$C$20+Control!$C$21*A531+Control!$C$22*A531^2","v":139.13506484556228},5865.1820095117137,5562.8179904882863]
[532,6323,6345,611,null,null,null,null,null,null,null,null,{"$f":"Control!$C$20+Control!$C$21*A532+Control!$C$22*A532^2","v":139.40437359776354},5865.1820095117137,5562.8179904882863]
[533,7293,7362,1582,null,null,null,null,null,null,null,null,{"$f":"Control!$C$20+Control!$C$21*A533+Control!$C$22*A533^2","v":139.67368234902352},5865.1820095117137,5562.8179904882863]
[534,8061,8054,2351,null,null,null,null,null,null,null,null,{"$f":"Control!$C$20+Control!$C$21*A534+Control!$C$22*A534^2","v":139.94299109934221},5865.1820095117137,5562.8179904882863]
[535,7712,7677,2002,null,null,null,null,null,null,null,null,{"$f":"Control!$C$20+Control!$C$21*A535+Control!$C$22*A535^2","v":140.2122998487196},5865.1820095117137,5562.8179904882863]
[536,6687,6625,978,null,null,null,null,null,null,null,null,{"$f":"Control!$C$20+Control!$C$21*A536+Control!$C$22*A536^2","v":140.48160859715568},5865.1820095117137,5562.8179904882863]
[537,5982,5965,274,null,null,null,null,null,null,null,null,{"$f":"Control!$C$20+Control!$C$21*A537+Control!$C$22*A537^2","v":140.75091734465047},5865.1820095117137,5562.8179904882863]
[538,5751,5772,44,null,null,null,null,null,null,null,null,{"$f":"Control!$C$20+Control!$C$21*A538+Control!$C$22*A538^2","v":141.02022609120397},5865.1820095117137,5562.8179904882863]
[539,5707,5701,null,null,null,null,null,null,null,null,null,{"$f":"Control!$C$20+Control!$C$21*A539+Control!$C$22*A539^2","v":141.28953483681616},5858.0893775220484,5555.9106224779516]
[540,5706,5692,null,null,null,null,null,null,null,null,null,{"$f":"Control!$C$20+Control!$C$21*A540+Control!$C$22*A540^2","v":141.55884358148705},5857.0761397441702,5554.9238602558298]
[541,5705,5773,null,null,null,null,null,null,null,null,null,{"$f":"Control!$C$20+Control!$C$21*A541+Control!$C$22*A541^2","v":141.82815232521668},5856.0629008062533,5553.9370991937467]
[542,5704,5595,null,null,null,null,null,null,null,null,null,{"$f":"Control!$C$20+Control!$C$21*A542+Control!$C$22*A542^2","v":142.09746106800498},5855.049660707994,5552.950339292006]
[543,5704,5645,null,null,null,null,null,null,null,null,null,{"$f":"Control!$C$20+Control!$C$21*A543+Control!$C$22*A543^2","v":142.366769809852},5855.049660707994,5552.950339292006]
[544,5703,5646,null,null,null,null,null,null,null,null,null,{"$f":"Control!$C$20+Control!$C$21*A544+Control!$C$22*A544^2","v":142.6360785507577},5854.0364194490849,5551.9635805509151]
[545,5702,5718,null,null,null,null,null,null,null,null,null,{"$f":"Control!$C$20+Control!$C$21*A545+Control!$C$22*A545^2","v":142.90538729072213},5853.023177029223,5550.976822970777]
[546,5701,5723,null,null,null,null,null,null,null,null,null,{"$f":"Control!$C$20+Control!$C$21*A546+Control!$C$22*A546^2","v":143.17469602974523},5852.009933448101,5549.990066551899]
[547,5701,5596,null,null,null,null,null,null,null,null,null,{"$f":"Control!$C$20+Control!$C$21*A547+Control!$C$22*A547^2","v":143.44400476782707},5852.009933448101,5549.990066551899]
[548,5700,5579,null,null,null,null,null,null,null,null,null,{"$f":"Control!$C$20+Control!$C$21*A548+Control!$C$22*A548^2","v":143.71331350496757},5850.9966887054152,5549.0033112945848]
[549,5699,5710,null,null,null,null,null,null,null,null,null,{"$f":"Control!$C$20+Control!$C$21*A549+Control!$C$22*A549^2","v":143.98262224116681},5849.983442800858,5548.016557199142]
[550,5699,5793,null,null,null,null,null,null,null,null,null,{"$f":"Control!$C$20+Control!$C$21*A550+Control!$C$22*A550^2","v":144.25193097642475},5849.983442800858,5548.016557199142]
[551,5698,5585,null,null,null,null,null,null,null,null,null,{"$f":"Control!$C$20+Control!$C$21*A551+Control!$C$22*A551^2","v":144.52123971074138},5848.9701957341249,5547.0298042658751]
[552,5697,5686,null,null,null,null,null,null,null,null,null,{"$f":"Control!$C$20+Control!$C$21*A552+Control!$C$22*A552^2","v":144.79054844411672},5847.9569475049093,5546.0430524950907]
[553,5696,5630,null,null,null,null,null,null,null,null,null,{"$f":"Control!$C$20+Control!$C$21*A553+Control!$C$22*A553^2","v":145.05985717655076},5846.9436981129056,5545.0563018870944]
[554,5696,5702,null,null,null,null,null,null,null,null,null,{"$f":"Control!$C$20+Control!$C$21*A554+Control!$C$22*A554^2","v":145.32916590804351},5846.9436981129056,5545.0563018870944]
[555,5695,5657,null,null,null,null,null,null,null,null,null,{"$f":"Control!$C$20+Control!$C$21*A555+Control!$C$22*A555^2","v":145.59847463859495},5845.9304475578074,5544.0695524421926]
[556,5694,5544,null,null,null,null,null,null,null,null,null,{"$f":"Control!$C$20+Control!$C$21*A556+Control!$C$22*A556^2","v":145.8677833682051},5844.9171958393081,5543.0828041606919]
[557,5693,5578,null,null,null,null,null,null,null,null,null,{"$f":"Control!$C$20+Control!$C$21*A557+Control!$C$22*A557^2","v":146.13709209687397},5843.9039429571012,5542.0960570428988]
[558,5693,5786,null,null,null,null,null,null,null,null,null,{"$f":"Control!$C$20+Control!$C$21*A558+Control!$C$22*A558^2","v":146.40640082460152},5843.9039429571012,5542.0960570428988]
[559,5692,5592,null,null,null,null,null,null,null,null,null,{"$f":"Control!$C$20+Control!$C$21*A559+Control!$C$22*A559^2","v":146.6757095513878},5842.8906889108803,5541.1093110891197]
[560,5691,5723,null,null,null,null,null,null,null,null,null,{"$f":"Control!$C$20+Control!$C$21*A560+Control!$C$22*A560^2","v":146.94501827723275},5841.8774337003388,5540.1225662996612]
[561,5690,5729,null,null,null,null,null,null,null,null,null,{"$f":"Control!$C$20+Control!$C$21*A561+Control!$C$22*A561^2","v":147.21432700213643},5840.8641773251693,5539.1358226748307]
[562,5690,5802,null,null,null,null,null,null,null,null,null,{"$f":"Control!$C$20+Control!$C$21*A562+Control!$C$22*A562^2","v":147.48363572609878},5840.8641773251693,5539.1358226748307]
[563,5689,5738,null,null,null,null,null,null,null,null,null,{"$f":"Control!$C$20+Control!$C$21*A563+Control!$C$22*A563^2","v":147.75294444911987},5839.8509197850644,5538.1490802149356]
[564,5688,5844,null,null,null,null,null,null,null,null,null,{"$f":"Control!$C$20+Control!$C$21*A564+Control!$C$22*A564^2","v":148.02225317119962},5838.8376610797186,5537.1623389202814]
[565,5688,5865,null,null,null,null,null,null,null,null,null,{"$f":"Control!$C$20+Control!$C$21*A565+Control!$C$22*A565^2","v":148.29156189233811},5838.8376610797186,5537.1623389202814]
[566,5687,5508,null,null,null,null,null,null,null,null,null,{"$f":"Control!$C$20+Control!$C$21*A566+Control!$C$22*A566^2","v":148.5608706125353},5837.8244012088226,5536.1755987911774]
[567,5686,5520,null,null,null,null,null,null,null,null,null,{"$f":"Control!$C$20+Control!$C$21*A567+Control!$C$22*A567^2","v":148.83017933179119},5836.8111401720707,5535.1888598279293]
[568,5685,5638,null,null,null,null,null,null,null,null,null,{"$f":"Control!$C$20+Control!$C$21*A568+Control!$C$22*A568^2","v":149.09948805010578},5835.7978779691548,5534.2021220308452]
[569,5685,5698,null,null,null,null,null,null,null,null,null,{"$f":"Control!$C$20+Control!$C$21*A569+Control!$C$22*A569^2","v":149.36879676747907},5835.7978779691548,5534.2021220308452]
[570,5684,5793,null,null,null,null,null,null,null,null,null,{"$f":"Control!$C$20+Control!$C$21*A570+Control!$C$22*A570^2","v":149.63810548391106},5834.7846145997664,5533.2153854002336]
[571,5683,5736,null,null,null,null,null,null,null,null,null,{"$f":"Control!$C$20+Control!$C$21*A571+Control!$C$22*A571^2","v":149.90741419940176},5833.7713500635982,5532.2286499364018]
[572,5682,5539,null,null,null,null,null,null,null,null,null,{"$f":"Control!$C$20+Control!$C$21*A572+Control!$C$22*A572^2","v":150.17672291395115},5832.7580843603419,5531.2419156396581]
[573,5682,5729,null,null,null,null,null,null,null,null,null,{"$f":"Control!$C$20+Control!$C$21*A573+Control!$C$22*A573^2","v":150.44603162755928},5832.7580843603419,5531.2419156396581]
[574,5681,5628,null,null,null,null,null,null,null,null,null,{"$f":"Control!$C$20+Control!$C$21*A574+Control!$C$22*A574^2","v":150.71534034022608},5831.7448174896899,5530.2551825103101]
[575,5680,5751,null,null,null,null,null,null,null,null,null,{"$f":"Control!$C$20+Control!$C$21*A575+Control!$C$22*A575^2","v":150.98464905195161},5830.7315494513341,5529.2684505486659]
[576,5679,5583,null,null,null,null,null,null,null,null,null,{"$f":"Control!$C$20+Control!$C$21*A576+Control!$C$22*A576^2","v":151.25395776273581},5829.7182802449661,5528.2817197550339]
[577,5679,5615,null,null,null,null,null,null,null,null,null,{"$f":"Control!$C$20+Control!$C$21*A577+Control!$C$22*A577^2","v":151.52326647257874},5829.7182802449661,5528.2817197550339]
[578,5678,5749,null,null,null,null,null,null,null,null,null,{"$f":"Control!$C$20+Control!$C$21*A578+Control!$C$22*A578^2","v":151.79257518148034},5828.7050098702757,5527.2949901297243]
[579,5677,5676,null,null,null,null,null,null,null,null,null,{"$f":"Control!$C$20+Control!$C$21*A579+Control!$C$22*A579^2","v":152.06188388944068},{"$f":"IF(D579=0,B579+2*SQRT(B579),N578)","v":5827.6917383269565},{"$f":"IF(D579=0,B579-2*SQRT(B579),O578)","v":5526.3082616730435}]
[580,5677,5715,null,null,null,null,null,null,null,null,null,{"$f":"Control!$C$20+Control!$C$21*A580+Control!$C$22*A580^2","v":152.33119259645969},5827.6917383269565,5526.3082616730435]
[581,5676,5647,null,null,null,null,null,null,null,null,null,{"$f":"Control!$C$20+Control!$C$21*A581+Control!$C$22*A581^2","v":152.60050130253742},5826.6784656146992,5525.3215343853008]
[582,5675,5766,null,null,null,null,null,null,null,null,null,{"$f":"Control!$C$20+Control!$C$21*A582+Control!$C$22*A582^2","v":152.86981000767386},5825.6651917331938,5524.3348082668062]
[583,5674,5681,null,null,null,null,null,null,null,null,null,{"$f":"Control!$C$20+Control!$C$21*A583+Control!$C$22*A583^2","v":153.139118711869},5824.6519166821317,5523.3480833178683]
[584,5674,5635,null,null,null,null,null,null,null,null,null,{"$f":"Control!$C$20+Control!$C$21*A584+Control!$C$22*A584^2","v":153.40842741512284},5824.6519166821317,5523.3480833178683]
[585,5673,5766,null,null,null,null,null,null,null,null,null,{"$f":"Control!$C$20+Control!$C$21*A585+Control!$C$22*A585^2","v":153.67773611743539},5823.638640461204,5522.361359538796]
[586,5672,5711,null,null,null,null,null,null,null,null,null,{"$f":"Control!$C$20+Control!$C$21*A586+Control!$C$22*A586^2","v":153.94704481880663},5822.6253630701021,5521.3746369298979]
[587,5671,5628,null,null,null,null,null,null,null,null,null,{"$f":"Control!$C$20+Control!$C$21*A587+Control!$C$22*A587^2","v":154.21635351923658},5821.6120845085152,5520.3879154914848]
[588,5671,5586,null,null,null,null,null,null,null,null,null,{"$f":"Control!$C$20+Control!$C$21*A588+Control!$C$22*A588^2","v":154.48566221872522},5821.6120845085152,5520.3879154914848]
[589,5670,5563,null,null,null,null,null,null,null,null,null,{"$f":"Control!$C$20+Control!$C$21*A589+Control!$C$22*A589^2","v":154.7549709172726},5820.5988047761339,5519.4011952238661]
[590,5669,5717,null,null,null,null,null,null,null,null,null,{"$f":"Control!$C$20+Control!$C$21*A590+Control!$C$22*A590^2","v":155.02427961487865},5819.585523872649,5518.414476127351]
[591,5668,5637,null,null,null,null,null,null,null,null,null,{"$f":"Control!$C$20+Control!$C$21*A591+Control!$C$22*A591^2","v":155.29358831154343},5818.5722417977495,5517.4277582022505]
[592,5668,5689,null,null,null,null,null,null,null,null,null,{"$f":"Control!$C$20+Control!$C$21*A592+Control!$C$22*A592^2","v":155.56289700726688},5818.5722417977495,5517.4277582022505]
[593,5667,5579,null,null,null,null,null,null,null,null,null,{"$f":"Control!$C$20+Control!$C$21*A593+Control!$C$22*A593^2","v":155.83220570204907},5817.558958551127,5516.441041448873]
[594,5666,5753,null,null,null,null,null,null,null,null,null,{"$f":"Control!$C$20+Control!$C$21*A594+Control!$C$22*A594^2","v":156.10151439588992},5816.5456741324706,5515.4543258675294]
[595,5666,5789,null,null,null,null,null,null,null,null,null,{"$f":"Control!$C$20+Control!$C$21*A595+Control!$C$22*A595^2","v":156.37082308878951},5816.5456741324706,5515.4543258675294]
[596,5665,5734,null,null,null,null,null,null,null,null,null,{"$f":"Control!$C$20+Control!$C$21*A596+Control!$C$22*A596^2","v":156.64013178074777},5815.53238854147,5514.46761145853]
[597,5664,5663,null,null,null,null,null,null,null,null,null,{"$f":"Control!$C$20+Control!$C$21*A597+Control!$C$22*A597^2","v":156.90944047176475},5814.5191017778143,5513.4808982221857]
[598,5663,5569,null,null,null,null,null,null,null,null,null,{"$f":"Control!$C$20+Control!$C$21*A598+Control!$C$22*A598^2","v":157.17874916184044},5813.5058138411932,5512.4941861588068]
[599,5663,5762,null,null,null,null,null,null,null,null,null,{"$f":"Control!$C$20+Control!$C$21*A599+Control!$C$22*A599^2","v":157.44805785097483},5813.5058138411932,5512.4941861588068]
[600,5662,5577,null,null,null,null,null,null,null,null,null,{"$f":"Control!$C$20+Control!$C$21*A600+Control!$C$22*A600^2","v":157.71736653916793},5812.4925247312967,5511.5074752687033]
[601,5661,5695,null,null,null,null,null,null,null,null,null,{"$f":"Control!$C$20+Control!$C$21*A601+Control!$C$22*A601^2","v":157.98667522641972},5811.4792344478137,5510.5207655521863]
[602,5660,5572,null,null,null,null,null,null,null,null,null,{"$f":"Control!$C$20+Control!$C$21*A602+Control!$C$22*A602^2","v":158.25598391273022},5810.4659429904323,5509.5340570095677]
[603,5660,5668,null,null,null,null,null,null,null,null,null,{"$f":"Control!$C$20+Control!$C$21*A603+Control!$C$22*A603^2","v":158.52529259809941},5810.4659429904323,5509.5340570095677]
[604,5659,5767,null,null,null,null,null,null,null,null,null,{"$f":"Control!$C$20+Control!$C$21*A604+Control!$C$22*A604^2","v":158.79460128252731},5809.4526503588422,5508.5473496411578]
[605,5658,5670,null,null,null,null,null,null,null,null,null,{"$f":"Control!$C$20+Control!$C$21*A605+Control!$C$22*A605^2","v":159.06390996601394},5808.4393565527316,5507.5606434472684]
[606,5658,5491,null,null,null,null,null,null,null,null,null,{"$f":"Control!$C$20+Control!$C$21*A606+Control!$C$22*A606^2","v":159.33321864855924},5808.4393565527316,5507.5606434472684]
[607,5657,5632,null,null,null,null,null,null,null,null,null,{"$f":"Control!$C$20+Control!$C$21*A607+Control!$C$22*A607^2","v":159.60252733016327},5807.4260615717903,5506.5739384282097]
[608,5656,5543,null,null,null,null,null,null,null,null,null,{"$f":"Control!$C$20+Control!$C$21*A608+Control!$C$22*A608^2","v":159.87183601082597},5806.4127654157055,5505.5872345842945]
[609,5655,5633,null,null,null,null,null,null,null,null,null,{"$f":"Control!$C$20+Control!$C$21*A609+Control!$C$22*A609^2","v":160.14114469054741},5805.3994680841661,5504.6005319158339]
[610,5655,5578,null,null,null,null,null,null,null,null,null,{"$f":"Control!$C$20+Control!$C$21*A610+Control!$C$22*A610^2","v":160.41045336932751},5805.3994680841661,5504.6005319158339]
[611,5654,5718,null,null,null,null,null,null,null,null,null,{"$f":"Control!$C$20+Control!$C$21*A611+Control!$C$22*A611^2","v":160.67976204716635},5804.3861695768601,5503.6138304231399]
[612,5653,5578,null,null,null,null,null,null,null,null,null,{"$f":"Control!$C$20+Control!$C$21*A612+Control!$C$22*A612^2","v":160.94907072406386},5803.3728698934756,5502.6271301065244]
[613,5652,5595,null,null,null,null,null,null,null,null,null,{"$f":"Control!$C$20+Control!$C$21*A613+Control!$C$22*A613^2","v":161.2183794000201},5802.3595690336997,5501.6404309663003]
[614,5652,5588,null,null,null,null,null,null,null,null,null,{"$f":"Control!$C$20+Control!$C$21*A614+Control!$C$22*A614^2","v":161.48768807503504},5802.3595690336997,5501.6404309663003]
[615,5651,5801,null,null,null,null,null,null,null,null,null,{"$f":"Control!$C$20+Control!$C$21*A615+Control!$C$22*A615^2","v":161.75699674910868},5801.3462669972223,5500.6537330027777]
[616,5650,5716,null,null,null,null,null,null,null,null,null,{"$f":"Control!$C$20+Control!$C$21*A616+Control!$C$22*A616^2","v":162.02630542224102},5800.3329637837287,5499.6670362162713]
[617,5649,5703,null,null,null,null,null,null,null,null,null,{"$f":"Control!$C$20+Control!$C$21*A617+Control!$C$22*A617^2","v":162.29561409443207},5799.3196593929088,5498.6803406070912]
[618,5649,5655,null,null,null,null,null,null,null,null,null,{"$f":"Control!$C$20+Control!$C$21*A618+Control!$C$22*A618^2","v":162.56492276568181},5799.3196593929088,5498.6803406070912]
[619,5648,5559,null,null,null,null,null,null,null,null,null,{"$f":"Control!$C$20+Control!$C$21*A619+Control!$C$22*A619^2","v":162.83423143599026},5798.3063538244478,5497.6936461755522]
[620,5647,5674,null,null,null,null,null,null,null,null,null,{"$f":"Control!$C$20+Control!$C$21*A620+Control!$C$22*A620^2","v":163.10354010535741},5797.2930470780339,5496.7069529219661]
[621,5647,5680,null,null,null,null,null,null,null,null,null,{"$f":"Control!$C$20+Control!$C$21*A621+Control!$C$22*A621^2","v":163.37284877378329},5797.2930470780339,5496.7069529219661]
[622,5646,5780,null,null,null,null,null,null,null,null,null,{"$f":"Control!$C$20+Control!$C$21*A622+Control!$C$22*A622^2","v":163.64215744126784},5796.2797391533531,5495.7202608466469]
[623,5645,5690,null,null,null,null,null,null,null,null,null,{"$f":"Control!$C$20+Control!$C$21*A623+Control!$C$22*A623^2","v":163.91146610781112},5795.2664300500946,5494.7335699499054]
[624,5644,5711,null,null,null,null,null,null,null,null,null,{"$f":"Control!$C$20+Control!$C$21*A624+Control!$C$22*A624^2","v":164.18077477341308},5794.2531197679436,5493.7468802320564]
[625,5644,5635,null,null,null,null,null,null,null,null,null,{"$f":"Control!$C$20+Control!$C$21*A625+Control!$C$22*A625^2","v":164.45008343807376},5794.2531197679436,5493.7468802320564]
[626,5643,5578,null,null,null,null,null,null,null,null,null,{"$f":"Control!$C$20+Control!$C$21*A626+Control!$C$22*A626^2","v":164.71939210179312},5793.2398083065873,5492.7601916934127]
[627,5642,5602,null,null,null,null,null,null,null,null,null,{"$f":"Control!$C$20+Control!$C$21*A627+Control!$C$22*A627^2","v":164.98870076457121},5792.2264956657118,5491.7735043342882]
[628,5641,5743,null,null,null,null,null,null,null,null,null,{"$f":"Control!$C$20+Control!$C$21*A628+Control!$C$22*A628^2","v":165.25800942640797},5791.2131818450034,5490.7868181549966]
[629,5641,5694,null,null,null,null,null,null,null,null,null,{"$f":"Control!$C$20+Control!$C$21*A629+Control!$C$22*A629^2","v":165.52731808730346},5791.2131818450034,5490.7868181549966]
[630,5640,5731,null,null,null,null,null,null,null,null,null,{"$f":"Control!$C$20+Control!$C$21*A630+Control!$C$22*A630^2","v":165.79662674725765},5790.1998668441483,5489.8001331558517]
[631,5639,5723,null,null,null,null,null,null,null,null,null,{"$f":"Control!$C$20+Control!$C$21*A631+Control!$C$22*A631^2","v":166.06593540627054},5789.1865506628337,5488.8134493371663]
[632,5638,5613,null,null,null,null,null,null,null,null,null,{"$f":"Control!$C$20+Control!$C$21*A632+Control!$C$22*A632^2","v":166.33524406434213},5788.1732333007449,5487.8267666992551]
[633,5638,5670,null,null,null,null,null,null,null,null,null,{"$f":"Control!$C$20+Control!$C$21*A633+Control!$C$22*A633^2","v":166.60455272147243},5788.1732333007449,5487.8267666992551]
[634,5637,5848,null,null,null,null,null,null,null,null,null,{"$f":"Control!$C$20+Control!$C$21*A634+Control!$C$22*A634^2","v":166.87386137766143},5787.159914757568,5486.840085242432]
[635,5636,5605,null,null,null,null,null,null,null,null,null,{"$f":"Control!$C$20+Control!$C$21*A635+Control!$C$22*A635^2","v":167.14317003290913},5786.1465950329875,5485.8534049670125]
[636,5636,5738,null,null,null,null,null,null,null,null,null,{"$f":"Control!$C$20+Control!$C$21*A636+Control!$C$22*A636^2","v":167.41247868721553},5786.1465950329875,5485.8534049670125]
[637,5635,5653,null,null,null,null,null,null,null,null,null,{"$f":"Control!$C$20+Control!$C$21*A637+Control!$C$22*A637^2","v":167.68178734058066},5785.1332741266906,5484.8667258733094]
[638,5634,5661,null,null,null,null,null,null,null,null,null,{"$f":"Control!$C$20+Control!$C$21*A638+Control!$C$22*A638^2","v":167.95109599300446},5784.1199520383616,5483.8800479616384]
[639,5633,5618,null,null,null,null,null,null,null,null,null,{"$f":"Control!$C$20+Control!$C$21*A639+Control!$C$22*A639^2","v":168.22040464448699},5783.1066287676867,5482.8933712323133]
[640,5633,5727,null,null,null,null,null,null,null,null,null,{"$f":"Control!$C$20+Control!$C$21*A640+Control!$C$22*A640^2","v":168.4897132950282},5783.1066287676867,5482.8933712323133]
[641,5632,5489,null,null,null,null,null,null,null,null,null,{"$f":"Control!$C$20+Control!$C$21*A641+Control!$C$22*A641^2","v":168.75902194462813},5782.0933043143496,5481.9066956856504]
[642,5631,5689,null,null,null,null,null,null,null,null,null,{"$f":"Control!$C$20+Control!$C$21*A642+Control!$C$22*A642^2","v":169.02833059328674},5781.0799786780372,5480.9200213219628]
[643,5630,5663,null,null,null,null,null,null,null,null,null,{"$f":"Control!$C$20+Control!$C$21*A643+Control!$C$22*A643^2","v":169.29763924100408},{"$f":"IF(D643=0,B643+2*SQRT(B643),N642)","v":5780.0666518584321},{"$f":"IF(D643=0,B643-2*SQRT(B643),O642)","v":5479.9333481415679}]
[644,5630,5577,null,null,null,null,null,null,null,null,null,{"$f":"Control!$C$20+Control!$C$21*A644+Control!$C$22*A644^2","v":169.56694788778009},5780.0666518584321,5479.9333481415679]
[645,5629,5629,null,null,null,null,null,null,null,null,null,{"$f":"Control!$C$20+Control!$C$21*A645+Control!$C$22*A645^2","v":169.83625653361483},5779.0533238552216,5478.9466761447784]
[646,5628,5801,null,null,null,null,null,null,null,null,null,{"$f":"Control!$C$20+Control!$C$21*A646+Control!$C$22*A646^2","v":170.10556517850827},5778.0399946680882,5477.9600053319118]
[647,5627,5666,null,null,null,null,null,null,null,null,null,{"$f":"Control!$C$20+Control!$C$21*A647+Control!$C$22*A647^2","v":170.37487382246042},5777.0266642967172,5476.9733357032828]
[648,5627,5528,null,null,null,null,null,null,null,null,null,{"$f":"Control!$C$20+Control!$C$21*A648+Control!$C$22*A648^2","v":170.64418246547126},5777.0266642967172,5476.9733357032828]
[649,5626,5657,null,null,null,null,null,null,null,null,null,{"$f":"Control!$C$20+Control!$C$21*A649+Control!$C$22*A649^2","v":170.91349110754081},5776.013332740793,5475.986667259207]
[650,5625,5638,null,null,null,null,null,null,null,null,null,{"$f":"Control!$C$20+Control!$C$21*A650+Control!$C$22*A650^2","v":171.18279974866905},5775,5475]
[651,5625,5727,null,null,null,null,null,null,null,null,null,{"$f":"Control!$C$20+Control!$C$21*A651+Control!$C$22*A651^2","v":171.452108388856},5775,5475]
[652,5624,5434,null,null,null,null,null,null,null,null,null,{"$f":"Control!$C$20+Control!$C$21*A652+Control!$C$22*A652^2","v":171.72141702810165},5773.9866660740217,5474.0133339259783]
[653,5623,5690,null,null,null,null,null,null,null,null,null,{"$f":"Control!$C$20+Control!$C$21*A653+Control!$C$22*A653^2","v":171.99072566640604},5772.9733309625417,5473.0266690374583]
[654,5622,5642,null,null,null,null,null,null,null,null,null,{"$f":"Control!$C$20+Control!$C$21*A654+Control!$C$22*A654^2","v":172.26003430376909},5771.9599946652443,5472.0400053347557]
[655,5622,5575,null,null,null,null,null,null,null,null,null,{"$f":"Control!$C$20+Control!$C$21*A655+Control!$C$22*A655^2","v":172.52934294019087},5771.9599946652443,5472.0400053347557]
[656,5621,5592,null,null,null,null,null,null,null,null,null,{"$f":"Control!$C$20+Control!$C$21*A656+Control!$C$22*A656^2","v":172.79865157567133},5770.946657181812,5471.053342818188]
[657,5620,5753,null,null,null,null,null,null,null,null,null,{"$f":"Control!$C$20+Control!$C$21*A657+Control!$C$22*A657^2","v":173.06796021021052},5769.9333185119303,5470.0666814880697]
[658,5619,5551,null,null,null,null,null,null,null,null,null,{"$f":"Control!$C$20+Control!$C$21*A658+Control!$C$22*A658^2","v":173.33726884380837},5768.9199786552817,5469.0800213447183]
[659,5619,5584,null,null,null,null,null,null,null,null,null,{"$f":"Control!$C$20+Control!$C$21*A659+Control!$C$22*A659^2","v":173.60657747646496},5768.9199786552817,5469.0800213447183]
[660,5618,5500,null,null,null,null,null,null,null,null,null,{"$f":"Control!$C$20+Control!$C$21*A660+Control!$C$22*A660^2","v":173.87588610818023},5767.9066376115479,5468.0933623884521]
[661,5617,5556,null,null,null,null,null,null,null,null,null,{"$f":"Control!$C$20+Control!$C$21*A661+Control!$C$22*A661^2","v":174.14519473895422},5766.8932953804142,5467.1067046195858]
[662,5616,5589,null,null,null,null,null,null,null,null,null,{"$f":"Control!$C$20+Control!$C$21*A662+Control!$C$22*A662^2","v":174.41450336878691},5765.8799519615613,5466.1200480384387]
[663,5616,5551,null,null,null,null,null,null,null,null,null,{"$f":"Control!$C$20+Control!$C$21*A663+Control!$C$22*A663^2","v":174.6838119976783},5765.8799519615613,5466.1200480384387]
[664,5615,5705,null,null,null,null,null,null,null,null,null,{"$f":"Control!$C$20+Control!$C$21*A664+Control!$C$22*A664^2","v":174.9531206256284},5764.8666073546738,5465.1333926453262]
[665,5614,5758,null,null,null,null,null,null,null,null,null,{"$f":"Control!$C$20+Control!$C$21*A665+Control!$C$22*A665^2","v":175.2224292526372},5763.8532615594331,5464.1467384405669]
[666,5614,5733,null,null,null,null,null,null,null,null,null,{"$f":"Control!$C$20+Control!$C$21*A666+Control!$C$22*A666^2","v":175.4917378787047},5763.8532615594331,5464.1467384405669]
[667,5613,5532,null,null,null,null,null,null,null,null,null,{"$f":"Control!$C$20+Control!$C$21*A667+Control!$C$22*A667^2","v":175.7610465038309},5762.8399145755229,5463.1600854244771]
[668,5612,5653,null,null,null,null,null,null,null,null,null,{"$f":"Control!$C$20+Control!$C$21*A668+Control!$C$22*A668^2","v":176.0303551280158},5761.8265664026239,5462.1734335973761]
[669,5611,5521,null,null,null,null,null,null,null,null,null,{"$f":"Control!$C$20+Control!$C$21*A669+Control!$C$22*A669^2","v":176.29966375125943},5760.8132170404197,5461.1867829595803]
[670,5611,5739,null,null,null,null,null,null,null,null,null,{"$f":"Control!$C$20+Control!$C$21*A670+Control!$C$22*A670^2","v":176.56897237356173},5760.8132170404197,5461.1867829595803]
[671,5610,5540,null,null,null,null,null,null,null,null,null,{"$f":"Control!$C$20+Control!$C$21*A671+Control!$C$22*A671^2","v":176.83828099492277},5759.7998664885918,5460.2001335114082]
[672,5609,5424,null,null,null,null,null,null,null,null,null,{"$f":"Control!$C$20+Control!$C$21*A672+Control!$C$22*A672^2","v":177.10758961534248},5758.7865147468219,5459.2134852531781]
[673,5608,5656,null,null,null,null,null,null,null,null,null,{"$f":"Control!$C$20+Control!$C$21*A673+Control!$C$22*A673^2","v":177.37689823482091},5757.7731618147927,5458.2268381852073]
[674,5608,5605,null,null,null,null,null,null,null,null,null,{"$f":"Control!$C$20+Control!$C$21*A674+Control!$C$22*A674^2","v":177.64620685335802},5757.7731618147927,5458.2268381852073]
[675,5607,5700,null,null,null,null,null,null,null,null,null,{"$f":"Control!$C$20+Control!$C$21*A675+Control!$C$22*A675^2","v":177.91551547095386},5756.759807692184,5457.240192307816]
[676,5606,5673,null,null,null,null,null,null,null,null,null,{"$f":"Control!$C$20+Control!$C$21*A676+Control!$C$22*A676^2","v":178.18482408760838},5755.7464523786794,5456.2535476213206]
[677,5605,5397,null,null,null,null,null,null,null,null,null,{"$f":"Control!$C$20+Control!$C$21*A677+Control!$C$22*A677^2","v":178.45413270332162},5754.7330958739585,5455.2669041260415]
[678,5605,5602,null,null,null,null,null,null,null,null,null,{"$f":"Control!$C$20+Control!$C$21*A678+Control!$C$22*A678^2","v":178.72344131809356},5754.7330958739585,5455.2669041260415]
[679,5652,5696,48,null,null,null,null,null,null,null,null,{"$f":"Control!$C$20+Control!$C$21*A679+Control!$C$22*A679^2","v":178.99274993192421},5754.7330958739585,5455.2669041260415]
[680,5855,5884,252,null,null,null,null,null,null,null,null,{"$f":"Control!$C$20+Control!$C$21*A680+Control!$C$22*A680^2","v":179.26205854481356},5754.7330958739585,5455.2669041260415]
[681,6393,6364,790,null,null,null,null,null,null,null,null,{"$f":"Control!$C$20+Control!$C$21*A681+Control!$C$22*A681^2","v":179.5313671567616},5754.7330958739585,5455.2669041260415]
[682,7089,7059,1487,null,null,null,null,null,null,null,null,{"$f":"Control!$C$20+Control!$C$21*A682+Control!$C$22*A682^2","v":179.80067576776835},5754.7330958739585,5455.2669041260415]
[683,7281,7262,1680,null,null,null,null,null,null,null,null,{"$f":"Control!$C$20+Control!$C$21*A683+Control!$C$22*A683^2","v":180.0699843778338},5754.7330958739585,5455.2669041260415]
[684,6740,6689,1140,null,null,null,null,null,null,null,null,{"$f":"Control!$C$20+Control!$C$21*A684+Control!$C$22*A684^2","v":180.33929298695796},5754.7330958739585,5455.2669041260415]
[685,6065,6101,465,null,null,null,null,null,null,null,null,{"$f":"Control!$C$20+Control!$C$21*A685+Control!$C$22*A685^2","v":180.60860159514084},5754.7330958739585,5455.2669041260415]
[686,5713,5603,114,null,null,null,null,null,null,null,null,{"$f":"Control!$C$20+Control!$C$21*A686+Control!$C$22*A686^2","v":180.8779102023824},5754.7330958739585,5455.2669041260415]
[687,5615,5571,17,null,null,null,null,null,null,null,null,{"$f":"Control!$C$20+Control!$C$21*A687+Control!$C$22*A687^2","v":181.14721880868268},5754.7330958739585,5455.2669041260415]
[688,5597,5566,null,null,null,null,null,null,null,null,null,{"$f":"Control!$C$20+Control!$C$21*A688+Control!$C$22*A688^2","v":181.41652741404164},5746.6262009141446,5447.3737990858554]
[689,5597,5602,null,null,null,null,null,null,null,null,null,{"$f":"Control!$C$20+Control!$C$21*A689+Control!$C$22*A689^2","v":181.68583601845933},5746.6262009141446,5447.3737990858554]
[690,5596,5652,null,null,null,null,null,null,null,null,null,{"$f":"Control!$C$20+Control!$C$21*A690+Control!$C$22*A690^2","v":181.95514462193569},5745.6128336741203,5446.3871663258797]
[691,5595,5494,null,null,null,null,null,null,null,null,null,{"$f":"Control!$C$20+Control!$C$21*A691+Control!$C$22*A691^2","v":182.22445322447078},5744.5994652396857,5445.4005347603143]
[692,5595,5612,null,null,null,null,null,null,null,null,null,{"$f":"Control!$C$20+Control!$C$21*A692+Control!$C$22*A692^2","v":182.49376182606454},5744.5994652396857,5445.4005347603143]
[693,5594,5681,null,null,null,null,null,null,null,null,null,{"$f":"Control!$C$20+Control!$C$21*A693+Control!$C$22*A693^2","v":182.76307042671704},5743.5860956105216,5444.4139043894784]
[694,5593,5644,null,null,null,null,null,null,null,null,null,{"$f":"Control!$C$20+Control!$C$21*A694+Control!$C$22*A694^2","v":183.03237902642823},5742.572724786306,5443.427275213694]
[695,5592,5707,null,null,null,null,null,null,null,null,null,{"$f":"Control!$C$20+Control!$C$21*A695+Control!$C$22*A695^2","v":183.30168762519813},5741.5593527667197,5442.4406472332803]
[696,5592,5567,null,null,null,null,null,null,null,null,null,{"$f":"Control!$C$20+Control!$C$21*A696+Control!$C$22*A696^2","v":183.57099622302673},5741.5593527667197,5442.4406472332803]
[697,5591,5608,null,null,null,null,null,null,null,null,null,{"$f":"Control!$C$20+Control!$C$21*A697+Control!$C$22*A697^2","v":183.84030481991402},5740.5459795514407,5441.4540204485593]
[698,5590,5633,null,null,null,null,null,null,null,null,null,{"$f":"Control!$C$20+Control!$C$21*A698+Control!$C$22*A698^2","v":184.10961341586003},5739.5326051401498,5440.4673948598502]
[699,5589,5598,null,null,null,null,null,null,null,null,null,{"$f":"Control!$C$20+Control!$C$21*A699+Control!$C$22*A699^2","v":184.37892201086473},5738.5192295325251,5439.4807704674749]
[700,5589,5464,null,null,null,null,null,null,null,null,null,{"$f":"Control!$C$20+Control!$C$21*A700+Control!$C$22*A700^2","v":184.64823060492813},5738.5192295325251,5439.4807704674749]
[701,5588,5638,null,null,null,null,null,null,null,null,null,{"$f":"Control!$C$20+Control!$C$21*A701+Control!$C$22*A701^2","v":184.91753919805026},5737.5058527282463,5438.4941472717537]
[702,5587,5543,null,null,null,null,null,null,null,null,null,{"$f":"Control!$C$20+Control!$C$21*A702+Control!$C$22*A702^2","v":185.18684779023107},5736.4924747269906,5437.5075252730094]
[703,5586,5831,null,null,null,null,null,null,null,null,null,{"$f":"Control!$C$20+Control!$C$21*A703+Control!$C$22*A703^2","v":185.45615638147061},5735.4790955284379,5436.5209044715621]
[704,5586,5648,null,null,null,null,null,null,null,null,null,{"$f":"Control!$C$20+Control!$C$21*A704+Control!$C$22*A704^2","v":185.72546497176882},5735.4790955284379,5436.5209044715621]
[705,5585,5601,null,null,null,null,null,null,null,null,null,{"$f":"Control!$C$20+Control!$C$21*A705+Control!$C$22*A705^2","v":185.99477356112575},5734.4657151322672,5435.5342848677328]
[706,5584,5672,null,null,null,null,null,null,null,null,null,{"$f":"Control!$C$20+Control!$C$21*A706+Control!$C$22*A706^2","v":186.26408214954137},5733.4523335381555,5434.5476664618445]
[707,5584,5626,null,null,null,null,null,null,null,null,null,{"$f":"Control!$C$20+Control!$C$21*A707+Control!$C$22*A707^2","v":186.53339073701571},{"$f":"IF(D707=0,B707+2*SQRT(B707),N706)","v":5733.4523335381555},{"$f":"IF(D707=0,B707-2*SQRT(B707),O706)","v":5434.5476664618445}]
[708,5583,5557,null,null,null,null,null,null,null,null,null,{"$f":"Control!$C$20+Control!$C$21*A708+Control!$C$22*A708^2","v":186.80269932354872},5732.4389507457809,5433.5610492542191]
[709,5582,5679,null,null,null,null,null,null,null,null,null,{"$f":"Control!$C$20+Control!$C$21*A709+Control!$C$22*A709^2","v":187.07200790914047},5731.4255667548232,5432.5744332451768]
[710,5581,5495,null,null,null,null,null,null,null,null,null,{"$f":"Control!$C$20+Control!$C$21*A710+Control!$C$22*A710^2","v":187.34131649379091},5730.4121815649578,5431.5878184350422]
[711,5581,5457,null,null,null,null,null,null,null,null,null,{"$f":"Control!$C$20+Control!$C$21*A711+Control!$C$22*A711^2","v":187.61062507750006},5730.4121815649578,5431.5878184350422]
[712,5580,5696,null,null,null,null,null,null,null,null,null,{"$f":"Control!$C$20+Control!$C$21*A712+Control!$C$22*A712^2","v":187.87993366026791},5729.3987951758645,5430.6012048241355]
[713,5579,5505,null,null,null,null,null,null,null,null,null,{"$f":"Control!$C$20+Control!$C$21*A713+Control!$C$22*A713^2","v":188.14924224209446},5728.3854075872205,5429.6145924127795]
[714,5578,5575,null,null,null,null,null,null,null,null,null,{"$f":"Control!$C$20+Control!$C$21*A714+Control!$C$22*A714^2","v":188.41855082297971},5727.3720187987028,5428.6279812012972]
[715,5578,5439,null,null,null,null,null,null,null,null,null,{"$f":"Control!$C$20+Control!$C$21*A715+Control!$C$22*A715^2","v":188.68785940292366},5727.3720187987028,5428.6279812012972]
[716,5577,5576,null,null,null,null,null,null,null,null,null,{"$f":"Control!$C$20+Control!$C$21*A716+Control!$C$22*A716^2","v":188.95716798192632},5726.3586288099887,5427.6413711900113]
[717,5576,5592,null,null,null,null,null,null,null,null,null,{"$f":"Control!$C$20+Control!$C$21*A717+Control!$C$22*A717^2","v":189.2264765599877},5725.3452376207561,5426.6547623792439]
[718,5575,5453,null,null,null,null,null,null,null,null,null,{"$f":"Control!$C$20+Control!$C$21*A718+Control!$C$22*A718^2","v":189.49578513710776},5724.3318452306812,5425.6681547693188]
[719,5575,5517,null,null,null,null,null,null,null,null,null,{"$f":"Control!$C$20+Control!$C$21*A719+Control!$C$22*A719^2","v":189.76509371328655},5724.3318452306812,5425.6681547693188]
[720,5574,5777,null,null,null,null,null,null,null,null,null,{"$f":"Control!$C$20+Control!$C$21*A720+Control!$C$22*A720^2","v":190.03440228852401},5723.3184516394404,5424.6815483605596]
[721,5573,5620,null,null,null,null,null,null,null,null,null,{"$f":"Control!$C$20+Control!$C$21*A721+Control!$C$22*A721^2","v":190.3037108628202},5722.3050568467124,5423.6949431532876]
[722,5573,5386,null,null,null,null,null,null,null,null,null,{"$f":"Control!$C$20+Control!$C$21*A722+Control!$C$22*A722^2","v":190.57301943617506},5722.3050568467124,5423.6949431532876]
[723,5572,5578,null,null,null,null,null,null,null,null,null,{"$f":"Control!$C$20+Control!$C$21*A723+Control!$C$22*A723^2","v":190.84232800858865},5721.2916608521718,5422.7083391478282]
[724,5571,5406,null,null,null,null,null,null,null,null,null,{"$f":"Control!$C$20+Control!$C$21*A724+Control!$C$22*A724^2","v":191.11163658006092},5720.2782636554966,5421.7217363445034]
[725,5570,5693,null,null,null,null,null,null,null,null,null,{"$f":"Control!$C$20+Control!$C$21*A725+Control!$C$22*A725^2","v":191.38094515059191},5719.2648652563621,5420.7351347436379]
[726,5570,5442,null,null,null,null,null,null,null,null,null,{"$f":"Control!$C$20+Control!$C$21*A726+Control!$C$22*A726^2","v":191.65025372018161},5719.2648652563621,5420.7351347436379]
[727,5569,5526,null,null,null,null,null,null,null,null,null,{"$f":"Control!$C$20+Control!$C$21*A727+Control!$C$22*A727^2","v":191.91956228883001},5718.2514656544454,5419.7485343455546]
[728,5568,5508,null,null,null,null,null,null,null,null,null,{"$f":"Control!$C$20+Control!$C$21*A728+Control!$C$22*A728^2","v":192.18887085653711},5717.2380648494209,5418.7619351505791]
[729,5567,5504,null,null,null,null,null,null,null,null,null,{"$f":"Control!$C$20+Control!$C$21*A729+Control!$C$22*A729^2","v":192.45817942330291},5716.2246628409657,5417.7753371590343]
[730,5567,5372,null,null,null,null,null,null,null,null,null,{"$f":"Control!$C$20+Control!$C$21*A730+Control!$C$22*A730^2","v":192.72748798912741},5716.2246628409657,5417.7753371590343]
[731,5566,5675,null,null,null,null,null,null,null,null,null,{"$f":"Control!$C$20+Control!$C$21*A731+Control!$C$22*A731^2","v":192.99679655401061},5715.2112596287561,5416.7887403712439]
[732,5565,5664,null,null,null,null,null,null,null,null,null,{"$f":"Control!$C$20+Control!$C$21*A732+Control!$C$22*A732^2","v":193.26610511795252},5714.1978552124665,5415.8021447875335]
[733,5564,5478,null,null,null,null,null,null,null,null,null,{"$f":"Control!$C$20+Control!$C$21*A733+Control!$C$22*A733^2","v":193.53541368095316},5713.1844495917721,5414.8155504082279]
[734,5564,5524,null,null,null,null,null,null,null,null,null,{"$f":"Control!$C$20+Control!$C$21*A734+Control!$C$22*A734^2","v":193.80472224301246},5713.1844495917721,5414.8155504082279]
[735,5563,5582,null,null,null,null,null,null,null,null,null,{"$f":"Control!$C$20+Control!$C$21*A735+Control!$C$22*A735^2","v":194.0740308041305},5712.1710427663493,5413.8289572336507]
[736,5562,5492,null,null,null,null,null,null,null,null,null,{"$f":"Control!$C$20+Control!$C$21*A736+Control!$C$22*A736^2","v":194.34333936430721},5711.1576347358723,5412.8423652641277]
[737,5562,5626,null,null,null,null,null,null,null,null,null,{"$f":"Control!$C$20+Control!$C$21*A737+Control!$C$22*A737^2","v":194.61264792354265},5711.1576347358723,5412.8423652641277]
[738,5561,5652,null,null,null,null,null,null,null,null,null,{"$f":"Control!$C$20+Control!$C$21*A738+Control!$C$22*A738^2","v":194.88195648183677},5710.1442255000175,5411.8557744999825]
[739,5560,5463,null,null,null,null,null,null,null,null,null,{"$f":"Control!$C$20+Control!$C$21*A739+Control!$C$22*A739^2","v":195.15126503918961},5709.1308150584582,5410.8691849415418]
[740,5559,5534,null,null,null,null,null,null,null,null,null,{"$f":"Control!$C$20+Control!$C$21*A740+Control!$C$22*A740^2","v":195.42057359560113},5708.1174034108699,5409.8825965891301]
[741,5559,5519,null,null,null,null,null,null,null,null,null,{"$f":"Control!$C$20+Control!$C$21*A741+Control!$C$22*A741^2","v":195.68988215107137},5708.1174034108699,5409.8825965891301]
[742,5558,5575,null,null,null,null,null,null,null,null,null,{"$f":"Control!$C$20+Control!$C$21*A742+Control!$C$22*A742^2","v":195.95919070560032},5707.1039905569269,5408.8960094430731]
[743,5557,5615,null,null,null,null,null,null,null,null,null,{"$f":"Control!$C$20+Control!$C$21*A743+Control!$C$22*A743^2","v":196.22849925918797},5706.0905764963027,5407.9094235036973]
[744,5556,5543,null,null,null,null,null,null,null,null,null,{"$f":"Control!$C$20+Control!$C$21*A744+Control!$C$22*A744^2","v":196.49780781183432},5705.0771612286735,5406.9228387713265]
[745,5556,5521,null,null,null,null,null,null,null,null,null,{"$f":"Control!$C$20+Control!$C$21*A745+Control!$C$22*A745^2","v":196.76711636353937},5705.0771612286735,5406.9228387713265]
[746,5555,5582,null,null,null,null,null,null,null,null,null,{"$f":"Control!$C$20+Control!$C$21*A746+Control!$C$22*A746^2","v":197.03642491430313},5704.0637447537129,5405.9362552462871]
[747,5554,5382,null,null,null,null,null,null,null,null,null,{"$f":"Control!$C$20+Control!$C$21*A747+Control!$C$22*A747^2","v":197.30573346412558},5703.0503270710933,5404.9496729289067]
[748,5553,5535,null,null,null,null,null,null,null,null,null,{"$f":"Control!$C$20+Control!$C$21*A748+Control!$C$22*A748^2","v":197.57504201300674},5702.0369081804911,5403.9630918195089]
[749,5553,5525,null,null,null,null,null,null,null,null,null,{"$f":"Control!$C$20+Control!$C$21*A749+Control!$C$22*A749^2","v":197.84435056094662},5702.0369081804911,5403.9630918195089]
[750,5552,5599,null,null,null,null,null,null,null,null,null,{"$f":"Control!$C$20+Control!$C$21*A750+Control!$C$22*A750^2","v":198.11365910794518},5701.0234880815769,5402.9765119184231]
[751,5551,5452,null,null,null,null,null,null,null,null,null,{"$f":"Control!$C$20+Control!$C$21*A751+Control!$C$22*A751^2","v":198.38296765400247},5700.0100667740271,5401.9899332259729]
[752,5551,5537,null,null,null,null,null,null,null,null,null,{"$f":"Control!$C$20+Control!$C$21*A752+Control!$C$22*A752^2","v":198.65227619911843},5700.0100667740271,5401.9899332259729]
[753,5550,5499,null,null,null,null,null,null,null,null,null,{"$f":"Control!$C$20+Control!$C$21*A753+Control!$C$22*A753^2","v":198.92158474329312},5698.9966442575133,5401.0033557424867]
[754,5549,5619,null,null,null,null,null,null,null,null,null,{"$f":"Control!$C$20+Control!$C$21*A754+Control!$C$22*A754^2","v":199.19089328652649},5697.9832205317098,5400.0167794682902]
[755,5548,5493,null,null,null,null,null,null,null,null,null,{"$f":"Control!$C$20+Control!$C$21*A755+Control!$C$22*A755^2","v":199.46020182881858},5696.9697955962883,5399.0302044037117]
[756,5548,5553,null,null,null,null,null,null,null,null,null,{"$f":"Control!$C$20+Control!$C$21*A756+Control!$C$22*A756^2","v":199.72951037016935},5696.9697955962883,5399.0302044037117]
[757,5547,5546,null,null,null,null,null,null,null,null,null,{"$f":"Control!$C$20+Control!$C$21*A757+Control!$C$22*A757^2","v":199.99881891057885},5695.9563694509234,5398.0436305490766]
[758,5546,5576,null,null,null,null,null,null,null,null,null,{"$f":"Control!$C$20+Control!$C$21*A758+Control!$C$22*A758^2","v":200.26812745004705},5694.9429420952865,5397.0570579047135]
[759,5545,5462,null,null,null,null,null,null,null,null,null,{"$f":"Control!$C$20+Control!$C$21*A759+Control!$C$22*A759^2","v":200.53743598857395},5693.9295135290513,5396.0704864709487]
[760,5545,5610,null,null,null,null,null,null,null,null,null,{"$f":"Control!$C$20+Control!$C$21*A760+Control!$C$22*A760^2","v":200.80674452615955},5693.9295135290513,5396.0704864709487]
[761,5544,5593,null,null,null,null,null,null,null,null,null,{"$f":"Control!$C$20+Control!$C$21*A761+Control!$C$22*A761^2","v":201.07605306280385},5692.9160837518903,5395.0839162481097]
[762,5543,5537,null,null,null,null,null,null,null,null,null,{"$f":"Control!$C$20+Control!$C$21*A762+Control!$C$22*A762^2","v":201.34536159850686},5691.9026527634751,5394.0973472365249]
[763,5542,5600,null,null,null,null,null,null,null,null,null,{"$f":"Control!$C$20+Control!$C$21*A763+Control!$C$22*A763^2","v":201.61467013326856},5690.8892205634784,5393.1107794365216]
[764,5542,5561,null,null,null,null,null,null,null,null,null,{"$f":"Control!$C$20+Control!$C$21*A764+Control!$C$22*A764^2","v":201.88397866708897},5690.8892205634784,5393.1107794365216]
[765,5541,5631,null,null,null,null,null,null,null,null,null,{"$f":"Control!$C$20+Control!$C$21*A765+Control!$C$22*A765^2","v":202.1532871999681},5689.8757871515718,5392.1242128484282]
[766,5540,5466,null,null,null,null,null,null,null,null,null,{"$f":"Control!$C$20+Control!$C$21*A766+Control!$C$22*A766^2","v":202.42259573190591},5688.862352527427,5391.137647472573]
[767,5540,5670,null,null,null,null,null,null,null,null,null,{"$f":"Control!$C$20+Control!$C$21*A767+Control!$C$22*A767^2","v":202.69190426290245},5688.862352527427,5391.137647472573]
[768,5539,5506,null,null,null,null,null,null,null,null,null,{"$f":"Control!$C$20+Control!$C$21*A768+Control!$C$22*A768^2","v":202.96121279295767},5687.8489166907166,5390.1510833092834]
[769,5538,5560,null,null,null,null,null,null,null,null,null,{"$f":"Control!$C$20+Control!$C$21*A769+Control!$C$22*A769^2","v":203.23052132207161},5686.8354796411122,5389.1645203588878]
[770,5537,5434,null,null,null,null,null,null,null,null,null,{"$f":"Control!$C$20+Control!$C$21*A770+Control!$C$22*A770^2","v":203.49982985024423},5685.8220413782847,5388.1779586217153]
[771,5537,5628,null,null,null,null,null,null,null,null,null,{"$f":"Control!$C$20+Control!$C$21*A771+Control!$C$22*A771^2","v":203.76913837747557},{"$f":"IF(D771=0,B771+2*SQRT(B771),N770)","v":5685.8220413782847},{"$f":"IF(D771=0,B771-2*SQRT(B771),O770)","v":5388.1779586217153}]
[772,5536,5492,null,null,null,null,null,null,null,null,null,{"$f":"Control!$C$20+Control!$C$21*A772+Control!$C$22*A772^2","v":204.03844690376559},5684.8086019019065,5387.1913980980935]
[773,5535,5575,null,null,null,null,null,null,null,null,null,{"$f":"Control!$C$20+Control!$C$21*A773+Control!$C$22*A773^2","v":204.30775542911434},5683.7951612116467,5386.2048387883533]
[774,5534,5501,null,null,null,null,null,null,null,null,null,{"$f":"Control!$C$20+Control!$C$21*A774+Control!$C$22*A774^2","v":204.57706395352179},5682.7817193071787,5385.2182806928213]
[775,5534,5509,null,null,null,null,null,null,null,null,null,{"$f":"Control!$C$20+Control!$C$21*A775+Control!$C$22*A775^2","v":204.84637247698794},5682.7817193071787,5385.2182806928213]
[776,5533,5458,null,null,null,null,null,null,null,null,null,{"$f":"Control!$C$20+Control!$C$21*A776+Control!$C$22*A776^2","v":205.11568099951279},5681.7682761881715,5384.2317238118285]
[777,5532,5463,null,null,null,null,null,null,null,null,null,{"$f":"Control!$C$20+Control!$C$21*A777+Control!$C$22*A777^2","v":205.38498952109634},5680.7548318542968,5383.2451681457032]
[778,5532,5627,null,null,null,null,null,null,null,null,null,{"$f":"Control!$C$20+Control!$C$21*A778+Control!$C$22*A778^2","v":205.6542980417386},5680.7548318542968,5383.2451681457032]
[779,5531,5679,null,null,null,null,null,null,null,null,null,{"$f":"Control!$C$20+Control!$C$21*A779+Control!$C$22*A779^2","v":205.92360656143956},5679.7413863052243,5382.2586136947757]
[780,5530,5656,null,null,null,null,null,null,null,null,null,{"$f":"Control!$C$20+Control!$C$21*A780+Control!$C$22*A780^2","v":206.19291508019921},5678.7279395406258,5381.2720604593742]
[781,5529,5406,null,null,null,null,null,null,null,null,null,{"$f":"Control!$C$20+Control!$C$21*A781+Control!$C$22*A781^2","v":206.4622235980176},5677.7144915601702,5380.2855084398298]
[782,5529,5484,null,null,null,null,null,null,null,null,null,{"$f":"Control!$C$20+Control!$C$21*A782+Control!$C$22*A782^2","v":206.73153211489466},5677.7144915601702,5380.2855084398298]
[783,5528,5468,null,null,null,null,null,null,null,null,null,{"$f":"Control!$C$20+Control!$C$21*A783+Control!$C$22*A783^2","v":207.00084063083045},5676.7010423635293,5379.2989576364707]
[784,5527,5548,null,null,null,null,null,null,null,null,null,{"$f":"Control!$C$20+Control!$C$21*A784+Control!$C$22*A784^2","v":207.27014914582492},5675.6875919503709,5378.3124080496291]
[785,5526,5533,null,null,null,null,null,null,null,null,null,{"$f":"Control!$C$20+Control!$C$21*A785+Control!$C$22*A785^2","v":207.53945765987811},5674.6741403203669,5377.3258596796331]
[786,5526,5477,null,null,null,null,null,null,null,null,null,{"$f":"Control!$C$20+Control!$C$21*A786+Control!$C$22*A786^2","v":207.80876617298998},5674.6741403203669,5377.3258596796331]
[787,5525,5704,null,null,null,null,null,null,null,null,null,{"$f":"Control!$C$20+Control!$C$21*A787+Control!$C$22*A787^2","v":208.07807468516057},5673.6606874731851,5376.3393125268149]
[788,5524,5614,null,null,null,null,null,null,null,null,null,{"$f":"Control!$C$20+Control!$C$21*A788+Control!$C$22*A788^2","v":208.34738319638984},5672.6472334084965,5375.3527665915035]
[789,5523,5564,null,null,null,null,null,null,null,null,null,{"$f":"Control!$C$20+Control!$C$21*A789+Control!$C$22*A789^2","v":208.61669170667784},5671.6337781259699,5374.3662218740301]
[790,5523,5464,null,null,null,null,null,null,null,null,null,{"$f":"Control!$C$20+Control!$C$21*A790+Control!$C$22*A790^2","v":208.88600021602454},5671.6337781259699,5374.3662218740301]
[791,5522,5540,null,null,null,null,null,null,null,null,null,{"$f":"Control!$C$20+Control!$C$21*A791+Control!$C$22*A791^2","v":209.15530872442994},5670.6203216252743,5373.3796783747257]
[792,5521,5535,null,null,null,null,null,null,null,null,null,{"$f":"Control!$C$20+Control!$C$21*A792+Control!$C$22*A792^2","v":209.42461723189405},5669.6068639060795,5372.3931360939205]
[793,5521,5665,null,null,null,null,null,null,null,null,null,{"$f":"Control!$C$20+Control!$C$21*A793+Control!$C$22*A793^2","v":209.69392573841685},5669.6068639060795,5372.3931360939205]
[794,5520,5401,null,null,null,null,null,null,null,null,null,{"$f":"Control!$C$20+Control!$C$21*A794+Control!$C$22*A794^2","v":209.96323424399836},5668.5934049680536,5371.4065950319464]
[795,5519,5483,null,null,null,null,null,null,null,null,null,{"$f":"Control!$C$20+Control!$C$21*A795+Control!$C$22*A795^2","v":210.23254274863856},5667.5799448108664,5370.4200551891336]
[796,5518,5405,null,null,null,null,null,null,null,null,null,{"$f":"Control!$C$20+Control!$C$21*A796+Control!$C$22*A796^2","v":210.50185125233747},5666.5664834341851,5369.4335165658149]
[797,5518,5546,null,null,null,null,null,null,null,null,null,{"$f":"Control!$C$20+Control!$C$21*A797+Control!$C$22*A797^2","v":210.77115975509511},5666.5664834341851,5369.4335165658149]
[798,5517,5649,null,null,null,null,null,null,null,null,null,{"$f":"Control!$C$20+Control!$C$21*A798+Control!$C$22*A798^2","v":211.04046825691142},5665.5530208376795,5368.4469791623205]
[799,5516,5521,null,null,null,null,null,null,null,null,null,{"$f":"Control!$C$20+Control!$C$21*A799+Control!$C$22*A799^2","v":211.30977675778647},5664.5395570210176,5367.4604429789824]
[800,5515,5506,null,null,null,null,null,null,null,null,null,{"$f":"Control!$C$20+Control!$C$21*A800+Control!$C$22*A800^2","v":211.57908525772018},5663.5260919838665,5366.4739080161335]
[801,5515,5461,null,null,null,null,null,null,null,null,null,{"$f":"Control!$C$20+Control!$C$21*A801+Control!$C$22*A801^2","v":211.84839375671262},5663.5260919838665,5366.4739080161335]
[802,5514,5560,null,null,null,null,null,null,null,null,null,{"$f":"Control!$C$20+Control!$C$21*A802+Control!$C$22*A802^2","v":212.11770225476374},5662.5126257258962,5365.4873742741038]
[803,5513,5414,null,null,null,null,null,null,null,null,null,{"$f":"Control!$C$20+Control!$C$21*A803+Control!$C$22*A803^2","v":212.38701075187359},5661.4991582467728,5364.5008417532272]
[804,5512,5737,null,null,null,null,null,null,null,null,null,{"$f":"Control!$C$20+Control!$C$21*A804+Control!$C$22*A804^2","v":212.65631924804211},5660.4856895461644,5363.5143104538356]
[805,5512,5534,null,null,null,null,null,null,null,null,null,{"$f":"Control!$C$20+Control!$C$21*A805+Control!$C$22*A805^2","v":212.92562774326936},5660.4856895461644,5363.5143104538356]
[806,5511,5366,null,null,null,null,null,null,null,null,null,{"$f":"Control!$C$20+Control!$C$21*A806+Control!$C$22*A806^2","v":213.19493623755531},5659.4722196237399,5362.5277803762601]
[807,5510,5478,null,null,null,null,null,null,null,null,null,{"$f":"Control!$C$20+Control!$C$21*A807+Control!$C$22*A807^2","v":213.46424473089996},5658.4587484791655,5361.5412515208345]
[808,5510,5648,null,null,null,null,null,null,null,null,null,{"$f":"Control!$C$20+Control!$C$21*A808+Control!$C$22*A808^2","v":213.73355322330332},5658.4587484791655,5361.5412515208345]
[809,5509,5526,null,null,null,null,null,null,null,null,null,{"$f":"Control!$C$20+Control!$C$21*A809+Control!$C$22*A809^2","v":214.00286171476537},5657.4452761121083,5360.5547238878917]
[810,5508,5509,null,null,null,null,null,null,null,null,null,{"$f":"Control!$C$20+Control!$C$21*A810+Control!$C$22*A810^2","v":214.27217020528613},5656.4318025222356,5359.5681974777644]
[811,5507,5531,null,null,null,null,null,null,null,null,null,{"$f":"Control!$C$20+Control!$C$21*A811+Control!$C$22*A811^2","v":214.54147869486559},5655.4183277092152,5358.5816722907848]
[812,5507,5405,null,null,null,null,null,null,null,null,null,{"$f":"Control!$C$20+Control!$C$21*A812+Control!$C$22*A812^2","v":214.81078718350375},5655.4183277092152,5358.5816722907848]
[813,5506,5531,null,null,null,null,null,null,null,null,null,{"$f":"Control!$C$20+Control!$C$21*A813+Control!$C$22*A813^2","v":215.08009567120064},5654.4048516727134,5357.5951483272866]
[814,5505,5509,null,null,null,null,null,null,null,null,null,{"$f":"Control!$C$20+Control!$C$21*A814+Control!$C$22*A814^2","v":215.3494041579562},5653.3913744123965,5356.6086255876035]
[815,5504,5390,null,null,null,null,null,null,null,null,null,{"$f":"Control!$C$20+Control!$C$21*A815+Control!$C$22*A815^2","v":215.61871264377049},5652.3778959279316,5355.6221040720684]
[816,5504,5417,null,null,null,null,null,null,null,null,null,{"$f":"Control!$C$20+Control!$C$21*A816+Control!$C$22*A816^2","v":215.88802112864346},5652.3778959279316,5355.6221040720684]
[817,5503,5464,null,null,null,null,null,null,null,null,null,{"$f":"Control!$C$20+Control!$C$21*A817+Control!$C$22*A817^2","v":216.15732961257515},5651.3644162189839,5354.6355837810161]
[818,5502,5421,null,null,null,null,null,null,null,null,null,{"$f":"Control!$C$20+Control!$C$21*A818+Control!$C$22*A818^2","v":216.42663809556552},5650.3509352852216,5353.6490647147784]
[819,5501,5408,null,null,null,null,null,null,null,null,null,{"$f":"Control!$C$20+Control!$C$21*A819+Control!$C$22*A819^2","v":216.69594657761462},5649.3374531263089,5352.6625468736911]
[820,5501,5524,null,null,null,null,null,null,null,null,null,{"$f":"Control!$C$20+Control!$C$21*A820+Control!$C$22*A820^2","v":216.96525505872239},5649.3374531263089,5352.6625468736911]
[821,5500,5544,null,null,null,null,null,null,null,null,null,{"$f":"Control!$C$20+Control!$C$21*A821+Control!$C$22*A821^2","v":217.23456353888889},5648.3239697419131,5351.6760302580869]
[822,5499,5505,null,null,null,null,null,null,null,null,null,{"$f":"Control!$C$20+Control!$C$21*A822+Control!$C$22*A822^2","v":217.50387201811409},5647.3104851316994,5350.6895148683006]
[823,5499,5557,null,null,null,null,null,null,null,null,null,{"$f":"Control!$C$20+Control!$C$21*A823+Control!$C$22*A823^2","v":217.773180496398},5647.3104851316994,5350.6895148683006]
[824,5498,5490,null,null,null,null,null,null,null,null,null,{"$f":"Control!$C$20+Control!$C$21*A824+Control!$C$22*A824^2","v":218.0424889737406},5646.2969992953331,5349.7030007046669]
[825,5497,5537,null,null,null,null,null,null,null,null,null,{"$f":"Control!$C$20+Control!$C$21*A825+Control!$C$22*A825^2","v":218.31179745014191},5645.2835122324796,5348.7164877675204]
[826,5496,5539,null,null,null,null,null,null,null,null,null,{"$f":"Control!$C$20+Control!$C$21*A826+Control!$C$22*A826^2","v":218.58110592560192},5644.270023942805,5347.729976057195]
[827,5511,5493,15,null,null,null,null,null,null,null,null,{"$f":"Control!$C$20+Control!$C$21*A827+Control!$C$22*A827^2","v":218.85041440012063},5644.270023942805,5347.729976057195]
[828,5584,5522,89,null,null,null,null,null,null,null,null,{"$f":"Control!$C$20+Control!$C$21*A828+Control!$C$22*A828^2","v":219.11972287369804},5644.270023942805,5347.729976057195]
[829,5821,5822,327,null,null,null,null,null,null,null,null,{"$f":"Control!$C$20+Control!$C$21*A829+Control!$C$22*A829^2","v":219.38903134633418},5644.270023942805,5347.729976057195]
[830,6242,6297,749,null,null,null,null,null,null,null,null,{"$f":"Control!$C$20+Control!$C$21*A830+Control!$C$22*A830^2","v":219.65833981802899},5644.270023942805,5347.729976057195]
[831,6568,6552,1075,null,null,null,null,null,null,null,null,{"$f":"Control!$C$20+Control!$C$21*A831+Control!$C$22*A831^2","v":219.92764828878254},5644.270023942805,5347.729976057195]
[832,6457,6377,965,null,null,null,null,null,null,null,null,{"$f":"Control!$C$20+Control!$C$21*A832+Control!$C$22*A832^2","v":220.19695675859475},5644.270023942805,5347.729976057195]
[833,6032,5958,541,null,null,null,null,null,null,null,null,{"$f":"Control!$C$20+Control!$C$21*A833+Control!$C$22*A833^2","v":220.4662652274657},5644.270023942805,5347.729976057195]
[834,5680,5635,190,null,null,null,null,null,null,null,null,{"$f":"Control!$C$20+Control!$C$21*A834+Control!$C$22*A834^2","v":220.73557369539532},5644.270023942805,5347.729976057195]
[835,5532,5578,42,null,null,null,null,null,null,null,null,{"$f":"Control!$C$20+Control!$C$21*A835+Control!$C$22*A835^2","v":221.00488216238367},{"$f":"IF(D835=0,B835+2*SQRT(B835),N834)","v":5644.270023942805},{"$f":"IF(D835=0,B835-2*SQRT(B835),O834)","v":5347.729976057195}]
[836,5489,5529,null,null,null,null,null,null,null,null,null,{"$f":"Control!$C$20+Control!$C$21*A836+Control!$C$22*A836^2","v":221.27419062843069},5637.1755715359313,5340.8244284640687]
[837,5488,5593,null,null,null,null,null,null,null,null,null,{"$f":"Control!$C$20+Control!$C$21*A837+Control!$C$22*A837^2","v":221.54349909353644},5636.1620734196167,5339.8379265803833]
[838,5488,5382,null,null,null,null,null,null,null,null,null,{"$f":"Control!$C$20+Control!$C$21*A838+Control!$C$22*A838^2","v":221.81280755770089},5636.1620734196167,5339.8379265803833]
[839,5487,5464,null,null,null,null,null,null,null,null,null,{"$f":"Control!$C$20+Control!$C$21*A839+Control!$C$22*A839^2","v":222.08211602092405},5635.1485740734615,5338.8514259265385]
[840,5486,5427,null,null,null,null,null,null,null,null,null,{"$f":"Control!$C$20+Control!$C$21*A840+Control!$C$22*A840^2","v":222.3514244832059},5634.1350734971293,5337.8649265028707]
[841,5485,5534,null,null,null,null,null,null,null,null,null,{"$f":"Control!$C$20+Control!$C$21*A841+Control!$C$22*A841^2","v":222.62073294454646},5633.1215716902843,5336.8784283097157]
[842,5485,5622,null,null,null,null,null,null,null,null,null,{"$f":"Control!$C$20+Control!$C$21*A842+Control!$C$22*A842^2","v":222.89004140494572},5633.1215716902843,5336.8784283097157]
[843,5484,5350,null,null,null,null,null,null,null,null,null,{"$f":"Control!$C$20+Control!$C$21*A843+Control!$C$22*A843^2","v":223.15934986440368},5632.1080686525893,5335.8919313474107]
[844,5483,5564,null,null,null,null,null,null,null,null,null,{"$f":"Control!$C$20+Control!$C$21*A844+Control!$C$22*A844^2","v":223.42865832292034},5631.0945643837076,5334.9054356162924]
[845,5482,5517,null,null,null,null,null,null,null,null,null,{"$f":"Control!$C$20+Control!$C$21*A845+Control!$C$22*A845^2","v":223.69796678049573},5630.0810588833019,5333.9189411166981]
[846,5482,5506,null,null,null,null,null,null,null,null,null,{"$f":"Control!$C$20+Control!$C$21*A846+Control!$C$22*A846^2","v":223.9672752371298},5630.0810588833019,5333.9189411166981]
[847,5481,5401,null,null,null,null,null,null,null,null,null,{"$f":"Control!$C$20+Control!$C$21*A847+Control!$C$22*A847^2","v":224.23658369282259},5629.0675521510366,5332.9324478489634]
[848,5480,5540,null,null,null,null,null,null,null,null,null,{"$f":"Control!$C$20+Control!$C$21*A848+Control!$C$22*A848^2","v":224.50589214757406},5628.0540441865742,5331.9459558134258]
[849,5479,5447,null,null,null,null,null,null,null,null,null,{"$f":"Control!$C$20+Control!$C$21*A849+Control!$C$22*A849^2","v":224.77520060138426},5627.0405349895764,5330.9594650104236]
[850,5479,5421,null,null,null,null,null,null,null,null,null,{"$f":"Control!$C$20+Control!$C$21*A850+Control!$C$22*A850^2","v":225.04450905425313},5627.0405349895764,5330.9594650104236]
[851,5478,5406,null,null,null,null,null,null,null,null,null,{"$f":"Control!$C$20+Control!$C$21*A851+Control!$C$22*A851^2","v":225.31381750618073},5626.0270245597067,5329.9729754402933]
[852,5477,5222,null,null,null,null,null,null,null,null,null,{"$f":"Control!$C$20+Control!$C$21*A852+Control!$C$22*A852^2","v":225.583125957167},5625.0135128966267,5328.9864871033733]
[853,5477,5487,null,null,null,null,null,null,null,null,null,{"$f":"Control!$C$20+Control!$C$21*A853+Control!$C$22*A853^2","v":225.852434407212},5625.0135128966267,5328.9864871033733]
[854,5476,5483,null,null,null,null,null,null,null,null,null,{"$f":"Control!$C$20+Control!$C$21*A854+Control!$C$22*A854^2","v":226.12174285631571},5624,5328]
[855,5475,5462,null,null,null,null,null,null,null,null,null,{"$f":"Control!$C$20+Control!$C$21*A855+Control!$C$22*A855^2","v":226.39105130447811},5622.9864858694873,5327.0135141305127]
[856,5474,5545,null,null,null,null,null,null,null,null,null,{"$f":"Control!$C$20+Control!$C$21*A856+Control!$C$22*A856^2","v":226.66035975169922},5621.9729705047512,5326.0270294952488]
[857,5474,5588,null,null,null,null,null,null,null,null,null,{"$f":"Control!$C$20+Control!$C$21*A857+Control!$C$22*A857^2","v":226.92966819797903},5621.9729705047512,5326.0270294952488]
[858,5473,5542,null,null,null,null,null,null,null,null,null,{"$f":"Control!$C$20+Control!$C$21*A858+Control!$C$22*A858^2","v":227.19897664331754},5620.9594539054533,5325.0405460945467]
[859,5472,5398,null,null,null,null,null,null,null,null,null,{"$f":"Control!$C$20+Control!$C$21*A859+Control!$C$22*A859^2","v":227.46828508771475},5619.9459360712553,5324.0540639287447]
[860,5471,5528,null,null,null,null,null,null,null,null,null,{"$f":"Control!$C$20+Control!$C$21*A860+Control!$C$22*A860^2","v":227.73759353117066},5618.932417001819,5323.067582998181]
[861,5471,5463,null,null,null,null,null,null,null,null,null,{"$f":"Control!$C$20+Control!$C$21*A861+Control!$C$22*A861^2","v":228.0069019736853},5618.932417001819,5323.067582998181]
[862,5470,5502,null,null,null,null,null,null,null,null,null,{"$f":"Control!$C$20+Control!$C$21*A862+Control!$C$22*A862^2","v":228.27621041525862},5617.9188966968049,5322.0811033031951]
[863,5469,5437,null,null,null,null,null,null,null,null,null,{"$f":"Control!$C$20+Control!$C$21*A863+Control!$C$22*A863^2","v":228.54551885589066},5616.9053751558749,5321.0946248441251]
[864,5468,5372,null,null,null,null,null,null,null,null,null,{"$f":"Control!$C$20+Control!$C$21*A864+Control!$C$22*A864^2","v":228.81482729558138},5615.8918523786888,5320.1081476213112]
[865,5468,5544,null,null,null,null,null,null,null,null,null,{"$f":"Control!$C$20+Control!$C$21*A865+Control!$C$22*A865^2","v":229.08413573433083},5615.8918523786888,5320.1081476213112]
[866,5467,5543,null,null,null,null,null,null,null,null,null,{"$f":"Control!$C$20+Control!$C$21*A866+Control!$C$22*A866^2","v":229.35344417213895},5614.87832836491,5319.12167163509]
[867,5466,5475,null,null,null,null,null,null,null,null,null,{"$f":"Control!$C$20+Control!$C$21*A867+Control!$C$22*A867^2","v":229.6227526090058},5613.8648031141965,5318.1351968858035]
[868,5466,5523,null,null,null,null,null,null,null,null,null,{"$f":"Control!$C$20+Control!$C$21*A868+Control!$C$22*A868^2","v":229.89206104493132},5613.8648031141965,5318.1351968858035]
[869,5465,5539,null,null,null,null,null,null,null,null,null,{"$f":"Control!$C$20+Control!$C$21*A869+Control!$C$22*A869^2","v":230.16136947991558},5612.8512766262102,5317.1487233737898]
[870,5464,5354,null,null,null,null,null,null,null,null,null,{"$f":"Control!$C$20+Control!$C$21*A870+Control!$C$22*A870^2","v":230.43067791395853},5611.8377489006107,5316.1622510993893]
[871,5463,5461,null,null,null,null,null,null,null,null,null,{"$f":"Control!$C$20+Control!$C$21*A871+Control!$C$22*A871^2","v":230.69998634706019},5610.8242199370588,5315.1757800629412]
[872,5463,5352,null,null,null,null,null,null,null,null,null,{"$f":"Control!$C$20+Control!$C$21*A872+Control!$C$22*A872^2","v":230.96929477922055},5610.8242199370588,5315.1757800629412]
[873,5462,5453,null,null,null,null,null,null,null,null,null,{"$f":"Control!$C$20+Control!$C$21*A873+Control!$C$22*A873^2","v":231.23860321043961},5609.8106897352154,5314.1893102647846]
[874,5461,5506,null,null,null,null,null,null,null,null,null,{"$f":"Control!$C$20+Control!$C$21*A874+Control!$C$22*A874^2","v":231.50791164071737},5608.7971582947384,5313.2028417052616]
[875,5460,5493,null,null,null,null,null,null,null,null,null,{"$f":"Control!$C$20+Control!$C$21*A875+Control!$C$22*A875^2","v":231.77722007005383},5607.7836256152896,5312.2163743847104]
[876,5460,5571,null,null,null,null,null,null,null,null,null,{"$f":"Control!$C$20+Control!$C$21*A876+Control!$C$22*A876^2","v":232.04652849844899},5607.7836256152896,5312.2163743847104]
[877,5459,5504,null,null,null,null,null,null,null,null,null,{"$f":"Control!$C$20+Control!$C$21*A877+Control!$C$22*A877^2","v":232.31583692590289},5606.7700916965268,5311.2299083034732]
[878,5458,5421,null,null,null,null,null,null,null,null,null,{"$f":"Control!$C$20+Control!$C$21*A878+Control!$C$22*A878^2","v":232.58514535241545},5605.756556538111,5310.243443461889]
[879,5458,5428,null,null,null,null,null,null,null,null,null,{"$f":"Control!$C$20+Control!$C$21*A879+Control!$C$22*A879^2","v":232.85445377798675},5605.756556538111,5310.243443461889]
[880,5457,5500,null,null,null,null,null,null,null,null,null,{"$f":"Control!$C$20+Control!$C$21*A880+Control!$C$22*A880^2","v":233.12376220261672},5604.743020139701,5309.256979860299]
[881,5456,5410,null,null,null,null,null,null,null,null,null,{"$f":"Control!$C$20+Control!$C$21*A881+Control!$C$22*A881^2","v":233.39307062630542},5603.7294825009549,5308.2705174990451]
[882,5455,5518,null,null,null,null,null,null,null,null,null,{"$f":"Control!$C$20+Control!$C$21*A882+Control!$C$22*A882^2","v":233.66237904905279},5602.7159436215334,5307.2840563784666]
[883,5455,5429,null,null,null,null,null,null,null,null,null,{"$f":"Control!$C$20+Control!$C$21*A883+Control!$C$22*A883^2","v":233.93168747085889},5602.7159436215334,5307.2840563784666]
[884,5454,5467,null,null,null,null,null,null,null,null,null,{"$f":"Control!$C$20+Control!$C$21*A884+Control!$C$22*A884^2","v":234.20099589172366},5601.7024035010936,5306.2975964989064]
[885,5453,5467,null,null,null,null,null,null,null,null,null,{"$f":"Control!$C$20+Control!$C$21*A885+Control!$C$22*A885^2","v":234.47030431164717},5600.6888621392964,5305.3111378607036]
[886,5452,5490,null,null,null,null,null,null,null,null,null,{"$f":"Control!$C$20+Control!$C$21*A886+Control!$C$22*A886^2","v":234.73961273062937},5599.6753195357978,5304.3246804642022]
[887,5452,5462,null,null,null,null,null,null,null,null,null,{"$f":"Control!$C$20+Control!$C$21*A887+Control!$C$22*A887^2","v":235.00892114867028},5599.6753195357978,5304.3246804642022]
[888,5451,5299,null,null,null,null,null,null,null,null,null,{"$f":"Control!$C$20+Control!$C$21*A888+Control!$C$22*A888^2","v":235.27822956576989},5598.6617756902579,5303.3382243097421]
[889,5450,5418,null,null,null,null,null,null,null,null,null,{"$f":"Control!$C$20+Control!$C$21*A889+Control!$C$22*A889^2","v":235.5475379819282},5597.6482306023336,5302.3517693976664]
[890,5449,5405,null,null,null,null,null,null,null,null,null,{"$f":"Control!$C$20+Control!$C$21*A890+Control!$C$22*A890^2","v":235.81684639714521},5596.6346842716848,5301.3653157283152]
[891,5449,5427,null,null,null,null,null,null,null,null,null,{"$f":"Control!$C$20+Control!$C$21*A891+Control!$C$22*A891^2","v":236.08615481142093},5596.6346842716848,5301.3653157283152]
[892,5448,5530,null,null,null,null,null,null,null,null,null,{"$f":"Control!$C$20+Control!$C$21*A892+Control!$C$22*A892^2","v":236.35546322475534},5595.6211366979678,5300.3788633020322]
[893,5447,5381,null,null,null,null,null,null,null,null,null,{"$f":"Control!$C$20+Control!$C$21*A893+Control!$C$22*A893^2","v":236.62477163714848},5594.6075878808406,5299.3924121191594]
[894,5447,5415,null,null,null,null,null,null,null,null,null,{"$f":"Control!$C$20+Control!$C$21*A894+Control!$C$22*A894^2","v":236.8940800486003},5594.6075878808406,5299.3924121191594]
[895,5446,5442,null,null,null,null,null,null,null,null,null,{"$f":"Control!$C$20+Control!$C$21*A895+Control!$C$22*A895^2","v":237.16338845911085},5593.5940378199612,5298.4059621800388]
[896,5445,5488,null,null,null,null,null,null,null,null,null,{"$f":"Control!$C$20+Control!$C$21*A896+Control!$C$22*A896^2","v":237.43269686868007},5592.5804865149858,5297.4195134850142]
[897,5444,5422,null,null,null,null,null,null,null,null,null,{"$f":"Control!$C$20+Control!$C$21*A897+Control!$C$22*A897^2","v":237.70200527730802},5591.5669339655733,5296.4330660344267]
[898,5444,5389,null,null,null,null,null,null,null,null,null,{"$f":"Control!$C$20+Control!$C$21*A898+Control!$C$22*A898^2","v":237.97131368499464},5591.5669339655733,5296.4330660344267]
[899,5443,5465,null,null,null,null,null,null,null,null,null,{"$f":"Control!$C$20+Control!$C$21*A899+Control!$C$22*A899^2","v":238.24062209173999},{"$f":"IF(D899=0,B899+2*SQRT(B899),N898)","v":5590.5533801713809},{"$f":"IF(D899=0,B899-2*SQRT(B899),O898)","v":5295.4466198286191}]
[900,5442,5427,null,null,null,null,null,null,null,null,null,{"$f":"Control!$C$20+Control!$C$21*A900+Control!$C$22*A900^2","v":238.50993049754402},5589.5398251320639,5294.4601748679361]
[901,5441,5476,null,null,null,null,null,null,null,null,null,{"$f":"Control!$C$20+Control!$C$21*A901+Control!$C$22*A901^2","v":238.77923890240677},5588.5262688472803,5293.4737311527197]
[902,5441,5396,null,null,null,null,null,null,null,null,null,{"$f":"Control!$C$20+Control!$C$21*A902+Control!$C$22*A902^2","v":239.04854730632823},5588.5262688472803,5293.4737311527197]
[903,5440,5472,null,null,null,null,null,null,null,null,null,{"$f":"Control!$C$20+Control!$C$21*A903+Control!$C$22*A903^2","v":239.31785570930839},5587.5127113166864,5292.4872886833136]
[904,5439,5392,null,null,null,null,null,null,null,null,null,{"$f":"Control!$C$20+Control!$C$21*A904+Control!$C$22*A904^2","v":239.58716411134725},5586.4991525399382,5291.5008474600618]
[905,5438,5498,null,null,null,null,null,null,null,null,null,{"$f":"Control!$C$20+Control!$C$21*A905+Control!$C$22*A905^2","v":239.85647251244481},5585.485592516693,5290.514407483307]
[906,5438,5366,null,null,null,null,null,null,null,null,null,{"$f":"Control!$C$20+Control!$C$21*A906+Control!$C$22*A906^2","v":240.12578091260107},5585.485592516693,5290.514407483307]
[907,5437,5496,null,null,null,null,null,null,null,null,null,{"$f":"Control!$C$20+Control!$C$21*A907+Control!$C$22*A907^2","v":240.39508931181604},5584.4720312466061,5289.5279687533939]
[908,5436,5263,null,null,null,null,null,null,null,null,null,{"$f":"Control!$C$20+Control!$C$21*A908+Control!$C$22*A908^2","v":240.6643977100897},5583.4584687293345,5288.5415312706655]
[909,5436,5434,null,null,null,null,null,null,null,null,null,{"$f":"Control!$C$20+Control!$C$21*A909+Control!$C$22*A909^2","v":240.9337061074221},5583.4584687293345,5288.5415312706655]
[910,5435,5381,null,null,null,null,null,null,null,null,null,{"$f":"Control!$C$20+Control!$C$21*A910+Control!$C$22*A910^2","v":241.20301450381316},5582.4449049645327,5287.5550950354673]
[911,5434,5597,null,null,null,null,null,null,null,null,null,{"$f":"Control!$C$20+Control!$C$21*A911+Control!$C$22*A911^2","v":241.47232289926296},5581.4313399518569,5286.5686600481431]
[912,5433,5412,null,null,null,null,null,null,null,null,null,{"$f":"Control!$C$20+Control!$C$21*A912+Control!$C$22*A912^2","v":241.74163129377143},5580.4177736909633,5285.5822263090367]
[913,5433,5502,null,null,null,null,null,null,null,null,null,{"$f":"Control!$C$20+Control!$C$21*A913+Control!$C$22*A913^2","v":242.01093968733863},5580.4177736909633,5285.5822263090367]
[914,5432,5392,null,null,null,null,null,null,null,null,null,{"$f":"Control!$C$20+Control!$C$21*A914+Control!$C$22*A914^2","v":242.28024807996451},5579.4042061815062,5284.5957938184938]
[915,5431,5459,null,null,null,null,null,null,null,null,null,{"$f":"Control!$C$20+Control!$C$21*A915+Control!$C$22*A915^2","v":242.54955647164911},5578.3906374231419,5283.6093625768581]
[916,5430,5521,null,null,null,null,null,null,null,null,null,{"$f":"Control!$C$20+Control!$C$21*A916+Control!$C$22*A916^2","v":242.81886486239239},5577.3770674155239,5282.6229325844761]
[917,5430,5454,null,null,null,null,null,null,null,null,null,{"$f":"Control!$C$20+Control!$C$21*A917+Control!$C$22*A917^2","v":243.08817325219439},5577.3770674155239,5282.6229325844761]
[918,5429,5394,null,null,null,null,null,null,null,null,null,{"$f":"Control!$C$20+Control!$C$21*A918+Control!$C$22*A918^2","v":243.3574816410551},5576.3634961583093,5281.6365038416907]
[919,5428,5417,null,null,null,null,null,null,null,null,null,{"$f":"Control!$C$20+Control!$C$21*A919+Control!$C$22*A919^2","v":243.62679002897451},5575.3499236511507,5280.6500763488493]
[920,5427,5516,null,null,null,null,null,null,null,null,null,{"$f":"Control!$C$20+Control!$C$21*A920+Control!$C$22*A920^2","v":243.89609841595262},5574.3363498937042,5279.6636501062958]
[921,5427,5496,null,null,null,null,null,null,null,null,null,{"$f":"Control!$C$20+Control!$C$21*A921+Control!$C$22*A921^2","v":244.16540680198943},5574.3363498937042,5279.6636501062958]
[922,5426,5434,null,null,null,null,null,null,null,null,null,{"$f":"Control!$C$20+Control!$C$21*A922+Control!$C$22*A922^2","v":244.43471518708495},5573.3227748856234,5278.6772251143766]
[923,5425,5525,null,null,null,null,null,null,null,null,null,{"$f":"Control!$C$20+Control!$C$21*A923+Control!$C$22*A923^2","v":244.70402357123916},5572.3091986265626,5277.6908013734374]
[924,5425,5438,null,null,null,null,null,null,null,null,null,{"$f":"Control!$C$20+Control!$C$21*A924+Control!$C$22*A924^2","v":244.97333195445208},5572.3091986265626,5277.6908013734374]
[925,5424,5331,null,null,null,null,null,null,null,null,null,{"$f":"Control!$C$20+Control!$C$21*A925+Control!$C$22*A925^2","v":245.24264033672372},5571.2956211161754,5276.7043788838246]
[926,5423,5311,null,null,null,null,null,null,null,null,null,{"$f":"Control!$C$20+Control!$C$21*A926+Control!$C$22*A926^2","v":245.51194871805404},5570.282042354117,5275.717957645883]
[927,5422,5517,null,null,null,null,null,null,null,null,null,{"$f":"Control!$C$20+Control!$C$21*A927+Control!$C$22*A927^2","v":245.78125709844309},5569.268462340041,5274.731537659959]
[928,5422,5347,null,null,null,null,null,null,null,null,null,{"$f":"Control!$C$20+Control!$C$21*A928+Control!$C$22*A928^2","v":246.05056547789081},5569.268462340041,5274.731537659959]
[929,5421,5324,null,null,null,null,null,null,null,null,null,{"$f":"Control!$C$20+Control!$C$21*A929+Control!$C$22*A929^2","v":246.31987385639727},5568.2548810735998,5273.7451189264002]
[930,5420,5642,null,null,null,null,null,null,null,null,null,{"$f":"Control!$C$20+Control!$C$21*A930+Control!$C$22*A930^2","v":246.58918223396239},5567.2412985544479,5272.7587014455521]
[931,5419,5437,null,null,null,null,null,null,null,null,null,{"$f":"Control!$C$20+Control!$C$21*A931+Control!$C$22*A931^2","v":246.85849061058624},5566.2277147822379,5271.7722852177621]
[932,5419,5541,null,null,null,null,null,null,null,null,null,{"$f":"Control!$C$20+Control!$C$21*A932+Control!$C$22*A932^2","v":247.12779898626877},5566.2277147822379,5271.7722852177621]
[933,5418,5358,null,null,null,null,null,null,null,null,null,{"$f":"Control!$C$20+Control!$C$21*A933+Control!$C$22*A933^2","v":247.39710736101003},5565.2141297566232,5270.7858702433768]
[934,5417,5440,null,null,null,null,null,null,null,null,null,{"$f":"Control!$C$20+Control!$C$21*A934+Control!$C$22*A934^2","v":247.66641573480999},5564.2005434772573,5269.7994565227427]
[935,5416,5333,null,null,null,null,null,null,null,null,null,{"$f":"Control!$C$20+Control!$C$21*A935+Control!$C$22*A935^2","v":247.93572410766865},5563.1869559437928,5268.8130440562072]
[936,5416,5385,null,null,null,null,null,null,null,null,null,{"$f":"Control!$C$20+Control!$C$21*A936+Control!$C$22*A936^2","v":248.20503247958601},5563.1869559437928,5268.8130440562072]
[937,5415,5508,null,null,null,null,null,null,null,null,null,{"$f":"Control!$C$20+Control!$C$21*A937+Control!$C$22*A937^2","v":248.47434085056207},5562.1733671558823,5267.8266328441177]
[938,5414,5472,null,null,null,null,null,null,null,null,null,{"$f":"Control!$C$20+Control!$C$21*A938+Control!$C$22*A938^2","v":248.74364922059684},5561.1597771131774,5266.8402228868226]
[939,5414,5303,null,null,null,null,null,null,null,null,null,{"$f":"Control!$C$20+Control!$C$21*A939+Control!$C$22*A939^2","v":249.0129575896903},5561.1597771131774,5266.8402228868226]
[940,5413,5375,null,null,null,null,null,null,null,null,null,{"$f":"Control!$C$20+Control!$C$21*A940+Control!$C$22*A940^2","v":249.28226595784247},5560.1461858153316,5265.8538141846684]
[941,5412,5513,null,null,null,null,null,null,null,null,null,{"$f":"Control!$C$20+Control!$C$21*A941+Control!$C$22*A941^2","v":249.55157432505337},5559.1325932619966,5264.8674067380034]
[942,5411,5450,null,null,null,null,null,null,null,null,null,{"$f":"Control!$C$20+Control!$C$21*A942+Control!$C$22*A942^2","v":249.82088269132294},5558.118999452824,5263.881000547176]
[943,5411,5491,null,null,null,null,null,null,null,null,null,{"$f":"Control!$C$20+Control!$C$21*A943+Control!$C$22*A943^2","v":250.09019105665124},5558.118999452824,5263.881000547176]
[944,5410,5435,null,null,null,null,null,null,null,null,null,{"$f":"Control!$C$20+Control!$C$21*A944+Control!$C$22*A944^2","v":250.35949942103821},5557.1054043874665,5262.8945956125335]
[945,5409,5415,null,null,null,null,null,null,null,null,null,{"$f":"Control!$C$20+Control!$C$21*A945+Control!$C$22*A945^2","v":250.62880778448391},5556.0918080655756,5261.9081919344244]
[946,5408,5496,null,null,null,null,null,null,null,null,null,{"$f":"Control!$C$20+Control!$C$21*A946+Control!$C$22*A946^2","v":250.89811614698829},5555.0782104868022,5260.9217895131978]
[947,5408,5363,null,null,null,null,null,null,null,null,null,{"$f":"Control!$C$20+Control!$C$21*A947+Control!$C$22*A947^2","v":251.16742450855139},5555.0782104868022,5260.9217895131978]
[948,5407,5511,null,null,null,null,null,null,null,null,null,{"$f":"Control!$C$20+Control!$C$21*A948+Control!$C$22*A948^2","v":251.43673286917317},5554.0646116507978,5259.9353883492022]
[949,5406,5449,null,null,null,null,null,null,null,null,null,{"$f":"Control!$C$20+Control!$C$21*A949+Control!$C$22*A949^2","v":251.70604122885368},5553.0510115572142,5258.9489884427858]
[950,5405,5372,null,null,null,null,null,null,null,null,null,{"$f":"Control!$C$20+Control!$C$21*A950+Control!$C$22*A950^2","v":251.97534958759289},5552.0374102057021,5257.9625897942979]
[951,5405,5340,null,null,null,null,null,null,null,null,null,{"$f":"Control!$C$20+Control!$C$21*A951+Control!$C$22*A951^2","v":252.2446579453908},5552.0374102057021,5257.9625897942979]
[952,5404,5360,null,null,null,null,null,null,null,null,null,{"$f":"Control!$C$20+Control!$C$21*A952+Control!$C$22*A952^2","v":252.51396630224741},5551.0238075959132,5256.9761924040868]
[953,5403,5469,null,null,null,null,null,null,null,null,null,{"$f":"Control!$C$20+Control!$C$21*A953+Control!$C$22*A953^2","v":252.78327465816272},5550.0102037274964,5255.9897962725036]
[954,5403,5505,null,null,null,null,null,null,null,null,null,{"$f":"Control!$C$20+Control!$C$21*A954+Control!$C$22*A954^2","v":253.05258301313674},5550.0102037274964,5255.9897962725036]
[955,5402,5382,null,null,null,null,null,null,null,null,null,{"$f":"Control!$C$20+Control!$C$21*A955+Control!$C$22*A955^2","v":253.32189136716946},5548.9965986001034,5255.0034013998966]
[956,5401,5440,null,null,null,null,null,null,null,null,null,{"$f":"Control!$C$20+Control!$C$21*A956+Control!$C$22*A956^2","v":253.59119972026087},5547.9829922133849,5254.0170077866151]
[957,5400,5369,null,null,null,null,null,null,null,null,null,{"$f":"Control!$C$20+Control!$C$21*A957+Control!$C$22*A957^2","v":253.86050807241102},5546.9693845669908,5253.0306154330092]
[958,5400,5402,null,null,null,null,null,null,null,null,null,{"$f":"Control!$C$20+Control!$C$21*A958+Control!$C$22*A958^2","v":254.12981642361984},5546.9693845669908,5253.0306154330092]
[959,5399,5419,null,null,null,null,null,null,null,null,null,{"$f":"Control!$C$20+Control!$C$21*A959+Control!$C$22*A959^2","v":254.39912477388739},5545.9557756605709,5252.0442243394291]
[960,5398,5387,null,null,null,null,null,null,null,null,null,{"$f":"Control!$C$20+Control!$C$21*A960+Control!$C$22*A960^2","v":254.66843312321362},5544.9421654937751,5251.0578345062249]
[961,5397,5413,null,null,null,null,null,null,null,null,null,{"$f":"Control!$C$20+Control!$C$21*A961+Control!$C$22*A961^2","v":254.93774147159857},5543.9285540662531,5250.0714459337469]
[962,5397,5521,null,null,null,null,null,null,null,null,null,{"$f":"Control!$C$20+Control!$C$21*A962+Control!$C$22*A962^2","v":255.2070498190422},5543.9285540662531,5250.0714459337469]
[963,5396,5380,null,null,null,null,null,null,null,null,null,{"$f":"Control!$C$20+Control!$C$21*A963+Control!$C$22*A963^2","v":255.47635816554455},{"$f":"IF(D963=0,B963+2*SQRT(B963),N962)","v":5542.9149413776559},{"$f":"IF(D963=0,B963-2*SQRT(B963),O962)","v":5249.0850586223441}]
[964,5395,5392,null,null,null,null,null,null,null,null,null,{"$f":"Control!$C$20+Control!$C$21*A964+Control!$C$22*A964^2","v":255.74566651110558},5541.9013274276313,5248.0986725723687]
[965,5395,5514,null,null,null,null,null,null,null,null,null,{"$f":"Control!$C$20+Control!$C$21*A965+Control!$C$22*A965^2","v":256.01497485572537},5541.9013274276313,5248.0986725723687]
[966,5394,5332,null,null,null,null,null,null,null,null,null,{"$f":"Control!$C$20+Control!$C$21*A966+Control!$C$22*A966^2","v":256.28428319940383},5540.8877122158283,5247.1122877841717]
[967,5393,5419,null,null,null,null,null,null,null,null,null,{"$f":"Control!$C$20+Control!$C$21*A967+Control!$C$22*A967^2","v":256.55359154214096},5539.8740957418977,5246.1259042581023]
[968,5392,5283,null,null,null,null,null,null,null,null,null,{"$f":"Control!$C$20+Control!$C$21*A968+Control!$C$22*A968^2","v":256.82289988393683},5538.8604780054866,5245.1395219945134]
[969,5392,5514,null,null,null,null,null,null,null,null,null,{"$f":"Control!$C$20+Control!$C$21*A969+Control!$C$22*A969^2","v":257.09220822479142},5538.8604780054866,5245.1395219945134]
[970,5391,5494,null,null,null,null,null,null,null,null,null,{"$f":"Control!$C$20+Control!$C$21*A970+Control!$C$22*A970^2","v":257.36151656470469},5537.8468590062448,5244.1531409937552]
[971,5390,5364,null,null,null,null,null,null,null,null,null,{"$f":"Control!$C$20+Control!$C$21*A971+Control!$C$22*A971^2","v":257.63082490367663},5536.8332387438213,5243.1667612561787]
[972,5389,5441,null,null,null,null,null,null,null,null,null,{"$f":"Control!$C$20+Control!$C$21*A972+Control!$C$22*A972^2","v":257.90013324170729},5535.8196172178632,5242.1803827821368]
[973,5389,5391,null,null,null,null,null,null,null,null,null,{"$f":"Control!$C$20+Control!$C$21*A973+Control!$C$22*A973^2","v":258.16944157879669},5535.8196172178632,5242.1803827821368]
[974,5388,5366,null,null,null,null,null,null,null,null,null,{"$f":"Control!$C$20+Control!$C$21*A974+Control!$C$22*A974^2","v":258.43874991494476},5534.8059944280203,5241.1940055719797]
[975,5391,5437,4,null,null,null,null,null,null,null,null,{"$f":"Control!$C$20+Control!$C$21*A975+Control!$C$22*A975^2","v":258.70805825015157},5534.8059944280203,5241.1940055719797]
[976,5409,5442,23,null,null,null,null,null,null,null,null,{"$f":"Control!$C$20+Control!$C$21*A976+Control!$C$22*A976^2","v":258.97736658441704},5534.8059944280203,5241.1940055719797]
[977,5482,5532,96,null,null,null,null,null,null,null,null,{"$f":"Control!$C$20+Control!$C$21*A977+Control!$C$22*A977^2","v":259.24667491774125},5534.8059944280203,5241.1940055719797]
[978,5646,5713,261,null,null,null,null,null,null,null,null,{"$f":"Control!$C$20+Control!$C$21*A978+Control!$C$22*A978^2","v":259.51598325012412},5534.8059944280203,5241.1940055719797]
[979,5842,5925,458,null,null,null,null,null,null,null,null,{"$f":"Control!$C$20+Control!$C$21*A979+Control!$C$22*A979^2","v":259.78529158156573},5534.8059944280203,5241.1940055719797]
[980,5905,5994,521,null,null,null,null,null,null,null,null,{"$f":"Control!$C$20+Control!$C$21*A980+Control!$C$22*A980^2","v":260.05459991206601},5534.8059944280203,5241.1940055719797]
[981,5767,5658,384,null,null,null,null,null,null,null,null,{"$f":"Control!$C$20+Control!$C$21*A981+Control!$C$22*A981^2","v":260.32390824162502},5534.8059944280203,5241.1940055719797]
[982,5565,5571,183,null,null,null,null,null,null,null,null,{"$f":"Control!$C$20+Control!$C$21*A982+Control!$C$22*A982^2","v":260.59321657024276},5534.8059944280203,5241.1940055719797]
[983,5438,5359,57,null,null,null,null,null,null,null,null,{"$f":"Control!$C$20+Control!$C$21*A983+Control!$C$22*A983^2","v":260.86252489791917},5534.8059944280203,5241.1940055719797]
[984,5392,5351,11,null,null,null,null,null,null,null,null,{"$f":"Control!$C$20+Control!$C$21*A984+Control!$C$22*A984^2","v":261.13183322465426},5534.8059944280203,5241.1940055719797]
[985,5381,5471,1,null,null,null,null,null,null,null,null,{"$f":"Control!$C$20+Control!$C$21*A985+Control!$C$22*A985^2","v":261.40114155044807},5534.8059944280203,5241.1940055719797]
[986,5379,5327,null,null,null,null,null,null,null,null,null,{"$f":"Control!$C$20+Control!$C$21*A986+Control!$C$22*A986^2","v":261.67044987530062},5525.6833323864712,5232.3166676135288]
[987,5378,5260,null,null,null,null,null,null,null,null,null,{"$f":"Control!$C$20+Control!$C$21*A987+Control!$C$22*A987^2","v":261.93975819921184},5524.6696969383929,5231.3303030616071]
[988,5378,5369,null,null,null,null,null,null,null,null,null,{"$f":"Control!$C$20+Control!$C$21*A988+Control!$C$22*A988^2","v":262.20906652218173},5524.6696969383929,5231.3303030616071]
[989,5377,5353,null,null,null,null,null,null,null,null,null,{"$f":"Control!$C$20+Control!$C$21*A989+Control!$C$22*A989^2","v":262.47837484421035},5523.6560602225491,5230.3439397774509]
[990,5376,5380,null,null,null,null,null,null,null,null,null,{"$f":"Control!$C$20+Control!$C$21*A990+Control!$C$22*A990^2","v":262.7476831652977},5522.6424222385867,5229.3575777614133]
[991,5375,5365,null,null,null,null,null,null,null,null,null,{"$f":"Control!$C$20+Control!$C$21*A991+Control!$C$22*A991^2","v":263.01699148544373},5521.6287829861521,5228.3712170138479]
[992,5375,5488,null,null,null,null,null,null,null,null,null,{"$f":"Control!$C$20+Control!$C$21*A992+Control!$C$22*A992^2","v":263.28629980464848},5521.6287829861521,5228.3712170138479]
[993,5374,5253,null,null,null,null,null,null,null,null,null,{"$f":"Control!$C$20+Control!$C$21*A993+Control!$C$22*A993^2","v":263.55560812291191},5520.6151424648897,5227.3848575351103]
[994,5373,5344,null,null,null,null,null,null,null,null,null,{"$f":"Control!$C$20+Control!$C$21*A994+Control!$C$22*A994^2","v":263.82491644023406},5519.6015006744474,5226.3984993255526]
[995,5373,5380,null,null,null,null,null,null,null,null,null,{"$f":"Control!$C$20+Control!$C$21*A995+Control!$C$22*A995^2","v":264.09422475661489},5519.6015006744474,5226.3984993255526]
[996,5372,5482,null,null,null,null,null,null,null,null,null,{"$f":"Control!$C$20+Control!$C$21*A996+Control!$C$22*A996^2","v":264.36353307205445},5518.5878576144696,5225.4121423855304]
[997,5371,5349,null,null,null,null,null,null,null,null,null,{"$f":"Control!$C$20+Control!$C$21*A997+Control!$C$22*A997^2","v":264.63284138655274},5517.5742132846017,5224.4257867153983]
[998,5370,5343,null,null,null,null,null,null,null,null,null,{"$f":"Control!$C$20+Control!$C$21*A998+Control!$C$22*A998^2","v":264.9021497001097},5516.5605676844898,5223.4394323155102]
[999,5370,5431,null,null,null,null,null,null,null,null,null,{"$f":"Control!$C$20+Control!$C$21*A999+Control!$C$22*A999^2","v":265.17145801272534},5516.5605676844898,5223.4394323155102]
[1000,5369,5315,null,null,null,null,null,null,null,null,null,{"$f":"Control!$C$20+Control!$C$21*A1000+Control!$C$22*A1000^2","v":265.4407663243997},5515.5469208137793,5222.4530791862207]
[1001,5368,5497,null,null,null,null,null,null,null,null,null,{"$f":"Control!$C$20+Control!$C$21*A1001+Control!$C$22*A1001^2","v":265.7100746351328},5514.5332726721135,5221.4667273278865]
[1002,5367,5334,null,null,null,null,null,null,null,null,null,{"$f":"Control!$C$20+Control!$C$21*A1002+Control!$C$22*A1002^2","v":265.97938294492457},5513.5196232591388,5220.4803767408612]
[1003,5367,5491,null,null,null,null,null,null,null,null,null,{"$f":"Control!$C$20+Control!$C$21*A1003+Control!$C$22*A1003^2","v":266.24869125377501},5513.5196232591388,5220.4803767408612]
[1004,5366,5341,null,null,null,null,null,null,null,null,null,{"$f":"Control!$C$20+Control!$C$21*A1004+Control!$C$22*A1004^2","v":266.51799956168418},5512.5059725744995,5219.4940274255005]
[1005,5365,5408,null,null,null,null,null,null,null,null,null,{"$f":"Control!$C$20+Control!$C$21*A1005+Control!$C$22*A1005^2","v":266.78730786865208},5511.4923206178401,5218.5076793821599]
[1006,5364,5324,null,null,null,null,null,null,null,null,null,{"$f":"Control!$C$20+Control!$C$21*A1006+Control!$C$22*A1006^2","v":267.05661617467865},5510.4786673888048,5217.5213326111952]
[1007,5364,5246,null,null,null,null,null,null,null,null,null,{"$f":"Control!$C$20+Control!$C$21*A1007+Control!$C$22*A1007^2","v":267.32592447976396},5510.4786673888048,5217.5213326111952]
[1008,5363,5360,null,null,null,null,null,null,null,null,null,{"$f":"Control!$C$20+Control!$C$21*A1008+Control!$C$22*A1008^2","v":267.59523278390793},5509.4650128870371,5216.5349871129629]
[1009,5362,5268,null,null,null,null,null,null,null,null,null,{"$f":"Control!$C$20+Control!$C$21*A1009+Control!$C$22*A1009^2","v":267.86454108711064},5508.4513571121824,5215.5486428878176]
[1010,5362,5281,null,null,null,null,null,null,null,null,null,{"$f":"Control!$C$20+Control!$C$21*A1010+Control!$C$22*A1010^2","v":268.13384938937202},5508.4513571121824,5215.5486428878176]
[1011,5361,5266,null,null,null,null,null,null,null,null,null,{"$f":"Control!$C$20+Control!$C$21*A1011+Control!$C$22*A1011^2","v":268.40315769069213},5507.4377000638842,5214.5622999361158]
[1012,5360,5380,null,null,null,null,null,null,null,null,null,{"$f":"Control!$C$20+Control!$C$21*A1012+Control!$C$22*A1012^2","v":268.67246599107091},5506.424041741785,5213.575958258215]
[1013,5359,5460,null,null,null,null,null,null,null,null,null,{"$f":"Control!$C$20+Control!$C$21*A1013+Control!$C$22*A1013^2","v":268.94177429050842},5505.4103821455292,5212.5896178544708]
[1014,5359,5374,null,null,null,null,null,null,null,null,null,{"$f":"Control!$C$20+Control!$C$21*A1014+Control!$C$22*A1014^2","v":269.21108258900466},5505.4103821455292,5212.5896178544708]
[1015,5358,5321,null,null,null,null,null,null,null,null,null,{"$f":"Control!$C$20+Control!$C$21*A1015+Control!$C$22*A1015^2","v":269.48039088655958},5504.3967212747611,5211.6032787252389]
[1016,5357,5429,null,null,null,null,null,null,null,null,null,{"$f":"Control!$C$20+Control!$C$21*A1016+Control!$C$22*A1016^2","v":269.74969918317316},5503.3830591291216,5210.6169408708784]
[1017,5356,5278,null,null,null,null,null,null,null,null,null,{"$f":"Control!$C$20+Control!$C$21*A1017+Control!$C$22*A1017^2","v":270.01900747884548},5502.369395708256,5209.630604291744]
[1018,5356,5435,null,null,null,null,null,null,null,null,null,{"$f":"Control!$C$20+Control!$C$21*A1018+Control!$C$22*A1018^2","v":270.28831577357653},5502.369395708256,5209.630604291744]
[1019,5355,5541,null,null,null,null,null,null,null,null,null,{"$f":"Control!$C$20+Control!$C$21*A1019+Control!$C$22*A1019^2","v":270.55762406736625},5501.3557310118058,5208.6442689881942]
[1020,5354,5281,null,null,null,null,null,null,null,null,null,{"$f":"Control!$C$20+Control!$C$21*A1020+Control!$C$22*A1020^2","v":270.82693236021464},5500.3420650394137,5207.6579349605863]
[1021,5353,5375,null,null,null,null,null,null,null,null,null,{"$f":"Control!$C$20+Control!$C$21*A1021+Control!$C$22*A1021^2","v":271.09624065212176},5499.3283977907231,5206.6716022092769]
[1022,5353,5381,null,null,null,null,null,null,null,null,null,{"$f":"Control!$C$20+Control!$C$21*A1022+Control!$C$22*A1022^2","v":271.36554894308762},5499.3283977907231,5206.6716022092769]
[1023,5352,5257,null,null,null,null,null,null,null,null,null,{"$f":"Control!$C$20+Control!$C$21*A1023+Control!$C$22*A1023^2","v":271.63485723311214},5498.3147292653748,5205.6852707346252]
[1024,5351,5294,null,null,null,null,null,null,null,null,null,{"$f":"Control!$C$20+Control!$C$21*A1024+Control!$C$22*A1024^2","v":271.9041655221954},5497.3010594630132,5204.6989405369868]
[1025,5351,5403,null,null,null,null,null,null,null,null,null,{"$f":"Control!$C$20+Control!$C$21*A1025+Control!$C$22*A1025^2","v":272.17347381033733},5497.3010594630132,5204.6989405369868]
[1026,5350,5217,null,null,null,null,null,null,null,null,null,{"$f":"Control!$C$20+Control!$C$21*A1026+Control!$C$22*A1026^2","v":272.44278209753799},5496.2873883832781,5203.7126116167219]
[1027,5349,5542,null,null,null,null,null,null,null,null,null,{"$f":"Control!$C$20+Control!$C$21*A1027+Control!$C$22*A1027^2","v":272.71209038379732},{"$f":"IF(D1027=0,B1027+2*SQRT(B1027),N1026)","v":5495.2737160258121},{"$f":"IF(D1027=0,B1027-2*SQRT(B1027),O1026)","v":5202.7262839741879}]
[1028,5348,5551,null,null,null,null,null,null,null,null,null,{"$f":"Control!$C$20+Control!$C$21*A1028+Control!$C$22*A1028^2","v":272.98139866911538},5494.2600423902577,5201.7399576097423]
[1029,5348,5300,null,null,null,null,null,null,null,null,null,{"$f":"Control!$C$20+Control!$C$21*A1029+Control!$C$22*A1029^2","v":273.25070695349217},5494.2600423902577,5201.7399576097423]
[1030,5347,5414,null,null,null,null,null,null,null,null,null,{"$f":"Control!$C$20+Control!$C$21*A1030+Control!$C$22*A1030^2","v":273.52001523692763},5493.2463674762557,5200.7536325237443]
[1031,5346,5283,null,null,null,null,null,null,null,null,null,{"$f":"Control!$C$20+Control!$C$21*A1031+Control!$C$22*A1031^2","v":273.78932351942177},5492.2326912834469,5199.7673087165531]
[1032,5345,5399,null,null,null,null,null,null,null,null,null,{"$f":"Control!$C$20+Control!$C$21*A1032+Control!$C$22*A1032^2","v":274.05863180097464},5491.2190138114738,5198.7809861885262]
[1033,5345,5328,null,null,null,null,null,null,null,null,null,{"$f":"Control!$C$20+Control!$C$21*A1033+Control!$C$22*A1033^2","v":274.32794008158623},5491.2190138114738,5198.7809861885262]
[1034,5344,5306,null,null,null,null,null,null,null,null,null,{"$f":"Control!$C$20+Control!$C$21*A1034+Control!$C$22*A1034^2","v":274.5972483612565},5490.2053350599763,5197.7946649400237]
[1035,5343,5421,null,null,null,null,null,null,null,null,null,{"$f":"Control!$C$20+Control!$C$21*A1035+Control!$C$22*A1035^2","v":274.86655663998545},5489.191655028596,5196.808344971404]
[1036,5342,5273,null,null,null,null,null,null,null,null,null,{"$f":"Control!$C$20+Control!$C$21*A1036+Control!$C$22*A1036^2","v":275.13586491777312},5488.1779737169727,5195.8220262830273]
[1037,5342,5291,null,null,null,null,null,null,null,null,null,{"$f":"Control!$C$20+Control!$C$21*A1037+Control!$C$22*A1037^2","v":275.40517319461952},5488.1779737169727,5195.8220262830273]
[1038,5341,5307,null,null,null,null,null,null,null,null,null,{"$f":"Control!$C$20+Control!$C$21*A1038+Control!$C$22*A1038^2","v":275.6744814705246},5487.1642911247473,5194.8357088752527]
[1039,5340,5255,null,null,null,null,null,null,null,null,null,{"$f":"Control!$C$20+Control!$C$21*A1039+Control!$C$22*A1039^2","v":275.9437897454884},5486.1506072515613,5193.8493927484387]
[1040,5340,5415,null,null,null,null,null,null,null,null,null,{"$f":"Control!$C$20+Control!$C$21*A1040+Control!$C$22*A1040^2","v":276.21309801951088},5486.1506072515613,5193.8493927484387]
[1041,5339,5427,null,null,null,null,null,null,null,null,null,{"$f":"Control!$C$20+Control!$C$21*A1041+Control!$C$22*A1041^2","v":276.48240629259209},5485.1369220970528,5192.8630779029472]
[1042,5338,5342,null,null,null,null,null,null,null,null,null,{"$f":"Control!$C$20+Control!$C$21*A1042+Control!$C$22*A1042^2","v":276.75171456473197},5484.1232356608625,5191.8767643391375]
[1043,5337,5263,null,null,null,null,null,null,null,null,null,{"$f":"Control!$C$20+Control!$C$21*A1043+Control!$C$22*A1043^2","v":277.02102283593058},5483.1095479426313,5190.8904520573687]
[1044,5337,5272,null,null,null,null,null,null,null,null,null,{"$f":"Control!$C$20+Control!$C$21*A1044+Control!$C$22*A1044^2","v":277.29033110618786},5483.1095479426313,5190.8904520573687]
[1045,5336,5423,null,null,null,null,null,null,null,null,null,{"$f":"Control!$C$20+Control!$C$21*A1045+Control!$C$22*A1045^2","v":277.55963937550388},5482.095858941997,5189.904141058003]
[1046,5335,5269,null,null,null,null,null,null,null,null,null,{"$f":"Control!$C$20+Control!$C$21*A1046+Control!$C$22*A1046^2","v":277.82894764387862},5481.0821686586014,5188.9178313413986]
[1047,5334,5324,null,null,null,null,null,null,null,null,null,{"$f":"Control!$C$20+Control!$C$21*A1047+Control!$C$22*A1047^2","v":278.09825591131204},5480.0684770920816,5187.9315229079184]
[1048,5334,5263,null,null,null,null,null,null,null,null,null,{"$f":"Control!$C$20+Control!$C$21*A1048+Control!$C$22*A1048^2","v":278.36756417780413},5480.0684770920816,5187.9315229079184]
[1049,5333,5517,null,null,null,null,null,null,null,null,null,{"$f":"Control!$C$20+Control!$C$21*A1049+Control!$C$22*A1049^2","v":278.63687244335495},5479.0547842420783,5186.9452157579217]
[1050,5332,5271,null,null,null,null,null,null,null,null,null,{"$f":"Control!$C$20+Control!$C$21*A1050+Control!$C$22*A1050^2","v":278.9061807079645},5478.0410901082296,5185.9589098917704]
[1051,5332,5237,null,null,null,null,null,null,null,null,null,{"$f":"Control!$C$20+Control!$C$21*A1051+Control!$C$22*A1051^2","v":279.17548897163272},5478.0410901082296,5185.9589098917704]
[1052,5331,5403,null,null,null,null,null,null,null,null,null,{"$f":"Control!$C$20+Control!$C$21*A1052+Control!$C$22*A1052^2","v":279.44479723435961},5477.0273946901743,5184.9726053098257]
[1053,5330,5339,null,null,null,null,null,null,null,null,null,{"$f":"Control!$C$20+Control!$C$21*A1053+Control!$C$22*A1053^2","v":279.71410549614524},5476.0136979875515,5183.9863020124485]
[1054,5329,5237,null,null,null,null,null,null,null,null,null,{"$f":"Control!$C$20+Control!$C$21*A1054+Control!$C$22*A1054^2","v":279.98341375698959},5475,5183]
[1055,5329,5438,null,null,null,null,null,null,null,null,null,{"$f":"Control!$C$20+Control!$C$21*A1055+Control!$C$22*A1055^2","v":280.25272201689262},5475,5183]
[1056,5328,5498,null,null,null,null,null,null,null,null,null,{"$f":"Control!$C$20+Control!$C$21*A1056+Control!$C$22*A1056^2","v":280.52203027585438},5473.986300727157,5182.013699272843]
[1057,5327,5320,null,null,null,null,null,null,null,null,null,{"$f":"Control!$C$20+Control!$C$21*A1057+Control!$C$22*A1057^2","v":280.79133853387481},5472.9726001686622,5181.0273998313378]
[1058,5326,5255,null,null,null,null,null,null,null,null,null,{"$f":"Control!$C$20+Control!$C$21*A1058+Control!$C$22*A1058^2","v":281.06064679095397},5471.958898324152,5180.041101675848]
[1059,5326,5503,null,null,null,null,null,null,null,null,null,{"$f":"Control!$C$20+Control!$C$21*A1059+Control!$C$22*A1059^2","v":281.3299550470918},5471.958898324152,5180.041101675848]
[1060,5325,5233,null,null,null,null,null,null,null,null,null,{"$f":"Control!$C$20+Control!$C$21*A1060+Control!$C$22*A1060^2","v":281.59926330228836},5470.9451951932642,5179.0548048067358]
[1061,5324,5331,null,null,null,null,null,null,null,null,null,{"$f":"Control!$C$20+Control!$C$21*A1061+Control!$C$22*A1061^2","v":281.86857155654366},5469.9314907756379,5178.0685092243621]
[1062,5323,5370,null,null,null,null,null,null,null,null,null,{"$f":"Control!$C$20+Control!$C$21*A1062+Control!$C$22*A1062^2","v":282.13787980985762},5468.9177850709093,5177.0822149290907]
[1063,5323,5409,null,null,null,null,null,null,null,null,null,{"$f":"Control!$C$20+Control!$C$21*A1063+Control!$C$22*A1063^2","v":282.40718806223026},5468.9177850709093,5177.0822149290907]
[1064,5322,5394,null,null,null,null,null,null,null,null,null,{"$f":"Control!$C$20+Control!$C$21*A1064+Control!$C$22*A1064^2","v":282.67649631366163},5467.9040780787154,5176.0959219212846]
[1065,5321,5306,null,null,null,null,null,null,null,null,null,{"$f":"Control!$C$20+Control!$C$21*A1065+Control!$C$22*A1065^2","v":282.94580456415173},5466.8903697986952,5175.1096302013048]
[1066,5321,5312,null,null,null,null,null,null,null,null,null,{"$f":"Control!$C$20+Control!$C$21*A1066+Control!$C$22*A1066^2","v":283.2151128137005},5466.8903697986952,5175.1096302013048]
[1067,5320,5314,null,null,null,null,null,null,null,null,null,{"$f":"Control!$C$20+Control!$C$21*A1067+Control!$C$22*A1067^2","v":283.48442106230794},5465.876660230484,5174.123339769516]
[1068,5319,5325,null,null,null,null,null,null,null,null,null,{"$f":"Control!$C$20+Control!$C$21*A1068+Control!$C$22*A1068^2","v":283.75372930997412},5464.8629493737189,5173.1370506262811]
[1069,5318,5270,null,null,null,null,null,null,null,null,null,{"$f":"Control!$C$20+Control!$C$21*A1069+Control!$C$22*A1069^2","v":284.02303755669902},5463.8492372280361,5172.1507627719639]
[1070,5318,5371,null,null,null,null,null,null,null,null,null,{"$f":"Control!$C$20+Control!$C$21*A1070+Control!$C$22*A1070^2","v":284.2923458024826},5463.8492372280361,5172.1507627719639]
[1071,5317,5359,null,null,null,null,null,null,null,null,null,{"$f":"Control!$C$20+Control!$C$21*A1071+Control!$C$22*A1071^2","v":284.56165404732491},5462.8355237930728,5171.1644762069272]
[1072,5316,5421,null,null,null,null,null,null,null,null,null,{"$f":"Control!$C$20+Control!$C$21*A1072+Control!$C$22*A1072^2","v":284.83096229122589},5461.8218090684659,5170.1781909315341]
[1073,5315,5369,null,null,null,null,null,null,null,null,null,{"$f":"Control!$C$20+Control!$C$21*A1073+Control!$C$22*A1073^2","v":285.1002705341856},5460.808093053849,5169.191906946151]
[1074,5315,5370,null,null,null,null,null,null,null,null,null,{"$f":"Control!$C$20+Control!$C$21*A1074+Control!$C$22*A1074^2","v":285.36957877620398},5460.808093053849,5169.191906946151]
[1075,5314,5298,null,null,null,null,null,null,null,null,null,{"$f":"Control!$C$20+Control!$C$21*A1075+Control!$C$22*A1075^2","v":285.63888701728109},5459.7943757488611,5168.2056242511389]
[1076,5313,5376,null,null,null,null,null,null,null,null,null,{"$f":"Control!$C$20+Control!$C$21*A1076+Control!$C$22*A1076^2","v":285.90819525741688},5458.7806571531355,5167.2193428468645]
[1077,5312,5209,null,null,null,null,null,null,null,null,null,{"$f":"Control!$C$20+Control!$C$21*A1077+Control!$C$22*A1077^2","v":286.17750349661139},5457.7669372663086,5166.2330627336914]
[1078,5312,5234,null,null,null,null,null,null,null,null,null,{"$f":"Control!$C$20+Control!$C$21*A1078+Control!$C$22*A1078^2","v":286.44681173486464},5457.7669372663086,5166.2330627336914]
[1079,5311,5344,null,null,null,null,null,null,null,null,null,{"$f":"Control!$C$20+Control!$C$21*A1079+Control!$C$22*A1079^2","v":286.71611997217656},5456.7532160880164,5165.2467839119836]
[1080,5310,5277,null,null,null,null,null,null,null,null,null,{"$f":"Control!$C$20+Control!$C$21*A1080+Control!$C$22*A1080^2","v":286.98542820854715},5455.7394936178935,5164.2605063821065]
[1081,5310,5420,null,null,null,null,null,null,null,null,null,{"$f":"Control!$C$20+Control!$C$21*A1081+Control!$C$22*A1081^2","v":287.25473644397647},5455.7394936178935,5164.2605063821065]
[1082,5309,5211,null,null,null,null,null,null,null,null,null,{"$f":"Control!$C$20+Control!$C$21*A1082+Control!$C$22*A1082^2","v":287.52404467846452},5454.725769855575,5163.274230144425]
[1083,5308,5214,null,null,null,null,null,null,null,null,null,{"$f":"Control!$C$20+Control!$C$21*A1083+Control!$C$22*A1083^2","v":287.79335291201124},5453.7120448006963,5162.2879551993037]
[1084,5307,5395,null,null,null,null,null,null,null,null,null,{"$f":"Control!$C$20+Control!$C$21*A1084+Control!$C$22*A1084^2","v":288.06266114461664},5452.6983184528908,5161.3016815471092]
[1085,5307,5261,null,null,null,null,null,null,null,null,null,{"$f":"Control!$C$20+Control!$C$21*A1085+Control!$C$22*A1085^2","v":288.33196937628077},5452.6983184528908,5161.3016815471092]
[1086,5306,5294,null,null,null,null,null,null,null,null,null,{"$f":"Control!$C$20+Control!$C$21*A1086+Control!$C$22*A1086^2","v":288.60127760700362},5451.6845908117948,5160.3154091882052]
[1087,5305,5464,null,null,null,null,null,null,null,null,null,{"$f":"Control!$C$20+Control!$C$21*A1087+Control!$C$22*A1087^2","v":288.87058583678515},5450.6708618770408,5159.3291381229592]
[1088,5304,5383,null,null,null,null,null,null,null,null,null,{"$f":"Control!$C$20+Control!$C$21*A1088+Control!$C$22*A1088^2","v":289.13989406562541},5449.657131648265,5158.342868351735]
[1089,5304,5242,null,null,null,null,null,null,null,null,null,{"$f":"Control!$C$20+Control!$C$21*A1089+Control!$C$22*A1089^2","v":289.40920229352434},5449.657131648265,5158.342868351735]
[1090,5303,5242,null,null,null,null,null,null,null,null,null,{"$f":"Control!$C$20+Control!$C$21*A1090+Control!$C$22*A1090^2","v":289.67851052048201},5448.6434001251,5157.3565998749]
[1091,5302,5360,null,null,null,null,null,null,null,null,null,{"$f":"Control!$C$20+Control!$C$21*A1091+Control!$C$22*A1091^2","v":289.94781874649834},{"$f":"IF(D1091=0,B1091+2*SQRT(B1091),N1090)","v":5447.6296673071802},{"$f":"IF(D1091=0,B1091-2*SQRT(B1091),O1090)","v":5156.3703326928198}]
[1092,5301,5356,null,null,null,null,null,null,null,null,null,{"$f":"Control!$C$20+Control!$C$21*A1092+Control!$C$22*A1092^2","v":290.21712697157341},5446.615933194139,5155.384066805861]
[1093,5301,5384,null,null,null,null,null,null,null,null,null,{"$f":"Control!$C$20+Control!$C$21*A1093+Control!$C$22*A1093^2","v":290.4864351957072},5446.615933194139,5155.384066805861]
[1094,5300,5286,null,null,null,null,null,null,null,null,null,{"$f":"Control!$C$20+Control!$C$21*A1094+Control!$C$22*A1094^2","v":290.75574341889967},5445.6021977856108,5154.3978022143892]
[1095,5299,5324,null,null,null,null,null,null,null,null,null,{"$f":"Control!$C$20+Control!$C$21*A1095+Control!$C$22*A1095^2","v":291.02505164115081},5444.5884610812273,5153.4115389187727]
[1096,5299,5277,null,null,null,null,null,null,null,null,null,{"$f":"Control!$C$20+Control!$C$21*A1096+Control!$C$22*A1096^2","v":291.29435986246068},5444.5884610812273,5153.4115389187727]
[1097,5298,5337,null,null,null,null,null,null,null,null,null,{"$f":"Control!$C$20+Control!$C$21*A1097+Control!$C$22*A1097^2","v":291.56366808282928},5443.5747230806228,5152.4252769193772]
[1098,5297,5345,null,null,null,null,null,null,null,null,null,{"$f":"Control!$C$20+Control!$C$21*A1098+Control!$C$22*A1098^2","v":291.83297630225655},5442.5609837834299,5151.4390162165701]
[1099,5296,5299,null,null,null,null,null,null,null,null,null,{"$f":"Control!$C$20+Control!$C$21*A1099+Control!$C$22*A1099^2","v":292.1022845207425},5441.5472431892822,5150.4527568107178]
[1100,5296,5267,null,null,null,null,null,null,null,null,null,{"$f":"Control!$C$20+Control!$C$21*A1100+Control!$C$22*A1100^2","v":292.37159273828718},5441.5472431892822,5150.4527568107178]
[1101,5295,5209,null,null,null,null,null,null,null,null,null,{"$f":"Control!$C$20+Control!$C$21*A1101+Control!$C$22*A1101^2","v":292.64090095489058},5440.5335012978112,5149.4664987021888]
[1102,5294,5165,null,null,null,null,null,null,null,null,null,{"$f":"Control!$C$20+Control!$C$21*A1102+Control!$C$22*A1102^2","v":292.91020917055266},5439.5197581086504,5148.4802418913496]
[1103,5293,5240,null,null,null,null,null,null,null,null,null,{"$f":"Control!$C$20+Control!$C$21*A1103+Control!$C$22*A1103^2","v":293.17951738527347},5438.5060136214306,5147.4939863785694]
[1104,5293,5353,null,null,null,null,null,null,null,null,null,{"$f":"Control!$C$20+Control!$C$21*A1104+Control!$C$22*A1104^2","v":293.44882559905295},5438.5060136214306,5147.4939863785694]
[1105,5292,5379,null,null,null,null,null,null,null,null,null,{"$f":"Control!$C$20+Control!$C$21*A1105+Control!$C$22*A1105^2","v":293.71813381189116},5437.4922678357852,5146.5077321642148]
[1106,5291,5244,null,null,null,null,null,null,null,null,null,{"$f":"Control!$C$20+Control!$C$21*A1106+Control!$C$22*A1106^2","v":293.98744202378805},5436.4785207513469,5145.5214792486531]
[1107,5290,5321,null,null,null,null,null,null,null,null,null,{"$f":"Control!$C$20+Control!$C$21*A1107+Control!$C$22*A1107^2","v":294.25675023474366},5435.4647723677454,5144.5352276322546]
[1108,5290,5324,null,null,null,null,null,null,null,null,null,{"$f":"Control!$C$20+Control!$C$21*A1108+Control!$C$22*A1108^2","v":294.52605844475795},5435.4647723677454,5144.5352276322546]
[1109,5289,5358,null,null,null,null,null,null,null,null,null,{"$f":"Control!$C$20+Control!$C$21*A1109+Control!$C$22*A1109^2","v":294.79536665383097},5434.4510226846132,5143.5489773153868]
[1110,5288,5310,null,null,null,null,null,null,null,null,null,{"$f":"Control!$C$20+Control!$C$21*A1110+Control!$C$22*A1110^2","v":295.06467486196271},5433.4372717015831,5142.5627282984169]
[1111,5288,5280,null,null,null,null,null,null,null,null,null,{"$f":"Control!$C$20+Control!$C$21*A1111+Control!$C$22*A1111^2","v":295.33398306915313},5433.4372717015831,5142.5627282984169]
[1112,5287,5313,null,null,null,null,null,null,null,null,null,{"$f":"Control!$C$20+Control!$C$21*A1112+Control!$C$22*A1112^2","v":295.60329127540223},5432.4235194182838,5141.5764805817162]
[1113,5286,5401,null,null,null,null,null,null,null,null,null,{"$f":"Control!$C$20+Control!$C$21*A1113+Control!$C$22*A1113^2","v":295.87259948071005},5431.409765834348,5140.590234165652]
[1114,5285,5362,null,null,null,null,null,null,null,null,null,{"$f":"Control!$C$20+Control!$C$21*A1114+Control!$C$22*A1114^2","v":296.1419076850766},5430.3960109494064,5139.6039890505936]
[1115,5285,5196,null,null,null,null,null,null,null,null,null,{"$f":"Control!$C$20+Control!$C$21*A1115+Control!$C$22*A1115^2","v":296.41121588850183},5430.3960109494064,5139.6039890505936]
[1116,5284,5432,null,null,null,null,null,null,null,null,null,{"$f":"Control!$C$20+Control!$C$21*A1116+Control!$C$22*A1116^2","v":296.68052409098573},5429.3822547630898,5138.6177452369102]
[1117,5283,5183,null,null,null,null,null,null,null,null,null,{"$f":"Control!$C$20+Control!$C$21*A1117+Control!$C$22*A1117^2","v":296.94983229252836},5428.3684972750289,5137.6315027249711]
[1118,5282,5277,null,null,null,null,null,null,null,null,null,{"$f":"Control!$C$20+Control!$C$21*A1118+Control!$C$22*A1118^2","v":297.21914049312971},5427.3547384848534,5136.6452615151466]
[1119,5282,5270,null,null,null,null,null,null,null,null,null,{"$f":"Control!$C$20+Control!$C$21*A1119+Control!$C$22*A1119^2","v":297.48844869278975},5427.3547384848534,5136.6452615151466]
[1120,5281,5180,null,null,null,null,null,null,null,null,null,{"$f":"Control!$C$20+Control!$C$21*A1120+Control!$C$22*A1120^2","v":297.75775689150851},5426.3409783921934,5135.6590216078066]
[1121,5280,5370,null,null,null,null,null,null,null,null,null,{"$f":"Control!$C$20+Control!$C$21*A1121+Control!$C$22*A1121^2","v":298.02706508928594},5425.3272169966795,5134.6727830033205]
[1122,5279,5218,null,null,null,null,null,null,null,null,null,{"$f":"Control!$C$20+Control!$C$21*A1122+Control!$C$22*A1122^2","v":298.2963732861221},5424.3134542979415,5133.6865457020585]
[1123,5280,5336,1,null,null,null,null,null,null,null,null,{"$f":"Control!$C$20+Control!$C$21*A1123+Control!$C$22*A1123^2","v":298.56568148201694},5424.3134542979415,5133.6865457020585]
[1124,5284,5251,6,null,null,null,null,null,null,null,null,{"$f":"Control!$C$20+Control!$C$21*A1124+Control!$C$22*A1124^2","v":298.83498967697051},5424.3134542979415,5133.6865457020585]
[1125,5304,5323,27,null,null,null,null,null,null,null,null,{"$f":"Control!$C$20+Control!$C$21*A1125+Control!$C$22*A1125^2","v":299.1042978709828},5424.3134542979415,5133.6865457020585]
[1126,5362,5446,85,null,null,null,null,null,null,null,null,{"$f":"Control!$C$20+Control!$C$21*A1126+Control!$C$22*A1126^2","v":299.37360606405377},5424.3134542979415,5133.6865457020585]
[1127,5454,5495,178,null,null,null,null,null,null,null,null,{"$f":"Control!$C$20+Control!$C$21*A1127+Control!$C$22*A1127^2","v":299.64291425618342},5424.3134542979415,5133.6865457020585]
[1128,5523,5470,248,null,null,null,null,null,null,null,null,{"$f":"Control!$C$20+Control!$C$21*A1128+Control!$C$22*A1128^2","v":299.91222244737179},5424.3134542979415,5133.6865457020585]
[1129,5505,5611,231,null,null,null,null,null,null,null,null,{"$f":"Control!$C$20+Control!$C$21*A1129+Control!$C$22*A1129^2","v":300.18153063761889},5424.3134542979415,5133.6865457020585]
[1130,5418,5396,144,null,null,null,null,null,null,null,null,{"$f":"Control!$C$20+Control!$C$21*A1130+Control!$C$22*A1130^2","v":300.45083882692467},5424.3134542979415,5133.6865457020585]
[1131,5333,5404,60,null,null,null,null,null,null,null,null,{"$f":"Control!$C$20+Control!$C$21*A1131+Control!$C$22*A1131^2","v":300.72014701528911},5424.3134542979415,5133.6865457020585]
[1132,5289,5171,17,null,null,null,null,null,null,null,null,{"$f":"Control!$C$20+Control!$C$21*A1132+Control!$C$22*A1132^2","v":300.98945520271229},5424.3134542979415,5133.6865457020585]
[1133,5274,5222,3,null,null,null,null,null,null,null,null,{"$f":"Control!$C$20+Control!$C$21*A1133+Control!$C$22*A1133^2","v":301.2587633891942},5424.3134542979415,5133.6865457020585]
[1134,5271,5210,null,null,null,null,null,null,null,null,null,{"$f":"Control!$C$20+Control!$C$21*A1134+Control!$C$22*A1134^2","v":301.52807157473478},5416.2033057474928,5125.7966942525072]
[1135,5270,5245,null,null,null,null,null,null,null,null,null,{"$f":"Control!$C$20+Control!$C$21*A1135+Control!$C$22*A1135^2","v":301.79737975933409},5415.1895313030527,5124.8104686969473]
[1136,5269,5289,null,null,null,null,null,null,null,null,null,{"$f":"Control!$C$20+Control!$C$21*A1136+Control!$C$22*A1136^2","v":302.06668794299208},5414.175755551676,5123.824244448324]
[1137,5268,5162,null,null,null,null,null,null,null,null,null,{"$f":"Control!$C$20+Control!$C$21*A1137+Control!$C$22*A1137^2","v":302.33599612570879},5413.1619784929926,5122.8380215070074]
[1138,5268,5250,null,null,null,null,null,null,null,null,null,{"$f":"Control!$C$20+Control!$C$21*A1138+Control!$C$22*A1138^2","v":302.60530430748418},5413.1619784929926,5122.8380215070074]
[1139,5267,5148,null,null,null,null,null,null,null,null,null,{"$f":"Control!$C$20+Control!$C$21*A1139+Control!$C$22*A1139^2","v":302.87461248831829},5412.1482001266295,5121.8517998733705]
[1140,5266,5142,null,null,null,null,null,null,null,null,null,{"$f":"Control!$C$20+Control!$C$21*A1140+Control!$C$22*A1140^2","v":303.14392066821108},5411.1344204522138,5120.8655795477862]
[1141,5266,5182,null,null,null,null,null,null,null,null,null,{"$f":"Control!$C$20+Control!$C$21*A1141+Control!$C$22*A1141^2","v":303.4132288471626},5411.1344204522138,5120.8655795477862]
[1142,5265,5263,null,null,null,null,null,null,null,null,null,{"$f":"Control!$C$20+Control!$C$21*A1142+Control!$C$22*A1142^2","v":303.68253702517285},5410.1206394693736,5119.8793605306264]
[1143,5264,5121,null,null,null,null,null,null,null,null,null,{"$f":"Control!$C$20+Control!$C$21*A1143+Control!$C$22*A1143^2","v":303.95184520224177},5409.1068571777369,5118.8931428222631]
[1144,5263,5266,null,null,null,null,null,null,null,null,null,{"$f":"Control!$C$20+Control!$C$21*A1144+Control!$C$22*A1144^2","v":304.22115337836937},5408.0930735769289,5117.9069264230711]
[1145,5263,5202,null,null,null,null,null,null,null,null,null,{"$f":"Control!$C$20+Control!$C$21*A1145+Control!$C$22*A1145^2","v":304.49046155355569},5408.0930735769289,5117.9069264230711]
[1146,5262,5231,null,null,null,null,null,null,null,null,null,{"$f":"Control!$C$20+Control!$C$21*A1146+Control!$C$22*A1146^2","v":304.75976972780074},5407.0792886665768,5116.9207113334232]
[1147,5261,5266,null,null,null,null,null,null,null,null,null,{"$f":"Control!$C$20+Control!$C$21*A1147+Control!$C$22*A1147^2","v":305.02907790110447},5406.0655024463085,5115.9344975536915]
[1148,5260,5220,null,null,null,null,null,null,null,null,null,{"$f":"Control!$C$20+Control!$C$21*A1148+Control!$C$22*A1148^2","v":305.29838607346687},5405.0517149157504,5114.9482850842496]
[1149,5260,5292,null,null,null,null,null,null,null,null,null,{"$f":"Control!$C$20+Control!$C$21*A1149+Control!$C$22*A1149^2","v":305.567694244888},5405.0517149157504,5114.9482850842496]
[1150,5259,5338,null,null,null,null,null,null,null,null,null,{"$f":"Control!$C$20+Control!$C$21*A1150+Control!$C$22*A1150^2","v":305.83700241536786},5404.0379260745267,5113.9620739254733]
[1151,5258,5189,null,null,null,null,null,null,null,null,null,{"$f":"Control!$C$20+Control!$C$21*A1151+Control!$C$22*A1151^2","v":306.1063105849064},5403.0241359222664,5112.9758640777336]
[1152,5258,5334,null,null,null,null,null,null,null,null,null,{"$f":"Control!$C$20+Control!$C$21*A1152+Control!$C$22*A1152^2","v":306.37561875350366},5403.0241359222664,5112.9758640777336]
[1153,5257,5250,null,null,null,null,null,null,null,null,null,{"$f":"Control!$C$20+Control!$C$21*A1153+Control!$C$22*A1153^2","v":306.64492692115959},5402.0103444585939,5111.9896555414061]
[1154,5256,5210,null,null,null,null,null,null,null,null,null,{"$f":"Control!$C$20+Control!$C$21*A1154+Control!$C$22*A1154^2","v":306.91423508787426},5400.9965516831353,5111.0034483168647]
[1155,5255,5291,null,null,null,null,null,null,null,null,null,{"$f":"Control!$C$20+Control!$C$21*A1155+Control!$C$22*A1155^2","v":307.1835432536476},{"$f":"IF(D1155=0,B1155+2*SQRT(B1155),N1154)","v":5399.9827575955151},{"$f":"IF(D1155=0,B1155-2*SQRT(B1155),O1154)","v":5110.0172424044849}]
[1156,5255,5294,null,null,null,null,null,null,null,null,null,{"$f":"Control!$C$20+Control!$C$21*A1156+Control!$C$22*A1156^2","v":307.45285141847967},5399.9827575955151,5110.0172424044849]
[1157,5254,5408,null,null,null,null,null,null,null,null,null,{"$f":"Control!$C$20+Control!$C$21*A1157+Control!$C$22*A1157^2","v":307.72215958237047},5398.9689621953612,5109.0310378046388]
[1158,5253,5233,null,null,null,null,null,null,null,null,null,{"$f":"Control!$C$20+Control!$C$21*A1158+Control!$C$22*A1158^2","v":307.99146774531994},5397.9551654822963,5108.0448345177037]
[1159,5252,5251,null,null,null,null,null,null,null,null,null,{"$f":"Control!$C$20+Control!$C$21*A1159+Control!$C$22*A1159^2","v":308.26077590732808},5396.9413674559473,5107.0586325440527]
[1160,5252,5187,null,null,null,null,null,null,null,null,null,{"$f":"Control!$C$20+Control!$C$21*A1160+Control!$C$22*A1160^2","v":308.53008406839496},5396.9413674559473,5107.0586325440527]
[1161,5251,5240,null,null,null,null,null,null,null,null,null,{"$f":"Control!$C$20+Control!$C$21*A1161+Control!$C$22*A1161^2","v":308.79939222852056},5395.9275681159388,5106.0724318840612]
[1162,5250,5287,null,null,null,null,null,null,null,null,null,{"$f":"Control!$C$20+Control!$C$21*A1162+Control!$C$22*A1162^2","v":309.06870038770484},5394.9137674618942,5105.0862325381058]
[1163,5249,5213,null,null,null,null,null,null,null,null,null,{"$f":"Control!$C$20+Control!$C$21*A1163+Control!$C$22*A1163^2","v":309.33800854594779},5393.8999654934396,5104.1000345065604]
[1164,5249,5263,null,null,null,null,null,null,null,null,null,{"$f":"Control!$C$20+Control!$C$21*A1164+Control!$C$22*A1164^2","v":309.60731670324947},5393.8999654934396,5104.1000345065604]
[1165,5248,5231,null,null,null,null,null,null,null,null,null,{"$f":"Control!$C$20+Control!$C$21*A1165+Control!$C$22*A1165^2","v":309.87662485960988},5392.8861622101986,5103.1138377898014]
[1166,5247,5384,null,null,null,null,null,null,null,null,null,{"$f":"Control!$C$20+Control!$C$21*A1166+Control!$C$22*A1166^2","v":310.14593301502896},5391.8723576117955,5102.1276423882045]
[1167,5247,5272,null,null,null,null,null,null,null,null,null,{"$f":"Control!$C$20+Control!$C$21*A1167+Control!$C$22*A1167^2","v":310.41524116950677},5391.8723576117955,5102.1276423882045]
[1168,5246,5346,null,null,null,null,null,null,null,null,null,{"$f":"Control!$C$20+Control!$C$21*A1168+Control!$C$22*A1168^2","v":310.68454932304326},5390.8585516978546,5101.1414483021454]
[1169,5245,5106,null,null,null,null,null,null,null,null,null,{"$f":"Control!$C$20+Control!$C$21*A1169+Control!$C$22*A1169^2","v":310.95385747563847},5389.8447444679996,5100.1552555320004]
[1170,5244,5194,null,null,null,null,null,null,null,null,null,{"$f":"Control!$C$20+Control!$C$21*A1170+Control!$C$22*A1170^2","v":311.22316562729236},5388.8309359218538,5099.1690640781462]
[1171,5244,5421,null,null,null,null,null,null,null,null,null,{"$f":"Control!$C$20+Control!$C$21*A1171+Control!$C$22*A1171^2","v":311.49247377800498},5388.8309359218538,5099.1690640781462]
[1172,5243,5190,null,null,null,null,null,null,null,null,null,{"$f":"Control!$C$20+Control!$C$21*A1172+Control!$C$22*A1172^2","v":311.76178192777627},5387.8171260590407,5098.1828739409593]
[1173,5242,5223,null,null,null,null,null,null,null,null,null,{"$f":"Control!$C$20+Control!$C$21*A1173+Control!$C$22*A1173^2","v":312.03109007660629},5386.8033148791837,5097.1966851208163]
[1174,5241,5058,null,null,null,null,null,null,null,null,null,{"$f":"Control!$C$20+Control!$C$21*A1174+Control!$C$22*A1174^2","v":312.30039822449504},5385.7895023819065,5096.2104976180935]
[1175,5241,5187,null,null,null,null,null,null,null,null,null,{"$f":"Control!$C$20+Control!$C$21*A1175+Control!$C$22*A1175^2","v":312.56970637144246},5385.7895023819065,5096.2104976180935]
[1176,5240,5260,null,null,null,null,null,null,null,null,null,{"$f":"Control!$C$20+Control!$C$21*A1176+Control!$C$22*A1176^2","v":312.83901451744856},5384.7756885668305,5095.2243114331695]
[1177,5239,5074,null,null,null,null,null,null,null,null,null,{"$f":"Control!$C$20+Control!$C$21*A1177+Control!$C$22*A1177^2","v":313.10832266251339},5383.7618734335801,5094.2381265664199]
[1178,5238,5334,null,null,null,null,null,null,null,null,null,{"$f":"Control!$C$20+Control!$C$21*A1178+Control!$C$22*A1178^2","v":313.37763080663694},5382.7480569817781,5093.2519430182219]
[1179,5238,5350,null,null,null,null,null,null,null,null,null,{"$f":"Control!$C$20+Control!$C$21*A1179+Control!$C$22*A1179^2","v":313.64693894981917},5382.7480569817781,5093.2519430182219]
[1180,5237,5261,null,null,null,null,null,null,null,null,null,{"$f":"Control!$C$20+Control!$C$21*A1180+Control!$C$22*A1180^2","v":313.91624709206008},5381.734239211045,5092.265760788955]
[1181,5236,5274,null,null,null,null,null,null,null,null,null,{"$f":"Control!$C$20+Control!$C$21*A1181+Control!$C$22*A1181^2","v":314.18555523335971},5380.7204201210043,5091.2795798789957]
[1182,5236,5171,null,null,null,null,null,null,null,null,null,{"$f":"Control!$C$20+Control!$C$21*A1182+Control!$C$22*A1182^2","v":314.45486337371807},5380.7204201210043,5091.2795798789957]
[1183,5235,5244,null,null,null,null,null,null,null,null,null,{"$f":"Control!$C$20+Control!$C$21*A1183+Control!$C$22*A1183^2","v":314.7241715131351},5379.7065997112777,5090.2934002887223]
[1184,5234,5288,null,null,null,null,null,null,null,null,null,{"$f":"Control!$C$20+Control!$C$21*A1184+Control!$C$22*A1184^2","v":314.99347965161087},5378.6927779814878,5089.3072220185122]
[1185,5233,5211,null,null,null,null,null,null,null,null,null,{"$f":"Control!$C$20+Control!$C$21*A1185+Control!$C$22*A1185^2","v":315.26278778914531},5377.6789549312543,5088.3210450687457]
[1186,5233,5315,null,null,null,null,null,null,null,null,null,{"$f":"Control!$C$20+Control!$C$21*A1186+Control!$C$22*A1186^2","v":315.53209592573847},5377.6789549312543,5088.3210450687457]
[1187,5232,5157,null,null,null,null,null,null,null,null,null,{"$f":"Control!$C$20+Control!$C$21*A1187+Control!$C$22*A1187^2","v":315.80140406139031},5376.6651305602009,5087.3348694397991]
[1188,5231,5299,null,null,null,null,null,null,null,null,null,{"$f":"Control!$C$20+Control!$C$21*A1188+Control!$C$22*A1188^2","v":316.07071219610089},5375.6513048679481,5086.3486951320519]
[1189,5230,5265,null,null,null,null,null,null,null,null,null,{"$f":"Control!$C$20+Control!$C$21*A1189+Control!$C$22*A1189^2","v":316.34002032987019},5374.6374778541167,5085.3625221458833]
[1190,5230,5157,null,null,null,null,null,null,null,null,null,{"$f":"Control!$C$20+Control!$C$21*A1190+Control!$C$22*A1190^2","v":316.60932846269816},5374.6374778541167,5085.3625221458833]
[1191,5229,5099,null,null,null,null,null,null,null,null,null,{"$f":"Control!$C$20+Control!$C$21*A1191+Control!$C$22*A1191^2","v":316.8786365945848},5373.6236495183275,5084.3763504816725]
[1192,5228,5211,null,null,null,null,null,null,null,null,null,{"$f":"Control!$C$20+Control!$C$21*A1192+Control!$C$22*A1192^2","v":317.14794472553018},5372.6098198602022,5083.3901801397978]
[1193,5227,5166,null,null,null,null,null,null,null,null,null,{"$f":"Control!$C$20+Control!$C$21*A1193+Control!$C$22*A1193^2","v":317.41725285553429},5371.5959888793604,5082.4040111206396]
[1194,5227,5327,null,null,null,null,null,null,null,null,null,{"$f":"Control!$C$20+Control!$C$21*A1194+Control!$C$22*A1194^2","v":317.68656098459707},5371.5959888793604,5082.4040111206396]
[1195,5226,5174,null,null,null,null,null,null,null,null,null,{"$f":"Control!$C$20+Control!$C$21*A1195+Control!$C$22*A1195^2","v":317.95586911271852},5370.5821565754222,5081.4178434245778]
[1196,5225,5427,null,null,null,null,null,null,null,null,null,{"$f":"Control!$C$20+Control!$C$21*A1196+Control!$C$22*A1196^2","v":318.2251772398987},5369.5683229480092,5080.4316770519908]
[1197,5225,5261,null,null,null,null,null,null,null,null,null,{"$f":"Control!$C$20+Control!$C$21*A1197+Control!$C$22*A1197^2","v":318.49448536613761},5369.5683229480092,5080.4316770519908]
[1198,5224,5301,null,null,null,null,null,null,null,null,null,{"$f":"Control!$C$20+Control!$C$21*A1198+Control!$C$22*A1198^2","v":318.76379349143519},5368.554487996741,5079.445512003259]
[1199,5223,5304,null,null,null,null,null,null,null,null,null,{"$f":"Control!$C$20+Control!$C$21*A1199+Control!$C$22*A1199^2","v":319.03310161579151},5367.5406517212368,5078.4593482787632]
[1200,5222,5225,null,null,null,null,null,null,null,null,null,{"$f":"Control!$C$20+Control!$C$21*A1200+Control!$C$22*A1200^2","v":319.3024097392065},5366.5268141211172,5077.4731858788828]
[1201,5222,5198,null,null,null,null,null,null,null,null,null,{"$f":"Control!$C$20+Control!$C$21*A1201+Control!$C$22*A1201^2","v":319.57171786168021},5366.5268141211172,5077.4731858788828]
[1202,5221,5298,null,null,null,null,null,null,null,null,null,{"$f":"Control!$C$20+Control!$C$21*A1202+Control!$C$22*A1202^2","v":319.8410259832126},5365.5129751960012,5076.4870248039988]
[1203,5220,5077,null,null,null,null,null,null,null,null,null,{"$f":"Control!$C$20+Control!$C$21*A1203+Control!$C$22*A1203^2","v":320.11033410380372},5364.4991349455076,5075.5008650544924]
[1204,5219,5104,null,null,null,null,null,null,null,null,null,{"$f":"Control!$C$20+Control!$C$21*A1204+Control!$C$22*A1204^2","v":320.37964222345352},5363.4852933692564,5074.5147066307436]
[1205,5219,5235,null,null,null,null,null,null,null,null,null,{"$f":"Control!$C$20+Control!$C$21*A1205+Control!$C$22*A1205^2","v":320.64895034216204},5363.4852933692564,5074.5147066307436]
[1206,5218,5122,null,null,null,null,null,null,null,null,null,{"$f":"Control!$C$20+Control!$C$21*A1206+Control!$C$22*A1206^2","v":320.91825845992929},5362.4714504668655,5073.5285495331345]
[1207,5217,5233,null,null,null,null,null,null,null,null,null,{"$f":"Control!$C$20+Control!$C$21*A1207+Control!$C$22*A1207^2","v":321.18756657675522},5361.4576062379547,5072.5423937620453]
[1208,5216,5308,null,null,null,null,null,null,null,null,null,{"$f":"Control!$C$20+Control!$C$21*A1208+Control!$C$22*A1208^2","v":321.45687469263981},5360.4437606821421,5071.5562393178579]
[1209,5216,5179,null,null,null,null,null,null,null,null,null,{"$f":"Control!$C$20+Control!$C$21*A1209+Control!$C$22*A1209^2","v":321.72618280758314},5360.4437606821421,5071.5562393178579]
[1210,5215,5222,null,null,null,null,null,null,null,null,null,{"$f":"Control!$C$20+Control!$C$21*A1210+Control!$C$22*A1210^2","v":321.9954909215852},5359.4299137990465,5070.5700862009535]
[1211,5214,4994,null,null,null,null,null,null,null,null,null,{"$f":"Control!$C$20+Control!$C$21*A1211+Control!$C$22*A1211^2","v":322.26479903464593},5358.4160655882852,5069.5839344117148]
[1212,5214,5109,null,null,null,null,null,null,null,null,null,{"$f":"Control!$C$20+Control!$C$21*A1212+Control!$C$22*A1212^2","v":322.53410714676534},5358.4160655882852,5069.5839344117148]
[1213,5213,5140,null,null,null,null,null,null,null,null,null,{"$f":"Control!$C$20+Control!$C$21*A1213+Control!$C$22*A1213^2","v":322.80341525794347},5357.4022160494778,5068.5977839505222]
[1214,5212,5214,null,null,null,null,null,null,null,null,null,{"$f":"Control!$C$20+Control!$C$21*A1214+Control!$C$22*A1214^2","v":323.07272336818033},5356.3883651822407,5067.6116348177593]
[1215,5211,5057,null,null,null,null,null,null,null,null,null,{"$f":"Control!$C$20+Control!$C$21*A1215+Control!$C$22*A1215^2","v":323.34203147747587},5355.3745129861918,5066.6254870138082]
[1216,5211,5211,null,null,null,null,null,null,null,null,null,{"$f":"Control!$C$20+Control!$C$21*A1216+Control!$C$22*A1216^2","v":323.61133958583014},5355.3745129861918,5066.6254870138082]
[1217,5210,5152,null,null,null,null,null,null,null,null,null,{"$f":"Control!$C$20+Control!$C$21*A1217+Control!$C$22*A1217^2","v":323.88064769324308},5354.3606594609491,5065.6393405390509]
[1218,5209,5157,null,null,null,null,null,null,null,null,null,{"$f":"Control!$C$20+Control!$C$21*A1218+Control!$C$22*A1218^2","v":324.14995579971475},5353.3468046061289,5064.6531953938711]
[1219,5208,5351,null,null,null,null,null,null,null,null,null,{"$f":"Control!$C$20+Control!$C$21*A1219+Control!$C$22*A1219^2","v":324.41926390524509},{"$f":"IF(D1219=0,B1219+2*SQRT(B1219),N1218)","v":5352.33294842135},{"$f":"IF(D1219=0,B1219-2*SQRT(B1219),O1218)","v":5063.66705157865}]
[1220,5208,5162,null,null,null,null,null,null,null,null,null,{"$f":"Control!$C$20+Control!$C$21*A1220+Control!$C$22*A1220^2","v":324.68857200983416},5352.33294842135,5063.66705157865]
[1221,5207,5192,null,null,null,null,null,null,null,null,null,{"$f":"Control!$C$20+Control!$C$21*A1221+Control!$C$22*A1221^2","v":324.95788011348196},5351.3190909062278,5062.6809090937722]
[1222,5206,5139,null,null,null,null,null,null,null,null,null,{"$f":"Control!$C$20+Control!$C$21*A1222+Control!$C$22*A1222^2","v":325.22718821618844},5350.3052320603792,5061.6947679396208]
[1223,5205,5278,null,null,null,null,null,null,null,null,null,{"$f":"Control!$C$20+Control!$C$21*A1223+Control!$C$22*A1223^2","v":325.49649631795359},5349.2913718834225,5060.7086281165775]
[1224,5205,5264,null,null,null,null,null,null,null,null,null,{"$f":"Control!$C$20+Control!$C$21*A1224+Control!$C$22*A1224^2","v":325.76580441877746},5349.2913718834225,5060.7086281165775]
[1225,5204,5234,null,null,null,null,null,null,null,null,null,{"$f":"Control!$C$20+Control!$C$21*A1225+Control!$C$22*A1225^2","v":326.03511251866007},5348.2775103749718,5059.7224896250282]
[1226,5203,5211,null,null,null,null,null,null,null,null,null,{"$f":"Control!$C$20+Control!$C$21*A1226+Control!$C$22*A1226^2","v":326.30442061760135},5347.2636475346444,5058.7363524653556]
[1227,5203,5238,null,null,null,null,null,null,null,null,null,{"$f":"Control!$C$20+Control!$C$21*A1227+Control!$C$22*A1227^2","v":326.57372871560131},5347.2636475346444,5058.7363524653556]
[1228,5202,5184,null,null,null,null,null,null,null,null,null,{"$f":"Control!$C$20+Control!$C$21*A1228+Control!$C$22*A1228^2","v":326.84303681265999},5346.2497833620555,5057.7502166379445]
[1229,5201,5160,null,null,null,null,null,null,null,null,null,{"$f":"Control!$C$20+Control!$C$21*A1229+Control!$C$22*A1229^2","v":327.1123449087774},5345.2359178568222,5056.7640821431778]
[1230,5200,5060,null,null,null,null,null,null,null,null,null,{"$f":"Control!$C$20+Control!$C$21*A1230+Control!$C$22*A1230^2","v":327.38165300395349},5344.2220510185598,5055.7779489814402]
[1231,5200,5226,null,null,null,null,null,null,null,null,null,{"$f":"Control!$C$20+Control!$C$21*A1231+Control!$C$22*A1231^2","v":327.6509610981883},5344.2220510185598,5055.7779489814402]
[1232,5199,5168,null,null,null,null,null,null,null,null,null,{"$f":"Control!$C$20+Control!$C$21*A1232+Control!$C$22*A1232^2","v":327.92026919148179},5343.2081828468827,5054.7918171531173]
[1233,5198,5264,null,null,null,null,null,null,null,null,null,{"$f":"Control!$C$20+Control!$C$21*A1233+Control!$C$22*A1233^2","v":328.18957728383401},5342.1943133414079,5053.8056866585921]
[1234,5197,5210,null,null,null,null,null,null,null,null,null,{"$f":"Control!$C$20+Control!$C$21*A1234+Control!$C$22*A1234^2","v":328.4588853752449},5341.1804425017481,5052.8195574982519]
[1235,5197,5159,null,null,null,null,null,null,null,null,null,{"$f":"Control!$C$20+Control!$C$21*A1235+Control!$C$22*A1235^2","v":328.72819346571453},5341.1804425017481,5052.8195574982519]
[1236,5196,5200,null,null,null,null,null,null,null,null,null,{"$f":"Control!$C$20+Control!$C$21*A1236+Control!$C$22*A1236^2","v":328.99750155524282},5340.1665703275212,5051.8334296724788]
[1237,5195,5147,null,null,null,null,null,null,null,null,null,{"$f":"Control!$C$20+Control!$C$21*A1237+Control!$C$22*A1237^2","v":329.26680964382984},5339.1526968183389,5050.8473031816611]
[1238,5195,5180,null,null,null,null,null,null,null,null,null,{"$f":"Control!$C$20+Control!$C$21*A1238+Control!$C$22*A1238^2","v":329.5361177314756},5339.1526968183389,5050.8473031816611]
[1239,5194,5095,null,null,null,null,null,null,null,null,null,{"$f":"Control!$C$20+Control!$C$21*A1239+Control!$C$22*A1239^2","v":329.80542581818003},5338.1388219738183,5049.8611780261817]
[1240,5193,5353,null,null,null,null,null,null,null,null,null,{"$f":"Control!$C$20+Control!$C$21*A1240+Control!$C$22*A1240^2","v":330.07473390394313},5337.1249457935719,5048.8750542064281]
[1241,5192,5188,null,null,null,null,null,null,null,null,null,{"$f":"Control!$C$20+Control!$C$21*A1241+Control!$C$22*A1241^2","v":330.34404198876496},5336.1110682772141,5047.8889317227859]
[1242,5192,5369,null,null,null,null,null,null,null,null,null,{"$f":"Control!$C$20+Control!$C$21*A1242+Control!$C$22*A1242^2","v":330.61335007264552},5336.1110682772141,5047.8889317227859]
[1243,5191,5168,null,null,null,null,null,null,null,null,null,{"$f":"Control!$C$20+Control!$C$21*A1243+Control!$C$22*A1243^2","v":330.88265815558475},5335.0971894243603,5046.9028105756397]
[1244,5190,5265,null,null,null,null,null,null,null,null,null,{"$f":"Control!$C$20+Control!$C$21*A1244+Control!$C$22*A1244^2","v":331.15196623758266},5334.0833092346229,5045.9166907653771]
[1245,5189,5179,null,null,null,null,null,null,null,null,null,{"$f":"Control!$C$20+Control!$C$21*A1245+Control!$C$22*A1245^2","v":331.42127431863929},5333.0694277076163,5044.9305722923837]
[1246,5189,5144,null,null,null,null,null,null,null,null,null,{"$f":"Control!$C$20+Control!$C$21*A1246+Control!$C$22*A1246^2","v":331.69058239875466},5333.0694277076163,5044.9305722923837]
[1247,5188,5253,null,null,null,null,null,null,null,null,null,{"$f":"Control!$C$20+Control!$C$21*A1247+Control!$C$22*A1247^2","v":331.9598904779287},5332.0555448429532,5043.9444551570468]
[1248,5187,5167,null,null,null,null,null,null,null,null,null,{"$f":"Control!$C$20+Control!$C$21*A1248+Control!$C$22*A1248^2","v":332.22919855616146},5331.0416606402468,5042.9583393597532]
[1249,5186,5162,null,null,null,null,null,null,null,null,null,{"$f":"Control!$C$20+Control!$C$21*A1249+Control!$C$22*A1249^2","v":332.49850663345291},5330.0277750991108,5041.9722249008892]
[1250,5186,5091,null,null,null,null,null,null,null,null,null,{"$f":"Control!$C$20+Control!$C$21*A1250+Control!$C$22*A1250^2","v":332.76781470980308},5330.0277750991108,5041.9722249008892]
[1251,5185,5174,null,null,null,null,null,null,null,null,null,{"$f":"Control!$C$20+Control!$C$21*A1251+Control!$C$22*A1251^2","v":333.03712278521192},5329.0138882191577,5040.9861117808423]
[1252,5184,5270,null,null,null,null,null,null,null,null,null,{"$f":"Control!$C$20+Control!$C$21*A1252+Control!$C$22*A1252^2","v":333.30643085967949},5328,5040]
[1253,5184,5154,null,null,null,null,null,null,null,null,null,{"$f":"Control!$C$20+Control!$C$21*A1253+Control!$C$22*A1253^2","v":333.5757389332058},5328,5040]
[1254,5183,5138,null,null,null,null,null,null,null,null,null,{"$f":"Control!$C$20+Control!$C$21*A1254+Control!$C$22*A1254^2","v":333.84504700579078},5326.9861104412503,5039.0138895587497]
[1255,5182,5310,null,null,null,null,null,null,null,null,null,{"$f":"Control!$C$20+Control!$C$21*A1255+Control!$C$22*A1255^2","v":334.11435507743442},5325.9722195425211,5038.0277804574789]
[1256,5181,5223,null,null,null,null,null,null,null,null,null,{"$f":"Control!$C$20+Control!$C$21*A1256+Control!$C$22*A1256^2","v":334.3836631481368},5324.958327303425,5037.041672696575]
[1257,5181,5235,null,null,null,null,null,null,null,null,null,{"$f":"Control!$C$20+Control!$C$21*A1257+Control!$C$22*A1257^2","v":334.65297121789791},5324.958327303425,5037.041672696575]
[1258,5180,5196,null,null,null,null,null,null,null,null,null,{"$f":"Control!$C$20+Control!$C$21*A1258+Control!$C$22*A1258^2","v":334.9222792867177},5323.9444337235727,5036.0555662764273]
[1259,5179,4943,null,null,null,null,null,null,null,null,null,{"$f":"Control!$C$20+Control!$C$21*A1259+Control!$C$22*A1259^2","v":335.19158735459615},5322.9305388025768,5035.0694611974232]
[1260,5178,5238,null,null,null,null,null,null,null,null,null,{"$f":"Control!$C$20+Control!$C$21*A1260+Control!$C$22*A1260^2","v":335.46089542153334},5321.9166425400481,5034.0833574599519]
[1261,5178,5143,null,null,null,null,null,null,null,null,null,{"$f":"Control!$C$20+Control!$C$21*A1261+Control!$C$22*A1261^2","v":335.73020348752925},5321.9166425400481,5034.0833574599519]
[1262,5177,5112,null,null,null,null,null,null,null,null,null,{"$f":"Control!$C$20+Control!$C$21*A1262+Control!$C$22*A1262^2","v":335.99951155258384},5320.902744935599,5033.097255064401]
[1263,5176,5249,null,null,null,null,null,null,null,null,null,{"$f":"Control!$C$20+Control!$C$21*A1263+Control!$C$22*A1263^2","v":336.26881961669716},5319.8888459888394,5032.1111540111606]
[1264,5175,5112,null,null,null,null,null,null,null,null,null,{"$f":"Control!$C$20+Control!$C$21*A1264+Control!$C$22*A1264^2","v":336.53812767986915},5318.8749456993819,5031.1250543006181]
[1265,5175,5220,null,null,null,null,null,null,null,null,null,{"$f":"Control!$C$20+Control!$C$21*A1265+Control!$C$22*A1265^2","v":336.80743574209987},5318.8749456993819,5031.1250543006181]
[1266,5174,5129,null,null,null,null,null,null,null,null,null,{"$f":"Control!$C$20+Control!$C$21*A1266+Control!$C$22*A1266^2","v":337.07674380338926},5317.8610440668353,5030.1389559331647]
[1267,5173,5065,null,null,null,null,null,null,null,null,null,{"$f":"Control!$C$20+Control!$C$21*A1267+Control!$C$22*A1267^2","v":337.34605186373739},5316.8471410908123,5029.1528589091877]
[1268,5173,5208,null,null,null,null,null,null,null,null,null,{"$f":"Control!$C$20+Control!$C$21*A1268+Control!$C$22*A1268^2","v":337.61535992314418},5316.8471410908123,5029.1528589091877]
[1269,5172,5195,null,null,null,null,null,null,null,null,null,{"$f":"Control!$C$20+Control!$C$21*A1269+Control!$C$22*A1269^2","v":337.88466798160971},5315.8332367709218,5028.1667632290782]
[1270,5171,5276,null,null,null,null,null,null,null,null,null,{"$f":"Control!$C$20+Control!$C$21*A1270+Control!$C$22*A1270^2","v":338.15397603913397},5314.8193311067744,5027.1806688932256]
[1271,5170,5059,null,null,null,null,null,null,null,null,null,{"$f":"Control!$C$20+Control!$C$21*A1271+Control!$C$22*A1271^2","v":338.42328409571689},5313.80542409798,5026.19457590202]
[1272,5171,5131,1,null,null,null,null,null,null,null,null,{"$f":"Control!$C$20+Control!$C$21*A1272+Control!$C$22*A1272^2","v":338.6925921513585},5313.80542409798,5026.19457590202]
[1273,5177,5185,8,null,null,null,null,null,null,null,null,{"$f":"Control!$C$20+Control!$C$21*A1273+Control!$C$22*A1273^2","v":338.96190020605883},5313.80542409798,5026.19457590202]
[1274,5194,5152,26,null,null,null,null,null,null,null,null,{"$f":"Control!$C$20+Control!$C$21*A1274+Control!$C$22*A1274^2","v":339.23120825981789},5313.80542409798,5026.19457590202]
[1275,5231,5262,64,null,null,null,null,null,null,null,null,{"$f":"Control!$C$20+Control!$C$21*A1275+Control!$C$22*A1275^2","v":339.50051631263563},5313.80542409798,5026.19457590202]
[1276,5274,5332,107,null,null,null,null,null,null,null,null,{"$f":"Control!$C$20+Control!$C$21*A1276+Control!$C$22*A1276^2","v":339.76982436451203},5313.80542409798,5026.19457590202]
[1277,5288,5306,122,null,null,null,null,null,null,null,null,{"$f":"Control!$C$20+Control!$C$21*A1277+Control!$C$22*A1277^2","v":340.03913241544717},5313.80542409798,5026.19457590202]
[1278,5261,5095,96,null,null,null,null,null,null,null,null,{"$f":"Control!$C$20+Control!$C$21*A1278+Control!$C$22*A1278^2","v":340.30844046544104},5313.80542409798,5026.19457590202]
[1279,5216,5200,52,null,null,null,null,null,null,null,null,{"$f":"Control!$C$20+Control!$C$21*A1279+Control!$C$22*A1279^2","v":340.57774851449358},5313.80542409798,5026.19457590202]
[1280,5183,5241,19,null,null,null,null,null,null,null,null,{"$f":"Control!$C$20+Control!$C$21*A1280+Control!$C$22*A1280^2","v":340.84705656260485},5313.80542409798,5026.19457590202]
[1281,5168,5143,5,null,null,null,null,null,null,null,null,{"$f":"Control!$C$20+Control!$C$21*A1281+Control!$C$22*A1281^2","v":341.11636460977479},5313.80542409798,5026.19457590202]
[1282,5163,5165,1,null,null,null,null,null,null,null,null,{"$f":"Control!$C$20+Control!$C$21*A1282+Control!$C$22*A1282^2","v":341.38567265600346},5313.80542409798,5026.19457590202]
[1283,5162,5237,null,null,null,null,null,null,null,null,null,{"$f":"Control!$C$20+Control!$C$21*A1283+Control!$C$22*A1283^2","v":341.65498070129081},{"$f":"IF(D1283=0,B1283+2*SQRT(B1283),N1282)","v":5305.694119573488},{"$f":"IF(D1283=0,B1283-2*SQRT(B1283),O1282)","v":5018.305880426512}]
[1284,5161,5203,null,null,null,null,null,null,null,null,null,{"$f":"Control!$C$20+Control!$C$21*A1284+Control!$C$22*A1284^2","v":341.92428874563689},5304.6802004452948,5017.3197995547052]
[1285,5160,5195,null,null,null,null,null,null,null,null,null,{"$f":"Control!$C$20+Control!$C$21*A1285+Control!$C$22*A1285^2","v":342.19359678904169},5303.6662799685437,5016.3337200314563]
[1286,5159,5158,null,null,null,null,null,null,null,null,null,{"$f":"Control!$C$20+Control!$C$21*A1286+Control!$C$22*A1286^2","v":342.46290483150517},5302.6523581428446,5015.3476418571554]
[1287,5159,5047,null,null,null,null,null,null,null,null,null,{"$f":"Control!$C$20+Control!$C$21*A1287+Control!$C$22*A1287^2","v":342.73221287302732},5302.6523581428446,5015.3476418571554]
[1288,5158,5210,null,null,null,null,null,null,null,null,null,{"$f":"Control!$C$20+Control!$C$21*A1288+Control!$C$22*A1288^2","v":343.0015209136082},5301.6384349678037,5014.3615650321963]
[1289,5157,5126,null,null,null,null,null,null,null,null,null,{"$f":"Control!$C$20+Control!$C$21*A1289+Control!$C$22*A1289^2","v":343.27082895324781},5300.62451044303,5013.37548955697]
[1290,5156,5083,null,null,null,null,null,null,null,null,null,{"$f":"Control!$C$20+Control!$C$21*A1290+Control!$C$22*A1290^2","v":343.5401369919461},5299.6105845681295,5012.3894154318705]
[1291,5156,5286,null,null,null,null,null,null,null,null,null,{"$f":"Control!$C$20+Control!$C$21*A1291+Control!$C$22*A1291^2","v":343.80944502970306},5299.6105845681295,5012.3894154318705]
[1292,5155,5199,null,null,null,null,null,null,null,null,null,{"$f":"Control!$C$20+Control!$C$21*A1292+Control!$C$22*A1292^2","v":344.07875306651874},5298.5966573427113,5011.4033426572887]
[1293,5154,5200,null,null,null,null,null,null,null,null,null,{"$f":"Control!$C$20+Control!$C$21*A1293+Control!$C$22*A1293^2","v":344.34806110239316},5297.5827287663806,5010.4172712336194]
[1294,5153,5147,null,null,null,null,null,null,null,null,null,{"$f":"Control!$C$20+Control!$C$21*A1294+Control!$C$22*A1294^2","v":344.61736913732625},5296.5687988387454,5009.4312011612546]
[1295,5153,5159,null,null,null,null,null,null,null,null,null,{"$f":"Control!$C$20+Control!$C$21*A1295+Control!$C$22*A1295^2","v":344.88667717131807},5296.5687988387454,5009.4312011612546]
[1296,5152,5171,null,null,null,null,null,null,null,null,null,{"$f":"Control!$C$20+Control!$C$21*A1296+Control!$C$22*A1296^2","v":345.15598520436856},5295.5548675594109,5008.4451324405891]
[1297,5151,5144,null,null,null,null,null,null,null,null,null,{"$f":"Control!$C$20+Control!$C$21*A1297+Control!$C$22*A1297^2","v":345.42529323647778},5294.5409349279853,5007.4590650720147]
[1298,5151,5123,null,null,null,null,null,null,null,null,null,{"$f":"Control!$C$20+Control!$C$21*A1298+Control!$C$22*A1298^2","v":345.69460126764568},5294.5409349279853,5007.4590650720147]
[1299,5150,5186,null,null,null,null,null,null,null,null,null,{"$f":"Control!$C$20+Control!$C$21*A1299+Control!$C$22*A1299^2","v":345.96390929787231},5293.5270009440728,5006.4729990559272]
[1300,5149,5094,null,null,null,null,null,null,null,null,null,{"$f":"Control!$C$20+Control!$C$21*A1300+Control!$C$22*A1300^2","v":346.2332173271576},5292.5130656072815,5005.4869343927185]
[1301,5148,5007,null,null,null,null,null,null,null,null,null,{"$f":"Control!$C$20+Control!$C$21*A1301+Control!$C$22*A1301^2","v":346.50252535550163},5291.4991289172167,5004.5008710827833]
[1302,5148,5136,null,null,null,null,null,null,null,null,null,{"$f":"Control!$C$20+Control!$C$21*A1302+Control!$C$22*A1302^2","v":346.77183338290439},5291.4991289172167,5004.5008710827833]
[1303,5147,5187,null,null,null,null,null,null,null,null,null,{"$f":"Control!$C$20+Control!$C$21*A1303+Control!$C$22*A1303^2","v":347.04114140936582},5290.4851908734836,5003.5148091265164]
[1304,5146,5130,null,null,null,null,null,null,null,null,null,{"$f":"Control!$C$20+Control!$C$21*A1304+Control!$C$22*A1304^2","v":347.31044943488592},5289.4712514756875,5002.5287485243125]
[1305,5145,5179,null,null,null,null,null,null,null,null,null,{"$f":"Control!$C$20+Control!$C$21*A1305+Control!$C$22*A1305^2","v":347.57975745946476},5288.4573107234346,5001.5426892765654]
[1306,5145,5188,null,null,null,null,null,null,null,null,null,{"$f":"Control!$C$20+Control!$C$21*A1306+Control!$C$22*A1306^2","v":347.84906548310232},5288.4573107234346,5001.5426892765654]
[1307,5144,5161,null,null,null,null,null,null,null,null,null,{"$f":"Control!$C$20+Control!$C$21*A1307+Control!$C$22*A1307^2","v":348.11837350579856},5287.4433686163293,5000.5566313836707]
[1308,5143,5122,null,null,null,null,null,null,null,null,null,{"$f":"Control!$C$20+Control!$C$21*A1308+Control!$C$22*A1308^2","v":348.38768152755347},5286.4294251539759,4999.5705748460241]
[1309,5142,5060,null,null,null,null,null,null,null,null,null,{"$f":"Control!$C$20+Control!$C$21*A1309+Control!$C$22*A1309^2","v":348.65698954836711},5285.4154803359806,4998.5845196640194]
[1310,5142,5069,null,null,null,null,null,null,null,null,null,{"$f":"Control!$C$20+Control!$C$21*A1310+Control!$C$22*A1310^2","v":348.92629756823948},5285.4154803359806,4998.5845196640194]
[1311,5141,5072,null,null,null,null,null,null,null,null,null,{"$f":"Control!$C$20+Control!$C$21*A1311+Control!$C$22*A1311^2","v":349.19560558717052},5284.401534161947,4997.598465838053]
[1312,5140,5195,null,null,null,null,null,null,null,null,null,{"$f":"Control!$C$20+Control!$C$21*A1312+Control!$C$22*A1312^2","v":349.46491360516029},5283.3875866314793,4996.6124133685207]
[1313,5140,5112,null,null,null,null,null,null,null,null,null,{"$f":"Control!$C$20+Control!$C$21*A1313+Control!$C$22*A1313^2","v":349.73422162220874},5283.3875866314793,4996.6124133685207]
[1314,5139,5096,null,null,null,null,null,null,null,null,null,{"$f":"Control!$C$20+Control!$C$21*A1314+Control!$C$22*A1314^2","v":350.00352963831591},5282.3736377441819,4995.6263622558181]
[1315,5138,5038,null,null,null,null,null,null,null,null,null,{"$f":"Control!$C$20+Control!$C$21*A1315+Control!$C$22*A1315^2","v":350.27283765348176},5281.3596874996592,4994.6403125003408]
[1316,5137,4958,null,null,null,null,null,null,null,null,null,{"$f":"Control!$C$20+Control!$C$21*A1316+Control!$C$22*A1316^2","v":350.54214566770634},5280.3457358975147,4993.6542641024853]
[1317,5137,5101,null,null,null,null,null,null,null,null,null,{"$f":"Control!$C$20+Control!$C$21*A1317+Control!$C$22*A1317^2","v":350.81145368098964},5280.3457358975147,4993.6542641024853]
[1318,5136,5185,null,null,null,null,null,null,null,null,null,{"$f":"Control!$C$20+Control!$C$21*A1318+Control!$C$22*A1318^2","v":351.08076169333162},5279.3317829373509,4992.6682170626491]
[1319,5135,5118,null,null,null,null,null,null,null,null,null,{"$f":"Control!$C$20+Control!$C$21*A1319+Control!$C$22*A1319^2","v":351.35006970473228},5278.3178286187731,4991.6821713812269]
[1320,5134,5139,null,null,null,null,null,null,null,null,null,{"$f":"Control!$C$20+Control!$C$21*A1320+Control!$C$22*A1320^2","v":351.61937771519166},5277.3038729413829,4990.6961270586171]
[1321,5134,5127,null,null,null,null,null,null,null,null,null,{"$f":"Control!$C$20+Control!$C$21*A1321+Control!$C$22*A1321^2","v":351.88868572470977},5277.3038729413829,4990.6961270586171]
[1322,5133,5221,null,null,null,null,null,null,null,null,null,{"$f":"Control!$C$20+Control!$C$21*A1322+Control!$C$22*A1322^2","v":352.15799373328656},5276.2899159047838,4989.7100840952162]
[1323,5132,5122,null,null,null,null,null,null,null,null,null,{"$f":"Control!$C$20+Control!$C$21*A1323+Control!$C$22*A1323^2","v":352.42730174092202},5275.2759575085784,4988.7240424914216]
[1324,5132,5159,null,null,null,null,null,null,null,null,null,{"$f":"Control!$C$20+Control!$C$21*A1324+Control!$C$22*A1324^2","v":352.69660974761621},5275.2759575085784,4988.7240424914216]
[1325,5131,5073,null,null,null,null,null,null,null,null,null,{"$f":"Control!$C$20+Control!$C$21*A1325+Control!$C$22*A1325^2","v":352.96591775336913},5274.26199775237,4987.73800224763]
[1326,5130,5086,null,null,null,null,null,null,null,null,null,{"$f":"Control!$C$20+Control!$C$21*A1326+Control!$C$22*A1326^2","v":353.23522575818072},5273.2480366357595,4986.7519633642405]
[1327,5129,5139,null,null,null,null,null,null,null,null,null,{"$f":"Control!$C$20+Control!$C$21*A1327+Control!$C$22*A1327^2","v":353.50453376205104},5272.2340741583512,4985.7659258416488]
[1328,5129,5051,null,null,null,null,null,null,null,null,null,{"$f":"Control!$C$20+Control!$C$21*A1328+Control!$C$22*A1328^2","v":353.77384176498003},5272.2340741583512,4985.7659258416488]
[1329,5128,5158,null,null,null,null,null,null,null,null,null,{"$f":"Control!$C$20+Control!$C$21*A1329+Control!$C$22*A1329^2","v":354.04314976696776},5271.2201103197449,4984.7798896802551]
[1330,5127,5134,null,null,null,null,null,null,null,null,null,{"$f":"Control!$C$20+Control!$C$21*A1330+Control!$C$22*A1330^2","v":354.31245776801416},5270.2061451195441,4983.7938548804559]
[1331,5126,5125,null,null,null,null,null,null,null,null,null,{"$f":"Control!$C$20+Control!$C$21*A1331+Control!$C$22*A1331^2","v":354.58176576811928},5269.1921785573504,4982.8078214426496]
[1332,5126,5123,null,null,null,null,null,null,null,null,null,{"$f":"Control!$C$20+Control!$C$21*A1332+Control!$C$22*A1332^2","v":354.85107376728308},5269.1921785573504,4982.8078214426496]
[1333,5125,5104,null,null,null,null,null,null,null,null,null,{"$f":"Control!$C$20+Control!$C$21*A1333+Control!$C$22*A1333^2","v":355.12038176550561},5268.1782106327637,4981.8217893672363]
[1334,5124,5098,null,null,null,null,null,null,null,null,null,{"$f":"Control!$C$20+Control!$C$21*A1334+Control!$C$22*A1334^2","v":355.38968976278687},5267.1642413453865,4980.8357586546135]
[1335,5123,5147,null,null,null,null,null,null,null,null,null,{"$f":"Control!$C$20+Control!$C$21*A1335+Control!$C$22*A1335^2","v":355.65899775912681},5266.1502706948195,4979.8497293051805]
[1336,5123,5230,null,null,null,null,null,null,null,null,null,{"$f":"Control!$C$20+Control!$C$21*A1336+Control!$C$22*A1336^2","v":355.92830575452541},5266.1502706948195,4979.8497293051805]
[1337,5122,5156,null,null,null,null,null,null,null,null,null,{"$f":"Control!$C$20+Control!$C$21*A1337+Control!$C$22*A1337^2","v":356.19761374898275},5265.1362986806635,4978.8637013193365]
[1338,5121,5176,null,null,null,null,null,null,null,null,null,{"$f":"Control!$C$20+Control!$C$21*A1338+Control!$C$22*A1338^2","v":356.46692174249881},5264.1223253025191,4977.8776746974809]
[1339,5121,4934,null,null,null,null,null,null,null,null,null,{"$f":"Control!$C$20+Control!$C$21*A1339+Control!$C$22*A1339^2","v":356.73622973507355},5264.1223253025191,4977.8776746974809]
[1340,5120,5094,null,null,null,null,null,null,null,null,null,{"$f":"Control!$C$20+Control!$C$21*A1340+Control!$C$22*A1340^2","v":357.00553772670696},5263.1083505599863,4976.8916494400137]
[1341,5119,4997,null,null,null,null,null,null,null,null,null,{"$f":"Control!$C$20+Control!$C$21*A1341+Control!$C$22*A1341^2","v":357.2748457173991},5262.0943744526667,4975.9056255473333]
[1342,5118,5147,null,null,null,null,null,null,null,null,null,{"$f":"Control!$C$20+Control!$C$21*A1342+Control!$C$22*A1342^2","v":357.54415370714997},5261.0803969801591,4974.9196030198409]
[1343,5118,5146,null,null,null,null,null,null,null,null,null,{"$f":"Control!$C$20+Control!$C$21*A1343+Control!$C$22*A1343^2","v":357.81346169595952},5261.0803969801591,4974.9196030198409]
[1344,5117,5307,null,null,null,null,null,null,null,null,null,{"$f":"Control!$C$20+Control!$C$21*A1344+Control!$C$22*A1344^2","v":358.08276968382779},5260.0664181420643,4973.9335818579357]
[1345,5116,5190,null,null,null,null,null,null,null,null,null,{"$f":"Control!$C$20+Control!$C$21*A1345+Control!$C$22*A1345^2","v":358.35207767075474},5259.0524379379813,4972.9475620620187]
[1346,5115,5050,null,null,null,null,null,null,null,null,null,{"$f":"Control!$C$20+Control!$C$21*A1346+Control!$C$22*A1346^2","v":358.62138565674042},5258.0384563675098,4971.9615436324902]
[1347,5115,5099,null,null,null,null,null,null,null,null,null,{"$f":"Control!$C$20+Control!$C$21*A1347+Control!$C$22*A1347^2","v":358.89069364178476},{"$f":"IF(D1347=0,B1347+2*SQRT(B1347),N1346)","v":5258.0384563675098},{"$f":"IF(D1347=0,B1347-2*SQRT(B1347),O1346)","v":4971.9615436324902}]
[1348,5114,5162,null,null,null,null,null,null,null,null,null,{"$f":"Control!$C$20+Control!$C$21*A1348+Control!$C$22*A1348^2","v":359.16000162588784},5257.0244734302487,4970.9755265697513]
[1349,5113,5214,null,null,null,null,null,null,null,null,null,{"$f":"Control!$C$20+Control!$C$21*A1349+Control!$C$22*A1349^2","v":359.42930960904965},5256.0104891257979,4969.9895108742021]
[1350,5112,5191,null,null,null,null,null,null,null,null,null,{"$f":"Control!$C$20+Control!$C$21*A1350+Control!$C$22*A1350^2","v":359.69861759127014},5254.9965034537554,4969.0034965462446]
[1351,5112,5142,null,null,null,null,null,null,null,null,null,{"$f":"Control!$C$20+Control!$C$21*A1351+Control!$C$22*A1351^2","v":359.96792557254929},5254.9965034537554,4969.0034965462446]
[1352,5111,5077,null,null,null,null,null,null,null,null,null,{"$f":"Control!$C$20+Control!$C$21*A1352+Control!$C$22*A1352^2","v":360.23723355288718},5253.982516413721,4968.017483586279]
[1353,5110,5158,null,null,null,null,null,null,null,null,null,{"$f":"Control!$C$20+Control!$C$21*A1353+Control!$C$22*A1353^2","v":360.50654153228379},5252.9685280052918,4967.0314719947082]
[1354,5110,5057,null,null,null,null,null,null,null,null,null,{"$f":"Control!$C$20+Control!$C$21*A1354+Control!$C$22*A1354^2","v":360.77584951073908},5252.9685280052918,4967.0314719947082]
[1355,5109,5066,null,null,null,null,null,null,null,null,null,{"$f":"Control!$C$20+Control!$C$21*A1355+Control!$C$22*A1355^2","v":361.04515748825304},5251.9545382280676,4966.0454617719324]
[1356,5108,5209,null,null,null,null,null,null,null,null,null,{"$f":"Control!$C$20+Control!$C$21*A1356+Control!$C$22*A1356^2","v":361.31446546482573},5250.9405470816455,4965.0594529183545]
[1357,5107,5030,null,null,null,null,null,null,null,null,null,{"$f":"Control!$C$20+Control!$C$21*A1357+Control!$C$22*A1357^2","v":361.58377344045715},5249.9265545656226,4964.0734454343774]
[1358,5107,5138,null,null,null,null,null,null,null,null,null,{"$f":"Control!$C$20+Control!$C$21*A1358+Control!$C$22*A1358^2","v":361.85308141514724},5249.9265545656226,4964.0734454343774]
[1359,5106,5129,null,null,null,null,null,null,null,null,null,{"$f":"Control!$C$20+Control!$C$21*A1359+Control!$C$22*A1359^2","v":362.12238938889607},5248.9125606795988,4963.0874393204012]
[1360,5105,4973,null,null,null,null,null,null,null,null,null,{"$f":"Control!$C$20+Control!$C$21*A1360+Control!$C$22*A1360^2","v":362.39169736170356},5247.8985654231701,4962.1014345768299]
[1361,5104,5007,null,null,null,null,null,null,null,null,null,{"$f":"Control!$C$20+Control!$C$21*A1361+Control!$C$22*A1361^2","v":362.66100533356979},5246.8845687959338,4961.1154312040662]
[1362,5104,5136,null,null,null,null,null,null,null,null,null,{"$f":"Control!$C$20+Control!$C$21*A1362+Control!$C$22*A1362^2","v":362.93031330449469},5246.8845687959338,4961.1154312040662]
[1363,5103,5177,null,null,null,null,null,null,null,null,null,{"$f":"Control!$C$20+Control!$C$21*A1363+Control!$C$22*A1363^2","v":363.19962127447832},5245.8705707974877,4960.1294292025123]
[1364,5102,5158,null,null,null,null,null,null,null,null,null,{"$f":"Control!$C$20+Control!$C$21*A1364+Control!$C$22*A1364^2","v":363.46892924352062},5244.8565714274282,4959.1434285725718]
[1365,5101,5132,null,null,null,null,null,null,null,null,null,{"$f":"Control!$C$20+Control!$C$21*A1365+Control!$C$22*A1365^2","v":363.73823721162165},5243.8425706853532,4958.1574293146468]
[1366,5101,5178,null,null,null,null,null,null,null,null,null,{"$f":"Control!$C$20+Control!$C$21*A1366+Control!$C$22*A1366^2","v":364.00754517878141},5243.8425706853532,4958.1574293146468]
[1367,5100,5135,null,null,null,null,null,null,null,null,null,{"$f":"Control!$C$20+Control!$C$21*A1367+Control!$C$22*A1367^2","v":364.27685314499985},5242.828568570857,4957.171431429143]
[1368,5099,5171,null,null,null,null,null,null,null,null,null,{"$f":"Control!$C$20+Control!$C$21*A1368+Control!$C$22*A1368^2","v":364.54616111027696},5241.8145650835377,4956.1854349164623]
[1369,5099,5116,null,null,null,null,null,null,null,null,null,{"$f":"Control!$C$20+Control!$C$21*A1369+Control!$C$22*A1369^2","v":364.81546907461279},5241.8145650835377,4956.1854349164623]
[1370,5098,5061,null,null,null,null,null,null,null,null,null,{"$f":"Control!$C$20+Control!$C$21*A1370+Control!$C$22*A1370^2","v":365.08477703800736},5240.8005602229905,4955.1994397770095]
[1371,5097,4911,null,null,null,null,null,null,null,null,null,{"$f":"Control!$C$20+Control!$C$21*A1371+Control!$C$22*A1371^2","v":365.3540850004606},5239.7865539888126,4954.2134460111874]
[1372,5096,5053,null,null,null,null,null,null,null,null,null,{"$f":"Control!$C$20+Control!$C$21*A1372+Control!$C$22*A1372^2","v":365.62339296197251},5238.7725463805982,4953.2274536194018]
[1373,5096,5019,null,null,null,null,null,null,null,null,null,{"$f":"Control!$C$20+Control!$C$21*A1373+Control!$C$22*A1373^2","v":365.89270092254316},5238.7725463805982,4953.2274536194018]
[1374,5095,4986,null,null,null,null,null,null,null,null,null,{"$f":"Control!$C$20+Control!$C$21*A1374+Control!$C$22*A1374^2","v":366.16200888217253},5237.7585373979437,4952.2414626020563]
[1375,5094,5149,null,null,null,null,null,null,null,null,null,{"$f":"Control!$C$20+Control!$C$21*A1375+Control!$C$22*A1375^2","v":366.43131684086057},5236.7445270404442,4951.2554729595558]
[1376,5093,5134,null,null,null,null,null,null,null,null,null,{"$f":"Control!$C$20+Control!$C$21*A1376+Control!$C$22*A1376^2","v":366.70062479860735},5235.7305153076941,4950.2694846923059]
[1377,5093,5022,null,null,null,null,null,null,null,null,null,{"$f":"Control!$C$20+Control!$C$21*A1377+Control!$C$22*A1377^2","v":366.9699327554128},5235.7305153076941,4950.2694846923059]
[1378,5092,5098,null,null,null,null,null,null,null,null,null,{"$f":"Control!$C$20+Control!$C$21*A1378+Control!$C$22*A1378^2","v":367.23924071127698},5234.7165021992905,4949.2834978007095]
[1379,5091,5148,null,null,null,null,null,null,null,null,null,{"$f":"Control!$C$20+Control!$C$21*A1379+Control!$C$22*A1379^2","v":367.50854866619983},5233.702487714826,4948.297512285174]
[1380,5090,5132,null,null,null,null,null,null,null,null,null,{"$f":"Control!$C$20+Control!$C$21*A1380+Control!$C$22*A1380^2","v":367.77785662018141},5232.6884718538959,4947.3115281461041]
[1381,5090,5104,null,null,null,null,null,null,null,null,null,{"$f":"Control!$C$20+Control!$C$21*A1381+Control!$C$22*A1381^2","v":368.04716457322172},5232.6884718538959,4947.3115281461041]
[1382,5089,5081,null,null,null,null,null,null,null,null,null,{"$f":"Control!$C$20+Control!$C$21*A1382+Control!$C$22*A1382^2","v":368.31647252532071},5231.6744546160944,4946.3255453839056]
[1383,5088,5075,null,null,null,null,null,null,null,null,null,{"$f":"Control!$C$20+Control!$C$21*A1383+Control!$C$22*A1383^2","v":368.58578047647836},5230.660436001016,4945.339563998984]
[1384,5088,5157,null,null,null,null,null,null,null,null,null,{"$f":"Control!$C$20+Control!$C$21*A1384+Control!$C$22*A1384^2","v":368.85508842669475},5230.660436001016,4945.339563998984]
[1385,5087,5015,null,null,null,null,null,null,null,null,null,{"$f":"Control!$C$20+Control!$C$21*A1385+Control!$C$22*A1385^2","v":369.12439637596987},5229.6464160082542,4944.3535839917458]
[1386,5086,5020,null,null,null,null,null,null,null,null,null,{"$f":"Control!$C$20+Control!$C$21*A1386+Control!$C$22*A1386^2","v":369.39370432430366},5228.6323946374032,4943.3676053625968]
[1387,5085,5184,null,null,null,null,null,null,null,null,null,{"$f":"Control!$C$20+Control!$C$21*A1387+Control!$C$22*A1387^2","v":369.66301227169612},5227.6183718880566,4942.3816281119434]
[1388,5085,5123,null,null,null,null,null,null,null,null,null,{"$f":"Control!$C$20+Control!$C$21*A1388+Control!$C$22*A1388^2","v":369.93232021814731},5227.6183718880566,4942.3816281119434]
[1389,5084,5119,null,null,null,null,null,null,null,null,null,{"$f":"Control!$C$20+Control!$C$21*A1389+Control!$C$22*A1389^2","v":370.20162816365723},5226.6043477598068,4941.3956522401932]
[1390,5083,5110,null,null,null,null,null,null,null,null,null,{"$f":"Control!$C$20+Control!$C$21*A1390+Control!$C$22*A1390^2","v":370.47093610822583},5225.5903222522484,4940.4096777477516]
[1391,5082,5086,null,null,null,null,null,null,null,null,null,{"$f":"Control!$C$20+Control!$C$21*A1391+Control!$C$22*A1391^2","v":370.74024405185315},5224.5762953649728,4939.4237046350272]
[1392,5082,5057,null,null,null,null,null,null,null,null,null,{"$f":"Control!$C$20+Control!$C$21*A1392+Control!$C$22*A1392^2","v":371.00955199453915},5224.5762953649728,4939.4237046350272]
[1393,5081,5039,null,null,null,null,null,null,null,null,null,{"$f":"Control!$C$20+Control!$C$21*A1393+Control!$C$22*A1393^2","v":371.27885993628388},5223.5622670975736,4938.4377329024264]
[1394,5080,5143,null,null,null,null,null,null,null,null,null,{"$f":"Control!$C$20+Control!$C$21*A1394+Control!$C$22*A1394^2","v":371.54816787708728},5222.5482374496441,4937.4517625503559]
[1395,5079,5075,null,null,null,null,null,null,null,null,null,{"$f":"Control!$C$20+Control!$C$21*A1395+Control!$C$22*A1395^2","v":371.81747581694941},5221.5342064207744,4936.4657935792256]
[1396,5079,5132,null,null,null,null,null,null,null,null,null,{"$f":"Control!$C$20+Control!$C$21*A1396+Control!$C$22*A1396^2","v":372.08678375587021},5221.5342064207744,4936.4657935792256]
[1397,5078,4879,null,null,null,null,null,null,null,null,null,{"$f":"Control!$C$20+Control!$C$21*A1397+Control!$C$22*A1397^2","v":372.35609169384975},5220.5201740105585,4935.4798259894415]
[1398,5077,5034,null,null,null,null,null,null,null,null,null,{"$f":"Control!$C$20+Control!$C$21*A1398+Control!$C$22*A1398^2","v":372.62539963088801},5219.5061402185884,4934.4938597814116]
[1399,5077,5067,null,null,null,null,null,null,null,null,null,{"$f":"Control!$C$20+Control!$C$21*A1399+Control!$C$22*A1399^2","v":372.89470756698495},5219.5061402185884,4934.4938597814116]
[1400,5076,5040,null,null,null,null,null,null,null,null,null,{"$f":"Control!$C$20+Control!$C$21*A1400+Control!$C$22*A1400^2","v":373.16401550214056},5218.4921050444555,4933.5078949555445]
[1401,5075,5081,null,null,null,null,null,null,null,null,null,{"$f":"Control!$C$20+Control!$C$21*A1401+Control!$C$22*A1401^2","v":373.4333234363549},5217.4780684877496,4932.5219315122504]
[1402,5074,5166,null,null,null,null,null,null,null,null,null,{"$f":"Control!$C$20+Control!$C$21*A1402+Control!$C$22*A1402^2","v":373.70263136962797},5216.4640305480652,4931.5359694519348]
[1403,5074,5066,null,null,null,null,null,null,null,null,null,{"$f":"Control!$C$20+Control!$C$21*A1403+Control!$C$22*A1403^2","v":373.97193930195971},5216.4640305480652,4931.5359694519348]
[1404,5073,5057,null,null,null,null,null,null,null,null,null,{"$f":"Control!$C$20+Control!$C$21*A1404+Control!$C$22*A1404^2","v":374.24124723335012},5215.4499912249912,4930.5500087750088]
[1405,5072,5080,null,null,null,null,null,null,null,null,null,{"$f":"Control!$C$20+Control!$C$21*A1405+Control!$C$22*A1405^2","v":374.51055516379927},5214.4359505181192,4929.5640494818808]
[1406,5071,5028,null,null,null,null,null,null,null,null,null,{"$f":"Control!$C$20+Control!$C$21*A1406+Control!$C$22*A1406^2","v":374.77986309330714},5213.4219084270399,4928.5780915729601]
[1407,5071,4986,null,null,null,null,null,null,null,null,null,{"$f":"Control!$C$20+Control!$C$21*A1407+Control!$C$22*A1407^2","v":375.04917102187369},5213.4219084270399,4928.5780915729601]
[1408,5070,5076,null,null,null,null,null,null,null,null,null,{"$f":"Control!$C$20+Control!$C$21*A1408+Control!$C$22*A1408^2","v":375.31847894949897},5212.4078649513431,4927.5921350486569]
[1409,5069,5157,null,null,null,null,null,null,null,null,null,{"$f":"Control!$C$20+Control!$C$21*A1409+Control!$C$22*A1409^2","v":375.58778687618292},5211.3938200906205,4926.6061799093795]
[1410,5068,4994,null,null,null,null,null,null,null,null,null,{"$f":"Control!$C$20+Control!$C$21*A1410+Control!$C$22*A1410^2","v":375.8570948019256},5210.3797738444619,4925.6202261555381]
[1411,5068,5080,null,null,null,null,null,null,null,null,null,{"$f":"Control!$C$20+Control!$C$21*A1411+Control!$C$22*A1411^2","v":376.12640272672695},{"$f":"IF(D1411=0,B1411+2*SQRT(B1411),N1410)","v":5210.3797738444619},{"$f":"IF(D1411=0,B1411-2*SQRT(B1411),O1410)","v":4925.6202261555381}]
[1412,5067,5062,null,null,null,null,null,null,null,null,null,{"$f":"Control!$C$20+Control!$C$21*A1412+Control!$C$22*A1412^2","v":376.39571065058703},5209.3657262124561,4924.6342737875439]
[1413,5066,5171,null,null,null,null,null,null,null,null,null,{"$f":"Control!$C$20+Control!$C$21*A1413+Control!$C$22*A1413^2","v":376.66501857350585},5208.3516771941941,4923.6483228058059]
[1414,5066,5010,null,null,null,null,null,null,null,null,null,{"$f":"Control!$C$20+Control!$C$21*A1414+Control!$C$22*A1414^2","v":376.93432649548333},5208.3516771941941,4923.6483228058059]
[1415,5065,5271,null,null,null,null,null,null,null,null,null,{"$f":"Control!$C$20+Control!$C$21*A1415+Control!$C$22*A1415^2","v":377.20363441651949},5207.3376267892645,4922.6623732107355]
[1416,5064,5099,null,null,null,null,null,null,null,null,null,{"$f":"Control!$C$20+Control!$C$21*A1416+Control!$C$22*A1416^2","v":377.47294233661438},5206.3235749972573,4921.6764250027427]
[1417,5063,5158,null,null,null,null,null,null,null,null,null,{"$f":"Control!$C$20+Control!$C$21*A1417+Control!$C$22*A1417^2","v":377.742250255768},5205.3095218177614,4920.6904781822386]
[1418,5063,5035,null,null,null,null,null,null,null,null,null,{"$f":"Control!$C$20+Control!$C$21*A1418+Control!$C$22*A1418^2","v":378.01155817398029},5205.3095218177614,4920.6904781822386]
[1419,5062,4856,null,null,null,null,null,null,null,null,null,{"$f":"Control!$C$20+Control!$C$21*A1419+Control!$C$22*A1419^2","v":378.28086609125126},5204.2954672503656,4919.7045327496344]
[1420,5076,5172,15,null,null,null,null,null,null,null,null,{"$f":"Control!$C$20+Control!$C$21*A1420+Control!$C$22*A1420^2","v":378.55017400758095},5204.2954672503656,4919.7045327496344]
[1421,5141,5150,81,null,null,null,null,null,null,null,null,{"$f":"Control!$C$20+Control!$C$21*A1421+Control!$C$22*A1421^2","v":378.81948192296937},5204.2954672503656,4919.7045327496344]
[1422,5377,5434,317,null,null,null,null,null,null,null,null,{"$f":"Control!$C$20+Control!$C$21*A1422+Control!$C$22*A1422^2","v":379.08878983741647},5204.2954672503656,4919.7045327496344]
[1423,5932,6105,873,null,null,null,null,null,null,null,null,{"$f":"Control!$C$20+Control!$C$21*A1423+Control!$C$22*A1423^2","v":379.3580977509223},5204.2954672503656,4919.7045327496344]
[1424,6747,6735,1689,null,null,null,null,null,null,null,null,{"$f":"Control!$C$20+Control!$C$21*A1424+Control!$C$22*A1424^2","v":379.6274056634868},5204.2954672503656,4919.7045327496344]
[1425,7360,7273,2302,null,null,null,null,null,null,null,null,{"$f":"Control!$C$20+Control!$C$21*A1425+Control!$C$22*A1425^2","v":379.89671357511003},5204.2954672503656,4919.7045327496344]
[1426,7267,7192,2210,null,null,null,null,null,null,null,null,{"$f":"Control!$C$20+Control!$C$21*A1426+Control!$C$22*A1426^2","v":380.16602148579193},5204.2954672503656,4919.7045327496344]
[1427,6550,6584,1494,null,null,null,null,null,null,null,null,{"$f":"Control!$C$20+Control!$C$21*A1427+Control!$C$22*A1427^2","v":380.43532939553256},5204.2954672503656,4919.7045327496344]
[1428,5766,5746,711,null,null,null,null,null,null,null,null,{"$f":"Control!$C$20+Control!$C$21*A1428+Control!$C$22*A1428^2","v":380.70463730433187},5204.2954672503656,4919.7045327496344]
[1429,5294,5197,239,null,null,null,null,null,null,null,null,{"$f":"Control!$C$20+Control!$C$21*A1429+Control!$C$22*A1429^2","v":380.9739452121899},5204.2954672503656,4919.7045327496344]
[1430,5110,5106,56,null,null,null,null,null,null,null,null,{"$f":"Control!$C$20+Control!$C$21*A1430+Control!$C$22*A1430^2","v":381.24325311910667},5204.2954672503656,4919.7045327496344]
[1431,5053,5016,null,null,null,null,null,null,null,null,null,{"$f":"Control!$C$20+Control!$C$21*A1431+Control!$C$22*A1431^2","v":381.51256102508211},5195.1689136203831,4910.8310863796169]
[1432,5052,5088,null,null,null,null,null,null,null,null,null,{"$f":"Control!$C$20+Control!$C$21*A1432+Control!$C$22*A1432^2","v":381.78186893011622},5194.1548451513345,4909.8451548486655]
[1433,5052,5059,null,null,null,null,null,null,null,null,null,{"$f":"Control!$C$20+Control!$C$21*A1433+Control!$C$22*A1433^2","v":382.05117683420906},5194.1548451513345,4909.8451548486655]
[1434,5051,5110,null,null,null,null,null,null,null,null,null,{"$f":"Control!$C$20+Control!$C$21*A1434+Control!$C$22*A1434^2","v":382.32048473736063},5193.1407752898513,4908.8592247101487]
[1435,5050,5099,null,null,null,null,null,null,null,null,null,{"$f":"Control!$C$20+Control!$C$21*A1435+Control!$C$22*A1435^2","v":382.58979263957087},5192.1267040355187,4907.8732959644813]
[1436,5049,5017,null,null,null,null,null,null,null,null,null,{"$f":"Control!$C$20+Control!$C$21*A1436+Control!$C$22*A1436^2","v":382.85910054083979},5191.112631387924,4906.887368612076]
[1437,5049,5138,null,null,null,null,null,null,null,null,null,{"$f":"Control!$C$20+Control!$C$21*A1437+Control!$C$22*A1437^2","v":383.12840844116744},5191.112631387924,4906.887368612076]
[1438,5048,5088,null,null,null,null,null,null,null,null,null,{"$f":"Control!$C$20+Control!$C$21*A1438+Control!$C$22*A1438^2","v":383.39771634055381},5190.0985573466533,4905.9014426533467]
[1439,5047,5095,null,null,null,null,null,null,null,null,null,{"$f":"Control!$C$20+Control!$C$21*A1439+Control!$C$22*A1439^2","v":383.66702423899886},5189.0844819112908,4904.9155180887092]
[1440,5047,5046,null,null,null,null,null,null,null,null,null,{"$f":"Control!$C$20+Control!$C$21*A1440+Control!$C$22*A1440^2","v":383.93633213650264},5189.0844819112908,4904.9155180887092]
[1441,5046,5142,null,null,null,null,null,null,null,null,null,{"$f":"Control!$C$20+Control!$C$21*A1441+Control!$C$22*A1441^2","v":384.20564003306509},5188.0704050814247,4903.9295949185753]
[1442,5045,4886,null,null,null,null,null,null,null,null,null,{"$f":"Control!$C$20+Control!$C$21*A1442+Control!$C$22*A1442^2","v":384.47494792868628},5187.0563268566384,4902.9436731433616]
[1443,5044,5057,null,null,null,null,null,null,null,null,null,{"$f":"Control!$C$20+Control!$C$21*A1443+Control!$C$22*A1443^2","v":384.74425582336613},5186.0422472365181,4901.9577527634819]
[1444,5044,5074,null,null,null,null,null,null,null,null,null,{"$f":"Control!$C$20+Control!$C$21*A1444+Control!$C$22*A1444^2","v":385.01356371710472},5186.0422472365181,4901.9577527634819]
[1445,5043,5011,null,null,null,null,null,null,null,null,null,{"$f":"Control!$C$20+Control!$C$21*A1445+Control!$C$22*A1445^2","v":385.28287160990203},5185.028166220648,4900.971833779352]
[1446,5042,5075,null,null,null,null,null,null,null,null,null,{"$f":"Control!$C$20+Control!$C$21*A1446+Control!$C$22*A1446^2","v":385.55217950175802},5184.0140838086136,4899.9859161913864]
[1447,5041,5013,null,null,null,null,null,null,null,null,null,{"$f":"Control!$C$20+Control!$C$21*A1447+Control!$C$22*A1447^2","v":385.82148739267268},5183,4899]
[1448,5041,4993,null,null,null,null,null,null,null,null,null,{"$f":"Control!$C$20+Control!$C$21*A1448+Control!$C$22*A1448^2","v":386.09079528264607},5183,4899]
[1449,5040,4914,null,null,null,null,null,null,null,null,null,{"$f":"Control!$C$20+Control!$C$21*A1449+Control!$C$22*A1449^2","v":386.36010317167819},5181.9859147943907,4898.0140852056093]
[1450,5039,5079,null,null,null,null,null,null,null,null,null,{"$f":"Control!$C$20+Control!$C$21*A1450+Control!$C$22*A1450^2","v":386.62941105976898},5180.9718281913702,4897.0281718086298]
[1451,5038,5128,null,null,null,null,null,null,null,null,null,{"$f":"Control!$C$20+Control!$C$21*A1451+Control!$C$22*A1451^2","v":386.89871894691845},5179.9577401905226,4896.0422598094774]
[1452,5038,5147,null,null,null,null,null,null,null,null,null,{"$f":"Control!$C$20+Control!$C$21*A1452+Control!$C$22*A1452^2","v":387.16802683312665},5179.9577401905226,4896.0422598094774]
[1453,5037,5050,null,null,null,null,null,null,null,null,null,{"$f":"Control!$C$20+Control!$C$21*A1453+Control!$C$22*A1453^2","v":387.43733471839357},5178.9436507914324,4895.0563492085676]
[1454,5036,5034,null,null,null,null,null,null,null,null,null,{"$f":"Control!$C$20+Control!$C$21*A1454+Control!$C$22*A1454^2","v":387.70664260271917},5177.9295599936813,4894.0704400063187]
[1455,5036,5073,null,null,null,null,null,null,null,null,null,{"$f":"Control!$C$20+Control!$C$21*A1455+Control!$C$22*A1455^2","v":387.9759504861035},5177.9295599936813,4894.0704400063187]
[1456,5035,5114,null,null,null,null,null,null,null,null,null,{"$f":"Control!$C$20+Control!$C$21*A1456+Control!$C$22*A1456^2","v":388.2452583685465},5176.9154677968545,4893.0845322031455]
[1457,5034,5010,null,null,null,null,null,null,null,null,null,{"$f":"Control!$C$20+Control!$C$21*A1457+Control!$C$22*A1457^2","v":388.51456625004823},5175.9013742005345,4892.0986257994655]
[1458,5033,4990,null,null,null,null,null,null,null,null,null,{"$f":"Control!$C$20+Control!$C$21*A1458+Control!$C$22*A1458^2","v":388.78387413060864},5174.8872792043039,4891.1127207956961]
[1459,5033,5018,null,null,null,null,null,null,null,null,null,{"$f":"Control!$C$20+Control!$C$21*A1459+Control!$C$22*A1459^2","v":389.05318201022777},5174.8872792043039,4891.1127207956961]
[1460,5032,4885,null,null,null,null,null,null,null,null,null,{"$f":"Control!$C$20+Control!$C$21*A1460+Control!$C$22*A1460^2","v":389.32248988890558},5173.8731828077453,4890.1268171922547]
[1461,5031,4999,null,null,null,null,null,null,null,null,null,{"$f":"Control!$C$20+Control!$C$21*A1461+Control!$C$22*A1461^2","v":389.59179776664212},5172.8590850104429,4889.1409149895571]
[1462,5030,4988,null,null,null,null,null,null,null,null,null,{"$f":"Control!$C$20+Control!$C$21*A1462+Control!$C$22*A1462^2","v":389.86110564343738},5171.8449858119775,4888.1550141880225]
[1463,5030,4918,null,null,null,null,null,null,null,null,null,{"$f":"Control!$C$20+Control!$C$21*A1463+Control!$C$22*A1463^2","v":390.13041351929132},5171.8449858119775,4888.1550141880225]
[1464,5029,4875,null,null,null,null,null,null,null,null,null,{"$f":"Control!$C$20+Control!$C$21*A1464+Control!$C$22*A1464^2","v":390.39972139420394},5170.8308852119308,4887.1691147880692]
[1465,5028,5298,null,null,null,null,null,null,null,null,null,{"$f":"Control!$C$20+Control!$C$21*A1465+Control!$C$22*A1465^2","v":390.66902926817528},5169.816783209887,4886.183216790113]
[1466,5027,4897,null,null,null,null,null,null,null,null,null,{"$f":"Control!$C$20+Control!$C$21*A1466+Control!$C$22*A1466^2","v":390.93833714120535},5168.8026798054252,4885.1973201945748]
[1467,5027,4997,null,null,null,null,null,null,null,null,null,{"$f":"Control!$C$20+Control!$C$21*A1467+Control!$C$22*A1467^2","v":391.2076450132941},5168.8026798054252,4885.1973201945748]
[1468,5026,5124,null,null,null,null,null,null,null,null,null,{"$f":"Control!$C$20+Control!$C$21*A1468+Control!$C$22*A1468^2","v":391.47695288444152},5167.7885749981288,4884.2114250018712]
[1469,5025,5028,null,null,null,null,null,null,null,null,null,{"$f":"Control!$C$20+Control!$C$21*A1469+Control!$C$22*A1469^2","v":391.74626075464766},5166.7744687875784,4883.2255312124216]
[1470,5025,5073,null,null,null,null,null,null,null,null,null,{"$f":"Control!$C$20+Control!$C$21*A1470+Control!$C$22*A1470^2","v":392.01556862391254},5166.7744687875784,4883.2255312124216]
[1471,5024,5032,null,null,null,null,null,null,null,null,null,{"$f":"Control!$C$20+Control!$C$21*A1471+Control!$C$22*A1471^2","v":392.28487649223609},5165.7603611733548,4882.2396388266452]
[1472,5023,5026,null,null,null,null,null,null,null,null,null,{"$f":"Control!$C$20+Control!$C$21*A1472+Control!$C$22*A1472^2","v":392.55418435961838},5164.7462521550397,4881.2537478449603]
[1473,5022,5112,null,null,null,null,null,null,null,null,null,{"$f":"Control!$C$20+Control!$C$21*A1473+Control!$C$22*A1473^2","v":392.82349222605933},5163.7321417322128,4880.2678582677872]
[1474,5022,4961,null,null,null,null,null,null,null,null,null,{"$f":"Control!$C$20+Control!$C$21*A1474+Control!$C$22*A1474^2","v":393.09280009155901},5163.7321417322128,4880.2678582677872]
[1475,5021,4996,null,null,null,null,null,null,null,null,null,{"$f":"Control!$C$20+Control!$C$21*A1475+Control!$C$22*A1475^2","v":393.36210795611737},{"$f":"IF(D1475=0,B1475+2*SQRT(B1475),N1474)","v":5162.7180299044549},{"$f":"IF(D1475=0,B1475-2*SQRT(B1475),O1474)","v":4879.2819700955451}]
[1476,5020,4960,null,null,null,null,null,null,null,null,null,{"$f":"Control!$C$20+Control!$C$21*A1476+Control!$C$22*A1476^2","v":393.63141581973446},5161.7039166713466,4878.2960833286534]
[1477,5019,5014,null,null,null,null,null,null,null,null,null,{"$f":"Control!$C$20+Control!$C$21*A1477+Control!$C$22*A1477^2","v":393.90072368241027},5160.6898020324679,4877.3101979675321]
[1478,5019,5164,null,null,null,null,null,null,null,null,null,{"$f":"Control!$C$20+Control!$C$21*A1478+Control!$C$22*A1478^2","v":394.17003154414476},5160.6898020324679,4877.3101979675321]
[1479,5018,5090,null,null,null,null,null,null,null,null,null,{"$f":"Control!$C$20+Control!$C$21*A1479+Control!$C$22*A1479^2","v":394.43933940493793},5159.6756859873985,4876.3243140126015]
[1480,5017,5084,null,null,null,null,null,null,null,null,null,{"$f":"Control!$C$20+Control!$C$21*A1480+Control!$C$22*A1480^2","v":394.70864726478982},5158.6615685357183,4875.3384314642817]
[1481,5016,5114,null,null,null,null,null,null,null,null,null,{"$f":"Control!$C$20+Control!$C$21*A1481+Control!$C$22*A1481^2","v":394.97795512370044},5157.6474496770061,4874.3525503229939]
[1482,5016,4890,null,null,null,null,null,null,null,null,null,{"$f":"Control!$C$20+Control!$C$21*A1482+Control!$C$22*A1482^2","v":395.24726298166973},5157.6474496770061,4874.3525503229939]
[1483,5015,5011,null,null,null,null,null,null,null,null,null,{"$f":"Control!$C$20+Control!$C$21*A1483+Control!$C$22*A1483^2","v":395.5165708386977},5156.6333294108417,4873.3666705891583]
[1484,5014,5037,null,null,null,null,null,null,null,null,null,{"$f":"Control!$C$20+Control!$C$21*A1484+Control!$C$22*A1484^2","v":395.7858786947844},5155.6192077368041,4872.3807922631959]
[1485,5014,5190,null,null,null,null,null,null,null,null,null,{"$f":"Control!$C$20+Control!$C$21*A1485+Control!$C$22*A1485^2","v":396.05518654992983},5155.6192077368041,4872.3807922631959]
[1486,5013,5048,null,null,null,null,null,null,null,null,null,{"$f":"Control!$C$20+Control!$C$21*A1486+Control!$C$22*A1486^2","v":396.32449440413393},5154.6050846544713,4871.3949153455287]
[1487,5012,5045,null,null,null,null,null,null,null,null,null,{"$f":"Control!$C$20+Control!$C$21*A1487+Control!$C$22*A1487^2","v":396.59380225739676},5153.590960163423,4870.409039836577]
[1488,5011,5035,null,null,null,null,null,null,null,null,null,{"$f":"Control!$C$20+Control!$C$21*A1488+Control!$C$22*A1488^2","v":396.86311010971826},5152.5768342632364,4869.4231657367636]
[1489,5011,5017,null,null,null,null,null,null,null,null,null,{"$f":"Control!$C$20+Control!$C$21*A1489+Control!$C$22*A1489^2","v":397.1324179610985},5152.5768342632364,4869.4231657367636]
[1490,5010,5021,null,null,null,null,null,null,null,null,null,{"$f":"Control!$C$20+Control!$C$21*A1490+Control!$C$22*A1490^2","v":397.4017258115374},5151.5627069534912,4868.4372930465088]
[1491,5009,5076,null,null,null,null,null,null,null,null,null,{"$f":"Control!$C$20+Control!$C$21*A1491+Control!$C$22*A1491^2","v":397.67103366103504},5150.5485782337637,4867.4514217662363]
[1492,5008,5177,null,null,null,null,null,null,null,null,null,{"$f":"Control!$C$20+Control!$C$21*A1492+Control!$C$22*A1492^2","v":397.94034150959135},5149.5344481036327,4866.4655518963673]
[1493,5008,5041,null,null,null,null,null,null,null,null,null,{"$f":"Control!$C$20+Control!$C$21*A1493+Control!$C$22*A1493^2","v":398.20964935720639},5149.5344481036327,4866.4655518963673]
[1494,5007,4980,null,null,null,null,null,null,null,null,null,{"$f":"Control!$C$20+Control!$C$21*A1494+Control!$C$22*A1494^2","v":398.47895720388016},5148.5203165626763,4865.4796834373237]
[1495,5006,5083,null,null,null,null,null,null,null,null,null,{"$f":"Control!$C$20+Control!$C$21*A1495+Control!$C$22*A1495^2","v":398.7482650496126},5147.5061836104696,4864.4938163895304]
[1496,5005,4882,null,null,null,null,null,null,null,null,null,{"$f":"Control!$C$20+Control!$C$21*A1496+Control!$C$22*A1496^2","v":399.01757289440371},5146.4920492465917,4863.5079507534083]
[1497,5005,4990,null,null,null,null,null,null,null,null,null,{"$f":"Control!$C$20+Control!$C$21*A1497+Control!$C$22*A1497^2","v":399.28688073825356},5146.4920492465917,4863.5079507534083]
[1498,5004,4932,null,null,null,null,null,null,null,null,null,{"$f":"Control!$C$20+Control!$C$21*A1498+Control!$C$22*A1498^2","v":399.55618858116213},5145.4779134706196,4862.5220865293804]
[1499,5003,4915,null,null,null,null,null,null,null,null,null,{"$f":"Control!$C$20+Control!$C$21*A1499+Control!$C$22*A1499^2","v":399.82549642312938},5144.4637762821285,4861.5362237178715]
[1500,5003,5093,null,null,null,null,null,null,null,null,null,{"$f":"Control!$C$20+Control!$C$21*A1500+Control!$C$22*A1500^2","v":400.0948042641553},5144.4637762821285,4861.5362237178715]
[1501,5002,4919,null,null,null,null,null,null,null,null,null,{"$f":"Control!$C$20+Control!$C$21*A1501+Control!$C$22*A1501^2","v":400.36411210423995},5143.4496376806956,4860.5503623193044]
[1502,5001,5081,null,null,null,null,null,null,null,null,null,{"$f":"Control!$C$20+Control!$C$21*A1502+Control!$C$22*A1502^2","v":400.63341994338333},5142.4354976658969,4859.5645023341031]
[1503,5000,5021,null,null,null,null,null,null,null,null,null,{"$f":"Control!$C$20+Control!$C$21*A1503+Control!$C$22*A1503^2","v":400.90272778158538},5141.4213562373097,4858.5786437626903]
[1504,5000,4966,null,null,null,null,null,null,null,null,null,{"$f":"Control!$C$20+Control!$C$21*A1504+Control!$C$22*A1504^2","v":401.17203561884617},5141.4213562373097,4858.5786437626903]
[1505,4999,5091,null,null,null,null,null,null,null,null,null,{"$f":"Control!$C$20+Control!$C$21*A1505+Control!$C$22*A1505^2","v":401.44134345516562},5140.4072133945083,4857.5927866054917]
[1506,4998,4861,null,null,null,null,null,null,null,null,null,{"$f":"Control!$C$20+Control!$C$21*A1506+Control!$C$22*A1506^2","v":401.71065129054381},5139.3930691370688,4856.6069308629312]
[1507,4997,5005,null,null,null,null,null,null,null,null,null,{"$f":"Control!$C$20+Control!$C$21*A1507+Control!$C$22*A1507^2","v":401.97995912498067},5138.3789234645674,4855.6210765354326]
[1508,4997,4932,null,null,null,null,null,null,null,null,null,{"$f":"Control!$C$20+Control!$C$21*A1508+Control!$C$22*A1508^2","v":402.24926695847626},5138.3789234645674,4855.6210765354326]
[1509,4996,4862,null,null,null,null,null,null,null,null,null,{"$f":"Control!$C$20+Control!$C$21*A1509+Control!$C$22*A1509^2","v":402.51857479103057},5137.3647763765784,4854.6352236234216]
[1510,4995,4918,null,null,null,null,null,null,null,null,null,{"$f":"Control!$C$20+Control!$C$21*A1510+Control!$C$22*A1510^2","v":402.78788262264356},5136.3506278726773,4853.6493721273227]
[1511,4995,5047,null,null,null,null,null,null,null,null,null,{"$f":"Control!$C$20+Control!$C$21*A1511+Control!$C$22*A1511^2","v":403.05719045331523},5136.3506278726773,4853.6493721273227]
[1512,4994,5155,null,null,null,null,null,null,null,null,null,{"$f":"Control!$C$20+Control!$C$21*A1512+Control!$C$22*A1512^2","v":403.32649828304562},5135.3364779524381,4852.6635220475619]
[1513,4993,4864,null,null,null,null,null,null,null,null,null,{"$f":"Control!$C$20+Control!$C$21*A1513+Control!$C$22*A1513^2","v":403.59580611183475},5134.3223266154364,4851.6776733845636]
[1514,4992,5052,null,null,null,null,null,null,null,null,null,{"$f":"Control!$C$20+Control!$C$21*A1514+Control!$C$22*A1514^2","v":403.86511393968254},5133.3081738612455,4850.6918261387545]
[1515,4992,5028,null,null,null,null,null,null,null,null,null,{"$f":"Control!$C$20+Control!$C$21*A1515+Control!$C$22*A1515^2","v":404.13442176658901},5133.3081738612455,4850.6918261387545]
[1516,4991,5075,null,null,null,null,null,null,null,null,null,{"$f":"Control!$C$20+Control!$C$21*A1516+Control!$C$22*A1516^2","v":404.40372959255421},5132.2940196894406,4849.7059803105594]
[1517,4990,5064,null,null,null,null,null,null,null,null,null,{"$f":"Control!$C$20+Control!$C$21*A1517+Control!$C$22*A1517^2","v":404.67303741757814},5131.2798640995952,4848.7201359004048]
[1518,4989,4951,null,null,null,null,null,null,null,null,null,{"$f":"Control!$C$20+Control!$C$21*A1518+Control!$C$22*A1518^2","v":404.94234524166075},5130.2657070912828,4847.7342929087172]
[1519,4989,4988,null,null,null,null,null,null,null,null,null,{"$f":"Control!$C$20+Control!$C$21*A1519+Control!$C$22*A1519^2","v":405.21165306480208},5130.2657070912828,4847.7342929087172]
[1520,4988,5002,null,null,null,null,null,null,null,null,null,{"$f":"Control!$C$20+Control!$C$21*A1520+Control!$C$22*A1520^2","v":405.48096088700208},5129.2515486640768,4846.7484513359232]
[1521,4987,5053,null,null,null,null,null,null,null,null,null,{"$f":"Control!$C$20+Control!$C$21*A1521+Control!$C$22*A1521^2","v":405.75026870826082},5128.2373888175507,4845.7626111824493]
[1522,4986,5019,null,null,null,null,null,null,null,null,null,{"$f":"Control!$C$20+Control!$C$21*A1522+Control!$C$22*A1522^2","v":406.01957652857823},5127.2232275512779,4844.7767724487221]
[1523,4986,5067,null,null,null,null,null,null,null,null,null,{"$f":"Control!$C$20+Control!$C$21*A1523+Control!$C$22*A1523^2","v":406.28888434795437},5127.2232275512779,4844.7767724487221]
[1524,4985,4975,null,null,null,null,null,null,null,null,null,{"$f":"Control!$C$20+Control!$C$21*A1524+Control!$C$22*A1524^2","v":406.55819216638918},5126.2090648648309,4843.7909351351691]
[1525,4984,5009,null,null,null,null,null,null,null,null,null,{"$f":"Control!$C$20+Control!$C$21*A1525+Control!$C$22*A1525^2","v":406.82749998388272},5125.1949007577823,4842.8050992422177]
[1526,4984,5045,null,null,null,null,null,null,null,null,null,{"$f":"Control!$C$20+Control!$C$21*A1526+Control!$C$22*A1526^2","v":407.09680780043499},5125.1949007577823,4842.8050992422177]
[1527,4983,5016,null,null,null,null,null,null,null,null,null,{"$f":"Control!$C$20+Control!$C$21*A1527+Control!$C$22*A1527^2","v":407.36611561604593},5124.1807352297046,4841.8192647702954]
[1528,4982,5023,null,null,null,null,null,null,null,null,null,{"$f":"Control!$C$20+Control!$C$21*A1528+Control!$C$22*A1528^2","v":407.63542343071555},5123.1665682801704,4840.8334317198296]
[1529,4981,4991,null,null,null,null,null,null,null,null,null,{"$f":"Control!$C$20+Control!$C$21*A1529+Control!$C$22*A1529^2","v":407.90473124444389},5122.1523999087512,4839.8476000912488]
[1530,4981,5075,null,null,null,null,null,null,null,null,null,{"$f":"Control!$C$20+Control!$C$21*A1530+Control!$C$22*A1530^2","v":408.17403905723097},5122.1523999087512,4839.8476000912488]
[1531,4980,4963,null,null,null,null,null,null,null,null,null,{"$f":"Control!$C$20+Control!$C$21*A1531+Control!$C$22*A1531^2","v":408.44334686907672},5121.1382301150188,4838.8617698849812]
[1532,4979,4949,null,null,null,null,null,null,null,null,null,{"$f":"Control!$C$20+Control!$C$21*A1532+Control!$C$22*A1532^2","v":408.71265467998114},5120.1240588985447,4837.8759411014553]
[1533,4978,5002,null,null,null,null,null,null,null,null,null,{"$f":"Control!$C$20+Control!$C$21*A1533+Control!$C$22*A1533^2","v":408.98196248994429},5119.1098862589015,4836.8901137410985]
[1534,4978,4951,null,null,null,null,null,null,null,null,null,{"$f":"Control!$C$20+Control!$C$21*A1534+Control!$C$22*A1534^2","v":409.25127029896618},5119.1098862589015,4836.8901137410985]
[1535,4977,4935,null,null,null,null,null,null,null,null,null,{"$f":"Control!$C$20+Control!$C$21*A1535+Control!$C$22*A1535^2","v":409.52057810704673},5118.0957121956581,4835.9042878043419]
[1536,4976,4942,null,null,null,null,null,null,null,null,null,{"$f":"Control!$C$20+Control!$C$21*A1536+Control!$C$22*A1536^2","v":409.78988591418602},5117.0815367083869,4834.9184632916131]
[1537,4975,5001,null,null,null,null,null,null,null,null,null,{"$f":"Control!$C$20+Control!$C$21*A1537+Control!$C$22*A1537^2","v":410.05919372038397},5116.0673597966588,4833.9326402033412]
[1538,4975,4963,null,null,null,null,null,null,null,null,null,{"$f":"Control!$C$20+Control!$C$21*A1538+Control!$C$22*A1538^2","v":410.32850152564066},5116.0673597966588,4833.9326402033412]
[1539,4974,5060,null,null,null,null,null,null,null,null,null,{"$f":"Control!$C$20+Control!$C$21*A1539+Control!$C$22*A1539^2","v":410.59780932995602},{"$f":"IF(D1539=0,B1539+2*SQRT(B1539),N1538)","v":5115.0531814600436},{"$f":"IF(D1539=0,B1539-2*SQRT(B1539),O1538)","v":4832.9468185399564}]
[1540,4973,5033,null,null,null,null,null,null,null,null,null,{"$f":"Control!$C$20+Control!$C$21*A1540+Control!$C$22*A1540^2","v":410.86711713333011},5114.0390016981119,4831.9609983018881]
[1541,4973,4977,null,null,null,null,null,null,null,null,null,{"$f":"Control!$C$20+Control!$C$21*A1541+Control!$C$22*A1541^2","v":411.13642493576293},5114.0390016981119,4831.9609983018881]
[1542,4972,5077,null,null,null,null,null,null,null,null,null,{"$f":"Control!$C$20+Control!$C$21*A1542+Control!$C$22*A1542^2","v":411.40573273725443},5113.0248205104335,4830.9751794895665]
[1543,4971,5038,null,null,null,null,null,null,null,null,null,{"$f":"Control!$C$20+Control!$C$21*A1543+Control!$C$22*A1543^2","v":411.67504053780459},5112.0106378965784,4829.9893621034216]
[1544,4970,4976,null,null,null,null,null,null,null,null,null,{"$f":"Control!$C$20+Control!$C$21*A1544+Control!$C$22*A1544^2","v":411.94434833741349},5110.9964538561162,4829.0035461438838]
[1545,4970,4964,null,null,null,null,null,null,null,null,null,{"$f":"Control!$C$20+Control!$C$21*A1545+Control!$C$22*A1545^2","v":412.21365613608111},5110.9964538561162,4829.0035461438838]
[1546,4969,5026,null,null,null,null,null,null,null,null,null,{"$f":"Control!$C$20+Control!$C$21*A1546+Control!$C$22*A1546^2","v":412.48296393380741},5109.9822683886168,4828.0177316113832]
[1547,4968,4955,null,null,null,null,null,null,null,null,null,{"$f":"Control!$C$20+Control!$C$21*A1547+Control!$C$22*A1547^2","v":412.75227173059238},5108.9680814936492,4827.0319185063508]
[1548,4967,4982,null,null,null,null,null,null,null,null,null,{"$f":"Control!$C$20+Control!$C$21*A1548+Control!$C$22*A1548^2","v":413.02157952643608},5107.9538931707812,4826.0461068292188]
[1549,4967,4978,null,null,null,null,null,null,null,null,null,{"$f":"Control!$C$20+Control!$C$21*A1549+Control!$C$22*A1549^2","v":413.29088732133852},5107.9538931707812,4826.0461068292188]
[1550,4966,4875,null,null,null,null,null,null,null,null,null,{"$f":"Control!$C$20+Control!$C$21*A1550+Control!$C$22*A1550^2","v":413.56019511529962},5106.9397034195827,4825.0602965804173]
[1551,4965,4803,null,null,null,null,null,null,null,null,null,{"$f":"Control!$C$20+Control!$C$21*A1551+Control!$C$22*A1551^2","v":413.82950290831945},5105.9255122396225,4824.0744877603775]
[1552,4964,4926,null,null,null,null,null,null,null,null,null,{"$f":"Control!$C$20+Control!$C$21*A1552+Control!$C$22*A1552^2","v":414.09881070039796},5104.9113196304679,4823.0886803695321]
[1553,4964,4937,null,null,null,null,null,null,null,null,null,{"$f":"Control!$C$20+Control!$C$21*A1553+Control!$C$22*A1553^2","v":414.3681184915352},5104.9113196304679,4823.0886803695321]
[1554,4963,4929,null,null,null,null,null,null,null,null,null,{"$f":"Control!$C$20+Control!$C$21*A1554+Control!$C$22*A1554^2","v":414.63742628173111},5103.8971255916886,4822.1028744083114]
[1555,4962,4982,null,null,null,null,null,null,null,null,null,{"$f":"Control!$C$20+Control!$C$21*A1555+Control!$C$22*A1555^2","v":414.90673407098575},5102.8829301228507,4821.1170698771493]
[1556,4962,4985,null,null,null,null,null,null,null,null,null,{"$f":"Control!$C$20+Control!$C$21*A1556+Control!$C$22*A1556^2","v":415.17604185929906},5102.8829301228507,4821.1170698771493]
[1557,4961,4979,null,null,null,null,null,null,null,null,null,{"$f":"Control!$C$20+Control!$C$21*A1557+Control!$C$22*A1557^2","v":415.4453496466711},5101.8687332235222,4820.1312667764778]
[1558,4960,4988,null,null,null,null,null,null,null,null,null,{"$f":"Control!$C$20+Control!$C$21*A1558+Control!$C$22*A1558^2","v":415.71465743310188},5100.8545348932721,4819.1454651067279]
[1559,4959,5072,null,null,null,null,null,null,null,null,null,{"$f":"Control!$C$20+Control!$C$21*A1559+Control!$C$22*A1559^2","v":415.98396521859132},5099.8403351316656,4818.1596648683344]
[1560,4959,4948,null,null,null,null,null,null,null,null,null,{"$f":"Control!$C$20+Control!$C$21*A1560+Control!$C$22*A1560^2","v":416.25327300313944},5099.8403351316656,4818.1596648683344]
[1561,4958,4999,null,null,null,null,null,null,null,null,null,{"$f":"Control!$C$20+Control!$C$21*A1561+Control!$C$22*A1561^2","v":416.52258078674629},5098.8261339382716,4817.1738660617284]
[1562,4957,4916,null,null,null,null,null,null,null,null,null,{"$f":"Control!$C$20+Control!$C$21*A1562+Control!$C$22*A1562^2","v":416.79188856941187},5097.8119313126554,4816.1880686873446]
[1563,4956,4975,null,null,null,null,null,null,null,null,null,{"$f":"Control!$C$20+Control!$C$21*A1563+Control!$C$22*A1563^2","v":417.06119635113612},5096.797727254384,4815.202272745616]
[1564,4956,4992,null,null,null,null,null,null,null,null,null,{"$f":"Control!$C$20+Control!$C$21*A1564+Control!$C$22*A1564^2","v":417.33050413191904},5096.797727254384,4815.202272745616]
[1565,4955,4917,null,null,null,null,null,null,null,null,null,{"$f":"Control!$C$20+Control!$C$21*A1565+Control!$C$22*A1565^2","v":417.5998119117607},5095.7835217630245,4814.2164782369755]
[1566,4954,4909,null,null,null,null,null,null,null,null,null,{"$f":"Control!$C$20+Control!$C$21*A1566+Control!$C$22*A1566^2","v":417.86911969066108},5094.7693148381422,4813.2306851618578]
[1567,4953,5164,null,null,null,null,null,null,null,null,null,{"$f":"Control!$C$20+Control!$C$21*A1567+Control!$C$22*A1567^2","v":418.13842746862014},5093.7551064793033,4812.2448935206967]
[1568,4953,4859,null,null,null,null,null,null,null,null,null,{"$f":"Control!$C$20+Control!$C$21*A1568+Control!$C$22*A1568^2","v":418.40773524563792},5093.7551064793033,4812.2448935206967]
[1569,4987,5095,35,null,null,null,null,null,null,null,null,{"$f":"Control!$C$20+Control!$C$21*A1569+Control!$C$22*A1569^2","v":418.67704302171438},5093.7551064793033,4812.2448935206967]
[1570,5099,5196,148,null,null,null,null,null,null,null,null,{"$f":"Control!$C$20+Control!$C$21*A1570+Control!$C$22*A1570^2","v":418.94635079684957},5093.7551064793033,4812.2448935206967]
[1571,5405,5264,454,null,null,null,null,null,null,null,null,{"$f":"Control!$C$20+Control!$C$21*A1571+Control!$C$22*A1571^2","v":419.21565857104343},5093.7551064793033,4812.2448935206967]
[1572,5953,6025,1003,null,null,null,null,null,null,null,null,{"$f":"Control!$C$20+Control!$C$21*A1572+Control!$C$22*A1572^2","v":419.48496634429603},5093.7551064793033,4812.2448935206967]
[1573,6544,6496,1595,null,null,null,null,null,null,null,null,{"$f":"Control!$C$20+Control!$C$21*A1573+Control!$C$22*A1573^2","v":419.75427411660735},5093.7551064793033,4812.2448935206967]
[1574,6775,6671,1827,null,null,null,null,null,null,null,null,{"$f":"Control!$C$20+Control!$C$21*A1574+Control!$C$22*A1574^2","v":420.02358188797734},5093.7551064793033,4812.2448935206967]
[1575,6454,6498,1506,null,null,null,null,null,null,null,null,{"$f":"Control!$C$20+Control!$C$21*A1575+Control!$C$22*A1575^2","v":420.29288965840601},5093.7551064793033,4812.2448935206967]
[1576,5841,5854,894,null,null,null,null,null,null,null,null,{"$f":"Control!$C$20+Control!$C$21*A1576+Control!$C$22*A1576^2","v":420.56219742789341},5093.7551064793033,4812.2448935206967]
[1577,5328,5199,382,null,null,null,null,null,null,null,null,{"$f":"Control!$C$20+Control!$C$21*A1577+Control!$C$22*A1577^2","v":420.83150519643954},5093.7551064793033,4812.2448935206967]
[1578,5063,5102,118,null,null,null,null,null,null,null,null,{"$f":"Control!$C$20+Control!$C$21*A1578+Control!$C$22*A1578^2","v":421.10081296404434},5093.7551064793033,4812.2448935206967]
[1579,4971,5018,26,null,null,null,null,null,null,null,null,{"$f":"Control!$C$20+Control!$C$21*A1579+Control!$C$22*A1579^2","v":421.37012073070781},5093.7551064793033,4812.2448935206967]
[1580,4944,4972,null,null,null,null,null,null,null,null,null,{"$f":"Control!$C$20+Control!$C$21*A1580+Control!$C$22*A1580^2","v":421.63942849643001},5084.6271666499752,4803.3728333500248]
[1581,4943,4972,null,null,null,null,null,null,null,null,null,{"$f":"Control!$C$20+Control!$C$21*A1581+Control!$C$22*A1581^2","v":421.90873626121095},5083.6129439276483,4802.3870560723517]
[1582,4942,4934,null,null,null,null,null,null,null,null,null,{"$f":"Control!$C$20+Control!$C$21*A1582+Control!$C$22*A1582^2","v":422.17804402505055},5082.5987197665754,4801.4012802334246]
[1583,4942,5029,null,null,null,null,null,null,null,null,null,{"$f":"Control!$C$20+Control!$C$21*A1583+Control!$C$22*A1583^2","v":422.44735178794889},5082.5987197665754,4801.4012802334246]
[1584,4941,5028,null,null,null,null,null,null,null,null,null,{"$f":"Control!$C$20+Control!$C$21*A1584+Control!$C$22*A1584^2","v":422.7166595499059},5081.5844941663199,4800.4155058336801]
[1585,4940,4972,null,null,null,null,null,null,null,null,null,{"$f":"Control!$C$20+Control!$C$21*A1585+Control!$C$22*A1585^2","v":422.98596731092164},5080.5702671264444,4799.4297328735556]
[1586,4940,4913,null,null,null,null,null,null,null,null,null,{"$f":"Control!$C$20+Control!$C$21*A1586+Control!$C$22*A1586^2","v":423.25527507099605},5080.5702671264444,4799.4297328735556]
[1587,4939,4933,null,null,null,null,null,null,null,null,null,{"$f":"Control!$C$20+Control!$C$21*A1587+Control!$C$22*A1587^2","v":423.52458283012919},5079.5560386465131,4798.4439613534869]
[1588,4938,4794,null,null,null,null,null,null,null,null,null,{"$f":"Control!$C$20+Control!$C$21*A1588+Control!$C$22*A1588^2","v":423.79389058832101},5078.5418087260869,4797.4581912739131]
[1589,4937,5029,null,null,null,null,null,null,null,null,null,{"$f":"Control!$C$20+Control!$C$21*A1589+Control!$C$22*A1589^2","v":424.06319834557155},5077.527577364729,4796.472422635271]
[1590,4937,4771,null,null,null,null,null,null,null,null,null,{"$f":"Control!$C$20+Control!$C$21*A1590+Control!$C$22*A1590^2","v":424.33250610188082},5077.527577364729,4796.472422635271]
[1591,4936,5058,null,null,null,null,null,null,null,null,null,{"$f":"Control!$C$20+Control!$C$21*A1591+Control!$C$22*A1591^2","v":424.60181385724877},5076.5133445620022,4795.4866554379978]
[1592,4935,4982,null,null,null,null,null,null,null,null,null,{"$f":"Control!$C$20+Control!$C$21*A1592+Control!$C$22*A1592^2","v":424.87112161167539},5075.499110317468,4794.500889682532]
[1593,4934,4880,null,null,null,null,null,null,null,null,null,{"$f":"Control!$C$20+Control!$C$21*A1593+Control!$C$22*A1593^2","v":425.14042936516074},5074.484874630688,4793.515125369312]
[1594,4934,4895,null,null,null,null,null,null,null,null,null,{"$f":"Control!$C$20+Control!$C$21*A1594+Control!$C$22*A1594^2","v":425.40973711770482},5074.484874630688,4793.515125369312]
[1595,4933,4989,null,null,null,null,null,null,null,null,null,{"$f":"Control!$C$20+Control!$C$21*A1595+Control!$C$22*A1595^2","v":425.67904486930757},5073.4706375012229,4792.5293624987771]
[1596,4932,4891,null,null,null,null,null,null,null,null,null,{"$f":"Control!$C$20+Control!$C$21*A1596+Control!$C$22*A1596^2","v":425.948352619969},5072.4563989286353,4791.5436010713647]
[1597,4932,4792,null,null,null,null,null,null,null,null,null,{"$f":"Control!$C$20+Control!$C$21*A1597+Control!$C$22*A1597^2","v":426.21766036968916},5072.4563989286353,4791.5436010713647]
[1598,4931,4985,null,null,null,null,null,null,null,null,null,{"$f":"Control!$C$20+Control!$C$21*A1598+Control!$C$22*A1598^2","v":426.48696811846804},5071.4421589124859,4790.5578410875141]
[1599,4930,5107,null,null,null,null,null,null,null,null,null,{"$f":"Control!$C$20+Control!$C$21*A1599+Control!$C$22*A1599^2","v":426.7562758663056},5070.4279174523354,4789.5720825476646]
[1600,4929,5040,null,null,null,null,null,null,null,null,null,{"$f":"Control!$C$20+Control!$C$21*A1600+Control!$C$22*A1600^2","v":427.02558361320189},5069.4136745477444,4788.5863254522556]
[1601,4929,4991,null,null,null,null,null,null,null,null,null,{"$f":"Control!$C$20+Control!$C$21*A1601+Control!$C$22*A1601^2","v":427.29489135915685},5069.4136745477444,4788.5863254522556]
[1602,4928,5025,null,null,null,null,null,null,null,null,null,{"$f":"Control!$C$20+Control!$C$21*A1602+Control!$C$22*A1602^2","v":427.56419910417054},5068.3994301982739,4787.6005698017261]
[1603,4927,4899,null,null,null,null,null,null,null,null,null,{"$f":"Control!$C$20+Control!$C$21*A1603+Control!$C$22*A1603^2","v":427.83350684824291},{"$f":"IF(D1603=0,B1603+2*SQRT(B1603),N1602)","v":5067.3851844034834},{"$f":"IF(D1603=0,B1603-2*SQRT(B1603),O1602)","v":4786.6148155965166}]
[1604,4926,4954,null,null,null,null,null,null,null,null,null,{"$f":"Control!$C$20+Control!$C$21*A1604+Control!$C$22*A1604^2","v":428.102814591374},5066.3709371629329,4785.6290628370671]
[1605,4926,4966,null,null,null,null,null,null,null,null,null,{"$f":"Control!$C$20+Control!$C$21*A1605+Control!$C$22*A1605^2","v":428.37212233356382},5066.3709371629329,4785.6290628370671]
[1606,4925,4859,null,null,null,null,null,null,null,null,null,{"$f":"Control!$C$20+Control!$C$21*A1606+Control!$C$22*A1606^2","v":428.64143007481232},5065.3566884761822,4784.6433115238178]
[1607,4924,4945,null,null,null,null,null,null,null,null,null,{"$f":"Control!$C$20+Control!$C$21*A1607+Control!$C$22*A1607^2","v":428.91073781511949},5064.342438342791,4783.657561657209]
[1608,4923,4894,null,null,null,null,null,null,null,null,null,{"$f":"Control!$C$20+Control!$C$21*A1608+Control!$C$22*A1608^2","v":429.18004555448539},5063.3281867623182,4782.6718132376818]
[1609,4923,5021,null,null,null,null,null,null,null,null,null,{"$f":"Control!$C$20+Control!$C$21*A1609+Control!$C$22*A1609^2","v":429.44935329291002},5063.3281867623182,4782.6718132376818]
[1610,4922,4886,null,null,null,null,null,null,null,null,null,{"$f":"Control!$C$20+Control!$C$21*A1610+Control!$C$22*A1610^2","v":429.71866103039332},5062.3139337343227,4781.6860662656773]
[1611,4921,4922,null,null,null,null,null,null,null,null,null,{"$f":"Control!$C$20+Control!$C$21*A1611+Control!$C$22*A1611^2","v":429.9879687669353},5061.2996792583644,4780.7003207416356]
[1612,4921,4952,null,null,null,null,null,null,null,null,null,{"$f":"Control!$C$20+Control!$C$21*A1612+Control!$C$22*A1612^2","v":430.257276502536},5061.2996792583644,4780.7003207416356]
[1613,4920,4976,null,null,null,null,null,null,null,null,null,{"$f":"Control!$C$20+Control!$C$21*A1613+Control!$C$22*A1613^2","v":430.52658423719544},5060.2854233340013,4779.7145766659987]
[1614,4919,4990,null,null,null,null,null,null,null,null,null,{"$f":"Control!$C$20+Control!$C$21*A1614+Control!$C$22*A1614^2","v":430.79589197091354},5059.2711659607921,4778.7288340392079]
[1615,4918,4971,null,null,null,null,null,null,null,null,null,{"$f":"Control!$C$20+Control!$C$21*A1615+Control!$C$22*A1615^2","v":431.06519970369038},5058.2569071382941,4777.7430928617059]
[1616,4918,4928,null,null,null,null,null,null,null,null,null,{"$f":"Control!$C$20+Control!$C$21*A1616+Control!$C$22*A1616^2","v":431.33450743552589},5058.2569071382941,4777.7430928617059]
[1617,4917,4956,null,null,null,null,null,null,null,null,null,{"$f":"Control!$C$20+Control!$C$21*A1617+Control!$C$22*A1617^2","v":431.60381516642013},5057.242646866066,4776.757353133934]
[1618,4916,4994,null,null,null,null,null,null,null,null,null,{"$f":"Control!$C$20+Control!$C$21*A1618+Control!$C$22*A1618^2","v":431.87312289637305},5056.228385143665,4775.771614856335]
[1619,4915,5051,null,null,null,null,null,null,null,null,null,{"$f":"Control!$C$20+Control!$C$21*A1619+Control!$C$22*A1619^2","v":432.14243062538469},5055.2141219706491,4774.7858780293509]
[1620,4915,4897,null,null,null,null,null,null,null,null,null,{"$f":"Control!$C$20+Control!$C$21*A1620+Control!$C$22*A1620^2","v":432.41173835345501},5055.2141219706491,4774.7858780293509]
[1621,4914,5007,null,null,null,null,null,null,null,null,null,{"$f":"Control!$C$20+Control!$C$21*A1621+Control!$C$22*A1621^2","v":432.68104608058405},5054.1998573465753,4773.8001426534247]
[1622,4913,4875,null,null,null,null,null,null,null,null,null,{"$f":"Control!$C$20+Control!$C$21*A1622+Control!$C$22*A1622^2","v":432.95035380677183},5053.1855912710007,4772.8144087289993]
[1623,4912,4892,null,null,null,null,null,null,null,null,null,{"$f":"Control!$C$20+Control!$C$21*A1623+Control!$C$22*A1623^2","v":433.21966153201828},5052.1713237434815,4771.8286762565185]
[1624,4912,4839,null,null,null,null,null,null,null,null,null,{"$f":"Control!$C$20+Control!$C$21*A1624+Control!$C$22*A1624^2","v":433.4889692563234},5052.1713237434815,4771.8286762565185]
[1625,4911,4908,null,null,null,null,null,null,null,null,null,{"$f":"Control!$C$20+Control!$C$21*A1625+Control!$C$22*A1625^2","v":433.75827697968725},5051.1570547635756,4770.8429452364244]
[1626,4910,4880,null,null,null,null,null,null,null,null,null,{"$f":"Control!$C$20+Control!$C$21*A1626+Control!$C$22*A1626^2","v":434.02758470210983},5050.1427843308393,4769.8572156691607]
[1627,4910,4924,null,null,null,null,null,null,null,null,null,{"$f":"Control!$C$20+Control!$C$21*A1627+Control!$C$22*A1627^2","v":434.29689242359109},5050.1427843308393,4769.8572156691607]
[1628,4909,4962,null,null,null,null,null,null,null,null,null,{"$f":"Control!$C$20+Control!$C$21*A1628+Control!$C$22*A1628^2","v":434.56620014413102},5049.1285124448268,4768.8714875551732]
[1629,4908,4777,null,null,null,null,null,null,null,null,null,{"$f":"Control!$C$20+Control!$C$21*A1629+Control!$C$22*A1629^2","v":434.83550786372967},5048.1142391050962,4767.8857608949038]
[1630,4907,5008,null,null,null,null,null,null,null,null,null,{"$f":"Control!$C$20+Control!$C$21*A1630+Control!$C$22*A1630^2","v":435.10481558238706},5047.0999643112018,4766.9000356887982]
[1631,4907,4908,null,null,null,null,null,null,null,null,null,{"$f":"Control!$C$20+Control!$C$21*A1631+Control!$C$22*A1631^2","v":435.37412330010312},5047.0999643112018,4766.9000356887982]
[1632,4906,4839,null,null,null,null,null,null,null,null,null,{"$f":"Control!$C$20+Control!$C$21*A1632+Control!$C$22*A1632^2","v":435.64343101687791},5046.0856880626998,4765.9143119373002]
[1633,4905,4957,null,null,null,null,null,null,null,null,null,{"$f":"Control!$C$20+Control!$C$21*A1633+Control!$C$22*A1633^2","v":435.91273873271138},5045.0714103591454,4764.9285896408546]
[1634,4904,4854,null,null,null,null,null,null,null,null,null,{"$f":"Control!$C$20+Control!$C$21*A1634+Control!$C$22*A1634^2","v":436.18204644760357},5044.057131200093,4763.942868799907]
[1635,4904,5092,null,null,null,null,null,null,null,null,null,{"$f":"Control!$C$20+Control!$C$21*A1635+Control!$C$22*A1635^2","v":436.45135416155443},5044.057131200093,4763.942868799907]
[1636,4903,4923,null,null,null,null,null,null,null,null,null,{"$f":"Control!$C$20+Control!$C$21*A1636+Control!$C$22*A1636^2","v":436.72066187456403},5043.0428505850978,4762.9571494149022]
[1637,4902,4909,null,null,null,null,null,null,null,null,null,{"$f":"Control!$C$20+Control!$C$21*A1637+Control!$C$22*A1637^2","v":436.98996958663236},5042.0285685137142,4761.9714314862858]
[1638,4901,4916,null,null,null,null,null,null,null,null,null,{"$f":"Control!$C$20+Control!$C$21*A1638+Control!$C$22*A1638^2","v":437.25927729775935},5041.0142849854974,4760.9857150145026]
[1639,4901,4898,null,null,null,null,null,null,null,null,null,{"$f":"Control!$C$20+Control!$C$21*A1639+Control!$C$22*A1639^2","v":437.52858500794503},5041.0142849854974,4760.9857150145026]
[1640,4900,4920,null,null,null,null,null,null,null,null,null,{"$f":"Control!$C$20+Control!$C$21*A1640+Control!$C$22*A1640^2","v":437.79789271718943},5040,4760]
[1641,4899,4937,null,null,null,null,null,null,null,null,null,{"$f":"Control!$C$20+Control!$C$21*A1641+Control!$C$22*A1641^2","v":438.06720042549256},5038.9857135567772,4759.0142864432228]
[1642,4899,4845,null,null,null,null,null,null,null,null,null,{"$f":"Control!$C$20+Control!$C$21*A1642+Control!$C$22*A1642^2","v":438.33650813285436},5038.9857135567772,4759.0142864432228]
[1643,4898,4899,null,null,null,null,null,null,null,null,null,{"$f":"Control!$C$20+Control!$C$21*A1643+Control!$C$22*A1643^2","v":438.60581583927484},5037.9714256553816,4758.0285743446184]
[1644,4897,4956,null,null,null,null,null,null,null,null,null,{"$f":"Control!$C$20+Control!$C$21*A1644+Control!$C$22*A1644^2","v":438.87512354475405},5036.9571362953675,4757.0428637046325]
[1645,4896,4970,null,null,null,null,null,null,null,null,null,{"$f":"Control!$C$20+Control!$C$21*A1645+Control!$C$22*A1645^2","v":439.14443124929198},5035.9428454762874,4756.0571545237126]
[1646,4896,4940,null,null,null,null,null,null,null,null,null,{"$f":"Control!$C$20+Control!$C$21*A1646+Control!$C$22*A1646^2","v":439.41373895288859},5035.9428454762874,4756.0571545237126]
[1647,4895,4929,null,null,null,null,null,null,null,null,null,{"$f":"Control!$C$20+Control!$C$21*A1647+Control!$C$22*A1647^2","v":439.68304665554393},5034.9285531976948,4755.0714468023052]
[1648,4894,4896,null,null,null,null,null,null,null,null,null,{"$f":"Control!$C$20+Control!$C$21*A1648+Control!$C$22*A1648^2","v":439.95235435725795},5033.9142594591412,4754.0857405408588]
[1649,4893,4851,null,null,null,null,null,null,null,null,null,{"$f":"Control!$C$20+Control!$C$21*A1649+Control!$C$22*A1649^2","v":440.22166205803069},5032.8999642601812,4753.1000357398188]
[1650,4893,4920,null,null,null,null,null,null,null,null,null,{"$f":"Control!$C$20+Control!$C$21*A1650+Control!$C$22*A1650^2","v":440.4909697578621},5032.8999642601812,4753.1000357398188]
[1651,4892,4836,null,null,null,null,null,null,null,null,null,{"$f":"Control!$C$20+Control!$C$21*A1651+Control!$C$22*A1651^2","v":440.76027745675225},5031.8856676003661,4752.1143323996339]
[1652,4891,4873,null,null,null,null,null,null,null,null,null,{"$f":"Control!$C$20+Control!$C$21*A1652+Control!$C$22*A1652^2","v":441.02958515470107},5030.8713694792468,4751.1286305207532]
[1653,4890,4809,null,null,null,null,null,null,null,null,null,{"$f":"Control!$C$20+Control!$C$21*A1653+Control!$C$22*A1653^2","v":441.29889285170862},5029.8570698963767,4750.1429301036233]
[1654,4890,4788,null,null,null,null,null,null,null,null,null,{"$f":"Control!$C$20+Control!$C$21*A1654+Control!$C$22*A1654^2","v":441.56820054777489},5029.8570698963767,4750.1429301036233]
[1655,4889,4892,null,null,null,null,null,null,null,null,null,{"$f":"Control!$C$20+Control!$C$21*A1655+Control!$C$22*A1655^2","v":441.83750824289984},5028.8427688513066,4749.1572311486934]
[1656,4888,4823,null,null,null,null,null,null,null,null,null,{"$f":"Control!$C$20+Control!$C$21*A1656+Control!$C$22*A1656^2","v":442.10681593708347},5027.8284663435879,4748.1715336564121]
[1657,4888,4867,null,null,null,null,null,null,null,null,null,{"$f":"Control!$C$20+Control!$C$21*A1657+Control!$C$22*A1657^2","v":442.37612363032582},5027.8284663435879,4748.1715336564121]
[1658,4887,4976,null,null,null,null,null,null,null,null,null,{"$f":"Control!$C$20+Control!$C$21*A1658+Control!$C$22*A1658^2","v":442.64543132262691},5026.8141623727724,4747.1858376272276]
[1659,4886,4898,null,null,null,null,null,null,null,null,null,{"$f":"Control!$C$20+Control!$C$21*A1659+Control!$C$22*A1659^2","v":442.91473901398666},5025.7998569384108,4746.2001430615892]
[1660,4885,4956,null,null,null,null,null,null,null,null,null,{"$f":"Control!$C$20+Control!$C$21*A1660+Control!$C$22*A1660^2","v":443.18404670440509},5024.7855500400528,4745.2144499599472]
[1661,4885,4803,null,null,null,null,null,null,null,null,null,{"$f":"Control!$C$20+Control!$C$21*A1661+Control!$C$22*A1661^2","v":443.45335439388225},5024.7855500400528,4745.2144499599472]
[1662,4884,4905,null,null,null,null,null,null,null,null,null,{"$f":"Control!$C$20+Control!$C$21*A1662+Control!$C$22*A1662^2","v":443.72266208241814},5023.7712416772492,4744.2287583227508]
[1663,4883,4892,null,null,null,null,null,null,null,null,null,{"$f":"Control!$C$20+Control!$C$21*A1663+Control!$C$22*A1663^2","v":443.9919697700127},5022.7569318495507,4743.2430681504493]
[1664,4882,4883,null,null,null,null,null,null,null,null,null,{"$f":"Control!$C$20+Control!$C$21*A1664+Control!$C$22*A1664^2","v":444.26127745666599},5021.7426205565071,4742.2573794434929]
[1665,4882,4941,null,null,null,null,null,null,null,null,null,{"$f":"Control!$C$20+Control!$C$21*A1665+Control!$C$22*A1665^2","v":444.53058514237796},5021.7426205565071,4742.2573794434929]
[1666,4881,4817,null,null,null,null,null,null,null,null,null,{"$f":"Control!$C$20+Control!$C$21*A1666+Control!$C$22*A1666^2","v":444.79989282714865},5020.7283077976681,4741.2716922023319]
[1667,4880,4830,null,null,null,null,null,null,null,null,null,{"$f":"Control!$C$20+Control!$C$21*A1667+Control!$C$22*A1667^2","v":445.06920051097802},{"$f":"IF(D1667=0,B1667+2*SQRT(B1667),N1666)","v":5019.7139935725836},{"$f":"IF(D1667=0,B1667-2*SQRT(B1667),O1666)","v":4740.2860064274164}]
[1668,4879,4870,null,null,null,null,null,null,null,null,null,{"$f":"Control!$C$20+Control!$C$21*A1668+Control!$C$22*A1668^2","v":445.33850819386612},5018.6996778808025,4739.3003221191975]
[1669,4879,4748,null,null,null,null,null,null,null,null,null,{"$f":"Control!$C$20+Control!$C$21*A1669+Control!$C$22*A1669^2","v":445.60781587581295},5018.6996778808025,4739.3003221191975]
[1670,4878,4989,null,null,null,null,null,null,null,null,null,{"$f":"Control!$C$20+Control!$C$21*A1670+Control!$C$22*A1670^2","v":445.87712355681845},5017.6853607218736,4738.3146392781264]
[1671,4877,4893,null,null,null,null,null,null,null,null,null,{"$f":"Control!$C$20+Control!$C$21*A1671+Control!$C$22*A1671^2","v":446.14643123688262},5016.6710420953459,4737.3289579046541]
[1672,4877,4925,null,null,null,null,null,null,null,null,null,{"$f":"Control!$C$20+Control!$C$21*A1672+Control!$C$22*A1672^2","v":446.41573891600552},5016.6710420953459,4737.3289579046541]
[1673,4876,4835,null,null,null,null,null,null,null,null,null,{"$f":"Control!$C$20+Control!$C$21*A1673+Control!$C$22*A1673^2","v":446.68504659418716},5015.6567220007692,4736.3432779992308]
[1674,4875,4928,null,null,null,null,null,null,null,null,null,{"$f":"Control!$C$20+Control!$C$21*A1674+Control!$C$22*A1674^2","v":446.95435427142746},5014.6424004376895,4735.3575995623105]
[1675,4874,4860,null,null,null,null,null,null,null,null,null,{"$f":"Control!$C$20+Control!$C$21*A1675+Control!$C$22*A1675^2","v":447.22366194772644},5013.6280774056568,4734.3719225943432]
[1676,4874,4846,null,null,null,null,null,null,null,null,null,{"$f":"Control!$C$20+Control!$C$21*A1676+Control!$C$22*A1676^2","v":447.49296962308415},5013.6280774056568,4734.3719225943432]
[1677,4873,4927,null,null,null,null,null,null,null,null,null,{"$f":"Control!$C$20+Control!$C$21*A1677+Control!$C$22*A1677^2","v":447.76227729750059},5012.613752904218,4733.386247095782]
[1678,4872,4843,null,null,null,null,null,null,null,null,null,{"$f":"Control!$C$20+Control!$C$21*A1678+Control!$C$22*A1678^2","v":448.0315849709757},5011.5994269329212,4732.4005730670788]
[1679,4871,4972,null,null,null,null,null,null,null,null,null,{"$f":"Control!$C$20+Control!$C$21*A1679+Control!$C$22*A1679^2","v":448.30089264350954},5010.5850994913135,4731.4149005086865]
[1680,4871,4902,null,null,null,null,null,null,null,null,null,{"$f":"Control!$C$20+Control!$C$21*A1680+Control!$C$22*A1680^2","v":448.57020031510206},5010.5850994913135,4731.4149005086865]
[1681,4870,4760,null,null,null,null,null,null,null,null,null,{"$f":"Control!$C$20+Control!$C$21*A1681+Control!$C$22*A1681^2","v":448.8395079857533},5009.5707705789428,4730.4292294210572]
[1682,4869,4996,null,null,null,null,null,null,null,null,null,{"$f":"Control!$C$20+Control!$C$21*A1682+Control!$C$22*A1682^2","v":449.10881565546322},5008.5564401953561,4729.4435598046439]
[1683,4868,4930,null,null,null,null,null,null,null,null,null,{"$f":"Control!$C$20+Control!$C$21*A1683+Control!$C$22*A1683^2","v":449.37812332423186},5007.5421083400997,4728.4578916599003]
[1684,4868,4840,null,null,null,null,null,null,null,null,null,{"$f":"Control!$C$20+Control!$C$21*A1684+Control!$C$22*A1684^2","v":449.64743099205918},5007.5421083400997,4728.4578916599003]
[1685,4867,4933,null,null,null,null,null,null,null,null,null,{"$f":"Control!$C$20+Control!$C$21*A1685+Control!$C$22*A1685^2","v":449.91673865894523},5006.5277750127188,4727.4722249872812]
[1686,4866,4813,null,null,null,null,null,null,null,null,null,{"$f":"Control!$C$20+Control!$C$21*A1686+Control!$C$22*A1686^2","v":450.18604632489001},5005.5134402127624,4726.4865597872376]
[1687,4866,4792,null,null,null,null,null,null,null,null,null,{"$f":"Control!$C$20+Control!$C$21*A1687+Control!$C$22*A1687^2","v":450.45535398989347},5005.5134402127624,4726.4865597872376]
[1688,4865,4786,null,null,null,null,null,null,null,null,null,{"$f":"Control!$C$20+Control!$C$21*A1688+Control!$C$22*A1688^2","v":450.72466165395559},5004.4991039397746,4725.5008960602254]
[1689,4864,4908,null,null,null,null,null,null,null,null,null,{"$f":"Control!$C$20+Control!$C$21*A1689+Control!$C$22*A1689^2","v":450.99396931707645},5003.4847661933018,4724.5152338066982]
[1690,4863,4826,null,null,null,null,null,null,null,null,null,{"$f":"Control!$C$20+Control!$C$21*A1690+Control!$C$22*A1690^2","v":451.26327697925603},5002.4704269728891,4723.5295730271109]
[1691,4863,4927,null,null,null,null,null,null,null,null,null,{"$f":"Control!$C$20+Control!$C$21*A1691+Control!$C$22*A1691^2","v":451.53258464049429},5002.4704269728891,4723.5295730271109]
[1692,4862,4800,null,null,null,null,null,null,null,null,null,{"$f":"Control!$C$20+Control!$C$21*A1692+Control!$C$22*A1692^2","v":451.80189230079122},5001.4560862780827,4722.5439137219173]
[1693,4861,4812,null,null,null,null,null,null,null,null,null,{"$f":"Control!$C$20+Control!$C$21*A1693+Control!$C$22*A1693^2","v":452.07119996014688},5000.441744108427,4721.558255891573]
[1694,4860,4684,null,null,null,null,null,null,null,null,null,{"$f":"Control!$C$20+Control!$C$21*A1694+Control!$C$22*A1694^2","v":452.34050761856128},4999.4274004634672,4720.5725995365328]
[1695,4860,4845,null,null,null,null,null,null,null,null,null,{"$f":"Control!$C$20+Control!$C$21*A1695+Control!$C$22*A1695^2","v":452.60981527603434},4999.4274004634672,4720.5725995365328]
[1696,4859,4913,null,null,null,null,null,null,null,null,null,{"$f":"Control!$C$20+Control!$C$21*A1696+Control!$C$22*A1696^2","v":452.87912293256613},4998.4130553427476,4719.5869446572524]
[1697,4858,4974,null,null,null,null,null,null,null,null,null,{"$f":"Control!$C$20+Control!$C$21*A1697+Control!$C$22*A1697^2","v":453.1484305881566},4997.3987087458127,4718.6012912541873]
[1698,4858,4891,null,null,null,null,null,null,null,null,null,{"$f":"Control!$C$20+Control!$C$21*A1698+Control!$C$22*A1698^2","v":453.4177382428058},4997.3987087458127,4718.6012912541873]
[1699,4857,4816,null,null,null,null,null,null,null,null,null,{"$f":"Control!$C$20+Control!$C$21*A1699+Control!$C$22*A1699^2","v":453.68704589651367},4996.3843606722075,4717.6156393277925]
[1700,4856,4832,null,null,null,null,null,null,null,null,null,{"$f":"Control!$C$20+Control!$C$21*A1700+Control!$C$22*A1700^2","v":453.95635354928027},4995.3700111214748,4716.6299888785252]
[1701,4855,4837,null,null,null,null,null,null,null,null,null,{"$f":"Control!$C$20+Control!$C$21*A1701+Control!$C$22*A1701^2","v":454.22566120110559},4994.3556600931588,4715.6443399068412]
[1702,4855,4851,null,null,null,null,null,null,null,null,null,{"$f":"Control!$C$20+Control!$C$21*A1702+Control!$C$22*A1702^2","v":454.4949688519896},4994.3556600931588,4715.6443399068412]
[1703,4854,4931,null,null,null,null,null,null,null,null,null,{"$f":"Control!$C$20+Control!$C$21*A1703+Control!$C$22*A1703^2","v":454.76427650193227},4993.3413075868029,4714.6586924131971]
[1704,4853,4782,null,null,null,null,null,null,null,null,null,{"$f":"Control!$C$20+Control!$C$21*A1704+Control!$C$22*A1704^2","v":455.03358415093368},4992.3269536019507,4713.6730463980493]
[1705,4852,4832,null,null,null,null,null,null,null,null,null,{"$f":"Control!$C$20+Control!$C$21*A1705+Control!$C$22*A1705^2","v":455.30289179899381},4991.3125981381436,4712.6874018618564]
[1706,4852,4983,null,null,null,null,null,null,null,null,null,{"$f":"Control!$C$20+Control!$C$21*A1706+Control!$C$22*A1706^2","v":455.57219944611262},4991.3125981381436,4712.6874018618564]
[1707,4851,4973,null,null,null,null,null,null,null,null,null,{"$f":"Control!$C$20+Control!$C$21*A1707+Control!$C$22*A1707^2","v":455.8415070922901},4990.298241194927,4711.701758805073]
[1708,4850,4889,null,null,null,null,null,null,null,null,null,{"$f":"Control!$C$20+Control!$C$21*A1708+Control!$C$22*A1708^2","v":456.11081473752631},4989.2838827718415,4710.7161172281585]
[1709,4849,4897,null,null,null,null,null,null,null,null,null,{"$f":"Control!$C$20+Control!$C$21*A1709+Control!$C$22*A1709^2","v":456.38012238182125},4988.2695228684297,4709.7304771315703]
[1710,4849,4653,null,null,null,null,null,null,null,null,null,{"$f":"Control!$C$20+Control!$C$21*A1710+Control!$C$22*A1710^2","v":456.64943002517487},4988.2695228684297,4709.7304771315703]
[1711,4848,4787,null,null,null,null,null,null,null,null,null,{"$f":"Control!$C$20+Control!$C$21*A1711+Control!$C$22*A1711^2","v":456.91873766758721},4987.2551614842341,4708.7448385157659]
[1712,4847,4848,null,null,null,null,null,null,null,null,null,{"$f":"Control!$C$20+Control!$C$21*A1712+Control!$C$22*A1712^2","v":457.18804530905823},4986.2407986187955,4707.7592013812045]
[1713,4847,4843,null,null,null,null,null,null,null,null,null,{"$f":"Control!$C$20+Control!$C$21*A1713+Control!$C$22*A1713^2","v":457.45735294958797},4986.2407986187955,4707.7592013812045]
[1714,4846,4862,null,null,null,null,null,null,null,null,null,{"$f":"Control!$C$20+Control!$C$21*A1714+Control!$C$22*A1714^2","v":457.72666058917639},4985.2264342716571,4706.7735657283429]
[1715,4845,4869,null,null,null,null,null,null,null,null,null,{"$f":"Control!$C$20+Control!$C$21*A1715+Control!$C$22*A1715^2","v":457.99596822782354},4984.2120684423589,4705.7879315576411]
[1716,4844,4838,null,null,null,null,null,null,null,null,null,{"$f":"Control!$C$20+Control!$C$21*A1716+Control!$C$22*A1716^2","v":458.26527586552936},4983.1977011304425,4704.8022988695575]
[1717,4858,4889,14,null,null,null,null,null,null,null,null,{"$f":"Control!$C$20+Control!$C$21*A1717+Control!$C$22*A1717^2","v":458.53458350229391},4983.1977011304425,4704.8022988695575]
[1718,4906,4905,63,null,null,null,null,null,null,null,null,{"$f":"Control!$C$20+Control!$C$21*A1718+Control!$C$22*A1718^2","v":458.80389113811719},4983.1977011304425,4704.8022988695575]
[1719,5056,5033,214,null,null,null,null,null,null,null,null,{"$f":"Control!$C$20+Control!$C$21*A1719+Control!$C$22*A1719^2","v":459.07319877299915},4983.1977011304425,4704.8022988695575]
[1720,5371,5333,530,null,null,null,null,null,null,null,null,{"$f":"Control!$C$20+Control!$C$21*A1720+Control!$C$22*A1720^2","v":459.34250640693978},4983.1977011304425,4704.8022988695575]
[1721,5806,5682,965,null,null,null,null,null,null,null,null,{"$f":"Control!$C$20+Control!$C$21*A1721+Control!$C$22*A1721^2","v":459.61181403993913},4983.1977011304425,4704.8022988695575]
[1722,6130,6026,1290,null,null,null,null,null,null,null,null,{"$f":"Control!$C$20+Control!$C$21*A1722+Control!$C$22*A1722^2","v":459.88112167199722},4983.1977011304425,4704.8022988695575]
[1723,6106,5888,1267,null,null,null,null,null,null,null,null,{"$f":"Control!$C$20+Control!$C$21*A1723+Control!$C$22*A1723^2","v":460.15042930311398},4983.1977011304425,4704.8022988695575]
[1724,5752,5640,914,null,null,null,null,null,null,null,null,{"$f":"Control!$C$20+Control!$C$21*A1724+Control!$C$22*A1724^2","v":460.41973693328941},4983.1977011304425,4704.8022988695575]
[1725,5322,5163,484,null,null,null,null,null,null,null,null,{"$f":"Control!$C$20+Control!$C$21*A1725+Control!$C$22*A1725^2","v":460.68904456252358},4983.1977011304425,4704.8022988695575]
[1726,5026,5026,189,null,null,null,null,null,null,null,null,{"$f":"Control!$C$20+Control!$C$21*A1726+Control!$C$22*A1726^2","v":460.95835219081647},4983.1977011304425,4704.8022988695575]
[1727,4890,4924,54,null,null,null,null,null,null,null,null,{"$f":"Control!$C$20+Control!$C$21*A1727+Control!$C$22*A1727^2","v":461.22765981816804},4983.1977011304425,4704.8022988695575]
[1728,4836,4801,null,null,null,null,null,null,null,null,null,{"$f":"Control!$C$20+Control!$C$21*A1728+Control!$C$22*A1728^2","v":461.49696744457833},4975.0827092057098,4696.9172907942902]
[1729,4835,4825,null,null,null,null,null,null,null,null,null,{"$f":"Control!$C$20+Control!$C$21*A1729+Control!$C$22*A1729^2","v":461.7662750700473},4974.0683285295399,4695.9316714704601]
[1730,4834,4881,null,null,null,null,null,null,null,null,null,{"$f":"Control!$C$20+Control!$C$21*A1730+Control!$C$22*A1730^2","v":462.035582694575},4973.0539463661498,4694.9460536338502]
[1731,4833,4804,null,null,null,null,null,null,null,null,null,{"$f":"Control!$C$20+Control!$C$21*A1731+Control!$C$22*A1731^2","v":462.30489031816137},{"$f":"IF(D1731=0,B1731+2*SQRT(B1731),N1730)","v":4972.0395627150774},{"$f":"IF(D1731=0,B1731-2*SQRT(B1731),O1730)","v":4693.9604372849226}]
[1732,4833,4855,null,null,null,null,null,null,null,null,null,{"$f":"Control!$C$20+Control!$C$21*A1732+Control!$C$22*A1732^2","v":462.57419794080647},4972.0395627150774,4693.9604372849226]
[1733,4832,4997,null,null,null,null,null,null,null,null,null,{"$f":"Control!$C$20+Control!$C$21*A1733+Control!$C$22*A1733^2","v":462.8435055625103},4971.0251775758625,4692.9748224241375]
[1734,4831,4726,null,null,null,null,null,null,null,null,null,{"$f":"Control!$C$20+Control!$C$21*A1734+Control!$C$22*A1734^2","v":463.11281318327281},4970.0107909480412,4691.9892090519588]
[1735,4830,4807,null,null,null,null,null,null,null,null,null,{"$f":"Control!$C$20+Control!$C$21*A1735+Control!$C$22*A1735^2","v":463.38212080309398},4968.9964028311524,4691.0035971688476]
[1736,4830,4746,null,null,null,null,null,null,null,null,null,{"$f":"Control!$C$20+Control!$C$21*A1736+Control!$C$22*A1736^2","v":463.65142842197389},4968.9964028311524,4691.0035971688476]
[1737,4829,4805,null,null,null,null,null,null,null,null,null,{"$f":"Control!$C$20+Control!$C$21*A1737+Control!$C$22*A1737^2","v":463.92073603991253},4967.9820132247332,4690.0179867752668]
[1738,4828,5003,null,null,null,null,null,null,null,null,null,{"$f":"Control!$C$20+Control!$C$21*A1738+Control!$C$22*A1738^2","v":464.19004365690984},4966.9676221283216,4689.0323778716784]
[1739,4827,4869,null,null,null,null,null,null,null,null,null,{"$f":"Control!$C$20+Control!$C$21*A1739+Control!$C$22*A1739^2","v":464.45935127296582},4965.9532295414538,4688.0467704585462]
[1740,4827,4852,null,null,null,null,null,null,null,null,null,{"$f":"Control!$C$20+Control!$C$21*A1740+Control!$C$22*A1740^2","v":464.72865888808053},4965.9532295414538,4688.0467704585462]
[1741,4826,4608,null,null,null,null,null,null,null,null,null,{"$f":"Control!$C$20+Control!$C$21*A1741+Control!$C$22*A1741^2","v":464.99796650225397},4964.9388354636676,4687.0611645363324]
[1742,4825,4813,null,null,null,null,null,null,null,null,null,{"$f":"Control!$C$20+Control!$C$21*A1742+Control!$C$22*A1742^2","v":465.26727411548609},4963.9244398944984,4686.0755601055016]
[1743,4825,4857,null,null,null,null,null,null,null,null,null,{"$f":"Control!$C$20+Control!$C$21*A1743+Control!$C$22*A1743^2","v":465.53658172777693},4963.9244398944984,4686.0755601055016]
[1744,4824,4834,null,null,null,null,null,null,null,null,null,{"$f":"Control!$C$20+Control!$C$21*A1744+Control!$C$22*A1744^2","v":465.80588933912645},4962.9100428334823,4685.0899571665177]
[1745,4823,4860,null,null,null,null,null,null,null,null,null,{"$f":"Control!$C$20+Control!$C$21*A1745+Control!$C$22*A1745^2","v":466.0751969495347},4961.8956442801573,4684.1043557198427]
[1746,4822,4782,null,null,null,null,null,null,null,null,null,{"$f":"Control!$C$20+Control!$C$21*A1746+Control!$C$22*A1746^2","v":466.34450455900162},4960.8812442340577,4683.1187557659423]
[1747,4822,4711,null,null,null,null,null,null,null,null,null,{"$f":"Control!$C$20+Control!$C$21*A1747+Control!$C$22*A1747^2","v":466.61381216752727},4960.8812442340577,4683.1187557659423]
[1748,4821,4806,null,null,null,null,null,null,null,null,null,{"$f":"Control!$C$20+Control!$C$21*A1748+Control!$C$22*A1748^2","v":466.8831197751116},4959.8668426947197,4682.1331573052803]
[1749,4820,4899,null,null,null,null,null,null,null,null,null,{"$f":"Control!$C$20+Control!$C$21*A1749+Control!$C$22*A1749^2","v":467.15242738175465},4958.8524396616785,4681.1475603383215]
[1750,4819,4873,null,null,null,null,null,null,null,null,null,{"$f":"Control!$C$20+Control!$C$21*A1750+Control!$C$22*A1750^2","v":467.42173498745643},4957.8380351344686,4680.1619648655314]
[1751,4819,4870,null,null,null,null,null,null,null,null,null,{"$f":"Control!$C$20+Control!$C$21*A1751+Control!$C$22*A1751^2","v":467.69104259221689},4957.8380351344686,4680.1619648655314]
[1752,4818,4736,null,null,null,null,null,null,null,null,null,{"$f":"Control!$C$20+Control!$C$21*A1752+Control!$C$22*A1752^2","v":467.96035019603602},4956.8236291126259,4679.1763708873741]
[1753,4817,4819,null,null,null,null,null,null,null,null,null,{"$f":"Control!$C$20+Control!$C$21*A1753+Control!$C$22*A1753^2","v":468.22965779891388},4955.8092215956849,4678.1907784043151]
[1754,4816,4863,null,null,null,null,null,null,null,null,null,{"$f":"Control!$C$20+Control!$C$21*A1754+Control!$C$22*A1754^2","v":468.49896540085047},4954.7948125831799,4677.2051874168201]
[1755,4816,4840,null,null,null,null,null,null,null,null,null,{"$f":"Control!$C$20+Control!$C$21*A1755+Control!$C$22*A1755^2","v":468.76827300184573},4954.7948125831799,4677.2051874168201]
[1756,4815,4721,null,null,null,null,null,null,null,null,null,{"$f":"Control!$C$20+Control!$C$21*A1756+Control!$C$22*A1756^2","v":469.03758060189966},4953.7804020746444,4676.2195979253556]
[1757,4814,4964,null,null,null,null,null,null,null,null,null,{"$f":"Control!$C$20+Control!$C$21*A1757+Control!$C$22*A1757^2","v":469.30688820101233},4952.7659900696135,4675.2340099303865]
[1758,4814,4747,null,null,null,null,null,null,null,null,null,{"$f":"Control!$C$20+Control!$C$21*A1758+Control!$C$22*A1758^2","v":469.57619579918372},4952.7659900696135,4675.2340099303865]
[1759,4813,4790,null,null,null,null,null,null,null,null,null,{"$f":"Control!$C$20+Control!$C$21*A1759+Control!$C$22*A1759^2","v":469.84550339641379},4951.7515765676198,4674.2484234323802]
[1760,4812,4795,null,null,null,null,null,null,null,null,null,{"$f":"Control!$C$20+Control!$C$21*A1760+Control!$C$22*A1760^2","v":470.11481099270259},4950.7371615681968,4673.2628384318032]
[1761,4811,4762,null,null,null,null,null,null,null,null,null,{"$f":"Control!$C$20+Control!$C$21*A1761+Control!$C$22*A1761^2","v":470.38411858805006},4949.7227450708788,4672.2772549291212]
[1762,4811,4707,null,null,null,null,null,null,null,null,null,{"$f":"Control!$C$20+Control!$C$21*A1762+Control!$C$22*A1762^2","v":470.65342618245626},4949.7227450708788,4672.2772549291212]
[1763,4810,4918,null,null,null,null,null,null,null,null,null,{"$f":"Control!$C$20+Control!$C$21*A1763+Control!$C$22*A1763^2","v":470.92273377592113},4948.7083270751973,4671.2916729248027]
[1764,4809,4813,null,null,null,null,null,null,null,null,null,{"$f":"Control!$C$20+Control!$C$21*A1764+Control!$C$22*A1764^2","v":471.19204136844473},4947.6939075806868,4670.3060924193132]
[1765,4808,4788,null,null,null,null,null,null,null,null,null,{"$f":"Control!$C$20+Control!$C$21*A1765+Control!$C$22*A1765^2","v":471.46134896002707},4946.6794865868778,4669.3205134131222]
[1766,4808,4784,null,null,null,null,null,null,null,null,null,{"$f":"Control!$C$20+Control!$C$21*A1766+Control!$C$22*A1766^2","v":471.73065655066807},4946.6794865868778,4669.3205134131222]
[1767,4807,4812,null,null,null,null,null,null,null,null,null,{"$f":"Control!$C$20+Control!$C$21*A1767+Control!$C$22*A1767^2","v":471.99996414036775},4945.665064093304,4668.334935906696]
[1768,4806,4853,null,null,null,null,null,null,null,null,null,{"$f":"Control!$C$20+Control!$C$21*A1768+Control!$C$22*A1768^2","v":472.26927172912616},4944.6506400994958,4667.3493599005042]
[1769,4805,4718,null,null,null,null,null,null,null,null,null,{"$f":"Control!$C$20+Control!$C$21*A1769+Control!$C$22*A1769^2","v":472.5385793169433},4943.6362146049869,4666.3637853950131]
[1770,4805,4756,null,null,null,null,null,null,null,null,null,{"$f":"Control!$C$20+Control!$C$21*A1770+Control!$C$22*A1770^2","v":472.80788690381911},4943.6362146049869,4666.3637853950131]
[1771,4804,4861,null,null,null,null,null,null,null,null,null,{"$f":"Control!$C$20+Control!$C$21*A1771+Control!$C$22*A1771^2","v":473.07719448975359},4942.6217876093078,4665.3782123906922]
[1772,4803,4845,null,null,null,null,null,null,null,null,null,{"$f":"Control!$C$20+Control!$C$21*A1772+Control!$C$22*A1772^2","v":473.34650207474681},4941.6073591119894,4664.3926408880106]
[1773,4803,4765,null,null,null,null,null,null,null,null,null,{"$f":"Control!$C$20+Control!$C$21*A1773+Control!$C$22*A1773^2","v":473.61580965879875},4941.6073591119894,4664.3926408880106]
[1774,4802,4863,null,null,null,null,null,null,null,null,null,{"$f":"Control!$C$20+Control!$C$21*A1774+Control!$C$22*A1774^2","v":473.88511724190937},4940.5929291125631,4663.4070708874369]
[1775,4801,4825,null,null,null,null,null,null,null,null,null,{"$f":"Control!$C$20+Control!$C$21*A1775+Control!$C$22*A1775^2","v":474.15442482407872},4939.5784976105597,4662.4215023894403]
[1776,4800,4819,null,null,null,null,null,null,null,null,null,{"$f":"Control!$C$20+Control!$C$21*A1776+Control!$C$22*A1776^2","v":474.42373240530674},4938.5640646055099,4661.4359353944901]
[1777,4800,4875,null,null,null,null,null,null,null,null,null,{"$f":"Control!$C$20+Control!$C$21*A1777+Control!$C$22*A1777^2","v":474.69303998559349},4938.5640646055099,4661.4359353944901]
[1778,4799,4876,null,null,null,null,null,null,null,null,null,{"$f":"Control!$C$20+Control!$C$21*A1778+Control!$C$22*A1778^2","v":474.96234756493891},4937.5496300969444,4660.4503699030556]
[1779,4798,4752,null,null,null,null,null,null,null,null,null,{"$f":"Control!$C$20+Control!$C$21*A1779+Control!$C$22*A1779^2","v":475.23165514334306},4936.5351940843912,4659.4648059156088]
[1780,4797,4816,null,null,null,null,null,null,null,null,null,{"$f":"Control!$C$20+Control!$C$21*A1780+Control!$C$22*A1780^2","v":475.50096272080589},4935.5207565673827,4658.4792434326173]
[1781,4797,4871,null,null,null,null,null,null,null,null,null,{"$f":"Control!$C$20+Control!$C$21*A1781+Control!$C$22*A1781^2","v":475.77027029732744},4935.5207565673827,4658.4792434326173]
[1782,4796,4808,null,null,null,null,null,null,null,null,null,{"$f":"Control!$C$20+Control!$C$21*A1782+Control!$C$22*A1782^2","v":476.03957787290773},4934.5063175454461,4657.4936824545539]
[1783,4795,4944,null,null,null,null,null,null,null,null,null,{"$f":"Control!$C$20+Control!$C$21*A1783+Control!$C$22*A1783^2","v":476.30888544754669},4933.4918770181121,4656.5081229818879]
[1784,4795,4927,null,null,null,null,null,null,null,null,null,{"$f":"Control!$C$20+Control!$C$21*A1784+Control!$C$22*A1784^2","v":476.57819302124432},4933.4918770181121,4656.5081229818879]
[1785,4794,4803,null,null,null,null,null,null,null,null,null,{"$f":"Control!$C$20+Control!$C$21*A1785+Control!$C$22*A1785^2","v":476.84750059400068},4932.4774349849104,4655.5225650150896]
[1786,4793,4778,null,null,null,null,null,null,null,null,null,{"$f":"Control!$C$20+Control!$C$21*A1786+Control!$C$22*A1786^2","v":477.11680816581577},4931.4629914453681,4654.5370085546319]
[1787,4792,4903,null,null,null,null,null,null,null,null,null,{"$f":"Control!$C$20+Control!$C$21*A1787+Control!$C$22*A1787^2","v":477.38611573668953},4930.448546399014,4653.551453600986]
[1788,4792,4818,null,null,null,null,null,null,null,null,null,{"$f":"Control!$C$20+Control!$C$21*A1788+Control!$C$22*A1788^2","v":477.65542330662197},4930.448546399014,4653.551453600986]
[1789,4791,4722,null,null,null,null,null,null,null,null,null,{"$f":"Control!$C$20+Control!$C$21*A1789+Control!$C$22*A1789^2","v":477.92473087561314},4929.4340998453781,4652.5659001546219]
[1790,4790,4872,null,null,null,null,null,null,null,null,null,{"$f":"Control!$C$20+Control!$C$21*A1790+Control!$C$22*A1790^2","v":478.19403844366303},4928.4196517839864,4651.5803482160136]
[1791,4789,4905,null,null,null,null,null,null,null,null,null,{"$f":"Control!$C$20+Control!$C$21*A1791+Control!$C$22*A1791^2","v":478.4633460107716},4927.4052022143678,4650.5947977856322]
[1792,4789,4713,null,null,null,null,null,null,null,null,null,{"$f":"Control!$C$20+Control!$C$21*A1792+Control!$C$22*A1792^2","v":478.7326535769389},4927.4052022143678,4650.5947977856322]
[1793,4788,4849,null,null,null,null,null,null,null,null,null,{"$f":"Control!$C$20+Control!$C$21*A1793+Control!$C$22*A1793^2","v":479.00196114216487},4926.3907511360494,4649.6092488639506]
[1794,4787,4713,null,null,null,null,null,null,null,null,null,{"$f":"Control!$C$20+Control!$C$21*A1794+Control!$C$22*A1794^2","v":479.27126870644958},4925.3762985485591,4648.6237014514409]
[1795,4786,4827,null,null,null,null,null,null,null,null,null,{"$f":"Control!$C$20+Control!$C$21*A1795+Control!$C$22*A1795^2","v":479.54057626979295},{"$f":"IF(D1795=0,B1795+2*SQRT(B1795),N1794)","v":4924.3618444514241},{"$f":"IF(D1795=0,B1795-2*SQRT(B1795),O1794)","v":4647.6381555485759}]
[1796,4786,4801,null,null,null,null,null,null,null,null,null,{"$f":"Control!$C$20+Control!$C$21*A1796+Control!$C$22*A1796^2","v":479.80988383219506},4924.3618444514241,4647.6381555485759]
[1797,4785,4728,null,null,null,null,null,null,null,null,null,{"$f":"Control!$C$20+Control!$C$21*A1797+Control!$C$22*A1797^2","v":480.07919139365589},4923.3473888441704,4646.6526111558296]
[1798,4784,4677,null,null,null,null,null,null,null,null,null,{"$f":"Control!$C$20+Control!$C$21*A1798+Control!$C$22*A1798^2","v":480.3484989541754},4922.3329317263251,4645.6670682736749]
[1799,4784,4816,null,null,null,null,null,null,null,null,null,{"$f":"Control!$C$20+Control!$C$21*A1799+Control!$C$22*A1799^2","v":480.61780651375358},4922.3329317263251,4645.6670682736749]
[1800,4783,4975,null,null,null,null,null,null,null,null,null,{"$f":"Control!$C$20+Control!$C$21*A1800+Control!$C$22*A1800^2","v":480.88711407239049},4921.3184730974135,4644.6815269025865]
[1801,4782,4788,null,null,null,null,null,null,null,null,null,{"$f":"Control!$C$20+Control!$C$21*A1801+Control!$C$22*A1801^2","v":481.15642163008613},4920.3040129569636,4643.6959870430364]
[1802,4781,4848,null,null,null,null,null,null,null,null,null,{"$f":"Control!$C$20+Control!$C$21*A1802+Control!$C$22*A1802^2","v":481.42572918684044},4919.2895513045005,4642.7104486954995]
[1803,4781,4897,null,null,null,null,null,null,null,null,null,{"$f":"Control!$C$20+Control!$C$21*A1803+Control!$C$22*A1803^2","v":481.69503674265343},4919.2895513045005,4642.7104486954995]
[1804,4780,4715,null,null,null,null,null,null,null,null,null,{"$f":"Control!$C$20+Control!$C$21*A1804+Control!$C$22*A1804^2","v":481.96434429752514},4918.2750881395486,4641.7249118604514]
[1805,4779,4768,null,null,null,null,null,null,null,null,null,{"$f":"Control!$C$20+Control!$C$21*A1805+Control!$C$22*A1805^2","v":482.23365185145559},4917.2606234616351,4640.7393765383649]
[1806,4778,4713,null,null,null,null,null,null,null,null,null,{"$f":"Control!$C$20+Control!$C$21*A1806+Control!$C$22*A1806^2","v":482.50295940444471},4916.2461572702832,4639.7538427297168]
[1807,4778,4686,null,null,null,null,null,null,null,null,null,{"$f":"Control!$C$20+Control!$C$21*A1807+Control!$C$22*A1807^2","v":482.77226695649256},4916.2461572702832,4639.7538427297168]
[1808,4777,4686,null,null,null,null,null,null,null,null,null,{"$f":"Control!$C$20+Control!$C$21*A1808+Control!$C$22*A1808^2","v":483.04157450759908},4915.2316895650201,4638.7683104349799]
[1809,4776,4705,null,null,null,null,null,null,null,null,null,{"$f":"Control!$C$20+Control!$C$21*A1809+Control!$C$22*A1809^2","v":483.31088205776433},4914.2172203453683,4637.7827796546317]
[1810,4775,4880,null,null,null,null,null,null,null,null,null,{"$f":"Control!$C$20+Control!$C$21*A1810+Control!$C$22*A1810^2","v":483.58018960698826},4913.2027496108522,4636.7972503891478]
[1811,4775,4850,null,null,null,null,null,null,null,null,null,{"$f":"Control!$C$20+Control!$C$21*A1811+Control!$C$22*A1811^2","v":483.84949715527091},4913.2027496108522,4636.7972503891478]
[1812,4774,4825,null,null,null,null,null,null,null,null,null,{"$f":"Control!$C$20+Control!$C$21*A1812+Control!$C$22*A1812^2","v":484.11880470261224},4912.1882773609977,4635.8117226390023]
[1813,4773,4718,null,null,null,null,null,null,null,null,null,{"$f":"Control!$C$20+Control!$C$21*A1813+Control!$C$22*A1813^2","v":484.38811224901229},4911.1738035953267,4634.8261964046733]
[1814,4773,4735,null,null,null,null,null,null,null,null,null,{"$f":"Control!$C$20+Control!$C$21*A1814+Control!$C$22*A1814^2","v":484.65741979447108},4911.1738035953267,4634.8261964046733]
[1815,4772,4894,null,null,null,null,null,null,null,null,null,{"$f":"Control!$C$20+Control!$C$21*A1815+Control!$C$22*A1815^2","v":484.92672733898854},4910.1593283133643,4633.8406716866357]
[1816,4771,4767,null,null,null,null,null,null,null,null,null,{"$f":"Control!$C$20+Control!$C$21*A1816+Control!$C$22*A1816^2","v":485.19603488256467},4909.144851514633,4632.855148485367]
[1817,4770,4798,null,null,null,null,null,null,null,null,null,{"$f":"Control!$C$20+Control!$C$21*A1817+Control!$C$22*A1817^2","v":485.46534242519954},4908.1303731986563,4631.8696268013437]
[1818,4770,4719,null,null,null,null,null,null,null,null,null,{"$f":"Control!$C$20+Control!$C$21*A1818+Control!$C$22*A1818^2","v":485.73464996689313},4908.1303731986563,4631.8696268013437]
[1819,4769,4813,null,null,null,null,null,null,null,null,null,{"$f":"Control!$C$20+Control!$C$21*A1819+Control!$C$22*A1819^2","v":486.0039575076454},4907.1158933649567,4630.8841066350433]
[1820,4768,4680,null,null,null,null,null,null,null,null,null,{"$f":"Control!$C$20+Control!$C$21*A1820+Control!$C$22*A1820^2","v":486.27326504745633},4906.1014120130567,4629.8985879869433]
[1821,4767,4875,null,null,null,null,null,null,null,null,null,{"$f":"Control!$C$20+Control!$C$21*A1821+Control!$C$22*A1821^2","v":486.542572586326},4905.0869291424788,4628.9130708575212]
[1822,4767,4776,null,null,null,null,null,null,null,null,null,{"$f":"Control!$C$20+Control!$C$21*A1822+Control!$C$22*A1822^2","v":486.8118801242544},4905.0869291424788,4628.9130708575212]
[1823,4766,4764,null,null,null,null,null,null,null,null,null,{"$f":"Control!$C$20+Control!$C$21*A1823+Control!$C$22*A1823^2","v":487.08118766124147},4904.0724447527455,4627.9275552472545]
[1824,4765,4811,null,null,null,null,null,null,null,null,null,{"$f":"Control!$C$20+Control!$C$21*A1824+Control!$C$22*A1824^2","v":487.35049519728727},4903.0579588433784,4626.9420411566216]
[1825,4764,4719,null,null,null,null,null,null,null,null,null,{"$f":"Control!$C$20+Control!$C$21*A1825+Control!$C$22*A1825^2","v":487.61980273239175},4902.0434714138992,4625.9565285861008]
[1826,4764,4743,null,null,null,null,null,null,null,null,null,{"$f":"Control!$C$20+Control!$C$21*A1826+Control!$C$22*A1826^2","v":487.88911026655495},4902.0434714138992,4625.9565285861008]
[1827,4763,4718,null,null,null,null,null,null,null,null,null,{"$f":"Control!$C$20+Control!$C$21*A1827+Control!$C$22*A1827^2","v":488.15841779977683},4901.0289824638294,4624.9710175361706]
[1828,4762,4776,null,null,null,null,null,null,null,null,null,{"$f":"Control!$C$20+Control!$C$21*A1828+Control!$C$22*A1828^2","v":488.42772533205743},4900.0144919926888,4623.9855080073112]
[1829,4762,4695,null,null,null,null,null,null,null,null,null,{"$f":"Control!$C$20+Control!$C$21*A1829+Control!$C$22*A1829^2","v":488.69703286339677},4900.0144919926888,4623.9855080073112]
[1830,4761,4759,null,null,null,null,null,null,null,null,null,{"$f":"Control!$C$20+Control!$C$21*A1830+Control!$C$22*A1830^2","v":488.96634039379478},4899,4623]
[1831,4760,4764,null,null,null,null,null,null,null,null,null,{"$f":"Control!$C$20+Control!$C$21*A1831+Control!$C$22*A1831^2","v":489.23564792325146},4897.9855064852827,4622.0144935147173]
[1832,4759,4749,null,null,null,null,null,null,null,null,null,{"$f":"Control!$C$20+Control!$C$21*A1832+Control!$C$22*A1832^2","v":489.50495545176688},4896.9710114480577,4621.0289885519423]
[1833,4759,4826,null,null,null,null,null,null,null,null,null,{"$f":"Control!$C$20+Control!$C$21*A1833+Control!$C$22*A1833^2","v":489.77426297934102},4896.9710114480577,4621.0289885519423]
[1834,4758,4706,null,null,null,null,null,null,null,null,null,{"$f":"Control!$C$20+Control!$C$21*A1834+Control!$C$22*A1834^2","v":490.04357050597383},4895.9565148878446,4620.0434851121554]
[1835,4757,4829,null,null,null,null,null,null,null,null,null,{"$f":"Control!$C$20+Control!$C$21*A1835+Control!$C$22*A1835^2","v":490.31287803166532},4894.9420168041634,4619.0579831958366]
[1836,4756,4790,null,null,null,null,null,null,null,null,null,{"$f":"Control!$C$20+Control!$C$21*A1836+Control!$C$22*A1836^2","v":490.58218555641554},4893.9275171965337,4618.0724828034663]
[1837,4756,4687,null,null,null,null,null,null,null,null,null,{"$f":"Control!$C$20+Control!$C$21*A1837+Control!$C$22*A1837^2","v":490.85149308022449},4893.9275171965337,4618.0724828034663]
[1838,4755,4646,null,null,null,null,null,null,null,null,null,{"$f":"Control!$C$20+Control!$C$21*A1838+Control!$C$22*A1838^2","v":491.12080060309211},4892.9130160644745,4617.0869839355255]
[1839,4754,4784,null,null,null,null,null,null,null,null,null,{"$f":"Control!$C$20+Control!$C$21*A1839+Control!$C$22*A1839^2","v":491.39010812501846},4891.8985134075056,4616.1014865924944]
[1840,4753,4741,null,null,null,null,null,null,null,null,null,{"$f":"Control!$C$20+Control!$C$21*A1840+Control!$C$22*A1840^2","v":491.65941564600348},4890.8840092251457,4615.1159907748543]
[1841,4753,4748,null,null,null,null,null,null,null,null,null,{"$f":"Control!$C$20+Control!$C$21*A1841+Control!$C$22*A1841^2","v":491.92872316604723},4890.8840092251457,4615.1159907748543]
[1842,4752,4822,null,null,null,null,null,null,null,null,null,{"$f":"Control!$C$20+Control!$C$21*A1842+Control!$C$22*A1842^2","v":492.19803068514966},4889.869503516913,4614.130496483087]
[1843,4751,4721,null,null,null,null,null,null,null,null,null,{"$f":"Control!$C$20+Control!$C$21*A1843+Control!$C$22*A1843^2","v":492.46733820331082},4888.8549962823254,4613.1450037176746]
[1844,4751,4690,null,null,null,null,null,null,null,null,null,{"$f":"Control!$C$20+Control!$C$21*A1844+Control!$C$22*A1844^2","v":492.73664572053065},4888.8549962823254,4613.1450037176746]
[1845,4750,4714,null,null,null,null,null,null,null,null,null,{"$f":"Control!$C$20+Control!$C$21*A1845+Control!$C$22*A1845^2","v":493.00595323680921},4887.8404875209026,4612.1595124790974]
[1846,4749,4726,null,null,null,null,null,null,null,null,null,{"$f":"Control!$C$20+Control!$C$21*A1846+Control!$C$22*A1846^2","v":493.27526075214649},4886.8259772321608,4611.1740227678392]
[1847,4748,4656,null,null,null,null,null,null,null,null,null,{"$f":"Control!$C$20+Control!$C$21*A1847+Control!$C$22*A1847^2","v":493.54456826654246},4885.8114654156179,4610.1885345843821]
[1848,4748,4856,null,null,null,null,null,null,null,null,null,{"$f":"Control!$C$20+Control!$C$21*A1848+Control!$C$22*A1848^2","v":493.81387577999709},4885.8114654156179,4610.1885345843821]
[1849,4747,4767,null,null,null,null,null,null,null,null,null,{"$f":"Control!$C$20+Control!$C$21*A1849+Control!$C$22*A1849^2","v":494.08318329251045},4884.7969520707911,4609.2030479292089]
[1850,4746,4624,null,null,null,null,null,null,null,null,null,{"$f":"Control!$C$20+Control!$C$21*A1850+Control!$C$22*A1850^2","v":494.35249080408255},4883.7824371971983,4608.2175628028017]
[1851,4745,4720,null,null,null,null,null,null,null,null,null,{"$f":"Control!$C$20+Control!$C$21*A1851+Control!$C$22*A1851^2","v":494.62179831471332},4882.7679207943565,4607.2320792056435]
[1852,4745,4851,null,null,null,null,null,null,null,null,null,{"$f":"Control!$C$20+Control!$C$21*A1852+Control!$C$22*A1852^2","v":494.89110582440276},4882.7679207943565,4607.2320792056435]
[1853,4744,4685,null,null,null,null,null,null,null,null,null,{"$f":"Control!$C$20+Control!$C$21*A1853+Control!$C$22*A1853^2","v":495.16041333315093},4881.7534028617802,4606.2465971382198]
[1854,4743,4806,null,null,null,null,null,null,null,null,null,{"$f":"Control!$C$20+Control!$C$21*A1854+Control!$C$22*A1854^2","v":495.42972084095783},4880.738883398988,4605.261116601012]
[1855,4742,4626,null,null,null,null,null,null,null,null,null,{"$f":"Control!$C$20+Control!$C$21*A1855+Control!$C$22*A1855^2","v":495.6990283478234},4879.7243624054945,4604.2756375945055]
[1856,4742,4686,null,null,null,null,null,null,null,null,null,{"$f":"Control!$C$20+Control!$C$21*A1856+Control!$C$22*A1856^2","v":495.9683358537477},4879.7243624054945,4604.2756375945055]
[1857,4741,4774,null,null,null,null,null,null,null,null,null,{"$f":"Control!$C$20+Control!$C$21*A1857+Control!$C$22*A1857^2","v":496.23764335873068},4878.7098398808157,4603.2901601191843]
[1858,4740,4668,null,null,null,null,null,null,null,null,null,{"$f":"Control!$C$20+Control!$C$21*A1858+Control!$C$22*A1858^2","v":496.50695086277238},4877.6953158244678,4602.3046841755322]
[1859,4740,4784,null,null,null,null,null,null,null,null,null,{"$f":"Control!$C$20+Control!$C$21*A1859+Control!$C$22*A1859^2","v":496.77625836587276},{"$f":"IF(D1859=0,B1859+2*SQRT(B1859),N1858)","v":4877.6953158244678},{"$f":"IF(D1859=0,B1859-2*SQRT(B1859),O1858)","v":4602.3046841755322}]
[1860,4739,4718,null,null,null,null,null,null,null,null,null,{"$f":"Control!$C$20+Control!$C$21*A1860+Control!$C$22*A1860^2","v":497.04556586803187},4876.680790235966,4601.319209764034]
[1861,4738,4756,null,null,null,null,null,null,null,null,null,{"$f":"Control!$C$20+Control!$C$21*A1861+Control!$C$22*A1861^2","v":497.31487336924971},4875.6662631148238,4600.3337368851762]
[1862,4737,4622,null,null,null,null,null,null,null,null,null,{"$f":"Control!$C$20+Control!$C$21*A1862+Control!$C$22*A1862^2","v":497.58418086952622},4874.6517344605581,4599.3482655394419]
[1863,4737,4633,null,null,null,null,null,null,null,null,null,{"$f":"Control!$C$20+Control!$C$21*A1863+Control!$C$22*A1863^2","v":497.85348836886141},4874.6517344605581,4599.3482655394419]
[1864,4736,4796,null,null,null,null,null,null,null,null,null,{"$f":"Control!$C$20+Control!$C$21*A1864+Control!$C$22*A1864^2","v":498.12279586725532},4873.6372042726816,4598.3627957273184]
[1865,4735,4684,null,null,null,null,null,null,null,null,null,{"$f":"Control!$C$20+Control!$C$21*A1865+Control!$C$22*A1865^2","v":498.39210336470796},4872.6226725507104,4597.3773274492896]
[1866,4734,4617,null,null,null,null,null,null,null,null,null,{"$f":"Control!$C$20+Control!$C$21*A1866+Control!$C$22*A1866^2","v":498.66141086121928},4871.6081392941569,4596.3918607058431]
[1867,4734,4601,null,null,null,null,null,null,null,null,null,{"$f":"Control!$C$20+Control!$C$21*A1867+Control!$C$22*A1867^2","v":498.93071835678927},4871.6081392941569,4596.3918607058431]
[1868,4733,4761,null,null,null,null,null,null,null,null,null,{"$f":"Control!$C$20+Control!$C$21*A1868+Control!$C$22*A1868^2","v":499.20002585141799},4870.5936045025346,4595.4063954974654]
[1869,4732,4778,null,null,null,null,null,null,null,null,null,{"$f":"Control!$C$20+Control!$C$21*A1869+Control!$C$22*A1869^2","v":499.46933334510544},4869.5790681753588,4594.4209318246412]
[1870,4732,4686,null,null,null,null,null,null,null,null,null,{"$f":"Control!$C$20+Control!$C$21*A1870+Control!$C$22*A1870^2","v":499.73864083785156},4869.5790681753588,4594.4209318246412]
[1871,4731,4813,null,null,null,null,null,null,null,null,null,{"$f":"Control!$C$20+Control!$C$21*A1871+Control!$C$22*A1871^2","v":500.00794832965641},4868.564530312141,4593.435469687859]
[1872,4730,4630,null,null,null,null,null,null,null,null,null,{"$f":"Control!$C$20+Control!$C$21*A1872+Control!$C$22*A1872^2","v":500.27725582051994},4867.5499909123955,4592.4500090876045]
[1873,4729,4738,null,null,null,null,null,null,null,null,null,{"$f":"Control!$C$20+Control!$C$21*A1873+Control!$C$22*A1873^2","v":500.5465633104422},4866.5354499756331,4591.4645500243669]
[1874,4729,4651,null,null,null,null,null,null,null,null,null,{"$f":"Control!$C$20+Control!$C$21*A1874+Control!$C$22*A1874^2","v":500.81587079942312},4866.5354499756331,4591.4645500243669]
[1875,4728,4678,null,null,null,null,null,null,null,null,null,{"$f":"Control!$C$20+Control!$C$21*A1875+Control!$C$22*A1875^2","v":501.08517828746278},4865.520907501369,4590.479092498631]
[1876,4727,4731,null,null,null,null,null,null,null,null,null,{"$f":"Control!$C$20+Control!$C$21*A1876+Control!$C$22*A1876^2","v":501.35448577456111},4864.506363489113,4589.493636510887]
[1877,4726,4668,null,null,null,null,null,null,null,null,null,{"$f":"Control!$C$20+Control!$C$21*A1877+Control!$C$22*A1877^2","v":501.62379326071817},4863.4918179383776,4588.5081820616224]
[1878,4726,4895,null,null,null,null,null,null,null,null,null,{"$f":"Control!$C$20+Control!$C$21*A1878+Control!$C$22*A1878^2","v":501.89310074593396},4863.4918179383776,4588.5081820616224]
[1879,4725,4756,null,null,null,null,null,null,null,null,null,{"$f":"Control!$C$20+Control!$C$21*A1879+Control!$C$22*A1879^2","v":502.16240823020843},4862.4772708486753,4587.5227291513247]
[1880,4724,4765,null,null,null,null,null,null,null,null,null,{"$f":"Control!$C$20+Control!$C$21*A1880+Control!$C$22*A1880^2","v":502.43171571354156},4861.4627222195168,4586.5372777804832]
[1881,4723,4842,null,null,null,null,null,null,null,null,null,{"$f":"Control!$C$20+Control!$C$21*A1881+Control!$C$22*A1881^2","v":502.70102319593343},4860.4481720504136,4585.5518279495864]
[1882,4723,4713,null,null,null,null,null,null,null,null,null,{"$f":"Control!$C$20+Control!$C$21*A1882+Control!$C$22*A1882^2","v":502.97033067738403},4860.4481720504136,4585.5518279495864]
[1883,4722,4784,null,null,null,null,null,null,null,null,null,{"$f":"Control!$C$20+Control!$C$21*A1883+Control!$C$22*A1883^2","v":503.2396381578933},4859.4336203408757,4584.5663796591243]
[1884,4721,4802,null,null,null,null,null,null,null,null,null,{"$f":"Control!$C$20+Control!$C$21*A1884+Control!$C$22*A1884^2","v":503.50894563746124},4858.4190670904154,4583.5809329095846]
[1885,4721,4793,null,null,null,null,null,null,null,null,null,{"$f":"Control!$C$20+Control!$C$21*A1885+Control!$C$22*A1885^2","v":503.77825311608791},4858.4190670904154,4583.5809329095846]
[1886,4720,4770,null,null,null,null,null,null,null,null,null,{"$f":"Control!$C$20+Control!$C$21*A1886+Control!$C$22*A1886^2","v":504.04756059377331},4857.4045122985417,4582.5954877014583]
[1887,4719,4671,null,null,null,null,null,null,null,null,null,{"$f":"Control!$C$20+Control!$C$21*A1887+Control!$C$22*A1887^2","v":504.31686807051739},4856.3899559647643,4581.6100440352357]
[1888,4718,4701,null,null,null,null,null,null,null,null,null,{"$f":"Control!$C$20+Control!$C$21*A1888+Control!$C$22*A1888^2","v":504.58617554632019},4855.3753980885949,4580.6246019114051]
[1889,4718,4824,null,null,null,null,null,null,null,null,null,{"$f":"Control!$C$20+Control!$C$21*A1889+Control!$C$22*A1889^2","v":504.85548302118167},4855.3753980885949,4580.6246019114051]
[1890,4717,4774,null,null,null,null,null,null,null,null,null,{"$f":"Control!$C$20+Control!$C$21*A1890+Control!$C$22*A1890^2","v":505.12479049510188},4854.3608386695423,4579.6391613304577]
[1891,4716,4629,null,null,null,null,null,null,null,null,null,{"$f":"Control!$C$20+Control!$C$21*A1891+Control!$C$22*A1891^2","v":505.39409796808076},4853.3462777071154,4578.6537222928846]
[1892,4715,4655,null,null,null,null,null,null,null,null,null,{"$f":"Control!$C$20+Control!$C$21*A1892+Control!$C$22*A1892^2","v":505.66340544011837},4852.3317152008231,4577.6682847991769]
[1893,4715,4776,null,null,null,null,null,null,null,null,null,{"$f":"Control!$C$20+Control!$C$21*A1893+Control!$C$22*A1893^2","v":505.93271291121471},4852.3317152008231,4577.6682847991769]
[1894,4714,4638,null,null,null,null,null,null,null,null,null,{"$f":"Control!$C$20+Control!$C$21*A1894+Control!$C$22*A1894^2","v":506.20202038136972},4851.3171511501751,4576.6828488498249]
[1895,4713,4779,null,null,null,null,null,null,null,null,null,{"$f":"Control!$C$20+Control!$C$21*A1895+Control!$C$22*A1895^2","v":506.47132785058341},4850.3025855546794,4575.6974144453206]
[1896,4712,4840,null,null,null,null,null,null,null,null,null,{"$f":"Control!$C$20+Control!$C$21*A1896+Control!$C$22*A1896^2","v":506.74063531885582},4849.2880184138439,4574.7119815861561]
[1897,4712,4704,null,null,null,null,null,null,null,null,null,{"$f":"Control!$C$20+Control!$C$21*A1897+Control!$C$22*A1897^2","v":507.00994278618697},4849.2880184138439,4574.7119815861561]
[1898,4711,4750,null,null,null,null,null,null,null,null,null,{"$f":"Control!$C$20+Control!$C$21*A1898+Control!$C$22*A1898^2","v":507.27925025257679},4848.2734497271776,4573.7265502728224]
[1899,4710,4843,null,null,null,null,null,null,null,null,null,{"$f":"Control!$C$20+Control!$C$21*A1899+Control!$C$22*A1899^2","v":507.54855771802528},4847.2588794941876,4572.7411205058124]
[1900,4710,4766,null,null,null,null,null,null,null,null,null,{"$f":"Control!$C$20+Control!$C$21*A1900+Control!$C$22*A1900^2","v":507.8178651825325},4847.2588794941876,4572.7411205058124]
[1901,4709,4688,null,null,null,null,null,null,null,null,null,{"$f":"Control!$C$20+Control!$C$21*A1901+Control!$C$22*A1901^2","v":508.08717264609845},4846.2443077143816,4571.7556922856184]
[1902,4708,4721,null,null,null,null,null,null,null,null,null,{"$f":"Control!$C$20+Control!$C$21*A1902+Control!$C$22*A1902^2","v":508.35648010872308},4845.2297343872679,4570.7702656127321]
[1903,4707,4743,null,null,null,null,null,null,null,null,null,{"$f":"Control!$C$20+Control!$C$21*A1903+Control!$C$22*A1903^2","v":508.62578757040643},4844.2151595123514,4569.7848404876486]
[1904,4719,4804,12,null,null,null,null,null,null,null,null,{"$f":"Control!$C$20+Control!$C$21*A1904+Control!$C$22*A1904^2","v":508.89509503114846},4844.2151595123514,4569.7848404876486]
[1905,4736,4646,30,null,null,null,null,null,null,null,null,{"$f":"Control!$C$20+Control!$C$21*A1905+Control!$C$22*A1905^2","v":509.16440249094921},4844.2151595123514,4569.7848404876486]
[1906,4771,4816,66,null,null,null,null,null,null,null,null,{"$f":"Control!$C$20+Control!$C$21*A1906+Control!$C$22*A1906^2","v":509.43370994980864},4844.2151595123514,4569.7848404876486]
[1907,4834,4811,130,null,null,null,null,null,null,null,null,{"$f":"Control!$C$20+Control!$C$21*A1907+Control!$C$22*A1907^2","v":509.7030174077268},4844.2151595123514,4569.7848404876486]
[1908,4930,4985,226,null,null,null,null,null,null,null,null,{"$f":"Control!$C$20+Control!$C$21*A1908+Control!$C$22*A1908^2","v":509.97232486470364},4844.2151595123514,4569.7848404876486]
[1909,5047,5061,344,null,null,null,null,null,null,null,null,{"$f":"Control!$C$20+Control!$C$21*A1909+Control!$C$22*A1909^2","v":510.2416323207392},4844.2151595123514,4569.7848404876486]
[1910,5163,5193,461,null,null,null,null,null,null,null,null,{"$f":"Control!$C$20+Control!$C$21*A1910+Control!$C$22*A1910^2","v":510.51093977583349},4844.2151595123514,4569.7848404876486]
[1911,5246,5265,545,null,null,null,null,null,null,null,null,{"$f":"Control!$C$20+Control!$C$21*A1911+Control!$C$22*A1911^2","v":510.78024722998646},4844.2151595123514,4569.7848404876486]
[1912,5268,5428,567,null,null,null,null,null,null,null,null,{"$f":"Control!$C$20+Control!$C$21*A1912+Control!$C$22*A1912^2","v":511.0495546831981},4844.2151595123514,4569.7848404876486]
[1913,5220,5295,520,null,null,null,null,null,null,null,null,{"$f":"Control!$C$20+Control!$C$21*A1913+Control!$C$22*A1913^2","v":511.31886213546846},4844.2151595123514,4569.7848404876486]
[1914,5119,5111,420,null,null,null,null,null,null,null,null,{"$f":"Control!$C$20+Control!$C$21*A1914+Control!$C$22*A1914^2","v":511.58816958679756},4844.2151595123514,4569.7848404876486]
[1915,4998,5073,299,null,null,null,null,null,null,null,null,{"$f":"Control!$C$20+Control!$C$21*A1915+Control!$C$22*A1915^2","v":511.85747703718533},4844.2151595123514,4569.7848404876486]
[1916,4885,4875,187,null,null,null,null,null,null,null,null,{"$f":"Control!$C$20+Control!$C$21*A1916+Control!$C$22*A1916^2","v":512.12678448663178},4844.2151595123514,4569.7848404876486]
[1917,4800,4772,103,null,null,null,null,null,null,null,null,{"$f":"Control!$C$20+Control!$C$21*A1917+Control!$C$22*A1917^2","v":512.39609193513695},4844.2151595123514,4569.7848404876486]
[1918,4746,4831,50,null,null,null,null,null,null,null,null,{"$f":"Control!$C$20+Control!$C$21*A1918+Control!$C$22*A1918^2","v":512.66539938270091},4844.2151595123514,4569.7848404876486]
[1919,4717,4808,21,null,null,null,null,null,null,null,null,{"$f":"Control!$C$20+Control!$C$21*A1919+Control!$C$22*A1919^2","v":512.93470682932343},4844.2151595123514,4569.7848404876486]
[1920,4703,4646,8,null,null,null,null,null,null,null,null,{"$f":"Control!$C$20+Control!$C$21*A1920+Control!$C$22*A1920^2","v":513.20401427500474},4844.2151595123514,4569.7848404876486]
[1921,4694,4671,null,null,null,null,null,null,null,null,null,{"$f":"Control!$C$20+Control!$C$21*A1921+Control!$C$22*A1921^2","v":513.47332171974472},4831.0255450636851,4556.9744549363149]
[1922,4693,4643,null,null,null,null,null,null,null,null,null,{"$f":"Control!$C$20+Control!$C$21*A1922+Control!$C$22*A1922^2","v":513.74262916354348},4830.0109484676314,4555.9890515323686]
[1923,4693,4636,null,null,null,null,null,null,null,null,null,{"$f":"Control!$C$20+Control!$C$21*A1923+Control!$C$22*A1923^2","v":514.01193660640081},{"$f":"IF(D1923=0,B1923+2*SQRT(B1923),N1922)","v":4830.0109484676314},{"$f":"IF(D1923=0,B1923-2*SQRT(B1923),O1922)","v":4555.9890515323686}]
[1924,4692,4595,null,null,null,null,null,null,null,null,null,{"$f":"Control!$C$20+Control!$C$21*A1924+Control!$C$22*A1924^2","v":514.28124404831692},4828.9963503163499,4555.0036496836501]
[1925,4691,4702,null,null,null,null,null,null,null,null,null,{"$f":"Control!$C$20+Control!$C$21*A1925+Control!$C$22*A1925^2","v":514.55055148929171},4827.9817506093423,4554.0182493906577]
[1926,4690,4839,null,null,null,null,null,null,null,null,null,{"$f":"Control!$C$20+Control!$C$21*A1926+Control!$C$22*A1926^2","v":514.81985892932528},4826.9671493461119,4553.0328506538881]
[1927,4690,4777,null,null,null,null,null,null,null,null,null,{"$f":"Control!$C$20+Control!$C$21*A1927+Control!$C$22*A1927^2","v":515.08916636841752},4826.9671493461119,4553.0328506538881]
[1928,4689,4733,null,null,null,null,null,null,null,null,null,{"$f":"Control!$C$20+Control!$C$21*A1928+Control!$C$22*A1928^2","v":515.35847380656833},4825.9525465261595,4552.0474534738405]
[1929,4688,4747,null,null,null,null,null,null,null,null,null,{"$f":"Control!$C$20+Control!$C$21*A1929+Control!$C$22*A1929^2","v":515.62778124377803},4824.9379421489894,4551.0620578510106]
[1930,4688,4698,null,null,null,null,null,null,null,null,null,{"$f":"Control!$C$20+Control!$C$21*A1930+Control!$C$22*A1930^2","v":515.89708868004629},4824.9379421489894,4551.0620578510106]
[1931,4687,4674,null,null,null,null,null,null,null,null,null,{"$f":"Control!$C$20+Control!$C$21*A1931+Control!$C$22*A1931^2","v":516.16639611537335},4823.9233362141022,4550.0766637858978]
[1932,4686,4702,null,null,null,null,null,null,null,null,null,{"$f":"Control!$C$20+Control!$C$21*A1932+Control!$C$22*A1932^2","v":516.43570354975907},4822.9087287209986,4549.0912712790014]
[1933,4685,4687,null,null,null,null,null,null,null,null,null,{"$f":"Control!$C$20+Control!$C$21*A1933+Control!$C$22*A1933^2","v":516.70501098320347},4821.8941196691812,4548.1058803308188]
[1934,4685,4684,null,null,null,null,null,null,null,null,null,{"$f":"Control!$C$20+Control!$C$21*A1934+Control!$C$22*A1934^2","v":516.97431841570665},4821.8941196691812,4548.1058803308188]
[1935,4684,4673,null,null,null,null,null,null,null,null,null,{"$f":"Control!$C$20+Control!$C$21*A1935+Control!$C$22*A1935^2","v":517.2436258472685},4820.8795090581498,4547.1204909418502]
[1936,4683,4720,null,null,null,null,null,null,null,null,null,{"$f":"Control!$C$20+Control!$C$21*A1936+Control!$C$22*A1936^2","v":517.51293327788903},4819.8648968874049,4546.1351031125951]
[1937,4682,4845,null,null,null,null,null,null,null,null,null,{"$f":"Control!$C$20+Control!$C$21*A1937+Control!$C$22*A1937^2","v":517.78224070756823},4818.8502831564483,4545.1497168435517]
[1938,4682,4728,null,null,null,null,null,null,null,null,null,{"$f":"Control!$C$20+Control!$C$21*A1938+Control!$C$22*A1938^2","v":518.05154813630622},4818.8502831564483,4545.1497168435517]
[1939,4681,4804,null,null,null,null,null,null,null,null,null,{"$f":"Control!$C$20+Control!$C$21*A1939+Control!$C$22*A1939^2","v":518.32085556410289},4817.8356678647788,4544.1643321352212]
[1940,4680,4672,null,null,null,null,null,null,null,null,null,{"$f":"Control!$C$20+Control!$C$21*A1940+Control!$C$22*A1940^2","v":518.59016299095822},4816.821051011897,4543.178948988103]
[1941,4679,4679,null,null,null,null,null,null,null,null,null,{"$f":"Control!$C$20+Control!$C$21*A1941+Control!$C$22*A1941^2","v":518.85947041687234},4815.8064325973019,4542.1935674026981]
[1942,4679,4712,null,null,null,null,null,null,null,null,null,{"$f":"Control!$C$20+Control!$C$21*A1942+Control!$C$22*A1942^2","v":519.12877784184502},4815.8064325973019,4542.1935674026981]
[1943,4678,4625,null,null,null,null,null,null,null,null,null,{"$f":"Control!$C$20+Control!$C$21*A1943+Control!$C$22*A1943^2","v":519.39808526587649},4814.7918126204931,4541.2081873795069]
[1944,4677,4721,null,null,null,null,null,null,null,null,null,{"$f":"Control!$C$20+Control!$C$21*A1944+Control!$C$22*A1944^2","v":519.66739268896663},4813.7771910809697,4540.2228089190303]
[1945,4677,4717,null,null,null,null,null,null,null,null,null,{"$f":"Control!$C$20+Control!$C$21*A1945+Control!$C$22*A1945^2","v":519.93670011111556},4813.7771910809697,4540.2228089190303]
[1946,4676,4737,null,null,null,null,null,null,null,null,null,{"$f":"Control!$C$20+Control!$C$21*A1946+Control!$C$22*A1946^2","v":520.20600753232316},4812.7625679782304,4539.2374320217696]
[1947,4675,4808,null,null,null,null,null,null,null,null,null,{"$f":"Control!$C$20+Control!$C$21*A1947+Control!$C$22*A1947^2","v":520.47531495258943},4811.7479433117733,4538.2520566882267]
[1948,4674,4603,null,null,null,null,null,null,null,null,null,{"$f":"Control!$C$20+Control!$C$21*A1948+Control!$C$22*A1948^2","v":520.74462237191437},4810.733317081098,4537.266682918902]
[1949,4674,4603,null,null,null,null,null,null,null,null,null,{"$f":"Control!$C$20+Control!$C$21*A1949+Control!$C$22*A1949^2","v":521.01392979029811},4810.733317081098,4537.266682918902]
[1950,4673,4584,null,null,null,null,null,null,null,null,null,{"$f":"Control!$C$20+Control!$C$21*A1950+Control!$C$22*A1950^2","v":521.28323720774051},4809.7186892857007,4536.2813107142993]
[1951,4672,4626,null,null,null,null,null,null,null,null,null,{"$f":"Control!$C$20+Control!$C$21*A1951+Control!$C$22*A1951^2","v":521.55254462424159},4808.7040599250804,4535.2959400749196]
[1952,4671,4605,null,null,null,null,null,null,null,null,null,{"$f":"Control!$C$20+Control!$C$21*A1952+Control!$C$22*A1952^2","v":521.82185203980134},4807.689428998734,4534.310571001266]
[1953,4671,4702,null,null,null,null,null,null,null,null,null,{"$f":"Control!$C$20+Control!$C$21*A1953+Control!$C$22*A1953^2","v":522.09115945441988},4807.689428998734,4534.310571001266]
[1954,4670,4572,null,null,null,null,null,null,null,null,null,{"$f":"Control!$C$20+Control!$C$21*A1954+Control!$C$22*A1954^2","v":522.36046686809709},4806.6747965061595,4533.3252034938405]
[1955,4669,4636,null,null,null,null,null,null,null,null,null,{"$f":"Control!$C$20+Control!$C$21*A1955+Control!$C$22*A1955^2","v":522.62977428083298},4805.6601624468522,4532.3398375531478]
[1956,4668,4624,null,null,null,null,null,null,null,null,null,{"$f":"Control!$C$20+Control!$C$21*A1956+Control!$C$22*A1956^2","v":522.89908169262753},4804.6455268203099,4531.3544731796901]
[1957,4668,4805,null,null,null,null,null,null,null,null,null,{"$f":"Control!$C$20+Control!$C$21*A1957+Control!$C$22*A1957^2","v":523.16838910348088},4804.6455268203099,4531.3544731796901]
[1958,4667,4804,null,null,null,null,null,null,null,null,null,{"$f":"Control!$C$20+Control!$C$21*A1958+Control!$C$22*A1958^2","v":523.43769651339289},4803.6308896260289,4530.3691103739711]
[1959,4666,4714,null,null,null,null,null,null,null,null,null,{"$f":"Control!$C$20+Control!$C$21*A1959+Control!$C$22*A1959^2","v":523.70700392236358},4802.6162508635043,4529.3837491364957]
[1960,4666,4534,null,null,null,null,null,null,null,null,null,{"$f":"Control!$C$20+Control!$C$21*A1960+Control!$C$22*A1960^2","v":523.97631133039295},4802.6162508635043,4529.3837491364957]
[1961,4665,4826,null,null,null,null,null,null,null,null,null,{"$f":"Control!$C$20+Control!$C$21*A1961+Control!$C$22*A1961^2","v":524.2456187374811},4801.6016105322333,4528.3983894677667]
[1962,4664,4657,null,null,null,null,null,null,null,null,null,{"$f":"Control!$C$20+Control!$C$21*A1962+Control!$C$22*A1962^2","v":524.51492614362792},4800.586968631711,4527.413031368289]
[1963,4663,4694,null,null,null,null,null,null,null,null,null,{"$f":"Control!$C$20+Control!$C$21*A1963+Control!$C$22*A1963^2","v":524.78423354883353},4799.5723251614327,4526.4276748385673]
[1964,4663,4613,null,null,null,null,null,null,null,null,null,{"$f":"Control!$C$20+Control!$C$21*A1964+Control!$C$22*A1964^2","v":525.05354095309769},4799.5723251614327,4526.4276748385673]
[1965,4662,4623,null,null,null,null,null,null,null,null,null,{"$f":"Control!$C$20+Control!$C$21*A1965+Control!$C$22*A1965^2","v":525.32284835642065},4798.5576801208927,4525.4423198791073]
[1966,4661,4661,null,null,null,null,null,null,null,null,null,{"$f":"Control!$C$20+Control!$C$21*A1966+Control!$C$22*A1966^2","v":525.59215575880228},4797.5430335095862,4524.4569664904138]
[1967,4660,4600,null,null,null,null,null,null,null,null,null,{"$f":"Control!$C$20+Control!$C$21*A1967+Control!$C$22*A1967^2","v":525.86146316024258},4796.5283853270084,4523.4716146729916]
[1968,4660,4572,null,null,null,null,null,null,null,null,null,{"$f":"Control!$C$20+Control!$C$21*A1968+Control!$C$22*A1968^2","v":526.13077056074167},4796.5283853270084,4523.4716146729916]
[1969,4659,4616,null,null,null,null,null,null,null,null,null,{"$f":"Control!$C$20+Control!$C$21*A1969+Control!$C$22*A1969^2","v":526.40007796029943},4795.513735572652,4522.486264427348]
[1970,4658,4677,null,null,null,null,null,null,null,null,null,{"$f":"Control!$C$20+Control!$C$21*A1970+Control!$C$22*A1970^2","v":526.66938535891586},4794.499084246012,4521.500915753988]
[1971,4658,4622,null,null,null,null,null,null,null,null,null,{"$f":"Control!$C$20+Control!$C$21*A1971+Control!$C$22*A1971^2","v":526.93869275659097},4794.499084246012,4521.500915753988]
[1972,4657,4655,null,null,null,null,null,null,null,null,null,{"$f":"Control!$C$20+Control!$C$21*A1972+Control!$C$22*A1972^2","v":527.20800015332486},4793.4844313465828,4520.5155686534172]
[1973,4656,4639,null,null,null,null,null,null,null,null,null,{"$f":"Control!$C$20+Control!$C$21*A1973+Control!$C$22*A1973^2","v":527.47730754911743},4792.4697768738561,4519.5302231261439]
[1974,4655,4760,null,null,null,null,null,null,null,null,null,{"$f":"Control!$C$20+Control!$C$21*A1974+Control!$C$22*A1974^2","v":527.74661494396867},4791.4551208273251,4518.5448791726749]
[1975,4655,4704,null,null,null,null,null,null,null,null,null,{"$f":"Control!$C$20+Control!$C$21*A1975+Control!$C$22*A1975^2","v":528.01592233787869},4791.4551208273251,4518.5448791726749]
[1976,4654,4592,null,null,null,null,null,null,null,null,null,{"$f":"Control!$C$20+Control!$C$21*A1976+Control!$C$22*A1976^2","v":528.28522973084728},4790.4404632064843,4517.5595367935157]
[1977,4653,4745,null,null,null,null,null,null,null,null,null,{"$f":"Control!$C$20+Control!$C$21*A1977+Control!$C$22*A1977^2","v":528.55453712287476},4789.4258040108252,4516.5741959891748]
[1978,4652,4602,null,null,null,null,null,null,null,null,null,{"$f":"Control!$C$20+Control!$C$21*A1978+Control!$C$22*A1978^2","v":528.82384451396081},4788.4111432398395,4515.5888567601605]
[1979,4652,4736,null,null,null,null,null,null,null,null,null,{"$f":"Control!$C$20+Control!$C$21*A1979+Control!$C$22*A1979^2","v":529.09315190410553},4788.4111432398395,4515.5888567601605]
[1980,4651,4554,null,null,null,null,null,null,null,null,null,{"$f":"Control!$C$20+Control!$C$21*A1980+Control!$C$22*A1980^2","v":529.36245929330903},4787.3964808930205,4514.6035191069795]
[1981,4650,4672,null,null,null,null,null,null,null,null,null,{"$f":"Control!$C$20+Control!$C$21*A1981+Control!$C$22*A1981^2","v":529.63176668157121},4786.3818169698588,4513.6181830301412]
[1982,4649,4730,null,null,null,null,null,null,null,null,null,{"$f":"Control!$C$20+Control!$C$21*A1982+Control!$C$22*A1982^2","v":529.90107406889217},4785.3671514698462,4512.6328485301538]
[1983,4649,4680,null,null,null,null,null,null,null,null,null,{"$f":"Control!$C$20+Control!$C$21*A1983+Control!$C$22*A1983^2","v":530.17038145527169},4785.3671514698462,4512.6328485301538]
[1984,4648,4741,null,null,null,null,null,null,null,null,null,{"$f":"Control!$C$20+Control!$C$21*A1984+Control!$C$22*A1984^2","v":530.43968884071001},4784.3524843924743,4511.6475156075257]
[1985,4647,4487,null,null,null,null,null,null,null,null,null,{"$f":"Control!$C$20+Control!$C$21*A1985+Control!$C$22*A1985^2","v":530.70899622520699},4783.3378157372345,4510.6621842627655]
[1986,4647,4625,null,null,null,null,null,null,null,null,null,{"$f":"Control!$C$20+Control!$C$21*A1986+Control!$C$22*A1986^2","v":530.97830360876276},4783.3378157372345,4510.6621842627655]
[1987,4646,4674,null,null,null,null,null,null,null,null,null,{"$f":"Control!$C$20+Control!$C$21*A1987+Control!$C$22*A1987^2","v":531.24761099137709},{"$f":"IF(D1987=0,B1987+2*SQRT(B1987),N1986)","v":4782.3231455036157},{"$f":"IF(D1987=0,B1987-2*SQRT(B1987),O1986)","v":4509.6768544963843}]
[1988,4645,4627,null,null,null,null,null,null,null,null,null,{"$f":"Control!$C$20+Control!$C$21*A1988+Control!$C$22*A1988^2","v":531.5169183730502},4781.3084736911096,4508.6915263088904]
[1989,4644,4656,null,null,null,null,null,null,null,null,null,{"$f":"Control!$C$20+Control!$C$21*A1989+Control!$C$22*A1989^2","v":531.78622575378199},4780.2938002992069,4507.7061997007931]
[1990,4644,4614,null,null,null,null,null,null,null,null,null,{"$f":"Control!$C$20+Control!$C$21*A1990+Control!$C$22*A1990^2","v":532.05553313357257},4780.2938002992069,4507.7061997007931]
[1991,4643,4639,null,null,null,null,null,null,null,null,null,{"$f":"Control!$C$20+Control!$C$21*A1991+Control!$C$22*A1991^2","v":532.32484051242182},4779.2791253273954,4506.7208746726046]
[1992,4642,4588,null,null,null,null,null,null,null,null,null,{"$f":"Control!$C$20+Control!$C$21*A1992+Control!$C$22*A1992^2","v":532.59414789032962},4778.2644487751668,4505.7355512248332]
[1993,4641,4566,null,null,null,null,null,null,null,null,null,{"$f":"Control!$C$20+Control!$C$21*A1993+Control!$C$22*A1993^2","v":532.86345526729633},4777.249770642009,4504.750229357991]
[1994,4641,4674,null,null,null,null,null,null,null,null,null,{"$f":"Control!$C$20+Control!$C$21*A1994+Control!$C$22*A1994^2","v":533.1327626433216},4777.249770642009,4504.750229357991]
[1995,4640,4792,null,null,null,null,null,null,null,null,null,{"$f":"Control!$C$20+Control!$C$21*A1995+Control!$C$22*A1995^2","v":533.40207001840565},4776.235090927411,4503.764909072589]
[1996,4639,4631,null,null,null,null,null,null,null,null,null,{"$f":"Control!$C$20+Control!$C$21*A1996+Control!$C$22*A1996^2","v":533.67137739254838},4775.2204096308624,4502.7795903691376]
[1997,4638,4593,null,null,null,null,null,null,null,null,null,{"$f":"Control!$C$20+Control!$C$21*A1997+Control!$C$22*A1997^2","v":533.94068476574978},4774.2057267518512,4501.7942732481488]
[1998,4638,4628,null,null,null,null,null,null,null,null,null,{"$f":"Control!$C$20+Control!$C$21*A1998+Control!$C$22*A1998^2","v":534.20999213800997},4774.2057267518512,4501.7942732481488]
[1999,4637,4641,null,null,null,null,null,null,null,null,null,{"$f":"Control!$C$20+Control!$C$21*A1999+Control!$C$22*A1999^2","v":534.47929950932883},4773.1910422898654,4500.8089577101346]
[2000,4636,4801,null,null,null,null,null,null,null,null,null,{"$f":"Control!$C$20+Control!$C$21*A2000+Control!$C$22*A2000^2","v":534.74860687970636},4772.1763562443939,4499.8236437556061]
[2002,4635,4584,null,null,null,null,null,null,null,null,null,{"$f":"Control!$C$20+Control!$C$21*A2002+Control!$C$22*A2002^2","v":535.28722161763756},4771.1616686149227,4498.8383313850773]
[2004,4633,4565,null,null,null,null,null,null,null,null,null,{"$f":"Control!$C$20+Control!$C$21*A2004+Control!$C$22*A2004^2","v":535.82583635180356},4769.1322886019334,4496.8677113980666]
[2007,4631,4664,null,null,null,null,null,null,null,null,null,{"$f":"Control!$C$20+Control!$C$21*A2007+Control!$C$22*A2007^2","v":536.63375844599284},4767.1029022467928,4494.8970977532072]
[2011,4628,4690,null,null,null,null,null,null,null,null,null,{"$f":"Control!$C$20+Control!$C$21*A2011+Control!$C$22*A2011^2","v":537.71098789173379},4764.0588108135598,4491.9411891864402]
[2014,4633,4551,7,null,null,null,null,null,null,null,null,{"$f":"Control!$C$20+Control!$C$21*A2014+Control!$C$22*A2014^2","v":538.51890996615589},4763.044110493619,4490.955889506381]
[2017,4801,4944,177,null,null,null,null,null,null,null,null,{"$f":"Control!$C$20+Control!$C$21*A2017+Control!$C$22*A2017^2","v":539.32683203210627},4763.044110493619,4490.955889506381]
[2019,5026,4985,404,null,null,null,null,null,null,null,null,{"$f":"Control!$C$20+Control!$C$21*A2019+Control!$C$22*A2019^2","v":539.86544673803337},4763.044110493619,4490.955889506381]
[2020,5026,5071,404,null,null,null,null,null,null,null,null,{"$f":"Control!$C$20+Control!$C$21*A2020+Control!$C$22*A2020^2","v":540.13475408958493},4763.044110493619,4490.955889506381]
[2024,4645,4772,26,null,null,null,null,null,null,null,null,{"$f":"Control!$C$20+Control!$C$21*A2024+Control!$C$22*A2024^2","v":541.21198348637836},4763.044110493619,4490.955889506381]
[2027,4616,4733,null,null,null,null,null,null,null,null,null,{"$f":"Control!$C$20+Control!$C$21*A2027+Control!$C$22*A2027^2","v":542.01990552408995},4751.8823020117043,4480.1176979882957]
[2030,4614,4653,null,null,null,null,null,null,null,null,null,{"$f":"Control!$C$20+Control!$C$21*A2030+Control!$C$22*A2030^2","v":542.82782755332971},4749.8528615819332,4478.1471384180668]
[2034,4611,4646,null,null,null,null,null,null,null,null,null,{"$f":"Control!$C$20+Control!$C$21*A2034+Control!$C$22*A2034^2","v":543.90505691247131},4746.8086889709193,4475.1913110290807]
[2037,4609,4580,null,null,null,null,null,null,null,null,null,{"$f":"Control!$C$20+Control!$C$21*A2037+Control!$C$22*A2037^2","v":544.71297892194389},4744.7792325799492,4473.2207674200508]
[2038,4608,4604,null,null,null,null,null,null,null,null,null,{"$f":"Control!$C$20+Control!$C$21*A2038+Control!$C$22*A2038^2","v":544.98228625655213},4743.7645019878173,4472.2354980121827]
[2040,4607,4570,null,null,null,null,null,null,null,null,null,{"$f":"Control!$C$20+Control!$C$21*A2040+Control!$C$22*A2040^2","v":545.52090092294475},4742.7497697972267,4471.2502302027733]
[2043,4605,4601,null,null,null,null,null,null,null,null,null,{"$f":"Control!$C$20+Control!$C$21*A2043+Control!$C$22*A2043^2","v":546.32882291547401},4740.7203006185882,4469.2796993814118]
[2047,4602,4582,null,null,null,null,null,null,null,null,null,{"$f":"Control!$C$20+Control!$C$21*A2047+Control!$C$22*A2047^2","v":547.40605222566819},4737.6760848491731,4466.3239151508269]
[2050,4600,4555,null,null,null,null,null,null,null,null,null,{"$f":"Control!$C$20+Control!$C$21*A2050+Control!$C$22*A2050^2","v":548.21397419843026},4735.6465996625057,4464.3534003374943]
[2053,4597,4567,null,null,null,null,null,null,null,null,null,{"$f":"Control!$C$20+Control!$C$21*A2053+Control!$C$22*A2053^2","v":549.02189616272051},4732.6023598614711,4461.3976401385289]
[2057,4595,4539,null,null,null,null,null,null,null,null,null,{"$f":"Control!$C$20+Control!$C$21*A2057+Control!$C$22*A2057^2","v":550.09912543526286},4730.5728586406585,4459.4271413593415]
[2059,4593,4459,null,null,null,null,null,null,null,null,null,{"$f":"Control!$C$20+Control!$C$21*A2059+Control!$C$22*A2059^2","v":550.63774006588619},4728.5433509988598,4457.4566490011402]
[2060,4592,4603,null,null,null,null,null,null,null,null,null,{"$f":"Control!$C$20+Control!$C$21*A2060+Control!$C$22*A2060^2","v":550.90704737978592},4727.5285947687789,4456.4714052312211]
[2063,4590,4576,null,null,null,null,null,null,null,null,null,{"$f":"Control!$C$20+Control!$C$21*A2063+Control!$C$22*A2063^2","v":551.71496931583738},4725.4990774876342,4454.5009225123658]
[2066,4588,4645,null,null,null,null,null,null,null,null,null,{"$f":"Control!$C$20+Control!$C$21*A2066+Control!$C$22*A2066^2","v":552.52289124341712},4723.4695537750085,4452.5304462249915]
[2070,4585,4509,null,null,null,null,null,null,null,null,null,{"$f":"Control!$C$20+Control!$C$21*A2070+Control!$C$22*A2070^2","v":553.60012046701195},4720.4252561378416,4449.5747438621584]
[2073,4583,4672,null,null,null,null,null,null,null,null,null,{"$f":"Control!$C$20+Control!$C$21*A2073+Control!$C$22*A2073^2","v":554.4080423748245},4718.3957163281029,4447.6042836718971]
[2076,4581,4505,null,null,null,null,null,null,null,null,null,{"$f":"Control!$C$20+Control!$C$21*A2076+Control!$C$22*A2076^2","v":555.21596427416534},4716.3661700721414,4445.6338299278586]
[2078,4579,4757,null,null,null,null,null,null,null,null,null,{"$f":"Control!$C$20+Control!$C$21*A2078+Control!$C$22*A2078^2","v":555.7545788690195},4714.3366173657378,4443.6633826342622]
[2082,4576,4685,null,null,null,null,null,null,null,null,null,{"$f":"Control!$C$20+Control!$C$21*A2082+Control!$C$22*A2082^2","v":556.83180804743211},4711.2922762023018,4440.7077237976982]
[2083,4575,4571,null,null,null,null,null,null,null,null,null,{"$f":"Control!$C$20+Control!$C$21*A2083+Control!$C$22*A2083^2","v":557.101115339682},4710.277492584687,4439.722507415313]
[2086,4573,4485,null,null,null,null,null,null,null,null,null,{"$f":"Control!$C$20+Control!$C$21*A2086+Control!$C$22*A2086^2","v":557.90903721078394},4708.2479205015734,4437.7520794984266]
[2089,4571,4599,null,null,null,null,null,null,null,null,null,{"$f":"Control!$C$20+Control!$C$21*A2089+Control!$C$22*A2089^2","v":558.71695907341416},4706.2183419510829,4435.7816580489171]
[2093,4568,4541,null,null,null,null,null,null,null,null,null,{"$f":"Control!$C$20+Control!$C$21*A2093+Control!$C$22*A2093^2","v":559.79418821040974},4703.1739619897262,4432.8260380102738]
[2096,4566,4526,null,null,null,null,null,null,null,null,null,{"$f":"Control!$C$20+Control!$C$21*A2096+Control!$C$22*A2096^2","v":560.60211005327278},4701.1443672522091,4430.8556327477909]
[2099,4564,4620,null,null,null,null,null,null,null,null,null,{"$f":"Control!$C$20+Control!$C$21*A2099+Control!$C$22*A2099^2","v":561.4100318876641},4699.1147660324359,4428.8852339675641]
[2102,4562,4507,null,null,null,null,null,null,null,null,null,{"$f":"Control!$C$20+Control!$C$21*A2102+Control!$C$22*A2102^2","v":562.21795371358382},4697.0851583261465,4426.9148416738535]
[2105,4559,4535,null,null,null,null,null,null,null,null,null,{"$f":"Control!$C$20+Control!$C$21*A2105+Control!$C$22*A2105^2","v":563.02587553103194},4694.040734595158,4423.959265404842]
[2106,4559,4666,null,null,null,null,null,null,null,null,null,{"$f":"Control!$C$20+Control!$C$21*A2106+Control!$C$22*A2106^2","v":563.295182801632},4694.040734595158,4423.959265404842]
[2109,4556,4405,null,null,null,null,null,null,null,null,null,{"$f":"Control!$C$20+Control!$C$21*A2109+Control!$C$22*A2109^2","v":564.10310460778442},4690.9962962454892,4421.0037037545108]
[2112,4554,4582,null,null,null,null,null,null,null,null,null,{"$f":"Control!$C$20+Control!$C$21*A2112+Control!$C$22*A2112^2","v":564.91102640546524},4688.9666625504242,4419.0333374495758]
[2116,4551,4543,null,null,null,null,null,null,null,null,null,{"$f":"Control!$C$20+Control!$C$21*A2116+Control!$C$22*A2116^2","v":565.98825545586146},4685.922199804183,4416.077800195817]
[2118,4550,4603,null,null,null,null,null,null,null,null,null,{"$f":"Control!$C$20+Control!$C$21*A2118+Control!$C$22*A2118^2","v":566.52686997541184},4684.9073756323205,4415.0926243676795]
[2122,4547,4571,null,null,null,null,null,null,null,null,null,{"$f":"Control!$C$20+Control!$C$21*A2122+Control!$C$22*A2122^2","v":567.6040990032169},4681.8628933398659,4412.1371066601341]
[2125,4545,4358,null,null,null,null,null,null,null,null,null,{"$f":"Control!$C$20+Control!$C$21*A2125+Control!$C$22*A2125^2","v":568.4120207641871},4679.8332303254656,4410.1667696745344]
[2128,4542,4555,null,null,null,null,null,null,null,null,null,{"$f":"Control!$C$20+Control!$C$21*A2128+Control!$C$22*A2128^2","v":569.21994251668571},4676.7887235639537,4407.2112764360463]
[2129,4542,4466,null,null,null,null,null,null,null,null,null,{"$f":"Control!$C$20+Control!$C$21*A2129+Control!$C$22*A2129^2","v":569.48924976563592},4676.7887235639537,4407.2112764360463]
[2132,4540,4464,null,null,null,null,null,null,null,null,null,{"$f":"Control!$C$20+Control!$C$21*A2132+Control!$C$22*A2132^2","v":570.29717150683894},4674.7590442233841,4405.2409557766159]
[2135,4537,4434,null,null,null,null,null,null,null,null,null,{"$f":"Control!$C$20+Control!$C$21*A2135+Control!$C$22*A2135^2","v":571.10509323957024},4671.7145129523915,4402.2854870476085]
[2139,4534,4537,null,null,null,null,null,null,null,null,null,{"$f":"Control!$C$20+Control!$C$21*A2139+Control!$C$22*A2139^2","v":572.18232220336722},4668.6699669562595,4399.3300330437405]
[2141,4533,4474,null,null,null,null,null,null,null,null,null,{"$f":"Control!$C$20+Control!$C$21*A2141+Control!$C$22*A2141^2","v":572.72093667961792},4667.6551150161031,4398.3448849838969]
[2145,4530,4517,null,null,null,null,null,null,null,null,null,{"$f":"Control!$C$20+Control!$C$21*A2145+Control!$C$22*A2145^2","v":573.79816562082374},4664.6105493637106,4395.3894506362894]
[2148,4528,4456,null,null,null,null,null,null,null,null,null,{"$f":"Control!$C$20+Control!$C$21*A2148+Control!$C$22*A2148^2","v":574.60608731684442},4662.5808307300858,4393.4191692699142]
[2151,4526,4507,null,null,null,null,null,null,null,null,null,{"$f":"Control!$C$20+Control!$C$21*A2151+Control!$C$22*A2151^2","v":575.41400900439351},4660.5511055324332,4391.4488944675668]
[2152,4525,4433,null,null,null,null,null,null,null,null,null,{"$f":"Control!$C$20+Control!$C$21*A2152+Control!$C$22*A2152^2","v":575.68331623169388},4659.5362404707375,4390.4637595292625]
[2155,4523,4445,null,null,null,null,null,null,null,null,null,{"$f":"Control!$C$20+Control!$C$21*A2155+Control!$C$22*A2155^2","v":576.49123790794749},4657.5065054188826,4388.4934945811174]
[2158,4521,4571,null,null,null,null,null,null,null,null,null,{"$f":"Control!$C$20+Control!$C$21*A2158+Control!$C$22*A2158^2","v":577.29915957572928},4655.4767637921141,4386.5232362078859]
[2161,4518,4380,null,null,null,null,null,null,null,null,null,{"$f":"Control!$C$20+Control!$C$21*A2161+Control!$C$22*A2161^2","v":578.10708123503946},4652.4321390144487,4383.5678609855513]
[2164,4541,4546,25,null,null,null,null,null,null,null,null,{"$f":"Control!$C$20+Control!$C$21*A2164+Control!$C$22*A2164^2","v":578.91500288587793},4652.4321390144487,4383.5678609855513]
[2168,4716,4611,203,null,null,null,null,null,null,null,null,{"$f":"Control!$C$20+Control!$C$21*A2168+Control!$C$22*A2168^2","v":579.99223174048439},4652.4321390144487,4383.5678609855513]
[2171,4576,4566,65,null,null,null,null,null,null,null,null,{"$f":"Control!$C$20+Control!$C$21*A2171+Control!$C$22*A2171^2","v":580.80015337155567},4652.4321390144487,4383.5678609855513]
[2174,4511,4452,2,null,null,null,null,null,null,null,null,{"$f":"Control!$C$20+Control!$C$21*A2174+Control!$C$22*A2174^2","v":581.60807499415534},4652.4321390144487,4383.5678609855513]
[2175,4508,4587,null,null,null,null,null,null,null,null,null,{"$f":"Control!$C$20+Control!$C$21*A2175+Control!$C$22*A2175^2","v":581.87738219980588},4642.2832826527565,4373.7167173472435]
[2179,4505,4512,null,null,null,null,null,null,null,null,null,{"$f":"Control!$C$20+Control!$C$21*A2179+Control!$C$22*A2179^2","v":582.95461101299531},{"$f":"IF(D2179=0,B2179+2*SQRT(B2179),N2178)","v":4639.2385935563989},{"$f":"IF(D2179=0,B2179-2*SQRT(B2179),O2178)","v":4370.7614064436011}]
[2181,4504,4513,null,null,null,null,null,null,null,null,null,{"$f":"Control!$C$20+Control!$C$21*A2181+Control!$C$22*A2181^2","v":583.49322541394224},4638.2236938844999,4369.7763061155001]
[2184,4501,4607,null,null,null,null,null,null,null,null,null,{"$f":"Control!$C$20+Control!$C$21*A2184+Control!$C$22*A2184^2","v":584.30114700830291},4635.1789849417564,4366.8210150582436]
[2187,4499,4628,null,null,null,null,null,null,null,null,null,{"$f":"Control!$C$20+Control!$C$21*A2187+Control!$C$22*A2187^2","v":585.10906859419197},4633.1491707018722,4364.8508292981278]
[2191,4496,4588,null,null,null,null,null,null,null,null,null,{"$f":"Control!$C$20+Control!$C$21*A2191+Control!$C$22*A2191^2","v":586.18629736219918},4630.1044369139217,4361.8955630860783]
[2194,4494,4485,null,null,null,null,null,null,null,null,null,{"$f":"Control!$C$20+Control!$C$21*A2194+Control!$C$22*A2194^2","v":586.99421892832095},4628.0746060967549,4359.9253939032451]
[2197,4492,4363,null,null,null,null,null,null,null,null,null,{"$f":"Control!$C$20+Control!$C$21*A2197+Control!$C$22*A2197^2","v":587.80214048597111},4626.0447686409279,4357.9552313590721]
[2198,4491,4448,null,null,null,null,null,null,null,null,null,{"$f":"Control!$C$20+Control!$C$21*A2198+Control!$C$22*A2198^2","v":588.0714476699718},4625.0298474221318,4356.9701525778682]
[2200,4490,4529,null,null,null,null,null,null,null,null,null,{"$f":"Control!$C$20+Control!$C$21*A2200+Control!$C$22*A2200^2","v":588.61006203514944},4624.014924542008,4355.985075457992]
[2204,4487,4517,null,null,null,null,null,null,null,null,null,{"$f":"Control!$C$20+Control!$C$21*A2204+Control!$C$22*A2204^2","v":589.68729075420924},4620.9701459281132,4353.0298540718868]
[2207,4485,4662,null,null,null,null,null,null,null,null,null,{"$f":"Control!$C$20+Control!$C$21*A2207+Control!$C$22*A2207^2","v":590.4952122836205},4618.9402852020257,4351.0597147979743]
[2210,4482,4515,null,null,null,null,null,null,null,null,null,{"$f":"Control!$C$20+Control!$C$21*A2210+Control!$C$22*A2210^2","v":591.30313380456005},4615.8954816265286,4348.1045183734714]
[2214,4479,4510,null,null,null,null,null,null,null,null,null,{"$f":"Control!$C$20+Control!$C$21*A2214+Control!$C$22*A2214^2","v":592.38036248596791},4612.8506630540169,4345.1493369459831]
[2217,4477,4577,null,null,null,null,null,null,null,null,null,{"$f":"Control!$C$20+Control!$C$21*A2217+Control!$C$22*A2217^2","v":593.18828398714015},4610.8207756665606,4343.1792243334394]
[2219,4476,4440,null,null,null,null,null,null,null,null,null,{"$f":"Control!$C$20+Control!$C$21*A2219+Control!$C$22*A2219^2","v":593.72689831654861},4609.805829469422,4342.194170530578]
[2220,4475,4541,null,null,null,null,null,null,null,null,null,{"$f":"Control!$C$20+Control!$C$21*A2220+Control!$C$22*A2220^2","v":593.9962054798408},4608.7908816025965,4341.2091183974035]
[2223,4473,4353,null,null,null,null,null,null,null,null,null,{"$f":"Control!$C$20+Control!$C$21*A2223+Control!$C$22*A2223^2","v":594.80412696406972},4606.7609808576481,4339.2390191423519]
[2227,4470,4501,null,null,null,null,null,null,null,null,null,{"$f":"Control!$C$20+Control!$C$21*A2227+Control!$C$22*A2227^2","v":595.88135559653017},4603.716117203574,4336.283882796426]
[2230,4468,4490,null,null,null,null,null,null,null,null,null,{"$f":"Control!$C$20+Control!$C$21*A2230+Control!$C$22*A2230^2","v":596.68927706099191},4601.6861997365468,4334.3138002634532]
[2233,4466,4545,null,null,null,null,null,null,null,null,null,{"$f":"Control!$C$20+Control!$C$21*A2233+Control!$C$22*A2233^2","v":597.49719851698205},4599.6562755728291,4332.3437244271709]
[2237,4463,4503,null,null,null,null,null,null,null,null,null,{"$f":"Control!$C$20+Control!$C$21*A2237+Control!$C$22*A2237^2","v":598.57442711179056},4596.6113767611123,4329.3886232388877]
[2238,4462,4342,null,null,null,null,null,null,null,null,null,{"$f":"Control!$C$20+Control!$C$21*A2238+Control!$C$22*A2238^2","v":598.84373425813953},4595.5964071373182,4328.4035928626818]
[2240,4460,4521,null,null,null,null,null,null,null,null,null,{"$f":"Control!$C$20+Control!$C$21*A2240+Control!$C$22*A2240^2","v":599.3823485480134},4593.5664628565119,4326.4335371434881]
[2243,4458,4476,null,null,null,null,null,null,null,null,null,{"$f":"Control!$C$20+Control!$C$21*A2243+Control!$C$22*A2243^2","v":600.19026997576452},{"$f":"IF(D2243=0,B2243+2*SQRT(B2243),N2242)","v":4591.5365118609889},{"$f":"IF(D2243=0,B2243-2*SQRT(B2243),O2242)","v":4324.4634881390111}]
[2246,4456,4440,null,null,null,null,null,null,null,null,null,{"$f":"Control!$C$20+Control!$C$21*A2246+Control!$C$22*A2246^2","v":600.99819139504405},4589.5065541462291,4322.4934458537709]
[2250,4453,4402,null,null,null,null,null,null,null,null,null,{"$f":"Control!$C$20+Control!$C$21*A2250+Control!$C$22*A2250^2","v":602.07541994090514},4586.4616049656233,4319.5383950343767]
[2253,4451,4467,null,null,null,null,null,null,null,null,null,{"$f":"Control!$C$20+Control!$C$21*A2253+Control!$C$22*A2253^2","v":602.88334134041736},4584.4316304329677,4317.5683695670323]
[2256,4449,4460,null,null,null,null,null,null,null,null,null,{"$f":"Control!$C$20+Control!$C$21*A2256+Control!$C$22*A2256^2","v":603.69126273145798},4582.4016491652183,4315.5983508347817]
[2259,4447,4528,null,null,null,null,null,null,null,null,null,{"$f":"Control!$C$20+Control!$C$21*A2259+Control!$C$22*A2259^2","v":604.49918411402689},4580.3716611578338,4313.6283388421662]
[2262,4444,4390,null,null,null,null,null,null,null,null,null,{"$f":"Control!$C$20+Control!$C$21*A2262+Control!$C$22*A2262^2","v":605.30710548812408},4577.3266664999919,4310.6733335000081]
[2263,4444,4442,null,null,null,null,null,null,null,null,null,{"$f":"Control!$C$20+Control!$C$21*A2263+Control!$C$22*A2263^2","v":605.57641261094057},4577.3266664999919,4310.6733335000081]
[2266,4441,4504,null,null,null,null,null,null,null,null,null,{"$f":"Control!$C$20+Control!$C$21*A2266+Control!$C$22*A2266^2","v":606.38433397374229},4574.2816566523688,4307.7183433476312]
[2269,4439,4369,null,null,null,null,null,null,null,null,null,{"$f":"Control!$C$20+Control!$C$21*A2269+Control!$C$22*A2269^2","v":607.19225532807229},4572.2516416409198,4305.7483583590802]
[2273,4436,4400,null,null,null,null,null,null,null,null,null,{"$f":"Control!$C$20+Control!$C$21*A2273+Control!$C$22*A2273^2","v":608.26948378733414},4569.2066064427736,4302.7933935572264]
[2276,4434,4461,null,null,null,null,null,null,null,null,null,{"$f":"Control!$C$20+Control!$C$21*A2276+Control!$C$22*A2276^2","v":609.07740512189685},4567.1765745166922,4300.8234254833078]
[2278,4433,4366,null,null,null,null,null,null,null,null,null,{"$f":"Control!$C$20+Control!$C$21*A2278+Control!$C$22*A2278^2","v":609.61601934023224},4566.1615560137388,4299.8384439862612]
[2282,4430,4435,null,null,null,null,null,null,null,null,null,{"$f":"Control!$C$20+Control!$C$21*A2282+Control!$C$22*A2282^2","v":610.69324776560734},4563.1164903383496,4296.8835096616504]
[2285,4427,4403,null,null,null,null,null,null,null,null,null,{"$f":"Control!$C$20+Control!$C$21*A2285+Control!$C$22*A2285^2","v":611.50116907475513},4560.0714094011182,4293.9285905988818]
[2286,4427,4482,null,null,null,null,null,null,null,null,null,{"$f":"Control!$C$20+Control!$C$21*A2286+Control!$C$22*A2286^2","v":611.77047617592177},4560.0714094011182,4293.9285905988818]
[2289,4425,4397,null,null,null,null,null,null,null,null,null,{"$f":"Control!$C$20+Control!$C$21*A2289+Control!$C$22*A2289^2","v":612.57839747377398},4558.041346956501,4291.958653043499]
[2292,4422,4445,null,null,null,null,null,null,null,null,null,{"$f":"Control!$C$20+Control!$C$21*A2292+Control!$C$22*A2292^2","v":613.38631876315446},4554.9962405483702,4289.0037594516298]
[2296,4419,4383,null,null,null,null,null,null,null,null,null,{"$f":"Control!$C$20+Control!$C$21*A2296+Control!$C$22*A2296^2","v":614.46354713581695},4551.9511188369625,4286.0488811630375]
[2299,4417,4372,null,null,null,null,null,null,null,null,null,{"$f":"Control!$C$20+Control!$C$21*A2299+Control!$C$22*A2299^2","v":615.27146840543026},4549.9210291865056,4284.0789708134944]
[2302,4415,4400,null,null,null,null,null,null,null,null,null,{"$f":"Control!$C$20+Control!$C$21*A2302+Control!$C$22*A2302^2","v":616.07938966657196},4547.8909327230413,4282.1090672769587]
[2305,4413,4503,null,null,null,null,null,null,null,null,null,{"$f":"Control!$C$20+Control!$C$21*A2305+Control!$C$22*A2305^2","v":616.88731091924183},4545.8608294419391,4280.1391705580609]
[2308,4411,4483,null,null,null,null,null,null,null,null,null,{"$f":"Control!$C$20+Control!$C$21*A2308+Control!$C$22*A2308^2","v":617.6952321634401},4543.8307193385626,4278.1692806614374]
[2309,4410,4454,null,null,null,null,null,null,null,null,null,{"$f":"Control!$C$20+Control!$C$21*A2309+Control!$C$22*A2309^2","v":617.9645392429569},4542.8156617270715,4277.1843382729285]
[2312,4416,4208,8,null,null,null,null,null,null,null,null,{"$f":"Control!$C$20+Control!$C$21*A2312+Control!$C$22*A2312^2","v":618.77246047585959},4541.8006024082724,4276.1993975917276]
[2316,4500,4377,95,null,null,null,null,null,null,null,null,{"$f":"Control!$C$20+Control!$C$21*A2316+Control!$C$22*A2316^2","v":619.84968877321842},4541.8006024082724,4276.1993975917276]
[2318,4480,4358,77,null,null,null,null,null,null,null,null,{"$f":"Control!$C$20+Control!$C$21*A2318+Control!$C$22*A2318^2","v":620.38830291625004},4541.8006024082724,4276.1993975917276]
[2321,4410,4288,9,null,null,null,null,null,null,null,null,{"$f":"Control!$C$20+Control!$C$21*A2321+Control!$C$22*A2321^2","v":621.19622412373769},4541.8006024082724,4276.1993975917276]
[2325,4398,4388,null,null,null,null,null,null,null,null,null,{"$f":"Control!$C$20+Control!$C$21*A2325+Control!$C$22*A2325^2","v":622.27345238720989},4530.6348370527139,4265.3651629472861]
[2328,4396,4404,null,null,null,null,null,null,null,null,null,{"$f":"Control!$C$20+Control!$C$21*A2328+Control!$C$22*A2328^2","v":623.08137357493024},4528.6046756340065,4263.3953243659935]
[2331,4394,4462,null,null,null,null,null,null,null,null,null,{"$f":"Control!$C$20+Control!$C$21*A2331+Control!$C$22*A2331^2","v":623.8892947541791},4526.5745073534126,4261.4254926465874]
[2332,4393,4375,null,null,null,null,null,null,null,null,null,{"$f":"Control!$C$20+Control!$C$21*A2332+Control!$C$22*A2332^2","v":624.15860181204607},4525.559420638444,4260.440579361556]
[2335,4391,4311,null,null,null,null,null,null,null,null,null,{"$f":"Control!$C$20+Control!$C$21*A2335+Control!$C$22*A2335^2","v":624.96652297999935},4523.5292420562346,4258.4707579437654]
[2339,4388,4528,null,null,null,null,null,null,null,null,null,{"$f":"Control!$C$20+Control!$C$21*A2339+Control!$C$22*A2339^2","v":626.04375119075883},4520.4839612934338,4255.5160387065662]
[2341,4386,4471,null,null,null,null,null,null,null,null,null,{"$f":"Control!$C$20+Control!$C$21*A2341+Control!$C$22*A2341^2","v":626.58236529049077},4518.4537655183876,4253.5462344816124]
[2344,4384,4451,null,null,null,null,null,null,null,null,null,{"$f":"Control!$C$20+Control!$C$21*A2344+Control!$C$22*A2344^2","v":627.3902864330289},4516.4235628579745,4251.5764371420255]
[2348,4381,4393,null,null,null,null,null,null,null,null,null,{"$f":"Control!$C$20+Control!$C$21*A2348+Control!$C$22*A2348^2","v":628.46751460990174},4513.378245946983,4248.621754053017]
[2351,4379,4557,null,null,null,null,null,null,null,null,null,{"$f":"Control!$C$20+Control!$C$21*A2351+Control!$C$22*A2351^2","v":629.27543573267269},4511.3480260525257,4246.6519739474743]
[2354,4377,4371,null,null,null,null,null,null,null,null,null,{"$f":"Control!$C$20+Control!$C$21*A2354+Control!$C$22*A2354^2","v":630.08335684697204},4509.317799256185,4244.682200743815]
[2355,4376,4288,null,null,null,null,null,null,null,null,null,{"$f":"Control!$C$20+Control!$C$21*A2355+Control!$C$22*A2355^2","v":630.35266388318917},4508.3026832683299,4243.6973167316701]
[2358,4374,4336,null,null,null,null,null,null,null,null,null,{"$f":"Control!$C$20+Control!$C$21*A2358+Control!$C$22*A2358^2","v":631.16058498619293},4506.2724461102916,4241.7275538897084]
[2361,4372,4267,null,null,null,null,null,null,null,null,null,{"$f":"Control!$C$20+Control!$C$21*A2361+Control!$C$22*A2361^2","v":631.96850608072509},4504.242202038532,4239.757797961468]
[2364,4370,4453,null,null,null,null,null,null,null,null,null,{"$f":"Control!$C$20+Control!$C$21*A2364+Control!$C$22*A2364^2","v":632.77642716678542},4502.2119510483071,4237.7880489516929]
[2367,4367,4571,null,null,null,null,null,null,null,null,null,{"$f":"Control!$C$20+Control!$C$21*A2367+Control!$C$22*A2367^2","v":633.58434824437416},4499.1665615804541,4234.8334384195459]
[2371,4364,4234,null,null,null,null,null,null,null,null,null,{"$f":"Control!$C$20+Control!$C$21*A2371+Control!$C$22*A2371^2","v":634.66157633464763},{"$f":"IF(D2371=0,B2371+2*SQRT(B2371),N2370)","v":4496.1211565193098},{"$f":"IF(D2371=0,B2371-2*SQRT(B2371),O2370)","v":4231.8788434806902}]
[2374,4362,4370,null,null,null,null,null,null,null,null,null,{"$f":"Control!$C$20+Control!$C$21*A2374+Control!$C$22*A2374^2","v":635.46949739246918},4494.0908778076673,4229.9091221923327]
[2375,4362,4288,null,null,null,null,null,null,null,null,null,{"$f":"Control!$C$20+Control!$C$21*A2375+Control!$C$22*A2375^2","v":635.73880440986045},4494.0908778076673,4229.9091221923327]
[2377,4360,4349,null,null,null,null,null,null,null,null,null,{"$f":"Control!$C$20+Control!$C$21*A2377+Control!$C$22*A2377^2","v":636.27741844181901},4492.0605921537535,4227.9394078462465]
[2380,4358,4352,null,null,null,null,null,null,null,null,null,{"$f":"Control!$C$20+Control!$C$21*A2380+Control!$C$22*A2380^2","v":637.08533948269712},4490.0302995527918,4225.9697004472082]
[2384,4355,4287,null,null,null,null,null,null,null,null,null,{"$f":"Control!$C$20+Control!$C$21*A2384+Control!$C$22*A2384^2","v":638.16256752402319},4486.984847615171,4223.015152384829]
[2387,4353,4355,null,null,null,null,null,null,null,null,null,{"$f":"Control!$C$20+Control!$C$21*A2387+Control!$C$22*A2387^2","v":638.97048854513412},4484.9545376256538,4221.0454623743462]
[2390,4351,4305,null,null,null,null,null,null,null,null,null,{"$f":"Control!$C$20+Control!$C$21*A2390+Control!$C$22*A2390^2","v":639.77840955777333},4482.9242206723238,4219.0757793276762]
[2394,4348,4473,null,null,null,null,null,null,null,null,null,{"$f":"Control!$C$20+Control!$C$21*A2394+Control!$C$22*A2394^2","v":640.85563756144757},4479.8787321746759,4216.1212678253241]
[2396,4346,4336,null,null,null,null,null,null,null,null,null,{"$f":"Control!$C$20+Control!$C$21*A2396+Control!$C$22*A2396^2","v":641.39425155763684},4477.8483977907963,4214.1516022092037]
[2397,4345,4306,null,null,null,null,null,null,null,null,null,{"$f":"Control!$C$20+Control!$C$21*A2397+Control!$C$22*A2397^2","v":641.66355855431959},4476.8332279814158,4213.1667720185842]
[2400,4343,4393,null,null,null,null,null,null,null,null,null,{"$f":"Control!$C$20+Control!$C$21*A2400+Control!$C$22*A2400^2","v":642.4714795387199},4474.802883124763,4211.197116875237]
[2403,4341,4266,null,null,null,null,null,null,null,null,null,{"$f":"Control!$C$20+Control!$C$21*A2403+Control!$C$22*A2403^2","v":643.27940051464861},4472.7725312802331,4209.2274687197669]
[2407,4338,4324,null,null,null,null,null,null,null,null,null,{"$f":"Control!$C$20+Control!$C$21*A2407+Control!$C$22*A2407^2","v":644.35662846937532},4469.7269904006007,4206.2730095993993]
[2410,4336,4298,null,null,null,null,null,null,null,null,null,{"$f":"Control!$C$20+Control!$C$21*A2410+Control!$C$22*A2410^2","v":645.16454942553673},4467.6966210652345,4204.3033789347655]
[2414,4333,4361,null,null,null,null,null,null,null,null,null,{"$f":"Control!$C$20+Control!$C$21*A2414+Control!$C$22*A2414^2","v":646.2417773539072},4464.6510539266583,4201.3489460733417]
[2415,4332,4374,null,null,null,null,null,null,null,null,null,{"$f":"Control!$C$20+Control!$C$21*A2415+Control!$C$22*A2415^2","v":646.51108433364652},4463.6358613752345,4200.3641386247655]
[2419,4329,4371,null,null,null,null,null,null,null,null,null,{"$f":"Control!$C$20+Control!$C$21*A2419+Control!$C$22*A2419^2","v":647.58831224319101},4460.5902731967681,4197.4097268032319]
[2420,4329,4366,null,null,null,null,null,null,null,null,null,{"$f":"Control!$C$20+Control!$C$21*A2420+Control!$C$22*A2420^2","v":647.85761921822393},4460.5902731967681,4197.4097268032319]
[2423,4326,4208,null,null,null,null,null,null,null,null,null,{"$f":"Control!$C$20+Control!$C$21*A2423+Control!$C$22*A2423^2","v":648.66554013767484},4457.5446692192427,4194.4553307807573]
[2426,4324,4325,null,null,null,null,null,null,null,null,null,{"$f":"Control!$C$20+Control!$C$21*A2426+Control!$C$22*A2426^2","v":649.47346104865403},4455.5142577821889,4192.4857422178111]
[2430,4321,4450,null,null,null,null,null,null,null,null,null,{"$f":"Control!$C$20+Control!$C$21*A2430+Control!$C$22*A2430^2","v":650.5506889167815},4452.4686274363585,4189.5313725636415]
[2433,4319,4376,null,null,null,null,null,null,null,null,null,{"$f":"Control!$C$20+Control!$C$21*A2433+Control!$C$22*A2433^2","v":651.35860980799339},4450.4381984051824,4187.5618015948176]
[2436,4317,4335,null,null,null,null,null,null,null,null,null,{"$f":"Control!$C$20+Control!$C$21*A2436+Control!$C$22*A2436^2","v":652.16653069073368},4448.4077623278017,4185.5922376721983]
[2439,4315,4345,null,null,null,null,null,null,null,null,null,{"$f":"Control!$C$20+Control!$C$21*A2439+Control!$C$22*A2439^2","v":652.97445156500237},4446.3773191993196,4183.6226808006804]
[2442,4312,4352,null,null,null,null,null,null,null,null,null,{"$f":"Control!$C$20+Control!$C$21*A2442+Control!$C$22*A2442^2","v":653.78237243079923},4443.3316412750564,4180.6683587249436]
[2443,4312,4282,null,null,null,null,null,null,null,null,null,{"$f":"Control!$C$20+Control!$C$21*A2443+Control!$C$22*A2443^2","v":654.05167938418231},4443.3316412750564,4180.6683587249436]
[2446,4310,4375,null,null,null,null,null,null,null,null,null,{"$f":"Control!$C$20+Control!$C$21*A2446+Control!$C$22*A2446^2","v":654.8596002386837},4441.3011804973585,4178.6988195026415]
[2449,4307,4402,null,null,null,null,null,null,null,null,null,{"$f":"Control!$C$20+Control!$C$21*A2449+Control!$C$22*A2449^2","v":655.66752108471337},4438.2554760762387,4175.7445239237613]
[2453,4304,4338,null,null,null,null,null,null,null,null,null,{"$f":"Control!$C$20+Control!$C$21*A2453+Control!$C$22*A2453^2","v":656.74474886624159},4435.2097557348534,4172.7902442651466]
[2455,4303,4290,null,null,null,null,null,null,null,null,null,{"$f":"Control!$C$20+Control!$C$21*A2455+Control!$C$22*A2455^2","v":657.2833627513578},4434.1945120803457,4171.8054879196543]
[2459,4326,4454,26,null,null,null,null,null,null,null,null,{"$f":"Control!$C$20+Control!$C$21*A2459+Control!$C$22*A2459^2","v":658.36059051029486},4432.1640194565571,4169.8359805434429]
[2462,4932,4945,634,null,null,null,null,null,null,null,null,{"$f":"Control!$C$20+Control!$C$21*A2462+Control!$C$22*A2462^2","v":659.16851131961403},4432.1640194565571,4169.8359805434429]
[2465,6220,6145,1924,null,null,null,null,null,null,null,null,{"$f":"Control!$C$20+Control!$C$21*A2465+Control!$C$22*A2465^2","v":659.97643212046148},4432.1640194565571,4169.8359805434429]
[2466,6043,6009,1748,null,null,null,null,null,null,null,null,{"$f":"Control!$C$20+Control!$C$21*A2466+Control!$C$22*A2466^2","v":660.24573905219472},4432.1640194565571,4169.8359805434429]
[2469,4616,4711,323,null,null,null,null,null,null,null,null,{"$f":"Control!$C$20+Control!$C$21*A2469+Control!$C$22*A2469^2","v":661.05365984174659},4432.1640194565571,4169.8359805434429]
[2473,4290,4225,null,null,null,null,null,null,null,null,null,{"$f":"Control!$C$20+Control!$C$21*A2473+Control!$C$22*A2473^2","v":662.13088754797093},4420.9961831505025,4159.0038168494975]
[2476,4288,4212,null,null,null,null,null,null,null,null,null,{"$f":"Control!$C$20+Control!$C$21*A2476+Control!$C$22*A2476^2","v":662.93880831775562},4418.9656443499589,4157.0343556500411]
[2478,4286,4205,null,null,null,null,null,null,null,null,null,{"$f":"Control!$C$20+Control!$C$21*A2478+Control!$C$22*A2478^2","v":663.47742215957226},4416.935098426663,4155.064901573337]
[2482,4283,4282,null,null,null,null,null,null,null,null,null,{"$f":"Control!$C$20+Control!$C$21*A2482+Control!$C$22*A2482^2","v":664.55464983190996},4413.889266175649,4152.110733824351]
[2485,4281,4265,null,null,null,null,null,null,null,null,null,{"$f":"Control!$C$20+Control!$C$21*A2485+Control!$C$22*A2485^2","v":665.36257057627961},4411.8587024236449,4150.1412975763551]
[2488,4279,4242,null,null,null,null,null,null,null,null,null,{"$f":"Control!$C$20+Control!$C$21*A2488+Control!$C$22*A2488^2","v":666.17049131217755},4409.8281315314107,4148.1718684685893]
[2489,4278,4176,null,null,null,null,null,null,null,null,null,{"$f":"Control!$C$20+Control!$C$21*A2489+Control!$C$22*A2489^2","v":666.43979822226106},4408.8128434061427,4147.1871565938573]
[2492,4276,4239,null,null,null,null,null,null,null,null,null,{"$f":"Control!$C$20+Control!$C$21*A2492+Control!$C$22*A2492^2","v":667.24771894686342},4406.7822617941747,4145.2177382058253]
[2495,4274,4236,null,null,null,null,null,null,null,null,null,{"$f":"Control!$C$20+Control!$C$21*A2495+Control!$C$22*A2495^2","v":668.05563966299417},4404.7516730294492,4143.2483269705508]
[2498,4271,4364,null,null,null,null,null,null,null,null,null,{"$f":"Control!$C$20+Control!$C$21*A2498+Control!$C$22*A2498^2","v":668.86356037065332},4401.7057764599558,4140.2942235400442]
[2501,4269,4333,null,null,null,null,null,null,null,null,null,{"$f":"Control!$C$20+Control!$C$21*A2501+Control!$C$22*A2501^2","v":669.67148106984064},4399.6751697913569,4138.3248302086431]
[2505,4266,4302,null,null,null,null,null,null,null,null,null,{"$f":"Control!$C$20+Control!$C$21*A2505+Control!$C$22*A2505^2","v":670.74870865557909},4396.6292463424634,4135.3707536575366]
[2508,4264,4182,null,null,null,null,null,null,null,null,null,{"$f":"Control!$C$20+Control!$C$21*A2508+Control!$C$22*A2508^2","v":671.55662933499923},4394.5986217385162,4133.4013782614838]
[2511,4262,4220,null,null,null,null,null,null,null,null,null,{"$f":"Control!$C$20+Control!$C$21*A2511+Control!$C$22*A2511^2","v":672.36455000594776},4392.5679899515953,4131.4320100484047]
[2512,4261,4274,null,null,null,null,null,null,null,null,null,{"$f":"Control!$C$20+Control!$C$21*A2512+Control!$C$22*A2512^2","v":672.63385689438132},4391.5526713629406,4130.4473286370594]
[2516,4258,4172,null,null,null,null,null,null,null,null,null,{"$f":"Control!$C$20+Control!$C$21*A2516+Control!$C$22*A2516^2","v":673.71108443870264},4388.5067048086039,4127.4932951913961]
[2518,4257,4304,null,null,null,null,null,null,null,null,null,{"$f":"Control!$C$20+Control!$C$21*A2518+Control!$C$22*A2518^2","v":674.24969820521551},4387.4913790255896,4126.5086209744104]
[2521,4255,4276,null,null,null,null,null,null,null,null,null,{"$f":"Control!$C$20+Control!$C$21*A2521+Control!$C$22*A2521^2","v":675.05761884792514},4385.4607220584039,4124.5392779415961]
[2524,4252,4264,null,null,null,null,null,null,null,null,null,{"$f":"Control!$C$20+Control!$C$21*A2524+Control!$C$22*A2524^2","v":675.86553948216306},4382.4147230952085,4121.5852769047915]
[2528,4249,4430,null,null,null,null,null,null,null,null,null,{"$f":"Control!$C$20+Control!$C$21*A2528+Control!$C$22*A2528^2","v":676.94276698130216},4379.3687079018582,4118.6312920981418]
[2531,4247,4255,null,null,null,null,null,null,null,null,null,{"$f":"Control!$C$20+Control!$C$21*A2531+Control!$C$22*A2531^2","v":677.75068759577289},4377.3380220810486,4116.6619779189514]
[2532,4247,4356,null,null,null,null,null,null,null,null,null,{"$f":"Control!$C$20+Control!$C$21*A2532+Control!$C$22*A2532^2","v":678.01999446538048},4377.3380220810486,4116.6619779189514]
[2535,4244,4249,null,null,null,null,null,null,null,null,null,{"$f":"Control!$C$20+Control!$C$21*A2535+Control!$C$22*A2535^2","v":678.82791506855563},4374.291979799219,4113.708020200781]
[2537,4243,4238,null,null,null,null,null,null,null,null,null,{"$f":"Control!$C$20+Control!$C$21*A2537+Control!$C$22*A2537^2","v":679.3665287992992},4373.2766287558898,4112.7233712441102]
[2541,4240,4157,null,null,null,null,null,null,null,null,null,{"$f":"Control!$C$20+Control!$C$21*A2541+Control!$C$22*A2541^2","v":680.44375624949089},4370.2305647687972,4109.7694352312028]
[2544,4238,4182,null,null,null,null,null,null,null,null,null,{"$f":"Control!$C$20+Control!$C$21*A2544+Control!$C$22*A2544^2","v":681.251676827251},4368.1998463900782,4107.8001536099218]
[2547,4236,4313,null,null,null,null,null,null,null,null,null,{"$f":"Control!$C$20+Control!$C$21*A2547+Control!$C$22*A2547^2","v":682.0595973965394},4366.1691207621834,4105.8308792378166]
[2551,4233,4255,null,null,null,null,null,null,null,null,null,{"$f":"Control!$C$20+Control!$C$21*A2551+Control!$C$22*A2551^2","v":683.13682480907926},4363.1230187169049,4102.8769812830951]
[2554,4230,4298,null,null,null,null,null,null,null,null,null,{"$f":"Control!$C$20+Control!$C$21*A2554+Control!$C$22*A2554^2","v":683.94474535860047},4360.0769003320729,4099.9230996679271]
[2556,4229,4330,null,null,null,null,null,null,null,null,null,{"$f":"Control!$C$20+Control!$C$21*A2556+Control!$C$22*A2556^2","v":684.48335905357476},4359.0615239031131,4098.9384760968869]
[2557,4228,4330,null,null,null,null,null,null,null,null,null,{"$f":"Control!$C$20+Control!$C$21*A2557+Control!$C$22*A2557^2","v":684.75266589964997},4358.0461456560706,4097.9538543439294]
[2560,4226,4177,null,null,null,null,null,null,null,null,null,{"$f":"Control!$C$20+Control!$C$21*A2560+Control!$C$22*A2560^2","v":685.56058643222786},4356.0153837051603,4095.9846162948397]
[2564,4223,4143,null,null,null,null,null,null,null,null,null,{"$f":"Control!$C$20+Control!$C$21*A2564+Control!$C$22*A2564^2","v":686.63781379582019},4352.9692271270396,4093.0307728729604]
[2567,4221,4275,null,null,null,null,null,null,null,null,null,{"$f":"Control!$C$20+Control!$C$21*A2567+Control!$C$22*A2567^2","v":687.4457343086309},4350.9384469662464,4091.0615530337536]
[2571,4218,4288,null,null,null,null,null,null,null,null,null,{"$f":"Control!$C$20+Control!$C$21*A2571+Control!$C$22*A2571^2","v":688.52296164586687},4347.892263049036,4088.107736950964]
[2574,4216,4164,null,null,null,null,null,null,null,null,null,{"$f":"Control!$C$20+Control!$C$21*A2574+Control!$C$22*A2574^2","v":689.33088213891028},4345.8614646459837,4086.1385353540168]
[2575,4215,4160,null,null,null,null,null,null,null,null,null,{"$f":"Control!$C$20+Control!$C$21*A2575+Control!$C$22*A2575^2","v":689.60018896804218},4344.8460627050354,4085.1539372949646]
[2577,4214,4218,null,null,null,null,null,null,null,null,null,{"$f":"Control!$C$20+Control!$C$21*A2577+Control!$C$22*A2577^2","v":690.13880262348198},4343.8306589369395,4084.1693410630601]
[2580,4211,4244,null,null,null,null,null,null,null,null,null,{"$f":"Control!$C$20+Control!$C$21*A2580+Control!$C$22*A2580^2","v":690.94672309958207},4340.7844366632607,4081.2155633367393]
[2583,4209,4258,null,null,null,null,null,null,null,null,null,{"$f":"Control!$C$20+Control!$C$21*A2583+Control!$C$22*A2583^2","v":691.75464356721045},4338.7536126664691,4079.2463873335314]
[2587,4206,4161,null,null,null,null,null,null,null,null,null,{"$f":"Control!$C$20+Control!$C$21*A2587+Control!$C$22*A2587^2","v":692.83187084420354},4335.7073629367278,4076.2926370632722]
[2590,4204,4188,null,null,null,null,null,null,null,null,null,{"$f":"Control!$C$20+Control!$C$21*A2590+Control!$C$22*A2590^2","v":693.63979129206473},4333.6765206195787,4074.3234793804213]
[2594,4201,4247,null,null,null,null,null,null,null,null,null,{"$f":"Control!$C$20+Control!$C$21*A2594+Control!$C$22*A2594^2","v":694.71701854270145},4330.6302433847904,4071.3697566152096]
[2596,4200,4242,null,null,null,null,null,null,null,null,null,{"$f":"Control!$C$20+Control!$C$21*A2596+Control!$C$22*A2596^2","v":695.25563216237197},4329.6148139681573,4070.3851860318427]
[2599,4197,4112,null,null,null,null,null,null,null,null,null,{"$f":"Control!$C$20+Control!$C$21*A2599+Control!$C$22*A2599^2","v":696.06355258481813},4326.5685146939641,4067.4314853060359]
[2600,4197,4121,null,null,null,null,null,null,null,null,null,{"$f":"Control!$C$20+Control!$C$21*A2600+Control!$C$22*A2600^2","v":696.33285939041752},4326.5685146939641,4067.4314853060359]
[2603,4195,4201,null,null,null,null,null,null,null,null,null,{"$f":"Control!$C$20+Control!$C$21*A2603+Control!$C$22*A2603^2","v":697.14077980156821},4324.5376393176903,4065.4623606823097]
[2606,4192,4109,null,null,null,null,null,null,null,null,null,{"$f":"Control!$C$20+Control!$C$21*A2606+Control!$C$22*A2606^2","v":697.94870020424707},4321.4913124499089,4062.5086875500911]
[2610,4541,4584,352,null,null,null,null,null,null,null,null,{"$f":"Control!$C$20+Control!$C$21*A2610+Control!$C$22*A2610^2","v":699.0259273946408},4321.4913124499089,4062.5086875500911]
[2613,5628,5706,1441,null,null,null,null,null,null,null,null,{"$f":"Control!$C$20+Control!$C$21*A2613+Control!$C$22*A2613^2","v":699.83384777755248},4321.4913124499089,4062.5086875500911]
[2615,5402,5358,1216,null,null,null,null,null,null,null,null,{"$f":"Control!$C$20+Control!$C$21*A2615+Control!$C$22*A2615^2","v":700.37246136145382},4321.4913124499089,4062.5086875500911]
[2619,4244,4241,61,null,null,null,null,null,null,null,null,{"$f":"Control!$C$20+Control!$C$21*A2619+Control!$C$22*A2619^2","v":701.44968851796079},4321.4913124499089,4062.5086875500911]
[2622,4181,4204,null,null,null,null,null,null,null,null,null,{"$f":"Control!$C$20+Control!$C$21*A2622+Control!$C$22*A2622^2","v":702.25760887545755},4310.3213052826177,4051.6786947173823]
[2623,4180,4200,null,null,null,null,null,null,null,null,null,{"$f":"Control!$C$20+Control!$C$21*A2623+Control!$C$22*A2623^2","v":702.52691565940711},4309.3058390019569,4050.6941609980431]
[2626,4178,4323,null,null,null,null,null,null,null,null,null,{"$f":"Control!$C$20+Control!$C$21*A2626+Control!$C$22*A2626^2","v":703.33483600560828},4307.2749008895389,4048.7250991104615]
[2630,4175,4050,null,null,null,null,null,null,null,null,null,{"$f":"Control!$C$20+Control!$C$21*A2630+Control!$C$22*A2630^2","v":704.41206312069824},4304.2284798332012,4045.7715201667993]
[2633,4173,4127,null,null,null,null,null,null,null,null,null,{"$f":"Control!$C$20+Control!$C$21*A2633+Control!$C$22*A2633^2","v":705.21998344713211},4302.1975231960732,4043.8024768039263]
[2636,4170,4184,null,null,null,null,null,null,null,null,null,{"$f":"Control!$C$20+Control!$C$21*A2636+Control!$C$22*A2636^2","v":706.02790376509427},4299.1510743277031,4040.8489256722964]
[2639,4168,4128,null,null,null,null,null,null,null,null,null,{"$f":"Control!$C$20+Control!$C$21*A2639+Control!$C$22*A2639^2","v":706.83582407458482},4297.1200991325513,4038.8799008674482]
[2642,4166,4153,null,null,null,null,null,null,null,null,null,{"$f":"Control!$C$20+Control!$C$21*A2642+Control!$C$22*A2642^2","v":707.64374437560366},4295.0891165048397,4036.9108834951608]
[2645,4164,4154,null,null,null,null,null,null,null,null,null,{"$f":"Control!$C$20+Control!$C$21*A2645+Control!$C$22*A2645^2","v":708.4516646681509},4293.0581264392131,4034.9418735607865]
[2646,4163,4144,null,null,null,null,null,null,null,null,null,{"$f":"Control!$C$20+Control!$C$21*A2646+Control!$C$22*A2646^2","v":708.72097143045062},4292.042628615508,4033.9573713844916]
[2649,4161,4116,null,null,null,null,null,null,null,null,null,{"$f":"Control!$C$20+Control!$C$21*A2649+Control!$C$22*A2649^2","v":709.52889171170227},4290.0116273829608,4031.9883726170387]
[2653,4158,4209,null,null,null,null,null,null,null,null,null,{"$f":"Control!$C$20+Control!$C$21*A2653+Control!$C$22*A2653^2","v":710.60611874019298},4286.9651115612278,4029.0348884387718]
[2655,4156,4022,null,null,null,null,null,null,null,null,null,{"$f":"Control!$C$20+Control!$C$21*A2655+Control!$C$22*A2655^2","v":711.14473224879055},4284.9340916902893,4027.0659083097103]
[2658,4154,4060,null,null,null,null,null,null,null,null,null,{"$f":"Control!$C$20+Control!$C$21*A2658+Control!$C$22*A2658^2","v":711.95265250462717},4282.9030643545757,4025.0969356454239]
[2662,4151,4242,null,null,null,null,null,null,null,null,null,{"$f":"Control!$C$20+Control!$C$21*A2662+Control!$C$22*A2662^2","v":713.02987949923113},4279.8565093427569,4022.1434906572431]
[2665,4149,4072,null,null,null,null,null,null,null,null,null,{"$f":"Control!$C$20+Control!$C$21*A2665+Control!$C$22*A2665^2","v":713.83779973530045},4277.8254633215038,4020.1745366784967]
[2668,4147,4164,null,null,null,null,null,null,null,null,null,{"$f":"Control!$C$20+Control!$C$21*A2668+Control!$C$22*A2668^2","v":714.64571996289817},4275.7944098165754,4018.2055901834246]
[2669,4146,4196,null,null,null,null,null,null,null,null,null,{"$f":"Control!$C$20+Control!$C$21*A2669+Control!$C$22*A2669^2","v":714.91502670354816},4274.7788802560417,4017.2211197439578]
[2672,4144,4135,null,null,null,null,null,null,null,null,null,{"$f":"Control!$C$20+Control!$C$21*A2672+Control!$C$22*A2672^2","v":715.7229469198503},4272.7478155154486,4015.2521844845514]
[2676,4141,4223,null,null,null,null,null,null,null,null,null,{"$f":"Control!$C$20+Control!$C$21*A2676+Control!$C$22*A2676^2","v":716.80017386174165},4269.7012043455697,4012.2987956544307]
[2678,4140,4209,null,null,null,null,null,null,null,null,null,{"$f":"Control!$C$20+Control!$C$21*A2678+Control!$C$22*A2678^2","v":717.33878732703954},4268.6856635371632,4011.3143364628368]
[2681,4137,4173,null,null,null,null,null,null,null,null,null,{"$f":"Control!$C$20+Control!$C$21*A2681+Control!$C$22*A2681^2","v":718.14670751792676},4265.6390298470878,4008.3609701529122]
[2685,4134,4107,null,null,null,null,null,null,null,null,null,{"$f":"Control!$C$20+Control!$C$21*A2685+Control!$C$22*A2685^2","v":719.22393442593136},4262.5923792454278,4005.4076207545718]
[2688,4132,4068,null,null,null,null,null,null,null,null,null,{"$f":"Control!$C$20+Control!$C$21*A2688+Control!$C$22*A2688^2","v":720.03185459705128},4260.561269439906,4003.4387305600944]
[2689,4132,4049,null,null,null,null,null,null,null,null,null,{"$f":"Control!$C$20+Control!$C$21*A2689+Control!$C$22*A2689^2","v":720.3011613188753},4260.561269439906,4003.4387305600944]
[2692,4129,4255,null,null,null,null,null,null,null,null,null,{"$f":"Control!$C$20+Control!$C$21*A2692+Control!$C$22*A2692^2","v":721.10908147869964},4257.5145906113385,4000.4854093886611]
[2695,4127,4151,null,null,null,null,null,null,null,null,null,{"$f":"Control!$C$20+Control!$C$21*A2695+Control!$C$22*A2695^2","v":721.91700163005237},4255.4834619707926,3998.5165380292078]
[2698,4125,4142,null,null,null,null,null,null,null,null,null,{"$f":"Control!$C$20+Control!$C$21*A2698+Control!$C$22*A2698^2","v":722.72492177293327},4253.4523257866513,3996.5476742133487]
[2701,4123,4136,null,null,null,null,null,null,null,null,null,{"$f":"Control!$C$20+Control!$C$21*A2701+Control!$C$22*A2701^2","v":723.53284190734257},4251.4211820534292,3994.5788179465708]
[2704,4121,4167,null,null,null,null,null,null,null,null,null,{"$f":"Control!$C$20+Control!$C$21*A2704+Control!$C$22*A2704^2","v":724.34076203328027},4249.3900307656322,3992.6099692343678]
[2708,4118,4099,null,null,null,null,null,null,null,null,null,{"$f":"Control!$C$20+Control!$C$21*A2708+Control!$C$22*A2708^2","v":725.41798885468563},4246.3432896570757,3989.6567103429243]
[2711,4115,4127,null,null,null,null,null,null,null,null,null,{"$f":"Control!$C$20+Control!$C$21*A2711+Control!$C$22*A2711^2","v":726.22590896085603},4243.2965315197571,3986.7034684802429]
[2712,4115,4168,null,null,null,null,null,null,null,null,null,{"$f":"Control!$C$20+Control!$C$21*A2712+Control!$C$22*A2712^2","v":726.49521566103022},4243.2965315197571,3986.7034684802429]
[2716,4112,4105,null,null,null,null,null,null,null,null,null,{"$f":"Control!$C$20+Control!$C$21*A2716+Control!$C$22*A2716^2","v":727.57244245231414},4240.2497563350516,3983.7502436649488]
[2717,4111,4102,null,null,null,null,null,null,null,null,null,{"$f":"Control!$C$20+Control!$C$21*A2717+Control!$C$22*A2717^2","v":727.84174914778191},4239.2341608152838,3982.7658391847162]
[2721,4108,4063,null,null,null,null,null,null,null,null,null,{"$f":"Control!$C$20+Control!$C$21*A2721+Control!$C$22*A2721^2","v":728.91897592023986},4236.1873628716967,3979.8126371283033]
[2724,4106,4178,null,null,null,null,null,null,null,null,null,{"$f":"Control!$C$20+Control!$C$21*A2724+Control!$C$22*A2724^2","v":729.72689598969964},4234.1561547488063,3977.8438452511937]
[2728,4103,4057,null,null,null,null,null,null,null,null,null,{"$f":"Control!$C$20+Control!$C$21*A2728+Control!$C$22*A2728^2","v":730.80412273580123},4231.1093283098462,3974.8906716901538]
[2731,4101,4036,null,null,null,null,null,null,null,null,null,{"$f":"Control!$C$20+Control!$C$21*A2731+Control!$C$22*A2731^2","v":731.61204278549394},4229.0781011726831,3972.9218988273169]
[2733,4099,4142,null,null,null,null,null,null,null,null,null,{"$f":"Control!$C$20+Control!$C$21*A2733+Control!$C$22*A2733^2","v":732.15065614724915},4227.0468664200725,3970.953133579927]
[2734,4099,4003,null,null,null,null,null,null,null,null,null,{"$f":"Control!$C$20+Control!$C$21*A2734+Control!$C$22*A2734^2","v":732.41996282671482},4227.0468664200725,3970.953133579927]
[2737,4096,4146,null,null,null,null,null,null,null,null,null,{"$f":"Control!$C$20+Control!$C$21*A2737+Control!$C$22*A2737^2","v":733.2278828594641},4224,3968]
[2740,4094,4027,null,null,null,null,null,null,null,null,null,{"$f":"Control!$C$20+Control!$C$21*A2740+Control!$C$22*A2740^2","v":734.03580288374167},4221.9687461843714,3966.031253815629]
[2744,4091,4150,null,null,null,null,null,null,null,null,null,{"$f":"Control!$C$20+Control!$C$21*A2744+Control!$C$22*A2744^2","v":735.11302956960026},4218.9218511435793,3963.0781488564207]
[2747,4089,4017,null,null,null,null,null,null,null,null,null,{"$f":"Control!$C$20+Control!$C$21*A2747+Control!$C$22*A2747^2","v":735.92094957411064},4216.8905782299853,3961.1094217700147]
[2751,4086,4101,null,null,null,null,null,null,null,null,null,{"$f":"Control!$C$20+Control!$C$21*A2751+Control!$C$22*A2751^2","v":736.99817623361298},4213.8436545159748,3958.1563454840248]
[2752,4085,4089,null,null,null,null,null,null,null,null,null,{"$f":"Control!$C$20+Control!$C$21*A2752+Control!$C$22*A2752^2","v":737.26748289613533},4212.8280094501988,3957.1719905498016]
[2756,4102,4110,20,null,null,null,null,null,null,null,null,{"$f":"Control!$C$20+Control!$C$21*A2756+Control!$C$22*A2756^2","v":738.34470953681171},4210.7967135727677,3955.2032864272323]
[2757,4149,4197,67,null,null,null,null,null,null,null,null,{"$f":"Control!$C$20+Control!$C$21*A2757+Control!$C$22*A2757^2","v":738.61401619462754},4210.7967135727677,3955.2032864272323]
[2760,4755,4744,676,null,null,null,null,null,null,null,null,{"$f":"Control!$C$20+Control!$C$21*A2760+Control!$C$22*A2760^2","v":739.4219361624273},4210.7967135727677,3955.2032864272323]
[2763,5096,5059,1019,null,null,null,null,null,null,null,null,{"$f":"Control!$C$20+Control!$C$21*A2763+Control!$C$22*A2763^2","v":740.22985612175546},4210.7967135727677,3955.2032864272323]
[2767,4165,4119,91,null,null,null,null,null,null,null,null,{"$f":"Control!$C$20+Control!$C$21*A2767+Control!$C$22*A2767^2","v":741.30708272101481},4210.7967135727677,3955.2032864272323]
[2770,4072,4114,null,null,null,null,null,null,null,null,null,{"$f":"Control!$C$20+Control!$C$21*A2770+Control!$C$22*A2770^2","v":742.11500266057567},4199.6244490683503,3944.3755509316493]
[2773,4070,3988,null,null,null,null,null,null,null,null,null,{"$f":"Control!$C$20+Control!$C$21*A2773+Control!$C$22*A2773^2","v":742.92292259166493},4197.5931032618928,3942.4068967381072]
[2776,4068,4109,null,null,null,null,null,null,null,null,null,{"$f":"Control!$C$20+Control!$C$21*A2776+Control!$C$22*A2776^2","v":743.73084251428236},4195.5617497528156,3940.438250247184]
[2779,4066,4027,null,null,null,null,null,null,null,null,null,{"$f":"Control!$C$20+Control!$C$21*A2779+Control!$C$22*A2779^2","v":744.5387624284283},4193.5303885354388,3938.4696114645612]
[2780,4065,4117,null,null,null,null,null,null,null,null,null,{"$f":"Control!$C$20+Control!$C$21*A2780+Control!$C$22*A2780^2","v":744.80806906459429},4192.5147050343603,3937.4852949656392]
[2783,4063,4049,null,null,null,null,null,null,null,null,null,{"$f":"Control!$C$20+Control!$C$21*A2783+Control!$C$22*A2783^2","v":745.61598896744465},4190.4833322438662,3935.5166677561338]
[2787,4060,4062,null,null,null,null,null,null,null,null,null,{"$f":"Control!$C$20+Control!$C$21*A2787+Control!$C$22*A2787^2","v":746.69321549140022},4187.4362585765921,3932.5637414234079]
[2790,4058,3999,null,null,null,null,null,null,null,null,null,{"$f":"Control!$C$20+Control!$C$21*A2790+Control!$C$22*A2790^2","v":747.50113537448328},4185.4048664690636,3930.595133530936]
[2792,4056,4033,null,null,null,null,null,null,null,null,null,{"$f":"Control!$C$20+Control!$C$21*A2792+Control!$C$22*A2792^2","v":748.03974862516543},4183.3734666247256,3928.6265333752749]
[2796,4053,4058,null,null,null,null,null,null,null,null,null,{"$f":"Control!$C$20+Control!$C$21*A2796+Control!$C$22*A2796^2","v":749.11697511523437},4180.3263523391761,3925.6736476608239]
[2799,4051,4214,null,null,null,null,null,null,null,null,null,{"$f":"Control!$C$20+Control!$C$21*A2799+Control!$C$22*A2799^2","v":749.92489497290239},4178.2949331277568,3923.7050668722436]
[2802,4049,4004,null,null,null,null,null,null,null,null,null,{"$f":"Control!$C$20+Control!$C$21*A2802+Control!$C$22*A2802^2","v":750.73281482209882},4176.2635061594647,3921.7364938405358]
[2803,4048,4066,null,null,null,null,null,null,null,null,null,{"$f":"Control!$C$20+Control!$C$21*A2803+Control!$C$22*A2803^2","v":751.00212143661497},4175.247789764695,3920.752210235305]
[2806,4046,4078,null,null,null,null,null,null,null,null,null,{"$f":"Control!$C$20+Control!$C$21*A2806+Control!$C$22*A2806^2","v":751.81004127451581},4173.216351150314,3918.783648849686]
[2810,4043,3956,null,null,null,null,null,null,null,null,null,{"$f":"Control!$C$20+Control!$C$21*A2810+Control!$C$22*A2810^2","v":752.88726771187214},4170.1691786558358,3915.8308213441637]
[2813,4041,4117,null,null,null,null,null,null,null,null,null,{"$f":"Control!$C$20+Control!$C$21*A2813+Control!$C$22*A2813^2","v":753.69518753000568},4168.1377206025027,3913.8622793974973]
[2815,4039,4072,null,null,null,null,null,null,null,null,null,{"$f":"Control!$C$20+Control!$C$21*A2815+Control!$C$22*A2815^2","v":754.23380073738826},4166.1062547634856,3911.8937452365149]
[2819,4036,4053,null,null,null,null,null,null,null,null,null,{"$f":"Control!$C$20+Control!$C$21*A2819+Control!$C$22*A2819^2","v":755.31102714085785},{"$f":"IF(D2819=0,B2819+2*SQRT(B2819),N2818)","v":4163.0590413941491},{"$f":"IF(D2819=0,B2819-2*SQRT(B2819),O2818)","v":3908.9409586058514}]
[2822,4034,3873,null,null,null,null,null,null,null,null,null,{"$f":"Control!$C$20+Control!$C$21*A2822+Control!$C$22*A2822^2","v":756.11894693357647},4161.0275560656037,3906.9724439343968]
[2823,4033,4099,null,null,null,null,null,null,null,null,null,{"$f":"Control!$C$20+Control!$C$21*A2823+Control!$C$22*A2823^2","v":756.38825352926676},4160.0118104744597,3905.9881895255407]
[2826,4031,4058,null,null,null,null,null,null,null,null,null,{"$f":"Control!$C$20+Control!$C$21*A2826+Control!$C$22*A2826^2","v":757.19617331068969},4157.9803134347994,3904.0196865652001]
[2829,4029,4011,null,null,null,null,null,null,null,null,null,{"$f":"Control!$C$20+Control!$C$21*A2829+Control!$C$22*A2829^2","v":758.00409308364101},4155.9488085804669,3902.0511914195331]
[2832,4027,4155,null,null,null,null,null,null,null,null,null,{"$f":"Control!$C$20+Control!$C$21*A2832+Control!$C$22*A2832^2","v":758.81201284812073},4153.9172959056405,3900.0827040943591]
[2835,4025,4105,null,null,null,null,null,null,null,null,null,{"$f":"Control!$C$20+Control!$C$21*A2835+Control!$C$22*A2835^2","v":759.61993260412873},4151.8857754044948,3898.1142245955048]
[2838,4022,4049,null,null,null,null,null,null,null,null,null,{"$f":"Control!$C$20+Control!$C$21*A2838+Control!$C$22*A2838^2","v":760.42785235166502},4148.8384799656633,3895.1615200343367]
[2842,4019,4008,null,null,null,null,null,null,null,null,null,{"$f":"Control!$C$20+Control!$C$21*A2842+Control!$C$22*A2842^2","v":761.50507866853536},4145.7911668847637,3892.2088331152363]
[2845,4017,4116,null,null,null,null,null,null,null,null,null,{"$f":"Control!$C$20+Control!$C$21*A2845+Control!$C$22*A2845^2","v":762.31299839630447},4143.759615019927,3890.2403849800735]
[2846,4016,4134,null,null,null,null,null,null,null,null,null,{"$f":"Control!$C$20+Control!$C$21*A2846+Control!$C$22*A2846^2","v":762.58230497034492},4142.7438361420391,3889.2561638579609]
[2849,4014,3976,null,null,null,null,null,null,null,null,null,{"$f":"Control!$C$20+Control!$C$21*A2849+Control!$C$22*A2849^2","v":763.39022468681844},4140.7122724916571,3887.2877275083429]
[2853,4011,4025,null,null,null,null,null,null,null,null,null,{"$f":"Control!$C$20+Control!$C$21*A2853+Control!$C$22*A2853^2","v":764.46745096227164},4137.6649122685521,3884.3350877314479]
[2855,4010,3993,null,null,null,null,null,null,null,null,null,{"$f":"Control!$C$20+Control!$C$21*A2855+Control!$C$22*A2855^2","v":765.00606409435045},4136.6491215919004,3883.3508784080996]
[2858,4008,4148,null,null,null,null,null,null,null,null,null,{"$f":"Control!$C$20+Control!$C$21*A2858+Control!$C$22*A2858^2","v":765.81398378540894},4134.617534330755,3881.3824656692445]
[2861,4005,3976,null,null,null,null,null,null,null,null,null,{"$f":"Control!$C$20+Control!$C$21*A2861+Control!$C$22*A2861^2","v":766.62190346799582},4131.5701386583742,3878.4298613416263]
[2865,4003,3985,null,null,null,null,null,null,null,null,null,{"$f":"Control!$C$20+Control!$C$21*A2865+Control!$C$22*A2865^2","v":767.6991296982668},4129.5385316810653,3876.4614683189347]
[2868,4000,3996,null,null,null,null,null,null,null,null,null,{"$f":"Control!$C$20+Control!$C$21*A2868+Control!$C$22*A2868^2","v":768.50704936108639},4126.4911064067355,3873.5088935932649]
[2869,4000,4106,null,null,null,null,null,null,null,null,null,{"$f":"Control!$C$20+Control!$C$21*A2869+Control!$C$22*A2869^2","v":768.776355913477},4126.4911064067355,3873.5088935932649]
[2872,3997,4051,null,null,null,null,null,null,null,null,null,{"$f":"Control!$C$20+Control!$C$21*A2872+Control!$C$22*A2872^2","v":769.58427556500101},4123.4436633445903,3870.5563366554102]
[2874,3996,3835,null,null,null,null,null,null,null,null,null,{"$f":"Control!$C$20+Control!$C$21*A2874+Control!$C$22*A2874^2","v":770.12288866131064},4122.4278450342326,3869.5721549657674]
[2878,3993,3926,null,null,null,null,null,null,null,null,null,{"$f":"Control!$C$20+Control!$C$21*A2878+Control!$C$22*A2878^2","v":771.20011484263421},4119.3803782238365,3866.6196217761635]
[2881,3991,3978,null,null,null,null,null,null,null,null,null,{"$f":"Control!$C$20+Control!$C$21*A2881+Control!$C$22*A2881^2","v":772.00803446874318},4117.3487237766967,3864.6512762233033]
[2885,3988,4007,null,null,null,null,null,null,null,null,null,{"$f":"Control!$C$20+Control!$C$21*A2885+Control!$C$22*A2885^2","v":773.08526062371038},4114.3012272307751,3861.6987727692244]
[2888,3986,4142,null,null,null,null,null,null,null,null,null,{"$f":"Control!$C$20+Control!$C$21*A2888+Control!$C$22*A2888^2","v":773.89318023005217},4112.2695529413168,3859.7304470586832]
[2891,3984,4062,null,null,null,null,null,null,null,null,null,{"$f":"Control!$C$20+Control!$C$21*A2891+Control!$C$22*A2891^2","v":774.70109982792235},4110.2378707044763,3857.7621292955241]
[2893,3982,4041,null,null,null,null,null,null,null,null,null,{"$f":"Control!$C$20+Control!$C$21*A2893+Control!$C$22*A2893^2","v":775.23971288846258},4108.2061805142675,3855.793819485732]
[2894,3981,4000,null,null,null,null,null,null,null,null,null,{"$f":"Control!$C$20+Control!$C$21*A2894+Control!$C$22*A2894^2","v":775.50901941732081},4107.1903324347786,3854.8096675652209]
[2897,3979,3908,null,null,null,null,null,null,null,null,null,{"$f":"Control!$C$20+Control!$C$21*A2897+Control!$C$22*A2897^2","v":776.31693899824756},4105.1586303032809,3852.8413696967186]
[2901,3976,3894,null,null,null,null,null,null,null,null,null,{"$f":"Control!$C$20+Control!$C$21*A2901+Control!$C$22*A2901^2","v":777.39416509297189},4102.1110621634753,3849.8889378365243]
[2904,3982,3938,8,null,null,null,null,null,null,null,null,{"$f":"Control!$C$20+Control!$C$21*A2904+Control!$C$22*A2904^2","v":778.20208465413134},4101.0952021291851,3848.9047978708149]
[2908,4319,4297,348,null,null,null,null,null,null,null,null,{"$f":"Control!$C$20+Control!$C$21*A2908+Control!$C$22*A2908^2","v":779.2793107224993},4101.0952021291851,3848.9047978708149]
[2911,4678,4708,709,null,null,null,null,null,null,null,null,{"$f":"Control!$C$20+Control!$C$21*A2911+Control!$C$22*A2911^2","v":780.08723026389168},4101.0952021291851,3848.9047978708149]
[2912,4568,4640,600,null,null,null,null,null,null,null,null,{"$f":"Control!$C$20+Control!$C$21*A2912+Control!$C$22*A2912^2","v":780.35653677580649},4101.0952021291851,3848.9047978708149]
[2914,4202,4185,235,null,null,null,null,null,null,null,null,{"$f":"Control!$C$20+Control!$C$21*A2914+Control!$C$22*A2914^2","v":780.89514979681235},4101.0952021291851,3848.9047978708149]
[2917,3977,3964,13,null,null,null,null,null,null,null,null,{"$f":"Control!$C$20+Control!$C$21*A2917+Control!$C$22*A2917^2","v":781.7030693212613},4101.0952021291851,3848.9047978708149]
[2920,3962,3956,null,null,null,null,null,null,null,null,null,{"$f":"Control!$C$20+Control!$C$21*A2920+Control!$C$22*A2920^2","v":782.51098883723853},4087.8888398548497,3836.1111601451503]
[2924,3959,3973,null,null,null,null,null,null,null,null,null,{"$f":"Control!$C$20+Control!$C$21*A2924+Control!$C$22*A2924^2","v":783.5882148453635},4084.8411697339152,3833.1588302660848]
[2927,3957,3916,null,null,null,null,null,null,null,null,null,{"$f":"Control!$C$20+Control!$C$21*A2927+Control!$C$22*A2927^2","v":784.39613434157354},4082.8093796185326,3831.1906203814674]
[2931,3954,3996,null,null,null,null,null,null,null,null,null,{"$f":"Control!$C$20+Control!$C$21*A2931+Control!$C$22*A2931^2","v":785.47336032334215},4079.7616793780999,3828.2383206219001]
[2933,3953,3913,null,null,null,null,null,null,null,null,null,{"$f":"Control!$C$20+Control!$C$21*A2933+Control!$C$22*A2933^2","v":786.01197330857872},4078.7457752769451,3827.2542247230549]
[2936,3951,3961,null,null,null,null,null,null,null,null,null,{"$f":"Control!$C$20+Control!$C$21*A2936+Control!$C$22*A2936^2","v":786.81989277937373},4076.7139610385416,3825.2860389614584]
[2937,3950,3920,null,null,null,null,null,null,null,null,null,{"$f":"Control!$C$20+Control!$C$21*A2937+Control!$C$22*A2937^2","v":787.08919926775627},4075.6980508997653,3824.3019491002347]
[2940,3948,3940,null,null,null,null,null,null,null,null,null,{"$f":"Control!$C$20+Control!$C$21*A2940+Control!$C$22*A2940^2","v":787.8971187272557},4073.66622457924,3822.33377542076]
[2944,3945,3891,null,null,null,null,null,null,null,null,null,{"$f":"Control!$C$20+Control!$C$21*A2944+Control!$C$22*A2944^2","v":788.97434466007689},4070.6184699795376,3819.3815300204624]
[2947,3942,3992,null,null,null,null,null,null,null,null,null,{"$f":"Control!$C$20+Control!$C$21*A2947+Control!$C$22*A2947^2","v":789.78226409980914},{"$f":"IF(D2947=0,B2947+2*SQRT(B2947),N2946)","v":4067.5706972187381},{"$f":"IF(D2947=0,B2947-2*SQRT(B2947),O2946)","v":3816.4293027812619}]
[2950,3940,3903,null,null,null,null,null,null,null,null,null,{"$f":"Control!$C$20+Control!$C$21*A2950+Control!$C$22*A2950^2","v":790.59018353106978},4065.5388386118016,3814.4611613881984]
[2952,3939,4032,null,null,null,null,null,null,null,null,null,{"$f":"Control!$C$20+Control!$C$21*A2952+Control!$C$22*A2952^2","v":791.12879648053695},4064.5229062761055,3813.4770937238945]
[2956,3936,3953,null,null,null,null,null,null,null,null,null,{"$f":"Control!$C$20+Control!$C$21*A2956+Control!$C$22*A2956^2","v":792.20602236817592},4061.4750971308649,3810.5249028691351]
[2959,3934,3991,null,null,null,null,null,null,null,null,null,{"$f":"Control!$C$20+Control!$C$21*A2959+Control!$C$22*A2959^2","v":793.01394177402153},4059.4432142445339,3808.5567857554661]
[2960,3933,4076,null,null,null,null,null,null,null,null,null,{"$f":"Control!$C$20+Control!$C$21*A2960+Control!$C$22*A2960^2","v":793.28324824075412},4058.4272697622014,3807.5727302377986]
[2963,3931,3868,null,null,null,null,null,null,null,null,null,{"$f":"Control!$C$20+Control!$C$21*A2963+Control!$C$22*A2963^2","v":794.09116763530415},4056.3953747153378,3805.6046252846622]
[2967,3928,3892,null,null,null,null,null,null,null,null,null,{"$f":"Control!$C$20+Control!$C$21*A2967+Control!$C$22*A2967^2","v":795.16839348152598},4053.3475169279391,3802.6524830720609]
[2970,3926,3915,null,null,null,null,null,null,null,null,null,{"$f":"Control!$C$20+Control!$C$21*A2970+Control!$C$22*A2970^2","v":795.97631285630882},4051.3156015825643,3800.6843984174357]
[2973,3923,3907,null,null,null,null,null,null,null,null,null,{"$f":"Control!$C$20+Control!$C$21*A2973+Control!$C$22*A2973^2","v":796.78423222261995},4048.267713318317,3797.732286681683]
[2976,3921,3979,null,null,null,null,null,null,null,null,null,{"$f":"Control!$C$20+Control!$C$21*A2976+Control!$C$22*A2976^2","v":797.59215158045936},4046.2357776356262,3795.7642223643738]
[2979,3919,4032,null,null,null,null,null,null,null,null,null,{"$f":"Control!$C$20+Control!$C$21*A2979+Control!$C$22*A2979^2","v":798.40007092982717},4044.2038338071161,3793.7961661928839]
[2980,3918,4110,null,null,null,null,null,null,null,null,null,{"$f":"Control!$C$20+Control!$C$21*A2980+Control!$C$22*A2980^2","v":798.66937737773378},4043.1878588362306,3792.8121411637694]
[2983,3916,3867,null,null,null,null,null,null,null,null,null,{"$f":"Control!$C$20+Control!$C$21*A2983+Control!$C$22*A2983^2","v":799.47729671580601},4041.155902777296,3790.844097222704]
[2986,3914,3895,null,null,null,null,null,null,null,null,null,{"$f":"Control!$C$20+Control!$C$21*A2986+Control!$C$22*A2986^2","v":800.28521604540651},4039.1239385569365,3788.8760614430635]
[2990,3911,3947,null,null,null,null,null,null,null,null,null,{"$f":"Control!$C$20+Control!$C$21*A2990+Control!$C$22*A2990^2","v":801.36244180502911},4036.0759769100364,3785.9240230899636]
[2992,3910,3790,null,null,null,null,null,null,null,null,null,{"$f":"Control!$C$20+Control!$C$21*A2992+Control!$C$22*A2992^2","v":801.90105467919261},4035.059985606908,3784.940014393092]
[2995,3907,3728,null,null,null,null,null,null,null,null,null,{"$f":"Control!$C$20+Control!$C$21*A2995+Control!$C$22*A2995^2","v":802.70897398337809},4032.0119994240554,3781.9880005759446]
[2999,3904,3892,null,null,null,null,null,null,null,null,null,{"$f":"Control!$C$20+Control!$C$21*A2999+Control!$C$22*A2999^2","v":803.78619970911404},4028.9639948145063,3779.0360051854937]
[3002,3902,3919,null,null,null,null,null,null,null,null,null,{"$f":"Control!$C$20+Control!$C$21*A3002+Control!$C$22*A3002^2","v":804.59411899353233},4026.9319814939313,3777.0680185060687]
[3003,3901,3844,null,null,null,null,null,null,null,null,null,{"$f":"Control!$C$20+Control!$C$21*A3003+Control!$C$22*A3003^2","v":804.86342541978911},4025.9159717570174,3776.0840282429826]
[3006,3899,3935,null,null,null,null,null,null,null,null,null,{"$f":"Control!$C$20+Control!$C$21*A3006+Control!$C$22*A3006^2","v":805.67134469291193},4023.8839461259931,3774.1160538740069]
[3009,3897,3909,null,null,null,null,null,null,null,null,null,{"$f":"Control!$C$20+Control!$C$21*A3009+Control!$C$22*A3009^2","v":806.47926395756292},4021.851912280109,3772.148087719891]
[3013,3894,3811,null,null,null,null,null,null,null,null,null,{"$f":"Control!$C$20+Control!$C$21*A3013+Control!$C$22*A3013^2","v":807.55648963058616},4018.8038460945818,3769.1961539054182]
[3015,3893,3928,null,null,null,null,null,null,null,null,null,{"$f":"Control!$C$20+Control!$C$21*A3015+Control!$C$22*A3015^2","v":808.0951024614501},4017.787819918452,3768.212180081548]
[3018,3890,3890,null,null,null,null,null,null,null,null,null,{"$f":"Control!$C$20+Control!$C$21*A3018+Control!$C$22*A3018^2","v":808.90302170068605},4014.7397290361014,3765.2602709638986]
[3022,3888,3822,null,null,null,null,null,null,null,null,null,{"$f":"Control!$C$20+Control!$C$21*A3022+Control!$C$22*A3022^2","v":809.98024733982265},4012.7076581449592,3763.2923418550408]
[3025,3885,3851,null,null,null,null,null,null,null,null,null,{"$f":"Control!$C$20+Control!$C$21*A3025+Control!$C$22*A3025^2","v":810.78816655929143},4009.6595363379793,3760.3404636620207]
[3026,3885,3963,null,null,null,null,null,null,null,null,null,{"$f":"Control!$C$20+Control!$C$21*A3026+Control!$C$22*A3026^2","v":811.05747296389848},4009.6595363379793,3760.3404636620207]
[3029,3882,3858,null,null,null,null,null,null,null,null,null,{"$f":"Control!$C$20+Control!$C$21*A3029+Control!$C$22*A3029^2","v":811.86539217207178},4006.6113959475615,3757.3886040524385]
[3032,3880,3934,null,null,null,null,null,null,null,null,null,{"$f":"Control!$C$20+Control!$C$21*A3032+Control!$C$22*A3032^2","v":812.67331137177325},4004.5792920191793,3755.4207079808207]
[3035,3878,3795,null,null,null,null,null,null,null,null,null,{"$f":"Control!$C$20+Control!$C$21*A3035+Control!$C$22*A3035^2","v":813.48123056300324},4002.5471798155222,3753.4528201844778]
[3038,3876,3889,null,null,null,null,null,null,null,null,null,{"$f":"Control!$C$20+Control!$C$21*A3038+Control!$C$22*A3038^2","v":814.28914974576151},4000.5150593301869,3751.4849406698131]
[3042,3873,3968,null,null,null,null,null,null,null,null,null,{"$f":"Control!$C$20+Control!$C$21*A3042+Control!$C$22*A3042^2","v":815.36637530959433},3997.4668630600127,3748.5331369399873]
[3045,3871,3940,null,null,null,null,null,null,null,null,null,{"$f":"Control!$C$20+Control!$C$21*A3045+Control!$C$22*A3045^2","v":816.1742944725853},3995.4347218424182,3746.5652781575818]
[3048,3868,3924,null,null,null,null,null,null,null,null,null,{"$f":"Control!$C$20+Control!$C$21*A3048+Control!$C$22*A3048^2","v":816.98221362710456},3992.3864944437296,3743.6135055562704]
[3049,3868,3963,null,null,null,null,null,null,null,null,null,{"$f":"Control!$C$20+Control!$C$21*A3049+Control!$C$22*A3049^2","v":817.25152001006177},3992.3864944437296,3743.6135055562704]
[3053,3874,3892,9,null,null,null,null,null,null,null,null,{"$f":"Control!$C$20+Control!$C$21*A3053+Control!$C$22*A3053^2","v":818.32874553247757},3990.3543324536786,3741.6456675463214]
[3054,3890,3771,26,null,null,null,null,null,null,null,null,{"$f":"Control!$C$20+Control!$C$21*A3054+Control!$C$22*A3054^2","v":818.59805191072826},3990.3543324536786,3741.6456675463214]
[3058,4165,4106,304,null,null,null,null,null,null,null,null,{"$f":"Control!$C$20+Control!$C$21*A3058+Control!$C$22*A3058^2","v":819.67527741431809},3990.3543324536786,3741.6456675463214]
[3061,4116,4092,257,null,null,null,null,null,null,null,null,{"$f":"Control!$C$20+Control!$C$21*A3061+Control!$C$22*A3061^2","v":820.48319653212684},3990.3543324536786,3741.6456675463214]
[3065,3870,3878,14,null,null,null,null,null,null,null,null,{"$f":"Control!$C$20+Control!$C$21*A3065+Control!$C$22*A3065^2","v":821.56042200936042},3990.3543324536786,3741.6456675463214]
[3068,3854,3901,null,null,null,null,null,null,null,null,null,{"$f":"Control!$C$20+Control!$C$21*A3068+Control!$C$22*A3068^2","v":822.36834110740187},3978.1611855613501,3729.8388144386499]
[3071,3852,3850,null,null,null,null,null,null,null,null,null,{"$f":"Control!$C$20+Control!$C$21*A3071+Control!$C$22*A3071^2","v":823.17626019697173},3976.128965193463,3727.871034806537]
[3072,3851,3918,null,null,null,null,null,null,null,null,null,{"$f":"Control!$C$20+Control!$C$21*A3072+Control!$C$22*A3072^2","v":823.4455665582791},3975.1128518728015,3726.8871481271985]
[3074,3849,3868,null,null,null,null,null,null,null,null,null,{"$f":"Control!$C$20+Control!$C$21*A3074+Control!$C$22*A3074^2","v":823.98417927806997},3973.080618953969,3724.919381046031]
[3078,3847,3882,null,null,null,null,null,null,null,null,null,{"$f":"Control!$C$20+Control!$C$21*A3078+Control!$C$22*A3078^2","v":825.06140470635603},3971.0483776596857,3722.9516223403143]
[3081,3844,3875,null,null,null,null,null,null,null,null,null,{"$f":"Control!$C$20+Control!$C$21*A3081+Control!$C$22*A3081^2","v":825.86932376768698},3968,3720]
[3084,3842,3857,null,null,null,null,null,null,null,null,null,{"$f":"Control!$C$20+Control!$C$21*A3084+Control!$C$22*A3084^2","v":826.67724282054621},3965.9677377384937,3718.0322622615063]
[3088,3839,3818,null,null,null,null,null,null,null,null,null,{"$f":"Control!$C$20+Control!$C$21*A3088+Control!$C$22*A3088^2","v":827.75446821118044},3962.9193285972774,3715.0806714027226]
[3089,3838,3868,null,null,null,null,null,null,null,null,null,{"$f":"Control!$C$20+Control!$C$21*A3089+Control!$C$22*A3089^2","v":828.02377455648571},3961.9031880138682,3714.0968119861318]
[3093,3836,3818,null,null,null,null,null,null,null,null,null,{"$f":"Control!$C$20+Control!$C$21*A3093+Control!$C$22*A3093^2","v":829.10099992829407},3959.8709005376163,3712.1290994623837]
[3094,3835,3938,null,null,null,null,null,null,null,null,null,{"$f":"Control!$C$20+Control!$C$21*A3094+Control!$C$22*A3094^2","v":829.37030626889282},3958.8547536431283,3711.1452463568717]
[3097,3833,3799,null,null,null,null,null,null,null,null,null,{"$f":"Control!$C$20+Control!$C$21*A3097+Control!$C$22*A3097^2","v":830.17822528504155},3956.8224535373129,3709.1775464626871]
[3101,3830,3813,null,null,null,null,null,null,null,null,null,{"$f":"Control!$C$20+Control!$C$21*A3101+Control!$C$22*A3101^2","v":831.25545062672836},3953.7739875741263,3706.2260124258737]
[3104,3827,3831,null,null,null,null,null,null,null,null,null,{"$f":"Control!$C$20+Control!$C$21*A3104+Control!$C$22*A3104^2","v":832.06336962310979},3950.7255026257722,3703.2744973742278]
[3107,3825,3915,null,null,null,null,null,null,null,null,null,{"$f":"Control!$C$20+Control!$C$21*A3107+Control!$C$22*A3107^2","v":832.87128861101962},3948.6931687685296,3701.3068312314704]
[3110,3823,3839,null,null,null,null,null,null,null,null,null,{"$f":"Control!$C$20+Control!$C$21*A3110+Control!$C$22*A3110^2","v":833.67920759045774},3946.6608264568858,3699.3391735431142]
[3113,3821,3825,null,null,null,null,null,null,null,null,null,{"$f":"Control!$C$20+Control!$C$21*A3113+Control!$C$22*A3113^2","v":834.48712656142413},3944.6284756842047,3697.3715243157953]
[3116,3819,3749,null,null,null,null,null,null,null,null,null,{"$f":"Control!$C$20+Control!$C$21*A3116+Control!$C$22*A3116^2","v":835.29504552391893},3942.5961164438431,3695.4038835561569]
[3117,3818,3705,null,null,null,null,null,null,null,null,null,{"$f":"Control!$C$20+Control!$C$21*A3117+Control!$C$22*A3117^2","v":835.56435184286795},3941.5799336462032,3694.4200663537968]
[3120,3816,3748,null,null,null,null,null,null,null,null,null,{"$f":"Control!$C$20+Control!$C$21*A3120+Control!$C$22*A3120^2","v":836.37227079406716},3939.5475616918438,3692.4524383081562]
[3124,3813,3780,null,null,null,null,null,null,null,null,null,{"$f":"Control!$C$20+Control!$C$21*A3124+Control!$C$22*A3124^2","v":837.44949604915462},3936.4989878501033,3689.5010121498967]
[3127,3811,3845,null,null,null,null,null,null,null,null,null,{"$f":"Control!$C$20+Control!$C$21*A3127+Control!$C$22*A3127^2","v":838.25741498058665},3934.4665946724053,3687.5334053275947]
[3129,3809,3861,null,null,null,null,null,null,null,null,null,{"$f":"Control!$C$20+Control!$C$21*A3129+Control!$C$22*A3129^2","v":838.79602759683485},3932.4341929936759,3685.5658070063241]
[3133,3806,3752,null,null,null,null,null,null,null,null,null,{"$f":"Control!$C$20+Control!$C$21*A3133+Control!$C$22*A3133^2","v":839.87325281803555},3929.3855745214973,3682.6144254785027]
[3136,3804,3836,null,null,null,null,null,null,null,null,null,{"$f":"Control!$C$20+Control!$C$21*A3136+Control!$C$22*A3136^2","v":840.68117172405255},3927.3531515608743,3680.6468484391257]
[3137,3803,3736,null,null,null,null,null,null,null,null,null,{"$f":"Control!$C$20+Control!$C$21*A3137+Control!$C$22*A3137^2","v":840.9504780241756},3926.3369368842928,3679.6630631157072]
[3140,3801,3812,null,null,null,null,null,null,null,null,null,{"$f":"Control!$C$20+Control!$C$21*A3140+Control!$C$22*A3140^2","v":841.75839691889701},3924.304501134387,3677.695498865613]
[3143,3799,3838,null,null,null,null,null,null,null,null,null,{"$f":"Control!$C$20+Control!$C$21*A3143+Control!$C$22*A3143^2","v":842.56631580514681},3922.2720568498798,3675.7279431501202]
[3147,3796,3770,null,null,null,null,null,null,null,null,null,{"$f":"Control!$C$20+Control!$C$21*A3147+Control!$C$22*A3147^2","v":843.64354097363491},3919.2233744059949,3672.7766255940051]
[3150,3794,3682,null,null,null,null,null,null,null,null,null,{"$f":"Control!$C$20+Control!$C$21*A3150+Control!$C$22*A3150^2","v":844.45145984011742},3917.1909087554759,3670.8090912445241]
[3152,3792,3890,null,null,null,null,null,null,null,null,null,{"$f":"Control!$C$20+Control!$C$21*A3152+Control!$C$22*A3152^2","v":844.99007241306595},3915.1584345467254,3668.8415654532746]
[3156,3789,3772,null,null,null,null,null,null,null,null,null,{"$f":"Control!$C$20+Control!$C$21*A3156+Control!$C$22*A3156^2","v":846.06729754766741},3912.1097071720992,3665.8902928279008]
[3159,3787,3785,null,null,null,null,null,null,null,null,null,{"$f":"Control!$C$20+Control!$C$21*A3159+Control!$C$22*A3159^2","v":846.87521638873488},3910.0772115381233,3663.9227884618767]
[3160,3786,3734,null,null,null,null,null,null,null,null,null,{"$f":"Control!$C$20+Control!$C$21*A3160+Control!$C$22*A3160^2","v":847.14452266720809},3909.0609605033214,3662.9390394966786]
[3163,3784,3743,null,null,null,null,null,null,null,null,null,{"$f":"Control!$C$20+Control!$C$21*A3163+Control!$C$22*A3163^2","v":847.9524414969801},3907.0284519938377,3660.9715480061623]
[3166,3782,3794,null,null,null,null,null,null,null,null,null,{"$f":"Control!$C$20+Control!$C$21*A3166+Control!$C$22*A3166^2","v":848.76036031828039},3904.9959348921743,3659.0040651078257]
[3169,3780,3770,null,null,null,null,null,null,null,null,null,{"$f":"Control!$C$20+Control!$C$21*A3169+Control!$C$22*A3169^2","v":849.56827913110897},3902.963409191515,3657.036590808485]
[3172,3778,3745,null,null,null,null,null,null,null,null,null,{"$f":"Control!$C$20+Control!$C$21*A3172+Control!$C$22*A3172^2","v":850.37619793546583},3900.9308748850344,3655.0691251149656]
[3175,3775,3698,null,null,null,null,null,null,null,null,null,{"$f":"Control!$C$20+Control!$C$21*A3175+Control!$C$22*A3175^2","v":851.18411673135108},3897.8820572744453,3652.1179427255547]
[3179,3773,3782,null,null,null,null,null,null,null,null,null,{"$f":"Control!$C$20+Control!$C$21*A3179+Control!$C$22*A3179^2","v":852.2613417793533},3895.8495014234895,3650.1504985765105]
[3182,3770,3731,null,null,null,null,null,null,null,null,null,{"$f":"Control!$C$20+Control!$C$21*A3182+Control!$C$22*A3182^2","v":853.06926055547126},3892.8006514640701,3647.1993485359299]
[3183,3770,3932,null,null,null,null,null,null,null,null,null,{"$f":"Control!$C$20+Control!$C$21*A3183+Control!$C$22*A3183^2","v":853.33856681229463},3892.8006514640701,3647.1993485359299]
[3186,3767,3889,null,null,null,null,null,null,null,null,null,{"$f":"Control!$C$20+Control!$C$21*A3186+Control!$C$22*A3186^2","v":854.14648557711712},3889.7517820644571,3644.2482179355429]
[3190,3764,3790,null,null,null,null,null,null,null,null,null,{"$f":"Control!$C$20+Control!$C$21*A3190+Control!$C$22*A3190^2","v":855.2237105837022},3886.7028932014236,3641.2971067985764]
[3192,3763,3719,null,null,null,null,null,null,null,null,null,{"$f":"Control!$C$20+Control!$C$21*A3192+Control!$C$22*A3192^2","v":855.76232308134695},3885.68659258452,3640.31340741548]
[3195,3761,3825,null,null,null,null,null,null,null,null,null,{"$f":"Control!$C$20+Control!$C$21*A3195+Control!$C$22*A3195^2","v":856.5702418207544},3883.6539848516959,3638.3460151483041]
[3199,3758,3806,null,null,null,null,null,null,null,null,null,{"$f":"Control!$C$20+Control!$C$21*A3199+Control!$C$22*A3199^2","v":857.64746679345285},3880.605056991953,3635.394943008047]
[3202,3764,3728,8,null,null,null,null,null,null,null,null,{"$f":"Control!$C$20+Control!$C$21*A3202+Control!$C$22*A3202^2","v":858.45538551309312},3879.5887433657758,3634.4112566342242]
[3205,3839,3825,86,null,null,null,null,null,null,null,null,{"$f":"Control!$C$20+Control!$C$21*A3205+Control!$C$22*A3205^2","v":859.26330422426156},3879.5887433657758,3634.4112566342242]
[3206,3883,3997,130,null,null,null,null,null,null,null,null,{"$f":"Control!$C$20+Control!$C$21*A3206+Control!$C$22*A3206^2","v":859.5326104594352},3879.5887433657758,3634.4112566342242]
[3209,3899,3974,148,null,null,null,null,null,null,null,null,{"$f":"Control!$C$20+Control!$C$21*A3209+Control!$C$22*A3209^2","v":860.34052915930818},3879.5887433657758,3634.4112566342242]
[3211,3813,3932,64,null,null,null,null,null,null,null,null,{"$f":"Control!$C$20+Control!$C$21*A3211+Control!$C$22*A3211^2","v":860.87914162118363},3879.5887433657758,3634.4112566342242]
[3215,3747,3857,1,null,null,null,null,null,null,null,null,{"$f":"Control!$C$20+Control!$C$21*A3215+Control!$C$22*A3215^2","v":861.95636653363908},3879.5887433657758,3634.4112566342242]
[3218,3744,3655,null,null,null,null,null,null,null,null,null,{"$f":"Control!$C$20+Control!$C$21*A3218+Control!$C$22*A3218^2","v":862.76428520809702},3866.376468326227,3621.623531673773]
[3222,3741,3738,null,null,null,null,null,null,null,null,null,{"$f":"Control!$C$20+Control!$C$21*A3222+Control!$C$22*A3222^2","v":863.84151009419611},3863.3274294669841,3618.6725705330159]
[3225,3739,3788,null,null,null,null,null,null,null,null,null,{"$f":"Control!$C$20+Control!$C$21*A3225+Control!$C$22*A3225^2","v":864.64942874888686},3861.2947259696834,3616.7052740303166]
[3228,3737,3680,null,null,null,null,null,null,null,null,null,{"$f":"Control!$C$20+Control!$C$21*A3228+Control!$C$22*A3228^2","v":865.4573473951059},3859.2620137246236,3614.7379862753764]
[3230,3735,3802,null,null,null,null,null,null,null,null,null,{"$f":"Control!$C$20+Control!$C$21*A3230+Control!$C$22*A3230^2","v":865.99595982121218},3857.22929272478,3612.77070727522]
[3231,3734,3602,null,null,null,null,null,null,null,null,null,{"$f":"Control!$C$20+Control!$C$21*A3231+Control!$C$22*A3231^2","v":866.26526603285333},3856.2129289396175,3611.7870710603825]
[3235,3732,3856,null,null,null,null,null,null,null,null,null,{"$f":"Control!$C$20+Control!$C$21*A3235+Control!$C$22*A3235^2","v":867.34249087000501},3854.18019479441,3609.81980520559]
[3238,3729,3784,null,null,null,null,null,null,null,null,null,{"$f":"Control!$C$20+Control!$C$21*A3238+Control!$C$22*A3238^2","v":868.15040948798514},3851.131077126176,3606.868922873824]
[3241,3727,3714,null,null,null,null,null,null,null,null,null,{"$f":"Control!$C$20+Control!$C$21*A3241+Control!$C$22*A3241^2","v":868.95832809749356},3849.0983210367776,3604.9016789632224]
[3245,3724,3775,null,null,null,null,null,null,null,null,null,{"$f":"Control!$C$20+Control!$C$21*A3245+Control!$C$22*A3245^2","v":870.03555289699341},3846.049170419139,3601.950829580861]
[3248,3722,3702,null,null,null,null,null,null,null,null,null,{"$f":"Control!$C$20+Control!$C$21*A3248+Control!$C$22*A3248^2","v":870.84347148673464},3844.016392341357,3599.983607658643]
[3249,3721,3801,null,null,null,null,null,null,null,null,null,{"$f":"Control!$C$20+Control!$C$21*A3249+Control!$C$22*A3249^2","v":871.11277768143248},3843,3599]
[3251,3720,3689,null,null,null,null,null,null,null,null,null,{"$f":"Control!$C$20+Control!$C$21*A3251+Control!$C$22*A3251^2","v":871.65139006800416},3841.9836054558155,3598.0163945441845]
[3254,3718,3779,null,null,null,null,null,null,null,null,null,{"$f":"Control!$C$20+Control!$C$21*A3254+Control!$C$22*A3254^2","v":872.45930864080208},3839.950809755409,3596.049190244591]
[3258,3715,3639,null,null,null,null,null,null,null,null,null,{"$f":"Control!$C$20+Control!$C$21*A3258+Control!$C$22*A3258^2","v":873.53653339135451},3836.9015996613662,3593.0984003386338]
[3261,3712,3683,null,null,null,null,null,null,null,null,null,{"$f":"Control!$C$20+Control!$C$21*A3261+Control!$C$22*A3261^2","v":874.34445194438513},3833.8523696938228,3590.1476303061772]
[3264,3710,3603,null,null,null,null,null,null,null,null,null,{"$f":"Control!$C$20+Control!$C$21*A3264+Control!$C$22*A3264^2","v":875.15237048894414},3831.8195386627285,3588.1804613372715]
[3268,3707,3657,null,null,null,null,null,null,null,null,null,{"$f":"Control!$C$20+Control!$C$21*A3268+Control!$C$22*A3268^2","v":876.22959520184463},3828.7702755191103,3585.2297244808897]
[3270,3706,3691,null,null,null,null,null,null,null,null,null,{"$f":"Control!$C$20+Control!$C$21*A3270+Control!$C$22*A3270^2","v":876.76820755264714},3827.7538500417954,3584.2461499582046]
[3273,3704,3680,null,null,null,null,null,null,null,null,null,{"$f":"Control!$C$20+Control!$C$21*A3273+Control!$C$22*A3273^2","v":877.57612607179112},3825.7209924376234,3582.2790075623766]
[3274,3703,3677,null,null,null,null,null,null,null,null,null,{"$f":"Control!$C$20+Control!$C$21*A3274+Control!$C$22*A3274^2","v":877.84543224295646},3824.7045603089709,3581.2954396910291]
[3277,3701,3690,null,null,null,null,null,null,null,null,null,{"$f":"Control!$C$20+Control!$C$21*A3277+Control!$C$22*A3277^2","v":878.65335075080486},3822.6716893940411,3579.3283106059589]
[3281,3698,3736,null,null,null,null,null,null,null,null,null,{"$f":"Control!$C$20+Control!$C$21*A3281+Control!$C$22*A3281^2","v":879.73057541475794},3819.6223663640862,3576.3776336359138]
[3284,3696,3739,null,null,null,null,null,null,null,null,null,{"$f":"Control!$C$20+Control!$C$21*A3284+Control!$C$22*A3284^2","v":880.53849390283915},3817.5894732285651,3574.4105267714349]
[3287,3693,3718,null,null,null,null,null,null,null,null,null,{"$f":"Control!$C$20+Control!$C$21*A3287+Control!$C$22*A3287^2","v":881.34641238244865},3814.5401168339081,3571.4598831660919]
[3289,3692,3629,null,null,null,null,null,null,null,null,null,{"$f":"Control!$C$20+Control!$C$21*A3289+Control!$C$22*A3289^2","v":881.88502469748187},3813.5236602477066,3570.4763397522934]
[3293,3689,3744,null,null,null,null,null,null,null,null,null,{"$f":"Control!$C$20+Control!$C$21*A3293+Control!$C$22*A3293^2","v":882.96224931625272},3810.4742771124816,3567.5257228875184]
[3294,3688,3638,null,null,null,null,null,null,null,null,null,{"$f":"Control!$C$20+Control!$C$21*A3294+Control!$C$22*A3294^2","v":883.23155546859221},3809.4578116055118,3566.5421883944882]
[3297,3686,3614,null,null,null,null,null,null,null,null,null,{"$f":"Control!$C$20+Control!$C$21*A3297+Control!$C$22*A3297^2","v":884.0394739199628},3807.4248738932843,3564.5751261067157]
[3300,3684,3630,null,null,null,null,null,null,null,null,null,{"$f":"Control!$C$20+Control!$C$21*A3300+Control!$C$22*A3300^2","v":884.84739236286168},3805.391927243948,3562.608072756052]
[3304,3681,3609,null,null,null,null,null,null,null,null,null,{"$f":"Control!$C$20+Control!$C$21*A3304+Control!$C$22*A3304^2","v":885.9246169402154},3802.3424904969402,3559.6575095030598]
[3307,3679,3740,null,null,null,null,null,null,null,null,null,{"$f":"Control!$C$20+Control!$C$21*A3307+Control!$C$22*A3307^2","v":886.73253536334721},3800.309521472966,3557.690478527034]
[3310,3677,3661,null,null,null,null,null,null,null,null,null,{"$f":"Control!$C$20+Control!$C$21*A3310+Control!$C$22*A3310^2","v":887.54045377800719},3798.2765434863641,3555.7234565136359]
[3313,3674,3670,null,null,null,null,null,null,null,null,null,{"$f":"Control!$C$20+Control!$C$21*A3313+Control!$C$22*A3313^2","v":888.34837218419557},3795.2270596855337,3552.7729403144663]
[3316,3672,3583,null,null,null,null,null,null,null,null,null,{"$f":"Control!$C$20+Control!$C$21*A3316+Control!$C$22*A3316^2","v":889.15629058191223},3793.1940592603451,3550.8059407396549]
[3317,3671,3650,null,null,null,null,null,null,null,null,null,{"$f":"Control!$C$20+Control!$C$21*A3317+Control!$C$22*A3317^2","v":889.42559671260187},3792.1775556776088,3549.8224443223912]
[3320,3669,3677,null,null,null,null,null,null,null,null,null,{"$f":"Control!$C$20+Control!$C$21*A3320+Control!$C$22*A3320^2","v":890.23351509902295},3790.1445417672626,3547.8554582327374]
[3323,3667,3711,null,null,null,null,null,null,null,null,null,{"$f":"Control!$C$20+Control!$C$21*A3323+Control!$C$22*A3323^2","v":891.04143347697243},3788.1115188576214,3545.8884811423786]
[3327,3664,3726,null,null,null,null,null,null,null,null,null,{"$f":"Control!$C$20+Control!$C$21*A3327+Control!$C$22*A3327^2","v":892.1186579677269},3785.0619676033725,3542.9380323966275]
[3329,3663,3786,null,null,null,null,null,null,null,null,null,{"$f":"Control!$C$20+Control!$C$21*A3329+Control!$C$22*A3329^2","v":892.65727020745635},3784.0454460109922,3541.9545539890078]
[3332,3660,3616,null,null,null,null,null,null,null,null,null,{"$f":"Control!$C$20+Control!$C$21*A3332+Control!$C$22*A3332^2","v":893.46518855999079},3780.9958676980332,3539.0041323019668]
[3336,3658,3592,null,null,null,null,null,null,null,null,null,{"$f":"Control!$C$20+Control!$C$21*A3336+Control!$C$22*A3336^2","v":894.54241301685852},3778.9628042002996,3537.0371957997004]
[3339,3655,3688,null,null,null,null,null,null,null,null,null,{"$f":"Control!$C$20+Control!$C$21*A3339+Control!$C$22*A3339^2","v":895.35033134962578},3775.9131920015348,3534.0868079984652]
[3340,3655,3744,null,null,null,null,null,null,null,null,null,{"$f":"Control!$C$20+Control!$C$21*A3340+Control!$C$22*A3340^2","v":895.61963745866558},3775.9131920015348,3534.0868079984652]
[3343,3652,3706,null,null,null,null,null,null,null,null,null,{"$f":"Control!$C$20+Control!$C$21*A3343+Control!$C$22*A3343^2","v":896.42755578013725},3772.8635594379052,3531.1364405620948]
[3346,3650,3762,null,null,null,null,null,null,null,null,null,{"$f":"Control!$C$20+Control!$C$21*A3346+Control!$C$22*A3346^2","v":897.23547409313721},3770.8304597359456,3529.1695402640544]
[3350,3650,3579,3,null,null,null,null,null,null,null,null,{"$f":"Control!$C$20+Control!$C$21*A3350+Control!$C$22*A3350^2","v":898.31269849729233},3769.8139064843117,3528.1860935156883]
[3352,3663,3567,17,null,null,null,null,null,null,null,null,{"$f":"Control!$C$20+Control!$C$21*A3352+Control!$C$22*A3352^2","v":898.8513106937221},3769.8139064843117,3528.1860935156883]
[3356,3726,3842,83,null,null,null,null,null,null,null,null,{"$f":"Control!$C$20+Control!$C$21*A3356+Control!$C$22*A3356^2","v":899.92853507528616},3769.8139064843117,3528.1860935156883]
[3359,3684,3761,43,null,null,null,null,null,null,null,null,{"$f":"Control!$C$20+Control!$C$21*A3359+Control!$C$22*A3359^2","v":900.73645335157562},3769.8139064843117,3528.1860935156883]
[3362,3643,3708,5,null,null,null,null,null,null,null,null,{"$f":"Control!$C$20+Control!$C$21*A3362+Control!$C$22*A3362^2","v":901.54437161939336},3769.8139064843117,3528.1860935156883]
[3363,3640,3637,2,null,null,null,null,null,null,null,null,{"$f":"Control!$C$20+Control!$C$21*A3363+Control!$C$22*A3363^2","v":901.81367770678332},3769.8139064843117,3528.1860935156883]
[3366,3636,3660,null,null,null,null,null,null,null,null,null,{"$f":"Control!$C$20+Control!$C$21*A3366+Control!$C$22*A3366^2","v":902.62159596330548},3756.5985074534506,3515.4014925465494]
[3369,3633,3639,null,null,null,null,null,null,null,null,null,{"$f":"Control!$C$20+Control!$C$21*A3369+Control!$C$22*A3369^2","v":903.42951421135592},3753.5487453273572,3512.4512546726428]
[3372,3631,3632,null,null,null,null,null,null,null,null,null,{"$f":"Control!$C$20+Control!$C$21*A3372+Control!$C$22*A3372^2","v":904.23743245093476},3751.5155591614625,3510.4844408385375]
[3375,3629,3651,null,null,null,null,null,null,null,null,null,{"$f":"Control!$C$20+Control!$C$21*A3375+Control!$C$22*A3375^2","v":905.04535068204189},3749.4823638546322,3508.5176361453678]
[3379,3626,3624,null,null,null,null,null,null,null,null,null,{"$f":"Control!$C$20+Control!$C$21*A3379+Control!$C$22*A3379^2","v":906.12257497700659},3746.4325537385967,3505.5674462614033]
[3382,3624,3699,null,null,null,null,null,null,null,null,null,{"$f":"Control!$C$20+Control!$C$21*A3382+Control!$C$22*A3382^2","v":906.93049318834653},3744.3993355463394,3503.6006644536606]
[3385,3622,3665,null,null,null,null,null,null,null,null,null,{"$f":"Control!$C$20+Control!$C$21*A3385+Control!$C$22*A3385^2","v":907.73841139121487},3742.3661081866485,3501.6338918133515]
[3386,3621,3606,null,null,null,null,null,null,null,null,null,{"$f":"Control!$C$20+Control!$C$21*A3386+Control!$C$22*A3386^2","v":908.00771745695499},3741.3494910666432,3500.6505089333568]
[3390,3618,3524,null,null,null,null,null,null,null,null,null,{"$f":"Control!$C$20+Control!$C$21*A3390+Control!$C$22*A3390^2","v":909.08494171050268},3738.2996259345805,3497.7003740654195]
[3392,3616,3634,null,null,null,null,null,null,null,null,null,{"$f":"Control!$C$20+Control!$C$21*A3392+Control!$C$22*A3392^2","v":909.62355383162867},3736.2663710269831,3495.7336289730169]
[3395,3614,3501,null,null,null,null,null,null,null,null,null,{"$f":"Control!$C$20+Control!$C$21*A3395+Control!$C$22*A3395^2","v":910.43147200625799},{"$f":"IF(D3395=0,B3395+2*SQRT(B3395),N3394)","v":3734.2331069215129},{"$f":"IF(D3395=0,B3395-2*SQRT(B3395),O3394)","v":3493.7668930784871}]
[3398,3612,3709,null,null,null,null,null,null,null,null,null,{"$f":"Control!$C$20+Control!$C$21*A3398+Control!$C$22*A3398^2","v":911.23939017241571},3732.1998336105339,3491.8001663894661]
[3402,3609,3591,null,null,null,null,null,null,null,null,null,{"$f":"Control!$C$20+Control!$C$21*A3402+Control!$C$22*A3402^2","v":912.31661438078106},3729.1499063670049,3488.8500936329951]
[3405,3607,3704,null,null,null,null,null,null,null,null,null,{"$f":"Control!$C$20+Control!$C$21*A3405+Control!$C$22*A3405^2","v":913.12453252717148},3727.1166100087744,3486.8833899912256]
[3408,3605,3610,null,null,null,null,null,null,null,null,null,{"$f":"Control!$C$20+Control!$C$21*A3408+Control!$C$22*A3408^2","v":913.9324506650903},3725.0833044182245,3484.9166955817755]
[3409,3604,3632,null,null,null,null,null,null,null,null,null,{"$f":"Control!$C$20+Control!$C$21*A3409+Control!$C$22*A3409^2","v":914.20175670918059},3724.066648158429,3483.933351841571]
[3411,3603,3663,null,null,null,null,null,null,null,null,null,{"$f":"Control!$C$20+Control!$C$21*A3411+Control!$C$22*A3411^2","v":914.7403687945374},3723.0499895876715,3482.9500104123285]
[3415,3600,3692,null,null,null,null,null,null,null,null,null,{"$f":"Control!$C$20+Control!$C$21*A3415+Control!$C$22*A3415^2","v":915.81759295395534},3720,3480]
[3418,3597,3586,null,null,null,null,null,null,null,null,null,{"$f":"Control!$C$20+Control!$C$21*A3418+Control!$C$22*A3418^2","v":916.62551106363526},3716.9499895789909,3477.0500104210091]
[3421,3595,3554,null,null,null,null,null,null,null,null,null,{"$f":"Control!$C$20+Control!$C$21*A3421+Control!$C$22*A3421^2","v":917.43342916484346},3714.9166377113702,3475.0833622886298]
[3425,3592,3670,null,null,null,null,null,null,null,null,null,{"$f":"Control!$C$20+Control!$C$21*A3425+Control!$C$22*A3425^2","v":918.51065328660957},3711.8665925101736,3472.1334074898264]
[3428,3590,3545,null,null,null,null,null,null,null,null,null,{"$f":"Control!$C$20+Control!$C$21*A3428+Control!$C$22*A3428^2","v":919.31857136805047},3709.8332174315619,3470.1667825684381]
[3430,3589,3578,null,null,null,null,null,null,null,null,null,{"$f":"Control!$C$20+Control!$C$21*A3430+Control!$C$22*A3430^2","v":919.857183417638},3708.8165264060012,3469.1834735939988]
[3431,3588,3546,null,null,null,null,null,null,null,null,null,{"$f":"Control!$C$20+Control!$C$21*A3431+Control!$C$22*A3431^2","v":920.12648944101977},3707.7998330549754,3468.2001669450246]
[3434,3586,3549,null,null,null,null,null,null,null,null,null,{"$f":"Control!$C$20+Control!$C$21*A3434+Control!$C$22*A3434^2","v":920.93440750551736},3705.7664393726391,3466.2335606273609]
[3438,3583,3584,null,null,null,null,null,null,null,null,null,{"$f":"Control!$C$20+Control!$C$21*A3438+Control!$C$22*A3438^2","v":922.01163157833605},3702.7163313838173,3463.2836686161827]
[3441,3581,3522,null,null,null,null,null,null,null,null,null,{"$f":"Control!$C$20+Control!$C$21*A3441+Control!$C$22*A3441^2","v":922.81954962306645},3700.6829144030175,3461.3170855969825]
[3444,3578,3554,null,null,null,null,null,null,null,null,null,{"$f":"Control!$C$20+Control!$C$21*A3444+Control!$C$22*A3444^2","v":923.62746765932513},3697.6327714299055,3458.3672285700945]
[3447,3576,3529,null,null,null,null,null,null,null,null,null,{"$f":"Control!$C$20+Control!$C$21*A3447+Control!$C$22*A3447^2","v":924.43538568711222},3695.5993311018083,3456.4006688981917]
[3450,3574,3736,null,null,null,null,null,null,null,null,null,{"$f":"Control!$C$20+Control!$C$21*A3450+Control!$C$22*A3450^2","v":925.24330370642758},3693.565881421081,3454.434118578919]
[3451,3573,3647,null,null,null,null,null,null,null,null,null,{"$f":"Control!$C$20+Control!$C$21*A3451+Control!$C$22*A3451^2","v":925.51260971098338},3692.5491530710278,3453.4508469289722]
[3454,3571,3614,null,null,null,null,null,null,null,null,null,{"$f":"Control!$C$20+Control!$C$21*A3454+Control!$C$22*A3454^2","v":926.32052771900328},3690.5156893466292,3451.4843106533708]
[3457,3569,3589,null,null,null,null,null,null,null,null,null,{"$f":"Control!$C$20+Control!$C$21*A3457+Control!$C$22*A3457^2","v":927.12844571855135},3688.4822162499509,3449.5177837500491]
[3461,3566,3568,null,null,null,null,null,null,null,null,null,{"$f":"Control!$C$20+Control!$C$21*A3461+Control!$C$22*A3461^2","v":928.20566970477068},3685.4319890146689,3446.5680109853311]
[3464,3564,3473,null,null,null,null,null,null,null,null,null,{"$f":"Control!$C$20+Control!$C$21*A3464+Control!$C$22*A3464^2","v":929.01358768455157},3683.3984924527945,3444.6015075472055]
[3466,3562,3773,null,null,null,null,null,null,null,null,null,{"$f":"Control!$C$20+Control!$C$21*A3466+Control!$C$22*A3466^2","v":929.55219966636571},3681.3649864910144,3442.6350135089856]
[3470,3559,3474,null,null,null,null,null,null,null,null,null,{"$f":"Control!$C$20+Control!$C$21*A3470+Control!$C$22*A3470^2","v":930.62942361869841},3678.3147099061971,3439.6852900938029]
[3473,3557,3593,null,null,null,null,null,null,null,null,null,{"$f":"Control!$C$20+Control!$C$21*A3473+Control!$C$22*A3473^2","v":931.43734157306426},3676.2811804099874,3437.7188195900126]
[3474,3556,3483,null,null,null,null,null,null,null,null,null,{"$f":"Control!$C$20+Control!$C$21*A3474+Control!$C$22*A3474^2","v":931.70664755597033},3675.2644121270046,3436.7355878729954]
[3477,3554,3599,null,null,null,null,null,null,null,null,null,{"$f":"Control!$C$20+Control!$C$21*A3477+Control!$C$22*A3477^2","v":932.51456549904071},3673.230868486311,3434.769131513689]
[3480,3552,3550,null,null,null,null,null,null,null,null,null,{"$f":"Control!$C$20+Control!$C$21*A3480+Control!$C$22*A3480^2","v":933.32248343363926},3671.1973154060106,3432.8026845939894]
[3484,3549,3553,null,null,null,null,null,null,null,null,null,{"$f":"Control!$C$20+Control!$C$21*A3484+Control!$C$22*A3484^2","v":934.39970733325936},3668.1469680688519,3429.8530319311481]
[3487,3547,3545,null,null,null,null,null,null,null,null,null,{"$f":"Control!$C$20+Control!$C$21*A3487+Control!$C$22*A3487^2","v":935.20762524809084},3666.1133913546246,3427.8866086453754]
[3490,3545,3567,null,null,null,null,null,null,null,null,null,{"$f":"Control!$C$20+Control!$C$21*A3490+Control!$C$22*A3490^2","v":936.0155431544506},3664.0798051728334,3425.9201948271666]
[3493,3542,3483,null,null,null,null,null,null,null,null,null,{"$f":"Control!$C$20+Control!$C$21*A3493+Control!$C$22*A3493^2","v":936.82346105233864},3661.0294081309321,3422.9705918690679]
[3496,3540,3558,null,null,null,null,null,null,null,null,null,{"$f":"Control!$C$20+Control!$C$21*A3496+Control!$C$22*A3496^2","v":937.63137894175497},3658.9957982451483,3421.0042017548517]
[3497,3540,3541,null,null,null,null,null,null,null,null,null,{"$f":"Control!$C$20+Control!$C$21*A3497+Control!$C$22*A3497^2","v":937.90068490301121},3658.9957982451483,3421.0042017548517]
[3500,3771,3782,234,null,null,null,null,null,null,null,null,{"$f":"Control!$C$20+Control!$C$21*A3500+Control!$C$22*A3500^2","v":938.70860278113207},3658.9957982451483,3421.0042017548517]
[3503,4785,4940,1250,null,null,null,null,null,null,null,null,{"$f":"Control!$C$20+Control!$C$21*A3503+Control!$C$22*A3503^2","v":939.51652065078122},3658.9957982451483,3421.0042017548517]
[3506,4986,4973,1453,null,null,null,null,null,null,null,null,{"$f":"Control!$C$20+Control!$C$21*A3506+Control!$C$22*A3506^2","v":940.32443851195876},3658.9957982451483,3421.0042017548517]
[3509,3898,3902,367,null,null,null,null,null,null,null,null,{"$f":"Control!$C$20+Control!$C$21*A3509+Control!$C$22*A3509^2","v":941.13235636466459},3658.9957982451483,3421.0042017548517]
[3513,3528,3403,null,null,null,null,null,null,null,null,null,{"$f":"Control!$C$20+Control!$C$21*A3513+Control!$C$22*A3513^2","v":942.20958015509427},3646.79393923934,3409.20606076066]
[3516,3526,3476,null,null,null,null,null,null,null,null,null,{"$f":"Control!$C$20+Control!$C$21*A3516+Control!$C$22*A3516^2","v":943.0174979880328},3644.7602627144283,3407.2397372855717]
[3519,3523,3537,null,null,null,null,null,null,null,null,null,{"$f":"Control!$C$20+Control!$C$21*A3519+Control!$C$22*A3519^2","v":943.82541581249973},3641.7097300140135,3404.2902699859865]
[3520,3523,3604,null,null,null,null,null,null,null,null,null,{"$f":"Control!$C$20+Control!$C$21*A3520+Control!$C$22*A3520^2","v":944.09472175210612},3641.7097300140135,3404.2902699859865]
[3523,3521,3589,null,null,null,null,null,null,null,null,null,{"$f":"Control!$C$20+Control!$C$21*A3523+Control!$C$22*A3523^2","v":944.90263956527747},{"$f":"IF(D3523=0,B3523+2*SQRT(B3523),N3522)","v":3639.6760295931745},{"$f":"IF(D3523=0,B3523-2*SQRT(B3523),O3522)","v":3402.3239704068255}]
[3527,3518,3462,null,null,null,null,null,null,null,null,null,{"$f":"Control!$C$20+Control!$C$21*A3527+Control!$C$22*A3527^2","v":945.97986330299454},3636.6254610106953,3399.3745389893047]
[3529,3516,3382,null,null,null,null,null,null,null,null,null,{"$f":"Control!$C$20+Control!$C$21*A3529+Control!$C$22*A3529^2","v":946.51847516620523},3634.591736642989,3397.408263357011]
[3532,3514,3472,null,null,null,null,null,null,null,null,null,{"$f":"Control!$C$20+Control!$C$21*A3532+Control!$C$22*A3532^2","v":947.32639295396154},3632.5580026822313,3395.4419973177687]
[3536,3511,3423,null,null,null,null,null,null,null,null,null,{"$f":"Control!$C$20+Control!$C$21*A3536+Control!$C$22*A3536^2","v":948.40361665779187},3629.5073837362042,3392.4926162637958]
[3539,3509,3611,null,null,null,null,null,null,null,null,null,{"$f":"Control!$C$20+Control!$C$21*A3539+Control!$C$22*A3539^2","v":949.211534425781},3627.4736257569589,3390.5263742430411]
[3542,3507,3550,null,null,null,null,null,null,null,null,null,{"$f":"Control!$C$20+Control!$C$21*A3542+Control!$C$22*A3542^2","v":950.01945218529841},3625.4398581559435,3388.5601418440565]
[3543,3506,3519,null,null,null,null,null,null,null,null,null,{"$f":"Control!$C$20+Control!$C$21*A3543+Control!$C$22*A3543^2","v":950.28875810325496},3624.4229707446998,3387.5770292553002]
[3546,3504,3529,null,null,null,null,null,null,null,null,null,{"$f":"Control!$C$20+Control!$C$21*A3546+Control!$C$22*A3546^2","v":951.0966758514769},3622.3891886955898,3385.6108113044102]
[3549,3501,3490,null,null,null,null,null,null,null,null,null,{"$f":"Control!$C$20+Control!$C$21*A3549+Control!$C$22*A3549^2","v":951.90459359122713},3619.3384975398963,3382.6615024601037]
[3552,3499,3495,null,null,null,null,null,null,null,null,null,{"$f":"Control!$C$20+Control!$C$21*A3552+Control!$C$22*A3552^2","v":952.71251132250563},3617.304691369362,3380.695308630638]
[3555,3497,3391,null,null,null,null,null,null,null,null,null,{"$f":"Control!$C$20+Control!$C$21*A3555+Control!$C$22*A3555^2","v":953.52042904531254},3615.2708755357803,3378.7291244642197]
[3559,3494,3481,null,null,null,null,null,null,null,null,null,{"$f":"Control!$C$20+Control!$C$21*A3559+Control!$C$22*A3559^2","v":954.59765266254351},3612.2201336490534,3375.7798663509466]
[3562,3492,3403,null,null,null,null,null,null,null,null,null,{"$f":"Control!$C$20+Control!$C$21*A3562+Control!$C$22*A3562^2","v":955.40557036558312},3610.1862936215534,3373.8137063784466]
[3565,3490,3490,null,null,null,null,null,null,null,null,null,{"$f":"Control!$C$20+Control!$C$21*A3565+Control!$C$22*A3565^2","v":956.21348806015112},3608.1524439019354,3371.8475560980646]
[3567,3488,3488,null,null,null,null,null,null,null,null,null,{"$f":"Control!$C$20+Control!$C$21*A3567+Control!$C$22*A3567^2","v":956.75209985182323},3606.1185844818674,3369.8814155181326]
[3568,3488,3536,null,null,null,null,null,null,null,null,null,{"$f":"Control!$C$20+Control!$C$21*A3568+Control!$C$22*A3568^2","v":957.02140574624741},3606.1185844818674,3369.8814155181326]
[3572,3485,3385,null,null,null,null,null,null,null,null,null,{"$f":"Control!$C$20+Control!$C$21*A3572+Control!$C$22*A3572^2","v":958.09862931453097},3603.0677771451637,3366.9322228548363]
[3575,3482,3486,null,null,null,null,null,null,null,null,null,{"$f":"Control!$C$20+Control!$C$21*A3575+Control!$C$22*A3575^2","v":958.90654698086007},3600.0169479354554,3363.9830520645446]
[3578,3480,3504,null,null,null,null,null,null,null,null,null,{"$f":"Control!$C$20+Control!$C$21*A3578+Control!$C$22*A3578^2","v":959.71446463871746},3597.983049630021,3362.016950369979]
[3582,3477,3464,null,null,null,null,null,null,null,null,null,{"$f":"Control!$C$20+Control!$C$21*A3582+Control!$C$22*A3582^2","v":960.79168816934919},3594.9321839024446,3359.0678160975554]
[3585,3475,3537,null,null,null,null,null,null,null,null,null,{"$f":"Control!$C$20+Control!$C$21*A3585+Control!$C$22*A3585^2","v":961.59960580743927},3592.8982612255159,3357.1017387744841]
[3586,3474,3453,null,null,null,null,null,null,null,null,null,{"$f":"Control!$C$20+Control!$C$21*A3586+Control!$C$22*A3586^2","v":961.86891168492014},3591.881296226331,3356.118703773669]
[3588,3473,3392,null,null,null,null,null,null,null,null,null,{"$f":"Control!$C$20+Control!$C$21*A3588+Control!$C$22*A3588^2","v":962.40752343705776},3590.8643287852606,3355.1356712147394]
[3591,3471,3526,null,null,null,null,null,null,null,null,null,{"$f":"Control!$C$20+Control!$C$21*A3591+Control!$C$22*A3591^2","v":963.21544105820465},3588.8303865732437,3353.1696134267563]
[3595,3468,3455,null,null,null,null,null,null,null,null,null,{"$f":"Control!$C$20+Control!$C$21*A3595+Control!$C$22*A3595^2","v":964.29266453988885},3585.7794549146838,3350.2205450853162]
[3598,3466,3431,null,null,null,null,null,null,null,null,null,{"$f":"Control!$C$20+Control!$C$21*A3598+Control!$C$22*A3598^2","v":965.10058214126843},3583.7454882362804,3348.2545117637196]
[3601,3463,3459,null,null,null,null,null,null,null,null,null,{"$f":"Control!$C$20+Control!$C$21*A3601+Control!$C$22*A3601^2","v":965.9084997341763},3580.694519838436,3345.305480161564]
[3605,3460,3372,null,null,null,null,null,null,null,null,null,{"$f":"Control!$C$20+Control!$C$21*A3605+Control!$C$22*A3605^2","v":966.98572317820879},3577.643529358822,3342.356470641178]
[3607,3459,3328,null,null,null,null,null,null,null,null,null,{"$f":"Control!$C$20+Control!$C$21*A3607+Control!$C$22*A3607^2","v":967.52433489457712},3576.6265276202607,3341.3734723797393]
[3608,3458,3553,null,null,null,null,null,null,null,null,null,{"$f":"Control!$C$20+Control!$C$21*A3608+Control!$C$22*A3608^2","v":967.79364075134936},3575.6095234239133,3340.3904765760867]
[3611,3456,3534,null,null,null,null,null,null,null,null,null,{"$f":"Control!$C$20+Control!$C$21*A3611+Control!$C$22*A3611^2","v":968.60155831601844},3573.5755076535925,3338.4244923464075]
[3614,3454,3428,null,null,null,null,null,null,null,null,null,{"$f":"Control!$C$20+Control!$C$21*A3614+Control!$C$22*A3614^2","v":969.40947587221581},3571.5414820393207,3336.4585179606793]
[3618,3451,3531,null,null,null,null,null,null,null,null,null,{"$f":"Control!$C$20+Control!$C$21*A3618+Control!$C$22*A3618^2","v":970.48669926730076},3568.4904251417961,3333.5095748582039]
[3621,3449,3453,null,null,null,null,null,null,null,null,null,{"$f":"Control!$C$20+Control!$C$21*A3621+Control!$C$22*A3621^2","v":971.29461680373083},3566.4563748802084,3331.5436251197916]
[3624,3447,3522,null,null,null,null,null,null,null,null,null,{"$f":"Control!$C$20+Control!$C$21*A3624+Control!$C$22*A3624^2","v":972.10253433168918},3564.4223147446855,3329.5776852553145]
[3626,3445,3382,null,null,null,null,null,null,null,null,null,{"$f":"Control!$C$20+Control!$C$21*A3626+Control!$C$22*A3626^2","v":972.64114601228835},3562.3882447266337,3327.6117552733663]
[3630,3442,3339,null,null,null,null,null,null,null,null,null,{"$f":"Control!$C$20+Control!$C$21*A3630+Control!$C$22*A3630^2","v":973.71836936219108},3559.3371211509811,3324.6628788490189]
[3631,3441,3500,null,null,null,null,null,null,null,null,null,{"$f":"Control!$C$20+Control!$C$21*A3631+Control!$C$22*A3631^2","v":973.98767519731348},3558.3200750084998,3323.6799249915002]
[3634,3439,3486,null,null,null,null,null,null,null,null,null,{"$f":"Control!$C$20+Control!$C$21*A3634+Control!$C$22*A3634^2","v":974.79559269703304},3556.2859752911659,3321.7140247088341]
[3637,3437,3396,null,null,null,null,null,null,null,null,null,{"$f":"Control!$C$20+Control!$C$21*A3637+Control!$C$22*A3637^2","v":975.60351018828089},3554.2518656567991,3319.7481343432009]
[3641,3434,3430,null,null,null,null,null,null,null,null,null,{"$f":"Control!$C$20+Control!$C$21*A3641+Control!$C$22*A3641^2","v":976.68073349676661},3551.2006825918688,3316.7993174081312]
[3644,3432,3371,null,null,null,null,null,null,null,null,null,{"$f":"Control!$C$20+Control!$C$21*A3644+Control!$C$22*A3644^2","v":977.48865096824716},3549.1665481270143,3314.8334518729857]
[3647,3479,3420,49,null,null,null,null,null,null,null,null,{"$f":"Control!$C$20+Control!$C$21*A3647+Control!$C$22*A3647^2","v":978.29656843125611},3548.1494771648599,3313.8505228351401]
[3650,3950,3937,523,null,null,null,null,null,null,null,null,{"$f":"Control!$C$20+Control!$C$21*A3650+Control!$C$22*A3650^2","v":979.10448588579345},3548.1494771648599,3313.8505228351401]
[3653,4702,4676,1277,null,null,null,null,null,null,null,null,{"$f":"Control!$C$20+Control!$C$21*A3653+Control!$C$22*A3653^2","v":979.91240333185897},3548.1494771648599,3313.8505228351401]
[3654,4666,4672,1241,null,null,null,null,null,null,null,null,{"$f":"Control!$C$20+Control!$C$21*A3654+Control!$C$22*A3654^2","v":980.18170914533164},3548.1494771648599,3313.8505228351401]
[3657,3851,3753,429,null,null,null,null,null,null,null,null,{"$f":"Control!$C$20+Control!$C$21*A3657+Control!$C$22*A3657^2","v":980.98962658010169},3548.1494771648599,3313.8505228351401]
[3660,3454,3318,34,null,null,null,null,null,null,null,null,{"$f":"Control!$C$20+Control!$C$21*A3660+Control!$C$22*A3660^2","v":981.79754400640002},3548.1494771648599,3313.8505228351401]
[3664,3417,3378,null,null,null,null,null,null,null,null,null,{"$f":"Control!$C$20+Control!$C$21*A3664+Control!$C$22*A3664^2","v":982.87476722828637},3533.9102219654037,3300.0897780345963]
[3666,3416,3353,null,null,null,null,null,null,null,null,null,{"$f":"Control!$C$20+Control!$C$21*A3666+Control!$C$22*A3666^2","v":983.41337883358176},3532.8931135696198,3299.1068864303802]
[3670,3413,3438,null,null,null,null,null,null,null,null,null,{"$f":"Control!$C$20+Control!$C$21*A3670+Control!$C$22*A3670^2","v":984.49060203287695},3529.8417733518281,3296.1582266481719]
[3673,3411,3422,null,null,null,null,null,null,null,null,null,{"$f":"Control!$C$20+Control!$C$21*A3673+Control!$C$22*A3673^2","v":985.29851942246478},3527.8075340035907,3294.1924659964093]
[3676,3408,3388,null,null,null,null,null,null,null,null,null,{"$f":"Control!$C$20+Control!$C$21*A3676+Control!$C$22*A3676^2","v":986.10643680358089},3524.7561561546113,3291.2438438453887]
[3677,3408,3337,null,null,null,null,null,null,null,null,null,{"$f":"Control!$C$20+Control!$C$21*A3677+Control!$C$22*A3677^2","v":986.37574259540372},3524.7561561546113,3291.2438438453887]
[3680,3405,3481,null,null,null,null,null,null,null,null,null,{"$f":"Control!$C$20+Control!$C$21*A3680+Control!$C$22*A3680^2","v":987.18365996522425},3521.7047556871612,3288.2952443128388]
[3683,3403,3341,null,null,null,null,null,null,null,null,null,{"$f":"Control!$C$20+Control!$C$21*A3683+Control!$C$22*A3683^2","v":987.99157732657318},3519.6704761282817,3286.3295238717183]
[3687,3400,3362,null,null,null,null,null,null,null,null,null,{"$f":"Control!$C$20+Control!$C$21*A3687+Control!$C$22*A3687^2","v":989.06880046186018},3516.6190378969059,3283.3809621030941]
[3689,3399,3381,null,null,null,null,null,null,null,null,null,{"$f":"Control!$C$20+Control!$C$21*A3689+Control!$C$22*A3689^2","v":989.60741202385589},3515.6018867771872,3282.3981132228128]
[3693,3396,3413,null,null,null,null,null,null,null,null,null,{"$f":"Control!$C$20+Control!$C$21*A3693+Control!$C$22*A3693^2","v":990.68463513655183},3512.5504182746677,3279.4495817253323]
[3696,3394,3328,null,null,null,null,null,null,null,null,null,{"$f":"Control!$C$20+Control!$C$21*A3696+Control!$C$22*A3696^2","v":991.49255246119014},3510.516093309036,3277.483906690964]
[3699,3392,3398,null,null,null,null,null,null,null,null,null,{"$f":"Control!$C$20+Control!$C$21*A3699+Control!$C$22*A3699^2","v":992.30046977735674},3508.4817582284882,3275.5182417715118]
[3700,3391,3367,null,null,null,null,null,null,null,null,null,{"$f":"Control!$C$20+Control!$C$21*A3700+Control!$C$22*A3700^2","v":992.56977554752973},3507.4645868923253,3274.5354131076747]
[3703,3389,3379,null,null,null,null,null,null,null,null,null,{"$f":"Control!$C$20+Control!$C$21*A3703+Control!$C$22*A3703^2","v":993.37769285240086},3505.4302366226229,3272.5697633773771]
[3706,3386,3358,null,null,null,null,null,null,null,null,null,{"$f":"Control!$C$20+Control!$C$21*A3706+Control!$C$22*A3706^2","v":994.18561014880027},3502.3786922078093,3269.6213077921907]
[3709,3384,3387,null,null,null,null,null,null,null,null,null,{"$f":"Control!$C$20+Control!$C$21*A3709+Control!$C$22*A3709^2","v":994.99352743672796},3500.3443165779918,3267.6556834220082]
[3712,3382,3471,null,null,null,null,null,null,null,null,null,{"$f":"Control!$C$20+Control!$C$21*A3712+Control!$C$22*A3712^2","v":995.80144471618405},3498.3099307883895,3265.6900692116105]
[3716,3379,3398,null,null,null,null,null,null,null,null,null,{"$f":"Control!$C$20+Control!$C$21*A3716+Control!$C$22*A3716^2","v":996.87866774228064},3495.2583330346688,3262.7416669653312]
[3719,3377,3313,null,null,null,null,null,null,null,null,null,{"$f":"Control!$C$20+Control!$C$21*A3719+Control!$C$22*A3719^2","v":997.68658500196955},3493.2239218061409,3260.7760781938591]
[3722,3375,3371,null,null,null,null,null,null,null,null,null,{"$f":"Control!$C$20+Control!$C$21*A3722+Control!$C$22*A3722^2","v":998.49450225318662},3491.1895003862223,3258.8104996137777]
[3723,3374,3314,null,null,null,null,null,null,null,null,null,{"$f":"Control!$C$20+Control!$C$21*A3723+Control!$C$22*A3723^2","v":998.76380800170978},3490.1722858516609,3257.8277141483391]
[3727,3371,3350,null,null,null,null,null,null,null,null,null,{"$f":"Control!$C$20+Control!$C$21*A3727+Control!$C$22*A3727^2","v":999.84103098638934},3487.1206269359582,3254.8793730640418]
[3729,3370,3291,null,null,null,null,null,null,null,null,null,{"$f":"Control!$C$20+Control!$C$21*A3729+Control!$C$22*A3729^2","v":1000.3796424730813},3486.1034021895998,3253.8965978104002]
[3732,3367,3318,null,null,null,null,null,null,null,null,null,{"$f":"Control!$C$20+Control!$C$21*A3732+Control!$C$22*A3732^2","v":1001.1875596960596},3483.0517126112322,3250.9482873887678]
[3735,3365,3392,null,null,null,null,null,null,null,null,null,{"$f":"Control!$C$20+Control!$C$21*A3735+Control!$C$22*A3735^2","v":1001.9954769105661},3481.0172400981855,3248.9827599018145]
[3739,3362,3533,null,null,null,null,null,null,null,null,null,{"$f":"Control!$C$20+Control!$C$21*A3739+Control!$C$22*A3739^2","v":1003.0726998500635},3477.9655121145938,3246.0344878854062]
[3742,3360,3331,null,null,null,null,null,null,null,null,null,{"$f":"Control!$C$20+Control!$C$21*A3742+Control!$C$22*A3742^2","v":1003.8806170448029},3475.9310139695153,3244.0689860304847]
[3745,3358,3348,null,null,null,null,null,null,null,null,null,{"$f":"Control!$C$20+Control!$C$21*A3745+Control!$C$22*A3745^2","v":1004.6885342310705},3473.8965055556032,3242.1034944443968]
[3746,3357,3325,null,null,null,null,null,null,null,null,null,{"$f":"Control!$C$20+Control!$C$21*A3746+Control!$C$22*A3746^2","v":1004.9578399579439},3472.8792474949678,3241.1207525050322]
[3748,3356,3348,null,null,null,null,null,null,null,null,null,{"$f":"Control!$C$20+Control!$C$21*A3748+Control!$C$22*A3748^2","v":1005.4964514088665},3471.861986863682,3240.138013136318]
[3752,3353,3337,null,null,null,null,null,null,null,null,null,{"$f":"Control!$C$20+Control!$C$21*A3752+Control!$C$22*A3752^2","v":1006.5736742994163},3468.8101895344275,3237.1898104655725]
[3755,3351,3305,null,null,null,null,null,null,null,null,null,{"$f":"Control!$C$20+Control!$C$21*A3755+Control!$C$22*A3755^2","v":1007.3815914574452},3466.7756451072505,3235.2243548927495]
[3758,3348,3402,null,null,null,null,null,null,null,null,null,{"$f":"Control!$C$20+Control!$C$21*A3758+Control!$C$22*A3758^2","v":1008.1895086070023},3463.7238091319155,3232.2761908680845]
[3762,3345,3274,null,null,null,null,null,null,null,null,null,{"$f":"Control!$C$20+Control!$C$21*A3762+Control!$C$22*A3762^2","v":1009.2667314599003},3460.67194992737,3229.32805007263]
[3765,3343,3247,null,null,null,null,null,null,null,null,null,{"$f":"Control!$C$20+Control!$C$21*A3765+Control!$C$22*A3765^2","v":1010.0746485896901},3458.6373642037902,3227.3626357962098]
[3767,3342,3424,null,null,null,null,null,null,null,null,null,{"$f":"Control!$C$20+Control!$C$21*A3767+Control!$C$22*A3767^2","v":1010.6132600048436},3457.6200674623569,3226.3799325376431]
[3768,3341,3436,null,null,null,null,null,null,null,null,null,{"$f":"Control!$C$20+Control!$C$21*A3768+Control!$C$22*A3768^2","v":1010.8825657110083},3456.6027681329474,3225.3972318670526]
[3771,3339,3283,null,null,null,null,null,null,null,null,null,{"$f":"Control!$C$20+Control!$C$21*A3771+Control!$C$22*A3771^2","v":1011.6904828238548},3454.5681617055493,3223.4318382944507]
[3775,3336,3408,null,null,null,null,null,null,null,null,null,{"$f":"Control!$C$20+Control!$C$21*A3775+Control!$C$22*A3775^2","v":1012.7677056278054},3451.516232625549,3220.483767374451]
[3778,3334,3399,null,null,null,null,null,null,null,null,null,{"$f":"Control!$C$20+Control!$C$21*A3778+Control!$C$22*A3778^2","v":1013.5756227208848},3449.4816002660164,3218.5183997339836]
[3781,3332,3292,null,null,null,null,null,null,null,null,null,{"$f":"Control!$C$20+Control!$C$21*A3781+Control!$C$22*A3781^2","v":1014.3835398054923},3447.4469575172943,3216.5530424827057]
[3785,3329,3387,null,null,null,null,null,null,null,null,null,{"$f":"Control!$C$20+Control!$C$21*A3785+Control!$C$22*A3785^2","v":1015.4607625717911},3444.3949738940132,3213.6050261059868]
[3786,3328,3315,null,null,null,null,null,null,null,null,null,{"$f":"Control!$C$20+Control!$C$21*A3786+Control!$C$22*A3786^2","v":1015.7300682610124},3443.3776408148478,3212.6223591851522]
[3788,3326,3473,null,null,null,null,null,null,null,null,null,{"$f":"Control!$C$20+Control!$C$21*A3788+Control!$C$22*A3788^2","v":1016.2686796366314},3441.3429668423696,3210.6570331576304]
[3791,3324,3369,null,null,null,null,null,null,null,null,null,{"$f":"Control!$C$20+Control!$C$21*A3791+Control!$C$22*A3791^2","v":1017.0765966930002},3439.3082824431967,3208.6917175568033]
[3794,3322,3427,null,null,null,null,null,null,null,null,null,{"$f":"Control!$C$20+Control!$C$21*A3794+Control!$C$22*A3794^2","v":1017.8845137408972},3437.2735876079164,3206.7264123920836]
[3798,3615,3603,296,null,null,null,null,null,null,null,null,{"$f":"Control!$C$20+Control!$C$21*A3798+Control!$C$22*A3798^2","v":1018.9617364582484},3437.2735876079164,3206.7264123920836]
[3801,4212,4132,895,null,null,null,null,null,null,null,null,{"$f":"Control!$C$20+Control!$C$21*A3801+Control!$C$22*A3801^2","v":1019.7696534863783},3437.2735876079164,3206.7264123920836]
[3803,4170,4071,855,null,null,null,null,null,null,null,null,{"$f":"Control!$C$20+Control!$C$21*A3803+Control!$C$22*A3803^2","v":1020.3082648337584},3437.2735876079164,3206.7264123920836]
[3807,3431,3486,119,null,null,null,null,null,null,null,null,{"$f":"Control!$C$20+Control!$C$21*A3807+Control!$C$22*A3807^2","v":1021.3854875172229},3437.2735876079164,3206.7264123920836]
[3810,3310,3272,null,null,null,null,null,null,null,null,null,{"$f":"Control!$C$20+Control!$C$21*A3810+Control!$C$22*A3810^2","v":1022.1934045199378},3425.0651989091402,3194.9348010908598]
[3811,3310,3263,null,null,null,null,null,null,null,null,null,{"$f":"Control!$C$20+Control!$C$21*A3811+Control!$C$22*A3811^2","v":1022.4627101856267},3425.0651989091402,3194.9348010908598]
[3814,3307,3210,null,null,null,null,null,null,null,null,null,{"$f":"Control!$C$20+Control!$C$21*A3814+Control!$C$22*A3814^2","v":1023.270627177046},3422.0130427386389,3191.9869572613611]
[3817,3305,3323,null,null,null,null,null,null,null,null,null,{"$f":"Control!$C$20+Control!$C$21*A3817+Control!$C$22*A3817^2","v":1024.0785441599935},3419.9782588144385,3190.0217411855615]
[3821,3302,3327,null,null,null,null,null,null,null,null,null,{"$f":"Control!$C$20+Control!$C$21*A3821+Control!$C$22*A3821^2","v":1025.1557667907455},3416.926063188469,3187.073936811531]
[3824,3300,3229,null,null,null,null,null,null,null,null,null,{"$f":"Control!$C$20+Control!$C$21*A3824+Control!$C$22*A3824^2","v":1025.9636837539258},3414.8912529307604,3185.1087470692396]
[3827,3298,3232,null,null,null,null,null,null,null,null,null,{"$f":"Control!$C$20+Control!$C$21*A3827+Control!$C$22*A3827^2","v":1026.7716007086344},3412.8564321228901,3183.1435678771099]
[3830,3296,3410,null,null,null,null,null,null,null,null,null,{"$f":"Control!$C$20+Control!$C$21*A3830+Control!$C$22*A3830^2","v":1027.5795176548716},3410.8216007552587,3181.1783992447413]
[3833,3293,3270,null,null,null,null,null,null,null,null,null,{"$f":"Control!$C$20+Control!$C$21*A3833+Control!$C$22*A3833^2","v":1028.3874345926367},3407.7693338832287,3178.2306661167713]
[3834,3293,3276,null,null,null,null,null,null,null,null,null,{"$f":"Control!$C$20+Control!$C$21*A3834+Control!$C$22*A3834^2","v":1028.6567402366759},3407.7693338832287,3178.2306661167713]
[3837,3290,3339,null,null,null,null,null,null,null,null,null,{"$f":"Control!$C$20+Control!$C$21*A3837+Control!$C$22*A3837^2","v":1029.4646571631458},3404.7170431976001,3175.2829568023999]
[3840,3288,3388,null,null,null,null,null,null,null,null,null,{"$f":"Control!$C$20+Control!$C$21*A3840+Control!$C$22*A3840^2","v":1030.2725740811438},3402.6821694946516,3173.3178305053484]
[3843,3286,3275,null,null,null,null,null,null,null,null,null,{"$f":"Control!$C$20+Control!$C$21*A3843+Control!$C$22*A3843^2","v":1031.0804909906703},{"$f":"IF(D3843=0,B3843+2*SQRT(B3843),N3842)","v":3400.647285183732},{"$f":"IF(D3843=0,B3843-2*SQRT(B3843),O3842)","v":3171.352714816268}]
[3846,3284,3168,null,null,null,null,null,null,null,null,null,{"$f":"Control!$C$20+Control!$C$21*A3846+Control!$C$22*A3846^2","v":1031.8884078917249},3398.6123902551553,3169.3876097448447]
[3850,3281,3277,null,null,null,null,null,null,null,null,null,{"$f":"Control!$C$20+Control!$C$21*A3850+Control!$C$22*A3850^2","v":1032.9656304132866},3395.5600279329574,3166.4399720670426]
[3853,3279,3274,null,null,null,null,null,null,null,null,null,{"$f":"Control!$C$20+Control!$C$21*A3853+Control!$C$22*A3853^2","v":1033.773547294574},3393.5251064177633,3164.4748935822367]
[3856,3277,3223,null,null,null,null,null,null,null,null,null,{"$f":"Control!$C$20+Control!$C$21*A3856+Control!$C$22*A3856^2","v":1034.5814641673899},3391.4901742508937,3162.5098257491063]
[3857,3276,3372,null,null,null,null,null,null,null,null,null,{"$f":"Control!$C$20+Control!$C$21*A3857+Control!$C$22*A3857^2","v":1034.8507697897792},3390.4727041700335,3161.5272958299665]
[3860,3274,3251,null,null,null,null,null,null,null,null,null,{"$f":"Control!$C$20+Control!$C$21*A3860+Control!$C$22*A3860^2","v":1035.6586866512996},3388.4377560073599,3159.5622439926401]
[3864,3271,3178,null,null,null,null,null,null,null,null,null,{"$f":"Control!$C$20+Control!$C$21*A3864+Control!$C$22*A3864^2","v":1036.7359091201483},3385.3853137426304,3156.6146862573696]
[3866,3269,3308,null,null,null,null,null,null,null,null,null,{"$f":"Control!$C$20+Control!$C$21*A3866+Control!$C$22*A3866^2","v":1037.2745203489251},3383.3503388713825,3154.6496611286175]
[3869,3267,3229,null,null,null,null,null,null,null,null,null,{"$f":"Control!$C$20+Control!$C$21*A3869+Control!$C$22*A3869^2","v":1038.0824371850304},3381.3153532995457,3152.6846467004543]
[3873,3264,3188,null,null,null,null,null,null,null,null,null,{"$f":"Control!$C$20+Control!$C$21*A3873+Control!$C$22*A3873^2","v":1039.1596596199925},3378.2628548566854,3149.7371451433146]
[3876,3262,3196,null,null,null,null,null,null,null,null,null,{"$f":"Control!$C$20+Control!$C$21*A3876+Control!$C$22*A3876^2","v":1039.9675764363305},3376.2278424903493,3147.7721575096507]
[3879,3260,3318,null,null,null,null,null,null,null,null,null,{"$f":"Control!$C$20+Control!$C$21*A3879+Control!$C$22*A3879^2","v":1040.7754932441969},3374.1928193889617,3145.8071806110383]
[3880,3259,3400,null,null,null,null,null,null,null,null,null,{"$f":"Control!$C$20+Control!$C$21*A3880+Control!$C$22*A3880^2","v":1041.0447988449364},3373.1753038095367,3144.8246961904633]
[3883,3257,3274,null,null,null,null,null,null,null,null,null,{"$f":"Control!$C$20+Control!$C$21*A3883+Control!$C$22*A3883^2","v":1041.8527156415073},3371.1402645870421,3142.8597354129579]
[3886,3255,3234,null,null,null,null,null,null,null,null,null,{"$f":"Control!$C$20+Control!$C$21*A3886+Control!$C$22*A3886^2","v":1042.6606324296065},3369.1052146047673,3140.8947853952327]
[3889,3252,3221,null,null,null,null,null,null,null,null,null,{"$f":"Control!$C$20+Control!$C$21*A3889+Control!$C$22*A3889^2","v":1043.4685492092337},3366.0526194350659,3137.9473805649341]
[3892,3250,3233,null,null,null,null,null,null,null,null,null,{"$f":"Control!$C$20+Control!$C$21*A3892+Control!$C$22*A3892^2","v":1044.2764659803897},3364.0175425099137,3135.9824574900863]
[3896,3247,3257,null,null,null,null,null,null,null,null,null,{"$f":"Control!$C$20+Control!$C$21*A3896+Control!$C$22*A3896^2","v":1045.3536883287525},3360.9649068792669,3133.0350931207331]
[3899,3245,3250,null,null,null,null,null,null,null,null,null,{"$f":"Control!$C$20+Control!$C$21*A3899+Control!$C$22*A3899^2","v":1046.161605080141},3358.9298029490087,3131.0701970509913]
[3900,3244,3271,null,null,null,null,null,null,null,null,null,{"$f":"Control!$C$20+Control!$C$21*A3900+Control!$C$22*A3900^2","v":1046.4309106620547},3357.9122469271852,3130.0877530728148]
[3904,3241,3266,null,null,null,null,null,null,null,null,null,{"$f":"Control!$C$20+Control!$C$21*A3904+Control!$C$22*A3904^2","v":1047.5081329802961},3354.8595626199221,3127.1404373800779]
[3905,3241,3240,null,null,null,null,null,null,null,null,null,{"$f":"Control!$C$20+Control!$C$21*A3905+Control!$C$22*A3905^2","v":1047.7774385575033},3354.8595626199221,3127.1404373800779]
[3909,3238,3337,null,null,null,null,null,null,null,null,null,{"$f":"Control!$C$20+Control!$C$21*A3909+Control!$C$22*A3909^2","v":1048.8546608569186},3351.8068539236542,3124.1931460763458]
[3912,3236,3155,null,null,null,null,null,null,null,null,null,{"$f":"Control!$C$20+Control!$C$21*A3912+Control!$C$22*A3912^2","v":1049.6625775715966},3349.771701226623,3122.228298773377]
[3915,3233,3231,null,null,null,null,null,null,null,null,null,{"$f":"Control!$C$20+Control!$C$21*A3915+Control!$C$22*A3915^2","v":1050.470494277803},3346.7189518066361,3119.2810481933639]
[3919,3230,3225,null,null,null,null,null,null,null,null,null,{"$f":"Control!$C$20+Control!$C$21*A3919+Control!$C$22*A3919^2","v":1051.5477165395664},3343.6661779070628,3116.3338220929372]
[3922,3228,3293,null,null,null,null,null,null,null,null,null,{"$f":"Control!$C$20+Control!$C$21*A3922+Control!$C$22*A3922^2","v":1052.3556332260057},3341.6309816907342,3114.3690183092658]
[3923,3227,3206,null,null,null,null,null,null,null,null,null,{"$f":"Control!$C$20+Control!$C$21*A3923+Control!$C$22*A3923^2","v":1052.6249387862692},3340.61337949379,3113.38662050621]
[3925,3226,3148,null,null,null,null,null,null,null,null,null,{"$f":"Control!$C$20+Control!$C$21*A3925+Control!$C$22*A3925^2","v":1053.163549903973},3339.5957745693036,3112.4042254306964]
[3928,3224,3261,null,null,null,null,null,null,null,null,null,{"$f":"Control!$C$20+Control!$C$21*A3928+Control!$C$22*A3928^2","v":1053.9714665734687},3337.5605565326273,3110.4394434673727]
[3932,3221,3258,null,null,null,null,null,null,null,null,null,{"$f":"Control!$C$20+Control!$C$21*A3932+Control!$C$22*A3932^2","v":1055.0486887862849},3334.5077089893016,3107.4922910106984]
[3935,3219,3244,null,null,null,null,null,null,null,null,null,{"$f":"Control!$C$20+Control!$C$21*A3935+Control!$C$22*A3935^2","v":1055.8566054360133},3332.4724636200344,3105.5275363799656]
[3938,3216,3349,null,null,null,null,null,null,null,null,null,{"$f":"Control!$C$20+Control!$C$21*A3938+Control!$C$22*A3938^2","v":1056.6645220772702},3329.4195750300628,3102.5804249699372]
[3942,3214,3197,null,null,null,null,null,null,null,null,null,{"$f":"Control!$C$20+Control!$C$21*A3942+Control!$C$22*A3942^2","v":1057.7417442524345},3327.3843022644669,3100.6156977355331]
[3944,3241,3297,29,null,null,null,null,null,null,null,null,{"$f":"Control!$C$20+Control!$C$21*A3944+Control!$C$22*A3944^2","v":1058.2803553343688},3327.3843022644669,3100.6156977355331]
[3945,3280,3328,69,null,null,null,null,null,null,null,null,{"$f":"Control!$C$20+Control!$C$21*A3945+Control!$C$22*A3945^2","v":1058.549660873924},3327.3843022644669,3100.6156977355331]
[3948,3613,3583,404,null,null,null,null,null,null,null,null,{"$f":"Control!$C$20+Control!$C$21*A3948+Control!$C$22*A3948^2","v":1059.3575774869421},3327.3843022644669,3100.6156977355331]
[3951,3810,3863,603,null,null,null,null,null,null,null,null,{"$f":"Control!$C$20+Control!$C$21*A3951+Control!$C$22*A3951^2","v":1060.1654940914882},3327.3843022644669,3100.6156977355331]
[3955,3328,3364,124,null,null,null,null,null,null,null,null,{"$f":"Control!$C$20+Control!$C$21*A3955+Control!$C$22*A3955^2","v":1061.242716217705},3327.3843022644669,3100.6156977355331]
[3958,3202,3179,null,null,null,null,null,null,null,null,null,{"$f":"Control!$C$20+Control!$C$21*A3958+Control!$C$22*A3958^2","v":1062.0506328024842},3315.1724348063608,3088.8275651936392]
[3962,3199,3160,null,null,null,null,null,null,null,null,null,{"$f":"Control!$C$20+Control!$C$21*A3962+Control!$C$22*A3962^2","v":1063.1278549023446},3312.1194059390341,3085.8805940609659]
[3963,3198,3271,null,null,null,null,null,null,null,null,null,{"$f":"Control!$C$20+Control!$C$21*A3963+Control!$C$22*A3963^2","v":1063.3971604249566},3311.1017241247896,3084.8982758752104]
[3967,3195,3207,null,null,null,null,null,null,null,null,null,{"$f":"Control!$C$20+Control!$C$21*A3967+Control!$C$22*A3967^2","v":1064.4743825059911},3308.0486620885008,3081.9513379114992]
[3968,3195,3149,null,null,null,null,null,null,null,null,null,{"$f":"Control!$C$20+Control!$C$21*A3968+Control!$C$22*A3968^2","v":1064.7436880238965},3308.0486620885008,3081.9513379114992]
[3971,3192,3197,null,null,null,null,null,null,null,null,null,{"$f":"Control!$C$20+Control!$C$21*A3971+Control!$C$22*A3971^2","v":1065.5516045719651},{"$f":"IF(D3971=0,B3971+2*SQRT(B3971),N3970)","v":3304.9955751346042},{"$f":"IF(D3971=0,B3971-2*SQRT(B3971),O3970)","v":3079.0044248653958}]
[3974,3190,3055,null,null,null,null,null,null,null,null,null,{"$f":"Control!$C$20+Control!$C$21*A3974+Control!$C$22*A3974^2","v":1066.3595211115617},3302.9601699715436,3077.0398300284564]
[3978,3187,3299,null,null,null,null,null,null,null,null,null,{"$f":"Control!$C$20+Control!$C$21*A3978+Control!$C$22*A3978^2","v":1067.4367431511794},3299.9070414101798,3074.0929585898202]
[3981,3185,3121,null,null,null,null,null,null,null,null,null,{"$f":"Control!$C$20+Control!$C$21*A3981+Control!$C$22*A3981^2","v":1068.2446596710088},3297.8716084761795,3072.1283915238205]
[3984,3183,3126,null,null,null,null,null,null,null,null,null,{"$f":"Control!$C$20+Control!$C$21*A3984+Control!$C$22*A3984^2","v":1069.0525761823667},3295.836164415492,3070.163835584508]
[3987,3181,3185,null,null,null,null,null,null,null,null,null,{"$f":"Control!$C$20+Control!$C$21*A3987+Control!$C$22*A3987^2","v":1069.8604926852529},3293.8007092176285,3068.1992907823715]
[3990,3178,3125,null,null,null,null,null,null,null,null,null,{"$f":"Control!$C$20+Control!$C$21*A3990+Control!$C$22*A3990^2","v":1070.6684091796674},3290.7475055156433,3065.2524944843567]
[3991,3178,3212,null,null,null,null,null,null,null,null,null,{"$f":"Control!$C$20+Control!$C$21*A3991+Control!$C$22*A3991^2","v":1070.937714675923},3290.7475055156433,3065.2524944843567]
[3994,3175,3046,null,null,null,null,null,null,null,null,null,{"$f":"Control!$C$20+Control!$C$21*A3994+Control!$C$22*A3994^2","v":1071.745631159042},3287.6942766958464,3062.3057233041536]
[3997,3173,3219,null,null,null,null,null,null,null,null,null,{"$f":"Control!$C$20+Control!$C$21*A3997+Control!$C$22*A3997^2","v":1072.5535476336893},3285.6587768440613,3060.3412231559387]
[4001,3170,3039,null,null,null,null,null,null,null,null,null,{"$f":"Control!$C$20+Control!$C$21*A4001+Control!$C$22*A4001^2","v":1073.6307695867074},3282.605506082074,3057.394493917926]
[4003,3169,3178,null,null,null,null,null,null,null,null,null,{"$f":"Control!$C$20+Control!$C$21*A4003+Control!$C$22*A4003^2","v":1074.1693805575687},3281.5877435603006,3056.4122564396994]
[4007,3166,3096,null,null,null,null,null,null,null,null,null,{"$f":"Control!$C$20+Control!$C$21*A4007+Control!$C$22*A4007^2","v":1075.2466024879959},3278.5344391730814,3053.4655608269186]
[4010,3164,3110,null,null,null,null,null,null,null,null,null,{"$f":"Control!$C$20+Control!$C$21*A4010+Control!$C$22*A4010^2","v":1076.0545189259326},3276.4988888834018,3051.5011111165982]
[4013,3162,3232,null,null,null,null,null,null,null,null,null,{"$f":"Control!$C$20+Control!$C$21*A4013+Control!$C$22*A4013^2","v":1076.8624353553976},3274.4633273560762,3049.5366726439238]
[4014,3161,3272,null,null,null,null,null,null,null,null,null,{"$f":"Control!$C$20+Control!$C$21*A4014+Control!$C$22*A4014^2","v":1077.1317408300035},3273.4455423749646,3048.5544576250354]
[4017,3159,3136,null,null,null,null,null,null,null,null,null,{"$f":"Control!$C$20+Control!$C$21*A4017+Control!$C$22*A4017^2","v":1077.9396572481728},3271.4099639711712,3046.5900360288288]
[4021,3156,3142,null,null,null,null,null,null,null,null,null,{"$f":"Control!$C$20+Control!$C$21*A4021+Control!$C$22*A4021^2","v":1079.0168791258875},3268.3565752415052,3043.6434247584948]
[4024,3153,3180,null,null,null,null,null,null,null,null,null,{"$f":"Control!$C$20+Control!$C$21*A4024+Control!$C$22*A4024^2","v":1079.8247955242896},3265.3031611309316,3040.6968388690684]
[4026,3152,3070,null,null,null,null,null,null,null,null,null,{"$f":"Control!$C$20+Control!$C$21*A4026+Control!$C$22*A4026^2","v":1080.3634064518512},3264.2853507809455,3039.7146492190545]
[4030,3149,3166,null,null,null,null,null,null,null,null,null,{"$f":"Control!$C$20+Control!$C$21*A4030+Control!$C$22*A4030^2","v":1081.4406282956791},3261.2319027727858,3036.7680972272142]
[4033,3147,3145,null,null,null,null,null,null,null,null,null,{"$f":"Control!$C$20+Control!$C$21*A4033+Control!$C$22*A4033^2","v":1082.2485446686665},3259.1962566220459,3034.8037433779541]
[4036,3145,3154,null,null,null,null,null,null,null,null,null,{"$f":"Control!$C$20+Control!$C$21*A4036+Control!$C$22*A4036^2","v":1083.0564610331819},3257.1605991424794,3032.8394008575206]
[4037,3144,3066,null,null,null,null,null,null,null,null,null,{"$f":"Control!$C$20+Control!$C$21*A4037+Control!$C$22*A4037^2","v":1083.3257664861378},3256.1427661510097,3031.8572338489903]
[4040,3142,3102,null,null,null,null,null,null,null,null,null,{"$f":"Control!$C$20+Control!$C$21*A4040+Control!$C$22*A4040^2","v":1084.1336828393578},3254.107091657932,3029.892908342068]
[4043,3140,3168,null,null,null,null,null,null,null,null,null,{"$f":"Control!$C$20+Control!$C$21*A4043+Control!$C$22*A4043^2","v":1084.9415991841063},3252.0714058089752,3027.9285941910248]
[4046,3137,3060,null,null,null,null,null,null,null,null,null,{"$f":"Control!$C$20+Control!$C$21*A4046+Control!$C$22*A4046^2","v":1085.7495155203828},3249.0178557195236,3024.9821442804764]
[4049,3135,3148,null,null,null,null,null,null,null,null,null,{"$f":"Control!$C$20+Control!$C$21*A4049+Control!$C$22*A4049^2","v":1086.5574318481879},3246.9821414333555,3023.0178585666445]
[4053,3132,3157,null,null,null,null,null,null,null,null,null,{"$f":"Control!$C$20+Control!$C$21*A4053+Control!$C$22*A4053^2","v":1087.6346536054164},3243.9285486370659,3020.0714513629341]
[4056,3130,3045,null,null,null,null,null,null,null,null,null,{"$f":"Control!$C$20+Control!$C$21*A4056+Control!$C$22*A4056^2","v":1088.442569913454},3241.8928058455949,3018.1071941544051]
[4057,3129,3178,null,null,null,null,null,null,null,null,null,{"$f":"Control!$C$20+Control!$C$21*A4057+Control!$C$22*A4057^2","v":1088.7118753475841},3240.8749301675762,3017.1250698324238]
[4060,3127,3148,null,null,null,null,null,null,null,null,null,{"$f":"Control!$C$20+Control!$C$21*A4060+Control!$C$22*A4060^2","v":1089.5197916443262},3238.8391702401264,3015.1608297598736]
[4064,3124,3113,null,null,null,null,null,null,null,null,null,{"$f":"Control!$C$20+Control!$C$21*A4064+Control!$C$22*A4064^2","v":1090.5970133601377},3235.7855088998572,3012.2144911001428]
[4066,3123,3051,null,null,null,null,null,null,null,null,null,{"$f":"Control!$C$20+Control!$C$21*A4066+Control!$C$22*A4066^2","v":1091.1356242123957},3234.7676160611832,3011.2323839388168]
[4069,3121,3016,null,null,null,null,null,null,null,null,null,{"$f":"Control!$C$20+Control!$C$21*A4069+Control!$C$22*A4069^2","v":1091.9435404837227},3232.7318217877073,3009.2681782122927]
[4072,3118,3066,null,null,null,null,null,null,null,null,null,{"$f":"Control!$C$20+Control!$C$21*A4072+Control!$C$22*A4072^2","v":1092.7514567465782},3229.6781088665098,3006.3218911334902]
[4076,3115,3024,null,null,null,null,null,null,null,null,null,{"$f":"Control!$C$20+Control!$C$21*A4076+Control!$C$22*A4076^2","v":1093.8286784172076},3226.6243700990067,3003.3756299009933]
[4079,3113,3120,null,null,null,null,null,null,null,null,null,{"$f":"Control!$C$20+Control!$C$21*A4079+Control!$C$22*A4079^2","v":1094.6365946602957},3224.5885298765065,3001.4114701234935]
[4080,3112,3199,null,null,null,null,null,null,null,null,null,{"$f":"Control!$C$20+Control!$C$21*A4080+Control!$C$22*A4080^2","v":1094.9059000727759},3223.570605447851,3000.429394552149]
[4083,3110,3127,null,null,null,null,null,null,null,null,null,{"$f":"Control!$C$20+Control!$C$21*A4083+Control!$C$22*A4083^2","v":1095.7138163045686},3221.5347479487896,2998.4652520512104]
[4085,3109,3040,null,null,null,null,null,null,null,null,null,{"$f":"Control!$C$20+Control!$C$21*A4085+Control!$C$22*A4085^2","v":1096.2524271210573},3220.5168148756052,2997.4831851243948]
[4089,3106,3086,null,null,null,null,null,null,null,null,null,{"$f":"Control!$C$20+Control!$C$21*A4089+Control!$C$22*A4089^2","v":1097.329648742739},3217.4629983447421,2994.5370016552579]
[4092,3113,3175,9,null,null,null,null,null,null,null,null,{"$f":"Control!$C$20+Control!$C$21*A4092+Control!$C$22*A4092^2","v":1098.1375649491167},3216.4450537260404,2993.5549462739596]
[4095,3201,3296,100,null,null,null,null,null,null,null,null,{"$f":"Control!$C$20+Control!$C$21*A4095+Control!$C$22*A4095^2","v":1098.9454811470227},3216.4450537260404,2993.5549462739596]
[4099,3403,3322,304,null,null,null,null,null,null,null,null,{"$f":"Control!$C$20+Control!$C$21*A4099+Control!$C$22*A4099^2","v":1100.0227027310527},{"$f":"IF(D4099=0,B4099+2*SQRT(B4099),N4098)","v":3216.4450537260404},{"$f":"IF(D4099=0,B4099-2*SQRT(B4099),O4098)","v":2993.5549462739596}]
[4102,3248,3183,152,null,null,null,null,null,null,null,null,{"$f":"Control!$C$20+Control!$C$21*A4102+Control!$C$22*A4102^2","v":1100.8306189091913},3216.4450537260404,2993.5549462739596]
[4104,3141,3200,46,null,null,null,null,null,null,null,null,{"$f":"Control!$C$20+Control!$C$21*A4104+Control!$C$22*A4104^2","v":1101.3692296899108},3216.4450537260404,2993.5549462739596]
[4105,3115,3096,21,null,null,null,null,null,null,null,null,{"$f":"Control!$C$20+Control!$C$21*A4105+Control!$C$22*A4105^2","v":1101.6385350788585},3216.4450537260404,2993.5549462739596]
[4108,3092,3124,null,null,null,null,null,null,null,null,null,{"$f":"Control!$C$20+Control!$C$21*A4108+Control!$C$22*A4108^2","v":1102.4464512400541},3203.2115101956629,2980.7884898043371]
[4112,3089,3144,null,null,null,null,null,null,null,null,null,{"$f":"Control!$C$20+Control!$C$21*A4112+Control!$C$22*A4112^2","v":1103.5236727751364},3200.1575458527223,2977.8424541472777]
[4115,3087,3173,null,null,null,null,null,null,null,null,null,{"$f":"Control!$C$20+Control!$C$21*A4115+Control!$C$22*A4115^2","v":1104.3315889165647},3198.121555064713,2975.878444935287]
[4119,3084,2991,null,null,null,null,null,null,null,null,null,{"$f":"Control!$C$20+Control!$C$21*A4119+Control!$C$22*A4119^2","v":1105.4088104252908},3195.0675470153187,2972.9324529846813]
[4122,3082,3064,null,null,null,null,null,null,null,null,null,{"$f":"Control!$C$20+Control!$C$21*A4122+Control!$C$22*A4122^2","v":1106.2167265469518},3193.031527054256,2970.968472945744]
[4123,3081,3142,null,null,null,null,null,null,null,null,null,{"$f":"Control!$C$20+Control!$C$21*A4123+Control!$C$22*A4123^2","v":1106.4860319189561},3192.0135126910232,2969.9864873089768]
[4125,3079,3065,null,null,null,null,null,null,null,null,null,{"$f":"Control!$C$20+Control!$C$21*A4125+Control!$C$22*A4125^2","v":1107.0246426601411},3189.9774751920409,2968.0225248079591]
[4128,3077,3088,null,null,null,null,null,null,null,null,null,{"$f":"Control!$C$20+Control!$C$21*A4128+Control!$C$22*A4128^2","v":1107.8325587648587},3187.9414259868695,2966.0585740131305]
[4131,3075,3136,null,null,null,null,null,null,null,null,null,{"$f":"Control!$C$20+Control!$C$21*A4131+Control!$C$22*A4131^2","v":1108.6404748611046},3185.905365064094,2964.094634935906]
[4135,3072,2966,null,null,null,null,null,null,null,null,null,{"$f":"Control!$C$20+Control!$C$21*A4135+Control!$C$22*A4135^2","v":1109.7176963095878},3182.851251684408,2961.148748315592]
[4138,3070,3152,null,null,null,null,null,null,null,null,null,{"$f":"Control!$C$20+Control!$C$21*A4138+Control!$C$22*A4138^2","v":1110.5256123860665},3180.8151614175604,2959.1848385824396]
[4142,3067,3097,null,null,null,null,null,null,null,null,null,{"$f":"Control!$C$20+Control!$C$21*A4142+Control!$C$22*A4142^2","v":1111.6028338081935},3177.761003968003,2956.238996031997]
[4144,3066,3066,null,null,null,null,null,null,null,null,null,{"$f":"Control!$C$20+Control!$C$21*A4144+Control!$C$22*A4144^2","v":1112.141444513609},3176.7429455992569,2955.2570544007431]
[4147,3063,2995,null,null,null,null,null,null,null,null,null,{"$f":"Control!$C$20+Control!$C$21*A4147+Control!$C$22*A4147^2","v":1112.9493605646728},3173.6887528161737,2952.3112471838263]
[4148,3063,3060,null,null,null,null,null,null,null,null,null,{"$f":"Control!$C$20+Control!$C$21*A4148+Control!$C$22*A4148^2","v":1113.2186659131448},3173.6887528161737,2952.3112471838263]
[4151,3060,3032,null,null,null,null,null,null,null,null,null,{"$f":"Control!$C$20+Control!$C$21*A4151+Control!$C$22*A4151^2","v":1114.0265819529129},3170.6345334875145,2949.3654665124855]
[4155,3058,3121,null,null,null,null,null,null,null,null,null,{"$f":"Control!$C$20+Control!$C$21*A4155+Control!$C$22*A4155^2","v":1115.1038033260922},3168.5983725015881,2947.4016274984119]
[4158,3055,3058,null,null,null,null,null,null,null,null,null,{"$f":"Control!$C$20+Control!$C$21*A4158+Control!$C$22*A4158^2","v":1115.9117193460932},3165.5441088434836,2944.4558911565164]
[4161,3053,3083,null,null,null,null,null,null,null,null,null,{"$f":"Control!$C$20+Control!$C$21*A4161+Control!$C$22*A4161^2","v":1116.7196353576226},3163.5079182683303,2942.4920817316697]
[4164,3051,3006,null,null,null,null,null,null,null,null,null,{"$f":"Control!$C$20+Control!$C$21*A4164+Control!$C$22*A4164^2","v":1117.52755136068},3161.4717158371318,2940.5282841628682]
[4167,3049,3040,null,null,null,null,null,null,null,null,null,{"$f":"Control!$C$20+Control!$C$21*A4167+Control!$C$22*A4167^2","v":1118.335467355266},3159.435501538228,2938.564498461772]
[4170,3047,3016,null,null,null,null,null,null,null,null,null,{"$f":"Control!$C$20+Control!$C$21*A4170+Control!$C$22*A4170^2","v":1119.1433833413803},3157.3992753599405,2936.6007246400595]
[4171,3046,3086,null,null,null,null,null,null,null,null,null,{"$f":"Control!$C$20+Control!$C$21*A4171+Control!$C$22*A4171^2","v":1119.4126886682025},3156.3811578123732,2935.6188421876268]
[4174,3044,2900,null,null,null,null,null,null,null,null,null,{"$f":"Control!$C$20+Control!$C$21*A4174+Control!$C$22*A4174^2","v":1120.220604643021},3154.3449137930697,2933.6550862069303]
[4178,3041,3180,null,null,null,null,null,null,null,null,null,{"$f":"Control!$C$20+Control!$C$21*A4178+Control!$C$22*A4178^2","v":1121.2978259296012},3151.2905254316979,2930.7094745683021]
[4180,3039,2997,null,null,null,null,null,null,null,null,null,{"$f":"Control!$C$20+Control!$C$21*A4180+Control!$C$22*A4180^2","v":1121.8364365672435},3149.2542516187018,2928.7457483812982]
[4183,3037,3109,null,null,null,null,null,null,null,null,null,{"$f":"Control!$C$20+Control!$C$21*A4183+Control!$C$22*A4183^2","v":1122.6443525166471},3147.2179658676387,2926.7820341323613]
[4187,3034,2998,null,null,null,null,null,null,null,null,null,{"$f":"Control!$C$20+Control!$C$21*A4187+Control!$C$22*A4187^2","v":1123.7215737693405},3144.1635148313635,2923.8364851686365]
[4190,3032,3082,null,null,null,null,null,null,null,null,null,{"$f":"Control!$C$20+Control!$C$21*A4190+Control!$C$22*A4190^2","v":1124.5294896989769},3142.1271991834897,2921.8728008165103]
[4193,3030,2971,null,null,null,null,null,null,null,null,null,{"$f":"Control!$C$20+Control!$C$21*A4193+Control!$C$22*A4193^2","v":1125.3374056201417},3140.0908715561832,2919.9091284438168]
[4194,3029,3038,null,null,null,null,null,null,null,null,null,{"$f":"Control!$C$20+Control!$C$21*A4194+Control!$C$22*A4194^2","v":1125.606710925314},3139.0727032465361,2918.9272967534639]
[4197,3027,3048,null,null,null,null,null,null,null,null,null,{"$f":"Control!$C$20+Control!$C$21*A4197+Control!$C$22*A4197^2","v":1126.4146268351831},3137.0363576278314,2916.9636423721686]
[4201,3024,3006,null,null,null,null,null,null,null,null,null,{"$f":"Control!$C$20+Control!$C$21*A4201+Control!$C$22*A4201^2","v":1127.4918480351639},3133.98181667894,2914.01818332106]
[4203,3022,3047,null,null,null,null,null,null,null,null,null,{"$f":"Control!$C$20+Control!$C$21*A4203+Control!$C$22*A4203^2","v":1128.0304586295065},3131.9454410150779,2912.0545589849221]
[4206,3020,3054,null,null,null,null,null,null,null,null,null,{"$f":"Control!$C$20+Control!$C$21*A4206+Control!$C$22*A4206^2","v":1128.8383745139608},3129.9090533122726,2910.0909466877274]
[4210,3017,3030,null,null,null,null,null,null,null,null,null,{"$f":"Control!$C$20+Control!$C$21*A4210+Control!$C$22*A4210^2","v":1129.9155956800548},3126.8544491588755,2907.1455508411245]
[4213,3015,3013,null,null,null,null,null,null,null,null,null,{"$f":"Control!$C$20+Control!$C$21*A4213+Control!$C$22*A4213^2","v":1130.7235115447418},3124.818031306339,2905.181968693661]
[4214,3014,3029,null,null,null,null,null,null,null,null,null,{"$f":"Control!$C$20+Control!$C$21*A4214+Control!$C$22*A4214^2","v":1130.9928168310882},3123.7998178504863,2904.2001821495137]
[4217,3012,3094,null,null,null,null,null,null,null,null,null,{"$f":"Control!$C$20+Control!$C$21*A4217+Control!$C$22*A4217^2","v":1131.8007326844795},3121.7633818720979,2902.2366181279021]
[4220,3010,3110,null,null,null,null,null,null,null,null,null,{"$f":"Control!$C$20+Control!$C$21*A4220+Control!$C$22*A4220^2","v":1132.6086485293993},3119.7269337947614,2900.2730662052386]
[4223,3008,3027,null,null,null,null,null,null,null,null,null,{"$f":"Control!$C$20+Control!$C$21*A4223+Control!$C$22*A4223^2","v":1133.4165643658473},3117.6904736064166,2898.3095263935834]
[4226,3005,2998,null,null,null,null,null,null,null,null,null,{"$f":"Control!$C$20+Control!$C$21*A4226+Control!$C$22*A4226^2","v":1134.2244801938236},3114.6357605893259,2895.3642394106741]
[4229,3003,3015,null,null,null,null,null,null,null,null,null,{"$f":"Control!$C$20+Control!$C$21*A4229+Control!$C$22*A4229^2","v":1135.0323960133285},3112.5992700705619,2893.4007299294381]
[4233,3000,3056,null,null,null,null,null,null,null,null,null,{"$f":"Control!$C$20+Control!$C$21*A4233+Control!$C$22*A4233^2","v":1136.1096170928231},3109.5445115010334,2890.4554884989666]
[4236,2998,3034,null,null,null,null,null,null,null,null,null,{"$f":"Control!$C$20+Control!$C$21*A4236+Control!$C$22*A4236^2","v":1136.9175328925608},3107.5079905760304,2888.4920094239696]
[4237,2997,2921,null,null,null,null,null,null,null,null,null,{"$f":"Control!$C$20+Control!$C$21*A4237+Control!$C$22*A4237^2","v":1137.1868381572572},3106.4897255453679,2887.5102744546321]
[4241,3003,3068,8,null,null,null,null,null,null,null,null,{"$f":"Control!$C$20+Control!$C$21*A4241+Control!$C$22*A4241^2","v":1138.2640592066305},3106.4897255453679,2887.5102744546321]
[4242,3013,3031,19,null,null,null,null,null,null,null,null,{"$f":"Control!$C$20+Control!$C$21*A4242+Control!$C$22*A4242^2","v":1138.5333644666207},3106.4897255453679,2887.5102744546321]
[4246,3120,3163,129,null,null,null,null,null,null,null,null,{"$f":"Control!$C$20+Control!$C$21*A4246+Control!$C$22*A4246^2","v":1139.6105854971679},3106.4897255453679,2887.5102744546321]
[4249,3115,3144,126,null,null,null,null,null,null,null,null,{"$f":"Control!$C$20+Control!$C$21*A4249+Control!$C$22*A4249^2","v":1140.4185012601949},3106.4897255453679,2887.5102744546321]
[4252,3021,2986,35,null,null,null,null,null,null,null,null,{"$f":"Control!$C$20+Control!$C$21*A4252+Control!$C$22*A4252^2","v":1141.22641701475},3106.4897255453679,2887.5102744546321]
[4256,2984,2995,null,null,null,null,null,null,null,null,null,{"$f":"Control!$C$20+Control!$C$21*A4256+Control!$C$22*A4256^2","v":1142.3036380076455},3093.2520022699814,2874.7479977300186]
[4259,2981,2983,null,null,null,null,null,null,null,null,null,{"$f":"Control!$C$20+Control!$C$21*A4259+Control!$C$22*A4259^2","v":1143.1115537424334},3090.1970695577497,2871.8029304422503]
[4260,2981,2981,null,null,null,null,null,null,null,null,null,{"$f":"Control!$C$20+Control!$C$21*A4260+Control!$C$22*A4260^2","v":1143.3808589854802},3090.1970695577497,2871.8029304422503]
[4262,2979,2962,null,null,null,null,null,null,null,null,null,{"$f":"Control!$C$20+Control!$C$21*A4262+Control!$C$22*A4262^2","v":1143.9194694687499},3088.1604323919614,2869.8395676080386]
[4265,2977,3038,null,null,null,null,null,null,null,null,null,{"$f":"Control!$C$20+Control!$C$21*A4265+Control!$C$22*A4265^2","v":1144.7273851865946},3086.1237829256297,2867.8762170743703]
[4269,2974,3014,null,null,null,null,null,null,null,null,null,{"$f":"Control!$C$20+Control!$C$21*A4269+Control!$C$22*A4269^2","v":1145.8046061305424},3083.068785635488,2864.931214364512]
[4272,2972,2917,null,null,null,null,null,null,null,null,null,{"$f":"Control!$C$20+Control!$C$21*A4272+Control!$C$22*A4272^2","v":1146.6125218286199},3081.0321053635121,2862.9678946364879]
[4276,2969,3031,null,null,null,null,null,null,null,null,null,{"$f":"Control!$C$20+Control!$C$21*A4276+Control!$C$22*A4276^2","v":1147.6897427462118},3077.9770618066023,2860.0229381933977]
[4279,2967,3049,null,null,null,null,null,null,null,null,null,{"$f":"Control!$C$20+Control!$C$21*A4279+Control!$C$22*A4279^2","v":1148.4976584245219},3075.9403506511708,2858.0596493488292]
[4281,2965,2927,null,null,null,null,null,null,null,null,null,{"$f":"Control!$C$20+Control!$C$21*A4281+Control!$C$22*A4281^2","v":1149.0362688720222},3073.9036271204959,2856.0963728795041]
[4282,2964,2937,null,null,null,null,null,null,null,null,null,{"$f":"Control!$C$20+Control!$C$21*A4282+Control!$C$22*A4282^2","v":1149.3055740943603},3072.8852607105296,2855.1147392894704]
[4285,2962,2968,null,null,null,null,null,null,null,null,null,{"$f":"Control!$C$20+Control!$C$21*A4285+Control!$C$22*A4285^2","v":1150.1134897557272},3070.8485185935024,2853.1514814064976]
[4288,2960,3057,null,null,null,null,null,null,null,null,null,{"$f":"Control!$C$20+Control!$C$21*A4288+Control!$C$22*A4288^2","v":1150.9214054086224},3068.8117640698833,2851.1882359301167]
[4292,2957,2875,null,null,null,null,null,null,null,null,null,{"$f":"Control!$C$20+Control!$C$21*A4292+Control!$C$22*A4292^2","v":1151.9986262659711},3065.7566089945803,2848.2433910054197]
[4295,2955,2975,null,null,null,null,null,null,null,null,null,{"$f":"Control!$C$20+Control!$C$21*A4295+Control!$C$22*A4295^2","v":1152.8065418990991},3063.719823399415,2846.280176600585]
[4299,2952,2867,null,null,null,null,null,null,null,null,null,{"$f":"Control!$C$20+Control!$C$21*A4299+Control!$C$22*A4299^2","v":1153.8837627300916},3060.6646216576491,2843.3353783423509]
[4300,2951,3007,null,null,null,null,null,null,null,null,null,{"$f":"Control!$C$20+Control!$C$21*A4300+Control!$C$22*A4300^2","v":1154.1530679354864},3059.6462148443284,2842.3537851556716]
[4304,2948,2998,null,null,null,null,null,null,null,null,null,{"$f":"Control!$C$20+Control!$C$21*A4304+Control!$C$22*A4304^2","v":1155.2302887476528},3056.590975683986,2839.409024316014]
[4305,2948,2807,null,null,null,null,null,null,null,null,null,{"$f":"Control!$C$20+Control!$C$21*A4305+Control!$C$22*A4305^2","v":1155.4995939483413},3056.590975683986,2839.409024316014]
[4308,2945,2980,null,null,null,null,null,null,null,null,null,{"$f":"Control!$C$20+Control!$C$21*A4308+Control!$C$22*A4308^2","v":1156.3075095447587},3053.5357084097209,2836.4642915902791]
[4312,2942,2927,null,null,null,null,null,null,null,null,null,{"$f":"Control!$C$20+Control!$C$21*A4312+Control!$C$22*A4312^2","v":1157.3847303268035},3050.4804129785648,2833.5195870214352]
[4315,2940,2887,null,null,null,null,null,null,null,null,null,{"$f":"Control!$C$20+Control!$C$21*A4315+Control!$C$22*A4315^2","v":1158.1926459034537},3048.4435336938077,2831.5564663061923]
[4318,2938,2960,null,null,null,null,null,null,null,null,null,{"$f":"Control!$C$20+Control!$C$21*A4318+Control!$C$22*A4318^2","v":1159.0005614716322},3046.4066418629413,2829.5933581370587]
[4321,2936,2940,null,null,null,null,null,null,null,null,null,{"$f":"Control!$C$20+Control!$C$21*A4321+Control!$C$22*A4321^2","v":1159.808477031339},3044.3697374731523,2827.6302625268477]
[4324,2934,2928,null,null,null,null,null,null,null,null,null,{"$f":"Control!$C$20+Control!$C$21*A4324+Control!$C$22*A4324^2","v":1160.616392582574},3042.3328205116068,2825.6671794883932]
[4327,2932,2954,null,null,null,null,null,null,null,null,null,{"$f":"Control!$C$20+Control!$C$21*A4327+Control!$C$22*A4327^2","v":1161.4243081253376},3040.2958909654471,2823.7041090345529]
[4328,2931,3030,null,null,null,null,null,null,null,null,null,{"$f":"Control!$C$20+Control!$C$21*A4328+Control!$C$22*A4328^2","v":1161.693613304376},3039.2774214691135,2822.7225785308865]
[4331,2929,2927,null,null,null,null,null,null,null,null,null,{"$f":"Control!$C$20+Control!$C$21*A4331+Control!$C$22*A4331^2","v":1162.5015288358438},3037.2404730218786,2820.7595269781214]
[4335,2926,2888,null,null,null,null,null,null,null,null,null,{"$f":"Control!$C$20+Control!$C$21*A4335+Control!$C$22*A4335^2","v":1163.5787495312895},3034.185026690388,2817.814973309612]
[4338,2923,2966,null,null,null,null,null,null,null,null,null,{"$f":"Control!$C$20+Control!$C$21*A4338+Control!$C$22*A4338^2","v":1164.3866650429902},3031.1295519273062,2814.8704480726938]
[4340,2922,2874,null,null,null,null,null,null,null,null,null,{"$f":"Control!$C$20+Control!$C$21*A4340+Control!$C$22*A4340^2","v":1164.9252753794176},3030.1110540139166,2813.8889459860834]
[4344,2919,2947,null,null,null,null,null,null,null,null,null,{"$f":"Control!$C$20+Control!$C$21*A4344+Control!$C$22*A4344^2","v":1166.0024960409764},3027.0555412739209,2810.9444587260791]
[4347,2917,2930,null,null,null,null,null,null,null,null,null,{"$f":"Control!$C$20+Control!$C$21*A4347+Control!$C$22*A4347^2","v":1166.8104115272622},3025.0185169311262,2808.9814830688738]
[4350,2915,2931,null,null,null,null,null,null,null,null,null,{"$f":"Control!$C$20+Control!$C$21*A4350+Control!$C$22*A4350^2","v":1167.618327005076},3022.9814798935449,2807.0185201064551]
[4351,2914,2887,null,null,null,null,null,null,null,null,null,{"$f":"Control!$C$20+Control!$C$21*A4351+Control!$C$22*A4351^2","v":1167.8876321624648},3021.9629566101262,2806.0370433898738]
[4354,2912,2871,null,null,null,null,null,null,null,null,null,{"$f":"Control!$C$20+Control!$C$21*A4354+Control!$C$22*A4354^2","v":1168.6955476289831},3019.9259005058561,2804.0740994941439]
[4358,2909,2856,null,null,null,null,null,null,null,null,null,{"$f":"Control!$C$20+Control!$C$21*A4358+Control!$C$22*A4358^2","v":1169.7727682378295},3016.8702924812942,2801.1297075187058]
[4361,2907,2937,null,null,null,null,null,null,null,null,null,{"$f":"Control!$C$20+Control!$C$21*A4361+Control!$C$22*A4361^2","v":1170.5806836845807},3014.8332045336688,2799.1667954663312]
[4363,2905,2887,null,null,null,null,null,null,null,null,null,{"$f":"Control!$C$20+Control!$C$21*A4363+Control!$C$22*A4363^2","v":1171.1192939777084},3012.7961038256949,2797.2038961743051]
[4367,2902,2765,null,null,null,null,null,null,null,null,null,{"$f":"Control!$C$20+Control!$C$21*A4367+Control!$C$22*A4367^2","v":1172.1965145526681},3009.7404288092453,2794.2595711907547]
[4370,2900,2911,null,null,null,null,null,null,null,null,null,{"$f":"Control!$C$20+Control!$C$21*A4370+Control!$C$22*A4370^2","v":1173.0044299740043},3007.7032961426903,2792.2967038573097]
[4371,2899,2822,null,null,null,null,null,null,null,null,null,{"$f":"Control!$C$20+Control!$C$21*A4371+Control!$C$22*A4371^2","v":1173.273735112567},3006.6847250077744,2791.3152749922256]
[4374,2897,2887,null,null,null,null,null,null,null,null,null,{"$f":"Control!$C$20+Control!$C$21*A4374+Control!$C$22*A4374^2","v":1174.0816505226076},3004.6475731263831,2789.3524268736169]
[4377,2895,2936,null,null,null,null,null,null,null,null,null,{"$f":"Control!$C$20+Control!$C$21*A4377+Control!$C$22*A4377^2","v":1174.8895659241766},3002.6104084185167,2787.3895915814833]
[4380,2893,2875,null,null,null,null,null,null,null,null,null,{"$f":"Control!$C$20+Control!$C$21*A4380+Control!$C$22*A4380^2","v":1175.6974813172737},3000.5732308708816,2785.4267691291184]
[4383,2890,2885,null,null,null,null,null,null,null,null,null,{"$f":"Control!$C$20+Control!$C$21*A4383+Control!$C$22*A4383^2","v":1176.5053967018994},2997.5174404457248,2782.4825595542752]
[4386,2888,2824,null,null,null,null,null,null,null,null,null,{"$f":"Control!$C$20+Control!$C$21*A4386+Control!$C$22*A4386^2","v":1177.3133120780533},2995.4802307403552,2780.5197692596448]
[4390,2892,2886,7,null,null,null,null,null,null,null,null,{"$f":"Control!$C$20+Control!$C$21*A4390+Control!$C$22*A4390^2","v":1178.3905325664136},2995.4802307403552,2780.5197692596448]
[4393,2923,2940,40,null,null,null,null,null,null,null,null,{"$f":"Control!$C$20+Control!$C$21*A4393+Control!$C$22*A4393^2","v":1179.1984479228004},2995.4802307403552,2780.5197692596448]
[4394,2938,2993,56,null,null,null,null,null,null,null,null,{"$f":"Control!$C$20+Control!$C$21*A4394+Control!$C$22*A4394^2","v":1179.4677530397132},2995.4802307403552,2780.5197692596448]
[4397,2948,2861,68,null,null,null,null,null,null,null,null,{"$f":"Control!$C$20+Control!$C$21*A4397+Control!$C$22*A4397^2","v":1180.2756683848042},2995.4802307403552,2780.5197692596448]
[4401,2890,2958,13,null,null,null,null,null,null,null,null,{"$f":"Control!$C$20+Control!$C$21*A4401+Control!$C$22*A4401^2","v":1181.3528888317476},2995.4802307403552,2780.5197692596448]
[4403,2879,2810,3,null,null,null,null,null,null,null,null,{"$f":"Control!$C$20+Control!$C$21*A4403+Control!$C$22*A4403^2","v":1181.8914990495716},2995.4802307403552,2780.5197692596448]
[4406,2874,2884,null,null,null,null,null,null,null,null,null,{"$f":"Control!$C$20+Control!$C$21*A4406+Control!$C$22*A4406^2","v":1182.6994143692477},2981.2194012294417,2766.7805987705583]
[4409,2871,2991,null,null,null,null,null,null,null,null,null,{"$f":"Control!$C$20+Control!$C$21*A4409+Control!$C$22*A4409^2","v":1183.5073296804521},2978.1634265969506,2763.8365734030494]
[4413,2868,2880,null,null,null,null,null,null,null,null,null,{"$f":"Control!$C$20+Control!$C$21*A4413+Control!$C$22*A4413^2","v":1184.5845500822131},2975.107422711967,2760.892577288033]
[4416,2866,2755,null,null,null,null,null,null,null,null,null,{"$f":"Control!$C$20+Control!$C$21*A4416+Control!$C$22*A4416^2","v":1185.3924653736503},2973.0700705145932,2758.9299294854068]
[4417,2866,2800,null,null,null,null,null,null,null,null,null,{"$f":"Control!$C$20+Control!$C$21*A4417+Control!$C$22*A4417^2","v":1185.6617704689136},2973.0700705145932,2758.9299294854068]
[4420,2863,2871,null,null,null,null,null,null,null,null,null,{"$f":"Control!$C$20+Control!$C$21*A4420+Control!$C$22*A4420^2","v":1186.4696857490551},2970.0140177733738,2755.9859822266262]
[4422,2862,2838,null,null,null,null,null,null,null,null,null,{"$f":"Control!$C$20+Control!$C$21*A4422+Control!$C$22*A4422^2","v":1187.0082959311096},2968.9953270007622,2755.0046729992378]
[4426,2859,2886,null,null,null,null,null,null,null,null,null,{"$f":"Control!$C$20+Control!$C$21*A4426+Control!$C$22*A4426^2","v":1188.0855162839234},2965.9392350823587,2752.0607649176413]
[4429,2857,2931,null,null,null,null,null,null,null,null,null,{"$f":"Control!$C$20+Control!$C$21*A4429+Control!$C$22*A4429^2","v":1188.89343153865},2963.901824119142,2750.098175880858]
[4433,2854,2934,null,null,null,null,null,null,null,null,null,{"$f":"Control!$C$20+Control!$C$21*A4433+Control!$C$22*A4433^2","v":1189.9706518651074},2960.8456831135445,2747.1543168864555]
[4436,2852,2865,null,null,null,null,null,null,null,null,null,{"$f":"Control!$C$20+Control!$C$21*A4436+Control!$C$22*A4436^2","v":1190.7785671000668},2958.8082393825493,2745.1917606174507]
[4439,2849,2773,null,null,null,null,null,null,null,null,null,{"$f":"Control!$C$20+Control!$C$21*A4439+Control!$C$22*A4439^2","v":1191.5864823265545},2955.7520491606601,2742.2479508393399]
[4441,2848,2864,null,null,null,null,null,null,null,null,null,{"$f":"Control!$C$20+Control!$C$21*A4441+Control!$C$22*A4441^2","v":1192.1250924728397},2954.7333125130108,2741.2666874869892]
[4442,2847,2803,null,null,null,null,null,null,null,null,null,{"$f":"Control!$C$20+Control!$C$21*A4442+Control!$C$22*A4442^2","v":1192.3943975445704},2953.7145725756327,2740.2854274243673]
[4445,2845,2949,null,null,null,null,null,null,null,null,null,{"$f":"Control!$C$20+Control!$C$21*A4445+Control!$C$22*A4445^2","v":1193.2023127541147},2951.6770828247568,2738.3229171752432]
[4449,2842,2886,null,null,null,null,null,null,null,null,null,{"$f":"Control!$C$20+Control!$C$21*A4449+Control!$C$22*A4449^2","v":1194.2795330203292},2948.6208234820947,2735.3791765179053]
[4452,2840,2820,null,null,null,null,null,null,null,null,null,{"$f":"Control!$C$20+Control!$C$21*A4452+Control!$C$22*A4452^2","v":1195.0874482101062},2946.583300755794,2733.416699244206]
[4456,2837,2850,null,null,null,null,null,null,null,null,null,{"$f":"Control!$C$20+Control!$C$21*A4456+Control!$C$22*A4456^2","v":1196.1646684499642},2943.5269918846861,2730.4730081153139]
[4459,2835,2815,null,null,null,null,null,null,null,null,null,{"$f":"Control!$C$20+Control!$C$21*A4459+Control!$C$22*A4459^2","v":1196.9725836199741},2941.4894360957933,2728.5105639042067]
[4460,2834,2831,null,null,null,null,null,null,null,null,null,{"$f":"Control!$C$20+Control!$C$21*A4460+Control!$C$22*A4460^2","v":1197.2418886747616},2940.4706532336495,2727.5293467663505]
[4462,2833,2978,null,null,null,null,null,null,null,null,null,{"$f":"Control!$C$20+Control!$C$21*A4462+Control!$C$22*A4462^2","v":1197.7804987815125},2939.4518670573702,2726.5481329426298]
[4465,2830,2900,null,null,null,null,null,null,null,null,null,{"$f":"Control!$C$20+Control!$C$21*A4465+Control!$C$22*A4465^2","v":1198.588413934579},2936.3954886261631,2723.6045113738369]
[4469,2827,2919,null,null,null,null,null,null,null,null,null,{"$f":"Control!$C$20+Control!$C$21*A4469+Control!$C$22*A4469^2","v":1199.6656341254895},2933.3390803044676,2720.6609196955324]
[4472,2825,2830,null,null,null,null,null,null,null,null,null,{"$f":"Control!$C$20+Control!$C$21*A4472+Control!$C$22*A4472^2","v":1200.4735492587888},2931.3014581273465,2718.6985418726535]
[4475,2823,2867,null,null,null,null,null,null,null,null,null,{"$f":"Control!$C$20+Control!$C$21*A4475+Control!$C$22*A4475^2","v":1201.2814643836166},2929.263822630282,2716.736177369718]
[4479,2820,2781,null,null,null,null,null,null,null,null,null,{"$f":"Control!$C$20+Control!$C$21*A4479+Control!$C$22*A4479^2","v":1202.3586845368752},2926.207344378814,2713.792655621186]
[4481,2819,2856,null,null,null,null,null,null,null,null,null,{"$f":"Control!$C$20+Control!$C$21*A4481+Control!$C$22*A4481^2","v":1202.8972946078568},2925.1885116196663,2712.8114883803337]
[4484,2816,2851,null,null,null,null,null,null,null,null,null,{"$f":"Control!$C$20+Control!$C$21*A4484+Control!$C$22*A4484^2","v":1203.7052097072694},2922.131993291373,2709.868006708627]
[4485,2816,2773,null,null,null,null,null,null,null,null,null,{"$f":"Control!$C$20+Control!$C$21*A4485+Control!$C$22*A4485^2","v":1203.9745147385245},2922.131993291373,2709.868006708627]
[4488,2814,2797,null,null,null,null,null,null,null,null,null,{"$f":"Control!$C$20+Control!$C$21*A4488+Control!$C$22*A4488^2","v":1204.7824298266414},2920.0942976789988,2707.9057023210012]
[4492,2811,2902,null,null,null,null,null,null,null,null,null,{"$f":"Control!$C$20+Control!$C$21*A4492+Control!$C$22*A4492^2","v":1205.8596499309529},2917.0377291344926,2704.9622708655074]
[4495,2808,2838,null,null,null,null,null,null,null,null,null,{"$f":"Control!$C$20+Control!$C$21*A4495+Control!$C$22*A4495^2","v":1206.6675649993026},2913.9811303959341,2702.0188696040659]
[4498,2806,2883,null,null,null,null,null,null,null,null,null,{"$f":"Control!$C$20+Control!$C$21*A4498+Control!$C$22*A4498^2","v":1207.4754800591809},2911.9433811051922,2700.0566188948078]
[4500,2805,2916,null,null,null,null,null,null,null,null,null,{"$f":"Control!$C$20+Control!$C$21*A4500+Control!$C$22*A4500^2","v":1208.0140900943932},2910.9245014149228,2699.0754985850772]
[4504,2802,2730,null,null,null,null,null,null,null,null,null,{"$f":"Control!$C$20+Control!$C$21*A4504+Control!$C$22*A4504^2","v":1209.091310153522},2907.8678421429286,2696.1321578570714]
[4507,2800,2803,null,null,null,null,null,null,null,null,null,{"$f":"Control!$C$20+Control!$C$21*A4507+Control!$C$22*A4507^2","v":1209.8992251879852},2905.8300524425836,2694.1699475574164]
[4508,2799,2794,null,null,null,null,null,null,null,null,null,{"$f":"Control!$C$20+Control!$C$21*A4508+Control!$C$22*A4508^2","v":1210.1685301975904},2904.8111525312902,2693.1888474687098]
[4511,2797,2854,null,null,null,null,null,null,null,null,null,{"$f":"Control!$C$20+Control!$C$21*A4511+Control!$C$22*A4511^2","v":1210.976445220758},2902.7733425774186,2691.2266574225814]
[4515,2794,2738,null,null,null,null,null,null,null,null,null,{"$f":"Control!$C$20+Control!$C$21*A4515+Control!$C$22*A4515^2","v":1212.0536652384699},2899.7166022912202,2688.2833977087798]
[4517,2792,2884,null,null,null,null,null,null,null,null,null,{"$f":"Control!$C$20+Control!$C$21*A4517+Control!$C$22*A4517^2","v":1212.5922752416782},2897.6787585089833,2686.3212414910167]
[4520,2790,2747,null,null,null,null,null,null,null,null,null,{"$f":"Control!$C$20+Control!$C$21*A4520+Control!$C$22*A4520^2","v":1213.4001902394307},2895.6409011699538,2684.3590988300462]
[4524,2787,2803,null,null,null,null,null,null,null,null,null,{"$f":"Control!$C$20+Control!$C$21*A4524+Control!$C$22*A4524^2","v":1214.4774102232561},2892.584089710524,2681.415910289476]
[4527,2785,2837,null,null,null,null,null,null,null,null,null,{"$f":"Control!$C$20+Control!$C$21*A4527+Control!$C$22*A4527^2","v":1215.2853252012414},2890.54619841567,2679.45380158433]
[4528,2784,2929,null,null,null,null,null,null,null,null,null,{"$f":"Control!$C$20+Control!$C$21*A4528+Control!$C$22*A4528^2","v":1215.5546301920206},2889.5272476661835,2678.4727523338165]
[4531,2782,2858,null,null,null,null,null,null,null,null,null,{"$f":"Control!$C$20+Control!$C$21*A4531+Control!$C$22*A4531^2","v":1216.3625451587104},2887.4893359539246,2676.5106640460754]
[4534,2780,2731,null,null,null,null,null,null,null,null,null,{"$f":"Control!$C$20+Control!$C$21*A4534+Control!$C$22*A4534^2","v":1217.1704601169286},2885.4514106117126,2674.5485893882874]
[4538,2867,2853,90,null,null,null,null,null,null,null,null,{"$f":"Control!$C$20+Control!$C$21*A4538+Control!$C$22*A4538^2","v":1218.247680048041},2883.4134716248354,2672.5865283751646]
[4540,3156,3101,381,null,null,null,null,null,null,null,null,{"$f":"Control!$C$20+Control!$C$21*A4540+Control!$C$22*A4540^2","v":1218.7862900079497},2883.4134716248354,2672.5865283751646]
[4543,4018,4018,1245,null,null,null,null,null,null,null,null,{"$f":"Control!$C$20+Control!$C$21*A4543+Control!$C$22*A4543^2","v":1219.5942049407529},2883.4134716248354,2672.5865283751646]
[4547,3731,3781,961,null,null,null,null,null,null,null,null,{"$f":"Control!$C$20+Control!$C$21*A4547+Control!$C$22*A4547^2","v":1220.6714248379787},{"$f":"IF(D4547=0,B4547+2*SQRT(B4547),N4546)","v":2883.4134716248354},{"$f":"IF(D4547=0,B4547-2*SQRT(B4547),O4546)","v":2672.5865283751646}]
[4550,2967,2971,199,null,null,null,null,null,null,null,null,{"$f":"Control!$C$20+Control!$C$21*A4550+Control!$C$22*A4550^2","v":1221.4793397510145},2883.4134716248354,2672.5865283751646]
[4551,2858,2845,91,null,null,null,null,null,null,null,null,{"$f":"Control!$C$20+Control!$C$21*A4551+Control!$C$22*A4551^2","v":1221.7486447201441},2883.4134716248354,2672.5865283751646]
[4554,2765,2831,null,null,null,null,null,null,null,null,null,{"$f":"Control!$C$20+Control!$C$21*A4554+Control!$C$22*A4554^2","v":1222.5565596218844},2870.1665346010791,2659.8334653989209]
[4557,2763,2841,null,null,null,null,null,null,null,null,null,{"$f":"Control!$C$20+Control!$C$21*A4557+Control!$C$22*A4557^2","v":1223.364474515153},2868.1284928076116,2657.8715071923884]
[4560,2761,2793,null,null,null,null,null,null,null,null,null,{"$f":"Control!$C$20+Control!$C$21*A4560+Control!$C$22*A4560^2","v":1224.1723893999499},2866.0904372433574,2655.9095627566426]
[4563,2759,2733,null,null,null,null,null,null,null,null,null,{"$f":"Control!$C$20+Control!$C$21*A4563+Control!$C$22*A4563^2","v":1224.9803042762751},2864.0523678933514,2653.9476321066486]
[4567,2756,2724,null,null,null,null,null,null,null,null,null,{"$f":"Control!$C$20+Control!$C$21*A4567+Control!$C$22*A4567^2","v":1226.0575240981975},2860.9952379872534,2651.0047620127466]
[4570,2753,2705,null,null,null,null,null,null,null,null,null,{"$f":"Control!$C$20+Control!$C$21*A4570+Control!$C$22*A4570^2","v":1226.8654389547555},2857.9380769787595,2648.0619230212405]
[4573,2751,2703,null,null,null,null,null,null,null,null,null,{"$f":"Control!$C$20+Control!$C$21*A4573+Control!$C$22*A4573^2","v":1227.6733538028418},2855.8999523355469,2646.1000476644531]
[4574,2751,2771,null,null,null,null,null,null,null,null,null,{"$f":"Control!$C$20+Control!$C$21*A4574+Control!$C$22*A4574^2","v":1227.9426587503215},2855.8999523355469,2646.1000476644531]
[4578,2748,2766,null,null,null,null,null,null,null,null,null,{"$f":"Control!$C$20+Control!$C$21*A4578+Control!$C$22*A4578^2","v":1229.0198785308266},2852.8427393766492,2643.1572606233508]
[4579,2747,2793,null,null,null,null,null,null,null,null,null,{"$f":"Control!$C$20+Control!$C$21*A4579+Control!$C$22*A4579^2","v":1229.2891834735997},2851.8236614510292,2642.1763385489708]
[4583,2744,2705,null,null,null,null,null,null,null,null,null,{"$f":"Control!$C$20+Control!$C$21*A4583+Control!$C$22*A4583^2","v":1230.366403235279},2848.7664068296704,2639.2335931703296]
[4586,2742,2773,null,null,null,null,null,null,null,null,null,{"$f":"Control!$C$20+Control!$C$21*A4586+Control!$C$22*A4586^2","v":1231.1743180466547},2846.7282196926885,2637.2717803073115]
[4590,2739,2577,null,null,null,null,null,null,null,null,null,{"$f":"Control!$C$20+Control!$C$21*A4590+Control!$C$22*A4590^2","v":1232.2515377819777},2843.6709128650364,2634.3290871349636]
[4593,2737,2760,null,null,null,null,null,null,null,null,null,{"$f":"Control!$C$20+Control!$C$21*A4593+Control!$C$22*A4593^2","v":1233.0594525735862},2841.6326908762267,2632.3673091237733]
[4596,2734,2782,null,null,null,null,null,null,null,null,null,{"$f":"Control!$C$20+Control!$C$21*A4596+Control!$C$22*A4596^2","v":1233.8673673567232},2838.5753316992109,2629.4246683007891]
[4597,2734,2650,null,null,null,null,null,null,null,null,null,{"$f":"Control!$C$20+Control!$C$21*A4597+Control!$C$22*A4597^2","v":1234.1366722825528},2838.5753316992109,2629.4246683007891]
[4599,2732,2757,null,null,null,null,null,null,null,null,null,{"$f":"Control!$C$20+Control!$C$21*A4599+Control!$C$22*A4599^2","v":1234.6752821313883},2836.5370747629759,2627.4629252370241]
[4602,2730,2747,null,null,null,null,null,null,null,null,null,{"$f":"Control!$C$20+Control!$C$21*A4602+Control!$C$22*A4602^2","v":1235.4831968975818},2834.4988038209049,2625.5011961790951]
[4606,2727,2708,null,null,null,null,null,null,null,null,null,{"$f":"Control!$C$20+Control!$C$21*A4606+Control!$C$22*A4606^2","v":1236.5604165726618},2831.4413711131751,2622.5586288868249]
[4609,2725,2702,null,null,null,null,null,null,null,null,null,{"$f":"Control!$C$20+Control!$C$21*A4609+Control!$C$22*A4609^2","v":1237.3683313190882},2829.4030650891054,2620.5969349108946]
[4613,2722,2859,null,null,null,null,null,null,null,null,null,{"$f":"Control!$C$20+Control!$C$21*A4613+Control!$C$22*A4613^2","v":1238.4455509678119},2826.3455796859648,2617.6544203140352]
[4616,2720,2734,null,null,null,null,null,null,null,null,null,{"$f":"Control!$C$20+Control!$C$21*A4616+Control!$C$22*A4616^2","v":1239.2534656944708},2824.3072384832426,2615.6927615167574]
[4618,2718,2776,null,null,null,null,null,null,null,null,null,{"$f":"Control!$C$20+Control!$C$21*A4618+Control!$C$22*A4618^2","v":1239.7920755075372},2822.2688831818964,2613.7311168181036]
[4619,2718,2679,null,null,null,null,null,null,null,null,null,{"$f":"Control!$C$20+Control!$C$21*A4619+Control!$C$22*A4619^2","v":1240.0613804126583},2822.2688831818964,2613.7311168181036]
[4622,2715,2734,null,null,null,null,null,null,null,null,null,{"$f":"Control!$C$20+Control!$C$21*A4622+Control!$C$22*A4622^2","v":1240.8692951223741},2819.2113237609042,2610.7886762390958]
[4626,2712,2776,null,null,null,null,null,null,null,null,null,{"$f":"Control!$C$20+Control!$C$21*A4626+Control!$C$22*A4626^2","v":1241.9465147221504},2816.1537325303325,2607.8462674696675]
[4629,2710,2804,null,null,null,null,null,null,null,null,null,{"$f":"Control!$C$20+Control!$C$21*A4629+Control!$C$22*A4629^2","v":1242.7544294120987},2814.115320678563,2605.884679321437]
[4632,2708,2675,null,null,null,null,null,null,null,null,null,{"$f":"Control!$C$20+Control!$C$21*A4632+Control!$C$22*A4632^2","v":1243.5623440935756},2812.0768946500616,2603.9231053499384]
[4636,2705,2672,null,null,null,null,null,null,null,null,null,{"$f":"Control!$C$20+Control!$C$21*A4636+Control!$C$22*A4636^2","v":1244.6395636556999},2809.0192289915667,2600.9807710084333]
[4637,2704,2642,null,null,null,null,null,null,null,null,null,{"$f":"Control!$C$20+Control!$C$21*A4637+Control!$C$22*A4637^2","v":1244.9088685438778},2808,2600]
[4641,2701,2637,null,null,null,null,null,null,null,null,null,{"$f":"Control!$C$20+Control!$C$21*A4641+Control!$C$22*A4641^2","v":1245.9860880871761},2804.9422916814901,2597.0577083185099]
[4642,2701,2718,null,null,null,null,null,null,null,null,null,{"$f":"Control!$C$20+Control!$C$21*A4642+Control!$C$22*A4642^2","v":1246.2553929706476},2804.9422916814901,2597.0577083185099]
[4645,2699,2762,null,null,null,null,null,null,null,null,null,{"$f":"Control!$C$20+Control!$C$21*A4645+Control!$C$22*A4645^2","v":1247.0633076154138},2802.9038016628842,2595.0961983371158]
[4649,2696,2664,null,null,null,null,null,null,null,null,null,{"$f":"Control!$C$20+Control!$C$21*A4649+Control!$C$22*A4649^2","v":1248.1405271285907},2799.8460398859775,2592.1539601140225]
[4652,2693,2724,null,null,null,null,null,null,null,null,null,{"$f":"Control!$C$20+Control!$C$21*A4652+Control!$C$22*A4652^2","v":1248.9484417535898},2796.788245962633,2589.211754037367]
[4655,2691,2708,null,null,null,null,null,null,null,null,null,{"$f":"Control!$C$20+Control!$C$21*A4655+Control!$C$22*A4655^2","v":1249.7563563701171},2794.7496987947434,2587.2503012052566]
[4658,2689,2686,null,null,null,null,null,null,null,null,null,{"$f":"Control!$C$20+Control!$C$21*A4658+Control!$C$22*A4658^2","v":1250.5642709781728},2792.7111372997133,2585.2888627002867]
[4661,2687,2624,null,null,null,null,null,null,null,null,null,{"$f":"Control!$C$20+Control!$C$21*A4661+Control!$C$22*A4661^2","v":1251.3721855777569},2790.6725614615557,2583.3274385384443]
[4664,2685,2714,null,null,null,null,null,null,null,null,null,{"$f":"Control!$C$20+Control!$C$21*A4664+Control!$C$22*A4664^2","v":1252.1801001688691},2788.633971264253,2581.366028735747]
[4665,2684,2703,null,null,null,null,null,null,null,null,null,{"$f":"Control!$C$20+Control!$C$21*A4665+Control!$C$22*A4665^2","v":1252.4494050306907},2787.614670775909,2580.385329224091]
[4668,2682,2665,null,null,null,null,null,null,null,null,null,{"$f":"Control!$C$20+Control!$C$21*A4668+Control!$C$22*A4668^2","v":1253.2573196105075},2785.5760590097925,2578.4239409902075]
[4672,2679,2685,null,null,null,null,null,null,null,null,null,{"$f":"Control!$C$20+Control!$C$21*A4672+Control!$C$22*A4672^2","v":1254.3345390370851},2782.5181143568602,2575.4818856431398]
[4675,2677,2658,null,null,null,null,null,null,null,null,null,{"$f":"Control!$C$20+Control!$C$21*A4675+Control!$C$22*A4675^2","v":1255.1424535971346},{"$f":"IF(D4675=0,B4675+2*SQRT(B4675),N4674)","v":2780.4794665622121},{"$f":"IF(D4675=0,B4675-2*SQRT(B4675),O4674)","v":2573.5205334377879}]
[4677,2675,2590,null,null,null,null,null,null,null,null,null,{"$f":"Control!$C$20+Control!$C$21*A4677+Control!$C$22*A4677^2","v":1255.6810632991278},2778.4408043278859,2571.5591956721141]
[4681,2672,2595,null,null,null,null,null,null,null,null,null,{"$f":"Control!$C$20+Control!$C$21*A4681+Control!$C$22*A4681^2","v":1256.7582826918187},2775.3827838665607,2568.6172161334393]
[4684,2670,2654,null,null,null,null,null,null,null,null,null,{"$f":"Control!$C$20+Control!$C$21*A4684+Control!$C$22*A4684^2","v":1257.5661972264534},2773.3440854621103,2566.6559145378897]
[4685,2688,2668,19,null,null,null,null,null,null,null,null,{"$f":"Control!$C$20+Control!$C$21*A4685+Control!$C$22*A4685^2","v":1257.8355020694489},2773.3440854621103,2566.6559145378897]
[4688,2894,2984,227,null,null,null,null,null,null,null,null,{"$f":"Control!$C$20+Control!$C$21*A4688+Control!$C$22*A4688^2","v":1258.6434165927878},2773.3440854621103,2566.6559145378897]
[4691,3539,3534,874,null,null,null,null,null,null,null,null,{"$f":"Control!$C$20+Control!$C$21*A4691+Control!$C$22*A4691^2","v":1259.4513311076551},2773.3440854621103,2566.6559145378897]
[4695,3553,3661,891,null,null,null,null,null,null,null,null,{"$f":"Control!$C$20+Control!$C$21*A4695+Control!$C$22*A4695^2","v":1260.5285504476335},2773.3440854621103,2566.6559145378897]
[4698,2898,2883,238,null,null,null,null,null,null,null,null,{"$f":"Control!$C$20+Control!$C$21*A4698+Control!$C$22*A4698^2","v":1261.3364649427335},2773.3440854621103,2566.6559145378897]
[4700,2710,2755,52,null,null,null,null,null,null,null,null,{"$f":"Control!$C$20+Control!$C$21*A4700+Control!$C$22*A4700^2","v":1261.8750746014271},2773.3440854621103,2566.6559145378897]
[4704,2655,2679,null,null,null,null,null,null,null,null,null,{"$f":"Control!$C$20+Control!$C$21*A4704+Control!$C$22*A4704^2","v":1262.9522939075187},2758.0533842239061,2551.9466157760939]
[4707,2653,2645,null,null,null,null,null,null,null,null,null,{"$f":"Control!$C$20+Control!$C$21*A4707+Control!$C$22*A4707^2","v":1263.7602083772038},2756.0145620774074,2549.9854379225926]
[4708,2652,2688,null,null,null,null,null,null,null,null,null,{"$f":"Control!$C$20+Control!$C$21*A4708+Control!$C$22*A4708^2","v":1264.0295131985495},2754.9951455166697,2549.0048544833303]
[4711,2650,2645,null,null,null,null,null,null,null,null,null,{"$f":"Control!$C$20+Control!$C$21*A4711+Control!$C$22*A4711^2","v":1264.8374276569391},2752.9563014098699,2547.0436985901301]
[4714,2648,2683,null,null,null,null,null,null,null,null,null,{"$f":"Control!$C$20+Control!$C$21*A4714+Control!$C$22*A4714^2","v":1265.6453421068568},2750.9174426421487,2545.0825573578513]
[4717,2646,2592,null,null,null,null,null,null,null,null,null,{"$f":"Control!$C$20+Control!$C$21*A4717+Control!$C$22*A4717^2","v":1266.453256548303},2748.8785691968933,2543.1214308031067]
[4720,2644,2577,null,null,null,null,null,null,null,null,null,{"$f":"Control!$C$20+Control!$C$21*A4720+Control!$C$22*A4720^2","v":1267.2611709812775},2746.8396810574595,2541.1603189425405]
[4724,2641,2587,null,null,null,null,null,null,null,null,null,{"$f":"Control!$C$20+Control!$C$21*A4724+Control!$C$22*A4724^2","v":1268.3383902120654},2743.7813212602368,2538.2186787397632]
[4727,2638,2674,null,null,null,null,null,null,null,null,null,{"$f":"Control!$C$20+Control!$C$21*A4727+Control!$C$22*A4727^2","v":1269.1463046252725},2740.7229283071702,2535.2770716928298]
[4730,2636,2670,null,null,null,null,null,null,null,null,null,{"$f":"Control!$C$20+Control!$C$21*A4730+Control!$C$22*A4730^2","v":1269.9542190300081},2738.6839812239473,2533.3160187760527]
[4731,2636,2691,null,null,null,null,null,null,null,null,null,{"$f":"Control!$C$20+Control!$C$21*A4731+Control!$C$22*A4731^2","v":1270.2235238297042},2738.6839812239473,2533.3160187760527]
[4734,2633,2645,null,null,null,null,null,null,null,null,null,{"$f":"Control!$C$20+Control!$C$21*A4734+Control!$C$22*A4734^2","v":1271.0314382231441},2735.6255328853399,2530.3744671146601]
[4738,2630,2636,null,null,null,null,null,null,null,null,null,{"$f":"Control!$C$20+Control!$C$21*A4738+Control!$C$22*A4738^2","v":1272.1086574012193},2732.5670512396646,2527.4329487603354]
[4740,2629,2563,null,null,null,null,null,null,null,null,null,{"$f":"Control!$C$20+Control!$C$21*A4740+Control!$C$22*A4740^2","v":1272.6472669846091},2731.5475499463541,2526.4524500536459]
[4743,2627,2628,null,null,null,null,null,null,null,null,null,{"$f":"Control!$C$20+Control!$C$21*A4743+Control!$C$22*A4743^2","v":1273.4551813526341},2729.508536229916,2524.491463770084]
[4747,2624,2726,null,null,null,null,null,null,null,null,null,{"$f":"Control!$C$20+Control!$C$21*A4747+Control!$C$22*A4747^2","v":1274.5324004968227},2726.4499877989256,2521.5500122010744]
[4750,2622,2652,null,null,null,null,null,null,null,null,null,{"$f":"Control!$C$20+Control!$C$21*A4750+Control!$C$22*A4750^2","v":1275.3403148450805},2724.4109369159369,2519.5890630840631]
[4753,2619,2677,null,null,null,null,null,null,null,null,null,{"$f":"Control!$C$20+Control!$C$21*A4753+Control!$C$22*A4753^2","v":1276.1482291848665},2721.3523326553918,2516.6476673446082]
[4754,2619,2676,null,null,null,null,null,null,null,null,null,{"$f":"Control!$C$20+Control!$C$21*A4754+Control!$C$22*A4754^2","v":1276.4175339629128},2721.3523326553918,2516.6476673446082]
[4757,2616,2582,null,null,null,null,null,null,null,null,null,{"$f":"Control!$C$20+Control!$C$21*A4757+Control!$C$22*A4757^2","v":1277.2254482914032},2718.2936948203555,2513.7063051796445]
[4759,2615,2644,null,null,null,null,null,null,null,null,null,{"$f":"Control!$C$20+Control!$C$21*A4759+Control!$C$22*A4759^2","v":1277.7640578390237},2717.2741414043649,2512.7258585956351]
[4763,2612,2598,null,null,null,null,null,null,null,null,null,{"$f":"Control!$C$20+Control!$C$21*A4763+Control!$C$22*A4763^2","v":1278.8412769229692},2714.2154587134451,2509.7845412865549]
[4766,2610,2566,null,null,null,null,null,null,null,null,null,{"$f":"Control!$C$20+Control!$C$21*A4766+Control!$C$22*A4766^2","v":1279.6491912260449},2712.1763181955585,2507.8236818044415]
[4770,2607,2690,null,null,null,null,null,null,null,null,null,{"$f":"Control!$C$20+Control!$C$21*A4770+Control!$C$22*A4770^2","v":1280.7264102836341},2709.1175792897579,2504.8824207102421]
[4773,2605,2556,null,null,null,null,null,null,null,null,null,{"$f":"Control!$C$20+Control!$C$21*A4773+Control!$C$22*A4773^2","v":1281.5343245669424},2707.0784012413988,2502.9215987586012]
[4776,2603,2672,null,null,null,null,null,null,null,null,null,{"$f":"Control!$C$20+Control!$C$21*A4776+Control!$C$22*A4776^2","v":1282.3422388417789},2705.0392081505929,2500.9607918494071]
[4778,2601,2661,null,null,null,null,null,null,null,null,null,{"$f":"Control!$C$20+Control!$C$21*A4778+Control!$C$22*A4778^2","v":1282.8808483536302},2703,2499]
[4779,2600,2597,null,null,null,null,null,null,null,null,null,{"$f":"Control!$C$20+Control!$C$21*A4779+Control!$C$22*A4779^2","v":1283.150153108144},2701.9803902718559,2498.0196097281441]
[4783,2597,2574,null,null,null,null,null,null,null,null,null,{"$f":"Control!$C$20+Control!$C$21*A4783+Control!$C$22*A4783^2","v":1284.2273721167858},2698.9215384499271,2495.0784615500729]
[4786,2595,2627,null,null,null,null,null,null,null,null,null,{"$f":"Control!$C$20+Control!$C$21*A4786+Control!$C$22*A4786^2","v":1285.0352863633834},2696.8822850156002,2493.1177149843998]
[4789,2593,2551,null,null,null,null,null,null,null,null,null,{"$f":"Control!$C$20+Control!$C$21*A4789+Control!$C$22*A4789^2","v":1285.8432006015096},2694.8430164517922,2491.1569835482078]
[4793,2590,2607,null,null,null,null,null,null,null,null,null,{"$f":"Control!$C$20+Control!$C$21*A4793+Control!$C$22*A4793^2","v":1286.9204195724994},2691.7840851999958,2488.2159148000042]
[4796,2588,2679,null,null,null,null,null,null,null,null,null,{"$f":"Control!$C$20+Control!$C$21*A4796+Control!$C$22*A4796^2","v":1287.7283337908582},2689.7447787358151,2486.2552212641849]
[4797,2587,2545,null,null,null,null,null,null,null,null,null,{"$f":"Control!$C$20+Control!$C$21*A4797+Control!$C$22*A4797^2","v":1287.9976385284285},2688.7251198082363,2485.2748801917637]
[4799,2586,2625,null,null,null,null,null,null,null,null,null,{"$f":"Control!$C$20+Control!$C$21*A4799+Control!$C$22*A4799^2","v":1288.5362480007454},2687.705457080729,2484.294542919271]
[4802,2584,2603,null,null,null,null,null,null,null,null,null,{"$f":"Control!$C$20+Control!$C$21*A4802+Control!$C$22*A4802^2","v":1289.3441622021608},2685.6661202171108,2482.3338797828892]
[4806,2581,2554,null,null,null,null,null,null,null,null,null,{"$f":"Control!$C$20+Control!$C$21*A4806+Control!$C$22*A4806^2","v":1290.4213811242032},2682.6070863670443,2479.3929136329557]
[4809,2578,2567,null,null,null,null,null,null,null,null,null,{"$f":"Control!$C$20+Control!$C$21*A4809+Control!$C$22*A4809^2","v":1291.2292953058516},2679.5480181982889,2476.4519818017111]
[4812,2576,2619,null,null,null,null,null,null,null,null,null,{"$f":"Control!$C$20+Control!$C$21*A4812+Control!$C$22*A4812^2","v":1292.0372094790282},2677.508620323596,2474.491379676404]
[4816,2573,2581,null,null,null,null,null,null,null,null,null,{"$f":"Control!$C$20+Control!$C$21*A4816+Control!$C$22*A4816^2","v":1293.1144283634187},2674.4494948237793,2471.5505051762207]
[4818,2572,2521,null,null,null,null,null,null,null,null,null,{"$f":"Control!$C$20+Control!$C$21*A4818+Control!$C$22*A4818^2","v":1293.6530377999663},2673.4297786648476,2470.5702213351524]
[4819,2571,2603,null,null,null,null,null,null,null,null,null,{"$f":"Control!$C$20+Control!$C$21*A4819+Control!$C$22*A4819^2","v":1293.9223425168279},2672.4100586726977,2469.5899413273023]
[4822,2569,2499,null,null,null,null,null,null,null,null,null,{"$f":"Control!$C$20+Control!$C$21*A4822+Control!$C$22*A4822^2","v":1294.7302566617657},2670.3706071797933,2467.6293928202067]
[4825,2567,2475,null,null,null,null,null,null,null,null,null,{"$f":"Control!$C$20+Control!$C$21*A4825+Control!$C$22*A4825^2","v":1295.5381707982317},2668.3311403271473,2465.6688596728527]
[4829,2564,2558,null,null,null,null,null,null,null,null,null,{"$f":"Control!$C$20+Control!$C$21*A4829+Control!$C$22*A4829^2","v":1296.6153896336748},2665.2719112093773,2462.7280887906227]
[4832,2562,2582,null,null,null,null,null,null,null,null,null,{"$f":"Control!$C$20+Control!$C$21*A4832+Control!$C$22*A4832^2","v":1297.4233037503736},2663.2324058787499,2460.7675941212501]
[4835,2618,2730,59,null,null,null,null,null,null,null,null,{"$f":"Control!$C$20+Control!$C$21*A4835+Control!$C$22*A4835^2","v":1298.2312178586008},2662.2126474310398,2459.7873525689602]
[4837,2791,2878,233,null,null,null,null,null,null,null,null,{"$f":"Control!$C$20+Control!$C$21*A4837+Control!$C$22*A4837^2","v":1298.7698272593789},2662.2126474310398,2459.7873525689602]
[4841,3378,3425,823,null,null,null,null,null,null,null,null,{"$f":"Control!$C$20+Control!$C$21*A4841+Control!$C$22*A4841^2","v":1299.8470460496399},2662.2126474310398,2459.7873525689602]
[4842,3384,3323,830,null,null,null,null,null,null,null,null,{"$f":"Control!$C$20+Control!$C$21*A4842+Control!$C$22*A4842^2","v":1300.1163507448518},2662.2126474310398,2459.7873525689602]
[4845,2959,2855,407,null,null,null,null,null,null,null,null,{"$f":"Control!$C$20+Control!$C$21*A4845+Control!$C$22*A4845^2","v":1300.9242648248401},2662.2126474310398,2459.7873525689602]
[4848,2616,2595,66,null,null,null,null,null,null,null,null,{"$f":"Control!$C$20+Control!$C$21*A4848+Control!$C$22*A4848^2","v":1301.7321788963566},2662.2126474310398,2459.7873525689602]
[4852,2547,2491,null,null,null,null,null,null,null,null,null,{"$f":"Control!$C$20+Control!$C$21*A4852+Control!$C$22*A4852^2","v":1302.8093976452005},2647.9356230475641,2446.0643769524359]
[4855,2545,2616,null,null,null,null,null,null,null,null,null,{"$f":"Control!$C$20+Control!$C$21*A4855+Control!$C$22*A4855^2","v":1303.6173116969496},2645.8959860450354,2444.1040139549646]
[4858,2542,2581,null,null,null,null,null,null,null,null,null,{"$f":"Control!$C$20+Control!$C$21*A4858+Control!$C$22*A4858^2","v":1304.4252257402272},2642.8365013276443,2441.1634986723557]
[4861,2540,2498,null,null,null,null,null,null,null,null,null,{"$f":"Control!$C$20+Control!$C$21*A4861+Control!$C$22*A4861^2","v":1305.2331397750334},2640.7968253468334,2439.2031746531666]
[4864,2538,2593,null,null,null,null,null,null,null,null,null,{"$f":"Control!$C$20+Control!$C$21*A4864+Control!$C$22*A4864^2","v":1306.0410538013675},2638.7571337424802,2437.2428662575198]
[4865,2537,2529,null,null,null,null,null,null,null,null,null,{"$f":"Control!$C$20+Control!$C$21*A4865+Control!$C$22*A4865^2","v":1306.3103584749297},2637.7372820757041,2436.2627179242959]
[4868,2535,2511,null,null,null,null,null,null,null,null,null,{"$f":"Control!$C$20+Control!$C$21*A4868+Control!$C$22*A4868^2","v":1307.1182724899684},2635.6975670013931,2434.3024329986069]
[4871,2533,2535,null,null,null,null,null,null,null,null,null,{"$f":"Control!$C$20+Control!$C$21*A4871+Control!$C$22*A4871^2","v":1307.9261864965354},2633.6578362572927,2432.3421637427073]
[4875,2530,2532,null,null,null,null,null,null,null,null,null,{"$f":"Control!$C$20+Control!$C$21*A4875+Control!$C$22*A4875^2","v":1309.00340515878},2630.5982107196742,2429.4017892803258]
[4877,2529,2517,null,null,null,null,null,null,null,null,null,{"$f":"Control!$C$20+Control!$C$21*A4877+Control!$C$22*A4877^2","v":1309.5420144842544},2629.5783276854413,2428.4216723145587]
[4881,2526,2466,null,null,null,null,null,null,null,null,null,{"$f":"Control!$C$20+Control!$C$21*A4881+Control!$C$22*A4881^2","v":1310.6192331239079},2626.5186549850323,2425.4813450149677]
[4884,2523,2541,null,null,null,null,null,null,null,null,null,{"$f":"Control!$C$20+Control!$C$21*A4884+Control!$C$22*A4884^2","v":1311.4271470937645},2623.458946838995,2422.541053161005]
[4887,2521,2527,null,null,null,null,null,null,null,null,null,{"$f":"Control!$C$20+Control!$C$21*A4887+Control!$C$22*A4887^2","v":1312.2350610551491},2621.4191216850654,2420.5808783149346]
[4888,2521,2591,null,null,null,null,null,null,null,null,null,{"$f":"Control!$C$20+Control!$C$21*A4888+Control!$C$22*A4888^2","v":1312.5043657070614},2621.4191216850654,2420.5808783149346]
[4891,2518,2481,null,null,null,null,null,null,null,null,null,{"$f":"Control!$C$20+Control!$C$21*A4891+Control!$C$22*A4891^2","v":1313.3122796571506},2618.3593543223551,2417.6406456776449]
[4894,2516,2525,null,null,null,null,null,null,null,null,null,{"$f":"Control!$C$20+Control!$C$21*A4894+Control!$C$22*A4894^2","v":1314.1201935987683},2616.3194896318755,2415.6805103681245]
[4897,2514,2564,null,null,null,null,null,null,null,null,null,{"$f":"Control!$C$20+Control!$C$21*A4897+Control!$C$22*A4897^2","v":1314.9281075319141},2614.2796090937736,2413.7203909062264]
[4900,2512,2539,null,null,null,null,null,null,null,null,null,{"$f":"Control!$C$20+Control!$C$21*A4900+Control!$C$22*A4900^2","v":1315.7360214565883},2612.2397126891333,2411.7602873108667]
[4904,2509,2596,null,null,null,null,null,null,null,null,null,{"$f":"Control!$C$20+Control!$C$21*A4904+Control!$C$22*A4904^2","v":1316.8132400096424},2609.1798382909456,2408.8201617090544]
[4907,2507,2443,null,null,null,null,null,null,null,null,null,{"$f":"Control!$C$20+Control!$C$21*A4907+Control!$C$22*A4907^2","v":1317.6211539145495},2607.1399021369602,2406.8600978630398]
[4910,2504,2554,null,null,null,null,null,null,null,null,null,{"$f":"Control!$C$20+Control!$C$21*A4910+Control!$C$22*A4910^2","v":1318.4290678109849},2604.0799680255745,2403.9200319744255]
[4911,2504,2554,null,null,null,null,null,null,null,null,null,{"$f":"Control!$C$20+Control!$C$21*A4911+Control!$C$22*A4911^2","v":1318.6983724412473},2604.0799680255745,2403.9200319744255]
[4915,2501,2494,null,null,null,null,null,null,null,null,null,{"$f":"Control!$C$20+Control!$C$21*A4915+Control!$C$22*A4915^2","v":1319.7755909528844},2601.0199980003999,2400.9800019996001]
[4916,2500,2527,null,null,null,null,null,null,null,null,null,{"$f":"Control!$C$20+Control!$C$21*A4916+Control!$C$22*A4916^2","v":1320.0448955784404},2600,2400]
[4920,2497,2473,null,null,null,null,null,null,null,null,null,{"$f":"Control!$C$20+Control!$C$21*A4920+Control!$C$22*A4920^2","v":1321.1221140712514},2596.9399819891919,2397.0600180108081]
[4923,2495,2522,null,null,null,null,null,null,null,null,null,{"$f":"Control!$C$20+Control!$C$21*A4923+Control!$C$22*A4923^2","v":1321.9300279309762},2594.8999499499373,2395.1000500500627]
[4927,2492,2430,null,null,null,null,null,null,null,null,null,{"$f":"Control!$C$20+Control!$C$21*A4927+Control!$C$22*A4927^2","v":1323.0072463974311},2591.8398717947894,2392.1601282052106]
[4930,2490,2497,null,null,null,null,null,null,null,null,null,{"$f":"Control!$C$20+Control!$C$21*A4930+Control!$C$22*A4930^2","v":1323.8151602373885},2589.7997995989972,2390.2002004010028]
[4933,2488,2495,null,null,null,null,null,null,null,null,null,{"$f":"Control!$C$20+Control!$C$21*A4933+Control!$C$22*A4933^2","v":1324.6230740688743},2587.7597113067195,2388.2402886932805]
[4934,2487,2513,null,null,null,null,null,null,null,null,null,{"$f":"Control!$C$20+Control!$C$21*A4934+Control!$C$22*A4934^2","v":1324.8923786774869},2586.7396611183335,2387.2603388816665]
[4936,2485,2481,null,null,null,null,null,null,null,null,null,{"$f":"Control!$C$20+Control!$C$21*A4936+Control!$C$22*A4936^2","v":1325.4309878918884},2584.6995486449159,2385.3004513550841]
[4940,2482,2523,null,null,null,null,null,null,null,null,null,{"$f":"Control!$C$20+Control!$C$21*A4940+Control!$C$22*A4940^2","v":1326.508206309396},2581.6393496566493,2382.3606503433507]
[4943,2480,2475,null,null,null,null,null,null,null,null,null,{"$f":"Control!$C$20+Control!$C$21*A4943+Control!$C$22*A4943^2","v":1327.3161201126427},2579.59919678391,2380.40080321609]
[4946,2478,2414,null,null,null,null,null,null,null,null,null,{"$f":"Control!$C$20+Control!$C$21*A4946+Control!$C$22*A4946^2","v":1328.1240339074182},2577.5590277172291,2378.4409722827709]
[4950,2475,2521,null,null,null,null,null,null,null,null,null,{"$f":"Control!$C$20+Control!$C$21*A4950+Control!$C$22*A4950^2","v":1329.2012522872735},2574.498743710662,2375.501256289338]
[4953,2473,2397,null,null,null,null,null,{"$f":"0.939*SUM(D4953:D4972)*Control!C21/Spectrum!D4962","v":{"$error":"#DIV/0!"}},null,null,null,{"$f":"Control!$C$20+Control!$C$21*A4953+Control!$C$22*A4953^2","v":1330.0091660622816},2572.458534073251,2373.541465926749]
[4955,2471,2494,null,null,null,null,null,null,null,null,null,{"$f":"Control!$C$20+Control!$C$21*A4955+Control!$C$22*A4955^2","v":1330.5477752409138},2570.4183081730926,2371.5816918269074]
[4956,2471,2437,null,null,null,null,null,null,null,null,null,{"$f":"Control!$C$20+Control!$C$21*A4956+Control!$C$22*A4956^2","v":1330.8170798288179},2570.4183081730926,2371.5816918269074]
[4959,2468,2438,null,null,null,null,null,null,null,null,null,{"$f":"Control!$C$20+Control!$C$21*A4959+Control!$C$22*A4959^2","v":1331.6249935868825},2567.3579387869936,2368.6420612130064]
[4963,2466,2454,null,null,null,null,null,null,null,null,null,{"$f":"Control!$C$20+Control!$C$21*A4963+Control!$C$22*A4963^2","v":1332.7022119177907},2565.3176721434811,2366.6823278565189]
[4966,2463,2477,null,null,null,null,null,null,null,null,null,{"$f":"Control!$C$20+Control!$C$21*A4966+Control!$C$22*A4966^2","v":1333.5101256560881},2562.2572415494205,2363.7427584505795]
[4969,2461,2394,null,null,null,null,null,null,null,null,null,{"$f":"Control!$C$20+Control!$C$21*A4969+Control!$C$22*A4969^2","v":1334.3180393859138},2560.2169340384999,2361.7830659615001]
[4973,2458,2495,null,null,null,null,null,null,null,null,null,{"$f":"Control!$C$20+Control!$C$21*A4973+Control!$C$22*A4973^2","v":1335.3952576791701},2557.1564420499244,2358.8435579500756]
[4974,2458,2381,null,null,null,null,null,null,null,null,null,{"$f":"Control!$C$20+Control!$C$21*A4974+Control!$C$22*A4974^2","v":1335.664562250131},2557.1564420499244,2358.8435579500756]
[4976,2456,2557,null,null,null,null,null,null,null,null,null,{"$f":"Control!$C$20+Control!$C$21*A4976+Control!$C$22*A4976^2","v":1336.2031713892286},2555.1160935469111,2356.8839064530889]
[4979,2454,2513,null,null,null,null,null,null,null,null,null,{"$f":"Control!$C$20+Control!$C$21*A4979+Control!$C$22*A4979^2","v":1337.0110850908154},2553.0757286120065,2354.9242713879935]
[4982,2463,2405,11,null,null,null,null,null,null,null,null,{"$f":"Control!$C$20+Control!$C$21*A4982+Control!$C$22*A4982^2","v":1337.8189987839307},2551.0353472251195,2352.9646527748805]
[4986,2651,2637,202,null,null,null,null,null,null,null,null,{"$f":"Control!$C$20+Control!$C$21*A4986+Control!$C$22*A4986^2","v":1338.8962170282393},2551.0353472251195,2352.9646527748805]
[4989,2960,2985,513,null,null,null,null,null,null,null,null,{"$f":"Control!$C$20+Control!$C$21*A4989+Control!$C$22*A4989^2","v":1339.7041307015875},2551.0353472251195,2352.9646527748805]
[4992,2888,2846,444,null,null,null,null,null,null,null,null,{"$f":"Control!$C$20+Control!$C$21*A4992+Control!$C$22*A4992^2","v":1340.5120443664637},2551.0353472251195,2352.9646527748805]
[4995,2573,2575,131,null,null,null,null,null,null,null,null,{"$f":"Control!$C$20+Control!$C$21*A4995+Control!$C$22*A4995^2","v":1341.3199580228684},{"$f":"IF(D4995=0,B4995+2*SQRT(B4995),N4994)","v":2551.0353472251195},{"$f":"IF(D4995=0,B4995-2*SQRT(B4995),O4994)","v":2352.9646527748805}]
[4998,2453,2476,13,null,null,null,null,null,null,null,null,{"$f":"Control!$C$20+Control!$C$21*A4998+Control!$C$22*A4998^2","v":1342.1278716708011},2551.0353472251195,2352.9646527748805]
[4999,2439,2450,null,null,null,null,null,null,null,null,null,{"$f":"Control!$C$20+Control!$C$21*A4999+Control!$C$22*A4999^2","v":1342.3971762182296},2537.7724657989261,2340.2275342010739]
[5002,2437,2458,null,null,null,null,null,null,null,null,null,{"$f":"Control!$C$20+Control!$C$21*A5002+Control!$C$22*A5002^2","v":1343.2050898548671},2535.73196037758,2338.26803962242]
[5005,2435,2445,null,null,null,null,null,null,null,null,null,{"$f":"Control!$C$20+Control!$C$21*A5005+Control!$C$22*A5005^2","v":1344.0130034830327},2533.6914383318026,2336.3085616681974]
[5009,2432,2438,null,null,null,null,null,null,null,null,null,{"$f":"Control!$C$20+Control!$C$21*A5009+Control!$C$22*A5009^2","v":1345.0902216407421},2530.6306240475037,2333.3693759524963]
[5012,2430,2412,null,null,null,null,null,null,null,null,null,{"$f":"Control!$C$20+Control!$C$21*A5012+Control!$C$22*A5012^2","v":1345.8981352491408},2528.5900603509299,2331.4099396490701]
[5014,2428,2474,null,null,null,null,null,null,null,null,null,{"$f":"Control!$C$20+Control!$C$21*A5014+Control!$C$22*A5014^2","v":1346.4367443166998},2526.5494799580392,2329.4505200419608]
[5018,2425,2455,null,null,null,null,null,null,null,null,null,{"$f":"Control!$C$20+Control!$C$21*A5018+Control!$C$22*A5018^2","v":1347.5139624405226},2523.4885780179611,2326.5114219820389]
[5021,2423,2453,null,null,null,null,null,null,null,null,null,{"$f":"Control!$C$20+Control!$C$21*A5021+Control!$C$22*A5021^2","v":1348.3218760235061},2521.4479557939117,2324.5520442060883]
[5022,2422,2379,null,null,null,null,null,null,null,null,null,{"$f":"Control!$C$20+Control!$C$21*A5022+Control!$C$22*A5022^2","v":1348.5911805492847},2520.4276383949141,2323.5723616050859]
[5025,2420,2362,null,null,null,null,null,null,null,null,null,{"$f":"Control!$C$20+Control!$C$21*A5025+Control!$C$22*A5025^2","v":1349.3990941209724},2518.3869910099907,2321.6130089900093]
[5028,2418,2404,null,null,null,null,null,null,null,null,null,{"$f":"Control!$C$20+Control!$C$21*A5028+Control!$C$22*A5028^2","v":1350.2070076841887},2516.3463268251539,2319.6536731748461]
[5032,2415,2458,null,null,null,null,null,null,null,null,null,{"$f":"Control!$C$20+Control!$C$21*A5032+Control!$C$22*A5032^2","v":1351.2842257552988},2513.2852990024448,2316.7147009975552]
[5035,2413,2365,null,null,null,null,null,null,null,null,null,{"$f":"Control!$C$20+Control!$C$21*A5035+Control!$C$22*A5035^2","v":1352.092139298748},2511.2445927265212,2314.7554072734788]
[5038,2411,2343,null,null,null,null,null,null,null,null,null,{"$f":"Control!$C$20+Control!$C$21*A5038+Control!$C$22*A5038^2","v":1352.9000528337253},2509.2038695775273,2312.7961304224727]
[5041,2408,2401,null,null,null,null,null,null,null,null,null,{"$f":"Control!$C$20+Control!$C$21*A5041+Control!$C$22*A5041^2","v":1353.7079663602308},2506.1427531710824,2309.8572468289176]
[5044,2406,2425,null,null,null,null,null,null,null,null,null,{"$f":"Control!$C$20+Control!$C$21*A5044+Control!$C$22*A5044^2","v":1354.515879878265},2504.1019877474459,2307.8980122525541]
[5045,2405,2452,null,null,null,null,null,null,null,null,null,{"$f":"Control!$C$20+Control!$C$21*A5045+Control!$C$22*A5045^2","v":1354.7851843823937},2503.0815986819139,2306.9184013180861]
[5048,2403,2398,null,null,null,null,null,null,null,null,null,{"$f":"Control!$C$20+Control!$C$21*A5048+Control!$C$22*A5048^2","v":1355.593097889132},2501.0408078302094,2304.9591921697906]
[5051,2401,2428,null,null,null,null,null,null,null,null,null,{"$f":"Control!$C$20+Control!$C$21*A5051+Control!$C$22*A5051^2","v":1356.4010113873987},2499,2303]
[5054,2399,2410,null,null,null,null,null,null,null,null,null,{"$f":"Control!$C$20+Control!$C$21*A5054+Control!$C$22*A5054^2","v":1357.2089248771938},2496.9591751700677,2301.0408248299323]
[5057,2397,2428,null,null,null,null,null,null,null,null,null,{"$f":"Control!$C$20+Control!$C$21*A5057+Control!$C$22*A5057^2","v":1358.0168383585174},2494.918333319149,2299.081666680851]
[5061,2394,2489,null,null,null,null,null,null,null,null,null,{"$f":"Control!$C$20+Control!$C$21*A5061+Control!$C$22*A5061^2","v":1359.0940563204369},2491.8570385818007,2296.1429614181993]
[5064,2392,2344,null,null,null,null,null,null,null,null,null,{"$f":"Control!$C$20+Control!$C$21*A5064+Control!$C$22*A5064^2","v":1359.9019697819931},2489.8161540850997,2294.1838459149003]
[5067,2389,2464,null,null,null,null,null,null,null,null,null,{"$f":"Control!$C$20+Control!$C$21*A5067+Control!$C$22*A5067^2","v":1360.7098832350778},2486.7547952787995,2291.2452047212005]
[5068,2389,2365,null,null,null,null,null,null,null,null,null,{"$f":"Control!$C$20+Control!$C$21*A5068+Control!$C$22*A5068^2","v":1360.9791877175567},2486.7547952787995,2291.2452047212005]
[5071,2386,2416,null,null,null,null,null,null,null,null,null,{"$f":"Control!$C$20+Control!$C$21*A5071+Control!$C$22*A5071^2","v":1361.7871011593454},2483.6933979345586,2288.3066020654414]
[5075,2384,2438,null,null,null,null,null,null,null,null,null,{"$f":"Control!$C$20+Control!$C$21*A5075+Control!$C$22*A5075^2","v":1362.8643190685525},2481.6524449258695,2286.3475550741305]
[5077,2382,2359,null,null,null,null,null,null,null,null,null,{"$f":"Control!$C$20+Control!$C$21*A5077+Control!$C$22*A5077^2","v":1363.4029280175084},2479.6114747352995,2284.3885252647005]
[5080,2380,2409,null,null,null,null,null,null,null,null,null,{"$f":"Control!$C$20+Control!$C$21*A5080+Control!$C$22*A5080^2","v":1364.2108414338823},2477.5704873412037,2282.4295126587963]
[5084,2377,2415,null,null,null,null,null,null,null,null,null,{"$f":"Control!$C$20+Control!$C$21*A5084+Control!$C$22*A5084^2","v":1365.2880593092027},2474.5089739459913,2279.4910260540087]
[5087,2375,2379,null,null,null,null,null,null,null,null,null,{"$f":"Control!$C$20+Control!$C$21*A5087+Control!$C$22*A5087^2","v":1366.0959727058093},2472.4679434480895,2277.5320565519105]
[5090,2373,2477,null,null,null,null,null,null,null,null,null,{"$f":"Control!$C$20+Control!$C$21*A5090+Control!$C$22*A5090^2","v":1366.9038860939445},2470.4268956705487,2275.5731043294513]
[5091,2372,2335,null,null,null,null,null,null,null,null,null,{"$f":"Control!$C$20+Control!$C$21*A5091+Control!$C$22*A5091^2","v":1367.1731905547736},2469.4063652950872,2274.5936347049128]
[5094,2370,2419,null,null,null,null,null,null,null,null,null,{"$f":"Control!$C$20+Control!$C$21*A5094+Control!$C$22*A5094^2","v":1367.981103931613},2467.3652915571047,2272.6347084428953]
[5097,2367,2390,null,null,null,null,null,null,null,null,null,{"$f":"Control!$C$20+Control!$C$21*A5097+Control!$C$22*A5097^2","v":1368.7890172999807},2464.303648441361,2269.696351558639]
[5100,2365,2408,null,null,null,null,null,null,null,null,null,{"$f":"Control!$C$20+Control!$C$21*A5100+Control!$C$22*A5100^2","v":1369.596930659877},2462.2625313263025,2267.7374686736975]
[5103,2363,2433,null,null,null,null,null,null,null,null,null,{"$f":"Control!$C$20+Control!$C$21*A5103+Control!$C$22*A5103^2","v":1370.4048440113013},2460.221396821893,2265.778603178107]
[5107,2360,2374,null,null,null,null,null,null,null,null,null,{"$f":"Control!$C$20+Control!$C$21*A5107+Control!$C$22*A5107^2","v":1371.4820618000224},2457.1596624119288,2262.8403375880712]
[5110,2358,2362,null,null,null,null,null,null,null,null,null,{"$f":"Control!$C$20+Control!$C$21*A5110+Control!$C$22*A5110^2","v":1372.2899751316797},2455.1184843374317,2260.8815156625683]
[5113,2356,2366,null,null,null,null,null,null,null,null,null,{"$f":"Control!$C$20+Control!$C$21*A5113+Control!$C$22*A5113^2","v":1373.0978884548651},2453.0772887960929,2258.9227112039071]
[5115,2354,2379,null,null,null,null,null,null,null,null,null,{"$f":"Control!$C$20+Control!$C$21*A5115+Control!$C$22*A5115^2","v":1373.6364973322825},2451.0360757656658,2256.9639242343342]
[5116,2353,2359,null,null,null,null,null,null,null,null,null,{"$f":"Control!$C$20+Control!$C$21*A5116+Control!$C$22*A5116^2","v":1373.9058017695791},2450.015462685079,2255.984537314921]
[5120,2351,2300,null,null,null,null,null,null,null,null,null,{"$f":"Control!$C$20+Control!$C$21*A5120+Control!$C$22*A5120^2","v":1374.9830195093527},2447.9742233792053,2254.0257766207947]
[5123,2348,2312,null,null,null,null,null,null,null,null,null,{"$f":"Control!$C$20+Control!$C$21*A5123+Control!$C$22*A5123^2","v":1375.7909328042995},{"$f":"IF(D5123=0,B5123+2*SQRT(B5123),N5122)","v":2444.9123315166858},{"$f":"IF(D5123=0,B5123-2*SQRT(B5123),O5122)","v":2251.0876684833142}]
[5126,2346,2334,null,null,null,null,null,null,null,null,null,{"$f":"Control!$C$20+Control!$C$21*A5126+Control!$C$22*A5126^2","v":1376.5988460907743},2442.8710483064988,2249.1289516935012]
[5130,2343,2336,null,null,null,null,null,null,null,null,null,{"$f":"Control!$C$20+Control!$C$21*A5130+Control!$C$22*A5130^2","v":1377.6760637928962},2439.8090904822475,2246.1909095177525]
[5133,2384,2424,43,null,null,null,null,null,null,null,null,{"$f":"Control!$C$20+Control!$C$21*A5133+Control!$C$22*A5133^2","v":1378.4839770596038},2439.8090904822475,2246.1909095177525]
[5134,2418,2400,78,null,null,null,null,null,null,null,null,{"$f":"Control!$C$20+Control!$C$21*A5134+Control!$C$22*A5134^2","v":1378.7532814799572},2439.8090904822475,2246.1909095177525]
[5136,2521,2585,182,null,null,null,null,null,null,null,null,{"$f":"Control!$C$20+Control!$C$21*A5136+Control!$C$22*A5136^2","v":1379.2918903178399},2439.8090904822475,2246.1909095177525]
[5139,2606,2621,269,null,null,null,null,null,null,null,null,{"$f":"Control!$C$20+Control!$C$21*A5139+Control!$C$22*A5139^2","v":1380.0998035676043},2439.8090904822475,2246.1909095177525]
[5143,2424,2360,90,null,null,null,null,null,null,null,null,{"$f":"Control!$C$20+Control!$C$21*A5143+Control!$C$22*A5143^2","v":1381.1770212207787},2439.8090904822475,2246.1909095177525]
[5146,2344,2369,12,null,null,null,null,null,null,null,null,{"$f":"Control!$C$20+Control!$C$21*A5146+Control!$C$22*A5146^2","v":1381.9849344507759},2439.8090904822475,2246.1909095177525]
[5149,2329,2294,null,null,null,null,null,null,null,null,null,{"$f":"Control!$C$20+Control!$C$21*A5149+Control!$C$22*A5149^2","v":1382.7928476723014},2425.5194280961091,2232.4805719038909]
[5153,2326,2402,null,null,null,null,null,null,null,null,null,{"$f":"Control!$C$20+Control!$C$21*A5153+Control!$C$22*A5153^2","v":1383.8700652878238},2422.4572444143,2229.5427555857]
[5155,2325,2283,null,null,null,null,null,null,null,null,null,{"$f":"Control!$C$20+Control!$C$21*A5155+Control!$C$22*A5155^2","v":1384.4086740899372},2421.4365076099293,2228.5634923900707]
[5156,2324,2265,null,null,null,null,null,null,null,null,null,{"$f":"Control!$C$20+Control!$C$21*A5156+Control!$C$22*A5156^2","v":1384.6779784895821},2420.4157663455517,2227.5842336544483]
[5159,2322,2378,null,null,null,null,null,null,null,null,null,{"$f":"Control!$C$20+Control!$C$21*A5159+Control!$C$22*A5159^2","v":1385.4858916828687},2418.3742704252541,2225.6257295747459]
[5162,2320,2417,null,null,null,null,null,null,null,null,null,{"$f":"Control!$C$20+Control!$C$21*A5162+Control!$C$22*A5162^2","v":1386.2938048676835},2416.3327566303383,2223.6672433696617]
[5166,2317,2279,null,null,null,null,null,null,null,null,null,{"$f":"Control!$C$20+Control!$C$21*A5166+Control!$C$22*A5166^2","v":1387.3710224342587},2413.2704523724701,2220.7295476275299]
[5169,2315,2362,null,null,null,null,null,null,null,null,null,{"$f":"Control!$C$20+Control!$C$21*A5169+Control!$C$22*A5169^2","v":1388.1789355993062},2411.2288937897551,2218.7711062102449]
[5172,2312,2334,null,null,null,null,null,null,null,null,null,{"$f":"Control!$C$20+Control!$C$21*A5172+Control!$C$22*A5172^2","v":1388.9868487558824},2408.1665222413703,2215.8334777586297]
[5174,2311,2266,null,null,null,null,null,null,null,null,null,{"$f":"Control!$C$20+Control!$C$21*A5174+Control!$C$22*A5174^2","v":1389.5254575222266},2407.1457227337755,2214.8542772662245]
[5178,2308,2312,null,null,null,null,null,null,null,null,null,{"$f":"Control!$C$20+Control!$C$21*A5178+Control!$C$22*A5178^2","v":1390.6026750436192},2404.0832971957143,2211.9167028042857]
[5179,2307,2366,null,null,null,null,null,null,null,null,null,{"$f":"Control!$C$20+Control!$C$21*A5179+Control!$C$22*A5179^2","v":1390.8719794216142},2403.0624796681827,2210.9375203318173]
[5182,2305,2320,null,null,null,null,null,null,null,null,null,{"$f":"Control!$C$20+Control!$C$21*A5182+Control!$C$22*A5182^2","v":1391.6798925499513},2401.0208310732623,2208.9791689267377]
[5185,2303,2323,null,null,null,null,null,null,null,null,null,{"$f":"Control!$C$20+Control!$C$21*A5185+Control!$C$22*A5185^2","v":1392.4878056698169},2398.9791644056145,2207.0208355943855]
[5189,2300,2279,null,null,null,null,null,null,null,null,null,{"$f":"Control!$C$20+Control!$C$21*A5189+Control!$C$22*A5189^2","v":1393.5650231497925},2395.9166304662544,2204.0833695337456]
[5192,2298,2340,null,null,null,null,null,null,null,null,null,{"$f":"Control!$C$20+Control!$C$21*A5192+Control!$C$22*A5192^2","v":1394.3729362498907},2393.8749185136548,2202.1250814863452]
[5195,2296,2255,null,null,null,null,null,null,null,null,null,{"$f":"Control!$C$20+Control!$C$21*A5195+Control!$C$22*A5195^2","v":1395.1808493415174},2391.8331884056875,2200.1668115943125]
[5198,2293,2350,null,null,null,null,null,null,null,null,null,{"$f":"Control!$C$20+Control!$C$21*A5198+Control!$C$22*A5198^2","v":1395.9887624246721},2388.7705591505032,2197.2294408494968]
[5201,2291,2319,null,null,null,null,null,null,null,null,null,{"$f":"Control!$C$20+Control!$C$21*A5201+Control!$C$22*A5201^2","v":1396.7966754993554},2386.7287835501947,2195.2712164498053]
[5202,2290,2294,null,null,null,null,null,null,null,null,null,{"$f":"Control!$C$20+Control!$C$21*A5202+Control!$C$22*A5202^2","v":1397.0659798557006},2385.707888912043,2194.292111087957]
[5205,2288,2466,null,null,null,null,null,null,null,null,null,{"$f":"Control!$C$20+Control!$C$21*A5205+Control!$C$22*A5205^2","v":1397.8738929190881},2383.6660859448111,2192.3339140551889]
[5208,2286,2195,null,null,null,null,null,null,null,null,null,{"$f":"Control!$C$20+Control!$C$21*A5208+Control!$C$22*A5208^2","v":1398.681805974004},2381.6242647030554,2190.3757352969446]
[5212,2283,2156,null,null,null,null,null,null,null,null,null,{"$f":"Control!$C$20+Control!$C$21*A5212+Control!$C$22*A5212^2","v":1399.7590233673805},2378.5614985232023,2187.4385014767977]
[5214,2282,2358,null,null,null,null,null,null,null,null,null,{"$f":"Control!$C$20+Control!$C$21*A5214+Control!$C$22*A5214^2","v":1400.297632058421},2377.5405672999696,2186.4594327000304]
[5218,2279,2264,null,null,null,null,null,null,null,null,null,{"$f":"Control!$C$20+Control!$C$21*A5218+Control!$C$22*A5218^2","v":1401.3748494292063},2374.47774609824,2183.52225390176]
[5221,2277,2308,null,null,null,null,null,null,null,null,null,{"$f":"Control!$C$20+Control!$C$21*A5221+Control!$C$22*A5221^2","v":1402.1827624474115},2372.4358423235212,2181.5641576764788]
[5224,2274,2292,null,null,null,null,null,null,null,null,null,{"$f":"Control!$C$20+Control!$C$21*A5224+Control!$C$22*A5224^2","v":1402.9906754571452},2369.3729521405307,2178.6270478594693]
[5225,2274,2326,null,null,null,null,null,null,null,null,null,{"$f":"Control!$C$20+Control!$C$21*A5225+Control!$C$22*A5225^2","v":1403.2599797918406},2369.3729521405307,2178.6270478594693]
[5228,2271,2232,null,null,null,null,null,null,null,null,null,{"$f":"Control!$C$20+Control!$C$21*A5228+Control!$C$22*A5228^2","v":1404.0678927902788},2366.3100204595507,2175.6899795404493]
[5231,2269,2251,null,null,null,null,null,null,null,null,null,{"$f":"Control!$C$20+Control!$C$21*A5231+Control!$C$22*A5231^2","v":1404.8758057802452},2364.2680429105162,2173.7319570894838]
[5234,2267,2374,null,null,null,null,null,null,null,null,null,{"$f":"Control!$C$20+Control!$C$21*A5234+Control!$C$22*A5234^2","v":1405.68371876174},2362.2260468569393,2171.7739531430607]
[5237,2265,2292,null,null,null,null,null,null,null,null,null,{"$f":"Control!$C$20+Control!$C$21*A5237+Control!$C$22*A5237^2","v":1406.4916317347631},2360.1840322743265,2169.8159677256735]
[5241,2262,2276,null,null,null,null,null,null,null,null,null,{"$f":"Control!$C$20+Control!$C$21*A5241+Control!$C$22*A5241^2","v":1407.5688490189491},2357.1209756047529,2166.8790243952471]
[5244,2260,2258,null,null,null,null,null,null,null,null,null,{"$f":"Control!$C$20+Control!$C$21*A5244+Control!$C$22*A5244^2","v":1408.376761972205},2355.0789145920376,2164.9210854079624]
[5247,2258,2212,null,null,null,null,null,null,null,null,null,{"$f":"Control!$C$20+Control!$C$21*A5247+Control!$C$22*A5247^2","v":1409.1846749169893},2353.036834964134,2162.963165035866]
[5248,2257,2148,null,null,null,null,null,null,null,null,null,{"$f":"Control!$C$20+Control!$C$21*A5248+Control!$C$22*A5248^2","v":1409.4539792300347},2352.0157881617574,2161.9842118382426]
[5252,2254,2218,null,null,null,null,null,null,null,null,null,{"$f":"Control!$C$20+Control!$C$21*A5252+Control!$C$22*A5252^2","v":1410.5311964728037},2348.9526197637538,2159.0473802362462]
[5254,2252,2218,null,null,null,null,null,null,null,null,null,{"$f":"Control!$C$20+Control!$C$21*A5254+Control!$C$22*A5254^2","v":1411.0698050885403},2346.9104841416374,2157.0895158583626]
[5257,2250,2247,null,null,null,null,null,null,null,null,null,{"$f":"Control!$C$20+Control!$C$21*A5257+Control!$C$22*A5257^2","v":1411.8777180050856},2344.8683298050514,2155.1316701949486]
[5260,2248,2246,null,null,null,null,null,null,null,null,null,{"$f":"Control!$C$20+Control!$C$21*A5260+Control!$C$22*A5260^2","v":1412.6856309131595},2342.8261567290374,2153.1738432709626]
[5264,2245,2207,null,null,null,null,null,null,null,null,null,{"$f":"Control!$C$20+Control!$C$21*A5264+Control!$C$22*A5264^2","v":1413.7628481107461},2339.7628619238571,2150.2371380761429]
[5267,2243,2258,null,null,null,null,null,null,null,null,null,{"$f":"Control!$C$20+Control!$C$21*A5267+Control!$C$22*A5267^2","v":1414.5707609990525},2337.7206418897167,2148.2793581102833]
[5270,2241,2272,null,null,null,null,null,null,null,null,null,{"$f":"Control!$C$20+Control!$C$21*A5270+Control!$C$22*A5270^2","v":1415.3786738788872},2335.678403028357,2146.321596971643]
[5271,2240,2312,null,null,null,null,null,null,null,null,null,{"$f":"Control!$C$20+Control!$C$21*A5271+Control!$C$22*A5271^2","v":1415.6479781702828},2334.6572765295937,2145.3427234704063]
[5273,2238,2222,null,null,null,null,null,null,null,null,null,{"$f":"Control!$C$20+Control!$C$21*A5273+Control!$C$22*A5273^2","v":1416.1865867502504},2332.6150093801189,2143.3849906198811]
[5277,2236,2232,null,null,null,null,null,null,null,null,null,{"$f":"Control!$C$20+Control!$C$21*A5277+Control!$C$22*A5277^2","v":1417.2638038988896},2330.5727233402949,2141.4272766597051]
[5280,2240,2272,7,null,null,null,null,null,null,null,null,{"$f":"Control!$C$20+Control!$C$21*A5280+Control!$C$22*A5280^2","v":1418.0717167504854},2330.5727233402949,2141.4272766597051]
[5283,2282,2264,51,null,null,null,null,null,null,null,null,{"$f":"Control!$C$20+Control!$C$21*A5283+Control!$C$22*A5283^2","v":1418.8796295936095},2330.5727233402949,2141.4272766597051]
[5287,2362,2317,134,null,null,null,null,null,null,null,null,{"$f":"Control!$C$20+Control!$C$21*A5287+Control!$C$22*A5287^2","v":1419.956846704597},2330.5727233402949,2141.4272766597051]
[5290,2311,2365,85,null,null,null,null,null,null,null,null,{"$f":"Control!$C$20+Control!$C$21*A5290+Control!$C$22*A5290^2","v":1420.7647595279539},2330.5727233402949,2141.4272766597051]
[5292,2261,2202,36,null,null,null,null,null,null,null,null,{"$f":"Control!$C$20+Control!$C$21*A5292+Control!$C$22*A5292^2","v":1421.3033680721521},2330.5727233402949,2141.4272766597051]
[5293,2244,2177,20,null,null,null,null,null,null,null,null,{"$f":"Control!$C$20+Control!$C$21*A5293+Control!$C$22*A5293^2","v":1421.572672342839},2330.5727233402949,2141.4272766597051]
[5296,2224,2256,2,null,null,null,null,null,null,null,null,{"$f":"Control!$C$20+Control!$C$21*A5296+Control!$C$22*A5296^2","v":1422.3805851492527},2330.5727233402949,2141.4272766597051]
[5300,2219,2280,null,null,null,null,null,null,null,null,null,{"$f":"Control!$C$20+Control!$C$21*A5300+Control!$C$22*A5300^2","v":1423.4578022112928},2313.2125257065109,2124.7874742934891]
[5303,2216,2192,null,null,null,null,null,null,null,null,null,{"$f":"Control!$C$20+Control!$C$21*A5303+Control!$C$22*A5303^2","v":1424.2657149979391},2310.1488183675187,2121.8511816324813]
[5306,2214,2172,null,null,null,null,null,null,null,null,null,{"$f":"Control!$C$20+Control!$C$21*A5306+Control!$C$22*A5306^2","v":1425.0736277761137},2308.1063228481489,2119.8936771518511]
[5310,2211,2286,null,null,null,null,null,null,null,null,null,{"$f":"Control!$C$20+Control!$C$21*A5310+Control!$C$22*A5310^2","v":1426.1508448005018},2305.04254356407,2116.95745643593]
[5311,2211,2220,null,null,null,null,null,null,null,null,null,{"$f":"Control!$C$20+Control!$C$21*A5311+Control!$C$22*A5311^2","v":1426.4201490542457},2305.04254356407,2116.95745643593]
[5313,2209,2221,null,null,null,null,null,null,null,null,null,{"$f":"Control!$C$20+Control!$C$21*A5313+Control!$C$22*A5313^2","v":1426.9587575589094},2303,2115]
[5316,2207,2200,null,null,null,null,null,null,null,null,null,{"$f":"Control!$C$20+Control!$C$21*A5316+Control!$C$22*A5316^2","v":1427.7666703088451},2300.9574371723706,2113.0425628276294]
[5319,2205,2192,null,null,null,null,null,null,null,null,null,{"$f":"Control!$C$20+Control!$C$21*A5319+Control!$C$22*A5319^2","v":1428.5745830503092},2298.9148550549912,2111.0851449450088]
[5323,2202,2152,null,null,null,null,null,null,null,null,null,{"$f":"Control!$C$20+Control!$C$21*A5323+Control!$C$22*A5323^2","v":1429.6518000257499},2295.8509456532006,2108.1490543467994]
[5326,2200,2221,null,null,null,null,null,null,null,null,null,{"$f":"Control!$C$20+Control!$C$21*A5326+Control!$C$22*A5326^2","v":1430.4597127474467},2293.8083151964688,2106.1916848035312]
[5329,2197,2185,null,null,null,null,null,null,null,null,null,{"$f":"Control!$C$20+Control!$C$21*A5329+Control!$C$22*A5329^2","v":1431.267625460672},2290.7443331620639,2103.2556668379361]
[5332,2195,2207,null,null,null,null,null,null,null,null,null,{"$f":"Control!$C$20+Control!$C$21*A5332+Control!$C$22*A5332^2","v":1432.0755381654255},2288.7016542009796,2101.2983457990204]
[5335,2193,2262,null,null,null,null,null,null,null,null,null,{"$f":"Control!$C$20+Control!$C$21*A5335+Control!$C$22*A5335^2","v":1432.8834508617074},2286.6589557917446,2099.3410442082554]
[5336,2192,2220,null,null,null,null,null,null,null,null,null,{"$f":"Control!$C$20+Control!$C$21*A5336+Control!$C$22*A5336^2","v":1433.1527550919186},2285.637599285757,2098.362400714243]
[5339,2190,2238,null,null,null,null,null,null,null,null,null,{"$f":"Control!$C$20+Control!$C$21*A5339+Control!$C$22*A5339^2","v":1433.960667776905},2283.5948716543808,2096.4051283456192]
[5342,2188,2203,null,null,null,null,null,null,null,null,null,{"$f":"Control!$C$20+Control!$C$21*A5342+Control!$C$22*A5342^2","v":1434.7685804534196},2281.5521245082118,2094.4478754917882]
[5346,2185,2200,null,null,null,null,null,null,null,null,null,{"$f":"Control!$C$20+Control!$C$21*A5346+Control!$C$22*A5346^2","v":1435.845797342261},2278.4879671401618,2091.5120328598382]
[5349,2183,2118,null,null,null,null,null,null,null,null,null,{"$f":"Control!$C$20+Control!$C$21*A5349+Control!$C$22*A5349^2","v":1436.6537099990082},2276.4451710897893,2089.5548289102107]
[5351,2181,2056,null,null,null,null,null,null,null,null,null,{"$f":"Control!$C$20+Control!$C$21*A5351+Control!$C$22*A5351^2","v":1437.1923184321336},2274.402355430685,2087.597644569315]
[5355,2178,2114,null,null,null,null,null,null,null,null,null,{"$f":"Control!$C$20+Control!$C$21*A5355+Control!$C$22*A5355^2","v":1438.269535287088},2271.3380951166241,2084.6619048833759]
[5358,2176,2159,null,null,null,null,null,null,null,null,null,{"$f":"Control!$C$20+Control!$C$21*A5358+Control!$C$22*A5358^2","v":1439.0774479184206},2269.2952303175248,2082.7047696824752]
[5359,2175,2175,null,null,null,null,null,null,null,null,null,{"$f":"Control!$C$20+Control!$C$21*A5359+Control!$C$22*A5359^2","v":1439.346752126982},2268.2737905308882,2081.7262094691118]
[5362,2173,2146,null,null,null,null,null,null,null,null,null,{"$f":"Control!$C$20+Control!$C$21*A5362+Control!$C$22*A5362^2","v":1440.1546647470188},2266.2308961664535,2079.7691038335465]
[5365,2171,2151,null,null,null,null,null,null,null,null,null,{"$f":"Control!$C$20+Control!$C$21*A5365+Control!$C$22*A5365^2","v":1440.962577358584},2264.1879820577738,2077.8120179422262]
[5369,2168,2146,null,null,null,null,null,null,null,null,null,{"$f":"Control!$C$20+Control!$C$21*A5369+Control!$C$22*A5369^2","v":1442.039794160826},2261.1235738145824,2074.8764261854176]
[5372,2166,2202,null,null,null,null,null,null,null,null,null,{"$f":"Control!$C$20+Control!$C$21*A5372+Control!$C$22*A5372^2","v":1442.8477067526239},2259.0806102257607,2072.9193897742393]
[5375,2164,2133,null,null,null,null,null,null,null,null,null,{"$f":"Control!$C$20+Control!$C$21*A5375+Control!$C$22*A5375^2","v":1443.6556193359502},2257.0376267969041,2070.9623732030959]
[5378,2162,2102,null,null,null,null,null,null,null,null,null,{"$f":"Control!$C$20+Control!$C$21*A5378+Control!$C$22*A5378^2","v":1444.4635319108047},2254.9946235005013,2069.0053764994987]
[5381,2159,2200,null,null,null,null,null,null,null,null,null,{"$f":"Control!$C$20+Control!$C$21*A5381+Control!$C$22*A5381^2","v":1445.2714444771877},2251.9300812439114,2066.0699187560886]
[5382,2159,2162,null,null,null,null,null,null,null,null,null,{"$f":"Control!$C$20+Control!$C$21*A5382+Control!$C$22*A5382^2","v":1445.5407486640993},2251.9300812439114,2066.0699187560886]
[5385,2156,2183,null,null,null,null,null,null,null,null,null,{"$f":"Control!$C$20+Control!$C$21*A5385+Control!$C$22*A5385^2","v":1446.3486612191866},2248.865494129951,2063.134505870049]
[5389,2153,2119,null,null,null,null,null,null,null,null,null,{"$f":"Control!$C$20+Control!$C$21*A5389+Control!$C$22*A5389^2","v":1447.425877946125},2245.8008620649616,2060.1991379350384]
[5391,2152,2198,null,null,null,null,null,null,null,null,null,{"$f":"Control!$C$20+Control!$C$21*A5391+Control!$C$22*A5391^2","v":1447.9644863039464},2244.7793080379456,2059.2206919620544]
[5394,2150,2106,null,null,null,null,null,null,null,null,null,{"$f":"Control!$C$20+Control!$C$21*A5394+Control!$C$22*A5394^2","v":1448.7723988336188},2242.736184954957,2057.263815045043]
[5398,2147,2075,null,null,null,null,null,null,null,null,null,{"$f":"Control!$C$20+Control!$C$21*A5398+Control!$C$22*A5398^2","v":1449.8496155266703},2239.6714627056249,2054.3285372943751]
[5401,2145,2126,null,null,null,null,null,null,null,null,null,{"$f":"Control!$C$20+Control!$C$21*A5401+Control!$C$22*A5401^2","v":1450.6575280365755},2237.6282894152755,2052.3717105847245]
[5404,2142,2172,null,null,null,null,null,null,null,null,null,{"$f":"Control!$C$20+Control!$C$21*A5404+Control!$C$22*A5404^2","v":1451.4654405380088},2234.5634917232492,2049.4365082767508]
[5405,2142,2119,null,null,null,null,null,null,null,null,null,{"$f":"Control!$C$20+Control!$C$21*A5405+Control!$C$22*A5405^2","v":1451.7347447032707},2234.5634917232492,2049.4365082767508]
[5408,2140,2129,null,null,null,null,null,null,null,null,null,{"$f":"Control!$C$20+Control!$C$21*A5408+Control!$C$22*A5408^2","v":1452.5426571934086},2232.5202680497632,2047.479731950237]
[5412,2137,2166,null,null,null,null,null,null,null,null,null,{"$f":"Control!$C$20+Control!$C$21*A5412+Control!$C$22*A5412^2","v":1453.6198738337475},2229.4553946506098,2044.5446053493902]
[5414,2135,2188,null,null,null,null,null,null,null,null,null,{"$f":"Control!$C$20+Control!$C$21*A5414+Control!$C$22*A5414^2","v":1454.1584821482693},2227.4121204171834,2042.5878795828166]
[5417,2133,2240,null,null,null,null,null,null,null,null,null,{"$f":"Control!$C$20+Control!$C$21*A5417+Control!$C$22*A5417^2","v":1454.9663946129922},2225.3688259100441,2040.6311740899562]
[5421,2130,2138,null,null,null,null,null,null,null,null,null,{"$f":"Control!$C$20+Control!$C$21*A5421+Control!$C$22*A5421^2","v":1456.0436112194443},2222.3038460737148,2037.6961539262854]
[5424,2128,2071,null,null,null,null,null,null,null,null,null,{"$f":"Control!$C$20+Control!$C$21*A5424+Control!$C$22*A5424^2","v":1456.8515236644},2220.2605007573666,2035.7394992426337]
[5427,2127,2137,1,null,null,null,null,null,null,null,null,{"$f":"Control!$C$20+Control!$C$21*A5427+Control!$C$22*A5427^2","v":1457.659436100884},2218.2171350671879,2033.7828649328119]
[5428,2128,2158,3,null,null,null,null,null,null,null,null,{"$f":"Control!$C$20+Control!$C$21*A5428+Control!$C$22*A5428^2","v":1457.9287402444961},2218.2171350671879,2033.7828649328119]
[5431,2143,2088,20,null,null,null,null,null,null,null,null,{"$f":"Control!$C$20+Control!$C$21*A5431+Control!$C$22*A5431^2","v":1458.7366526696844},2218.2171350671879,2033.7828649328119]
[5434,2177,2168,56,null,null,null,null,null,null,null,null,{"$f":"Control!$C$20+Control!$C$21*A5434+Control!$C$22*A5434^2","v":1459.544565086401},2218.2171350671879,2033.7828649328119]
[5437,2178,2226,60,null,null,null,null,null,null,null,null,{"$f":"Control!$C$20+Control!$C$21*A5437+Control!$C$22*A5437^2","v":1460.3524774946461},2218.2171350671879,2033.7828649328119]
[5440,2140,2235,24,null,null,null,null,null,null,null,null,{"$f":"Control!$C$20+Control!$C$21*A5440+Control!$C$22*A5440^2","v":1461.1603898944195},2218.2171350671879,2033.7828649328119]
[5444,2115,2144,2,null,null,null,null,null,null,null,null,{"$f":"Control!$C$20+Control!$C$21*A5444+Control!$C$22*A5444^2","v":1462.2376064142725},2218.2171350671879,2033.7828649328119]
[5447,2111,2094,null,null,null,null,null,null,null,null,null,{"$f":"Control!$C$20+Control!$C$21*A5447+Control!$C$22*A5447^2","v":1463.0455187942787},2202.8912400612812,2019.1087599387188]
[5448,2110,2128,null,null,null,null,null,null,null,null,null,{"$f":"Control!$C$20+Control!$C$21*A5448+Control!$C$22*A5448^2","v":1463.3148229190647},2201.8694726228468,2018.1305273771532]
[5452,2107,2081,null,null,null,null,null,null,null,null,null,{"$f":"Control!$C$20+Control!$C$21*A5452+Control!$C$22*A5452^2","v":1464.3920394087963},2198.8041393402282,2015.1958606597721]
[5453,2107,2167,null,null,null,null,null,null,null,null,null,{"$f":"Control!$C$20+Control!$C$21*A5453+Control!$C$22*A5453^2","v":1464.6613435288759},2198.8041393402282,2015.1958606597721]
[5457,2104,2108,null,null,null,null,null,null,null,null,null,{"$f":"Control!$C$20+Control!$C$21*A5457+Control!$C$22*A5457^2","v":1465.7385599997815},2195.7387595294376,2012.2612404705624]
[5460,2101,2030,null,null,null,null,null,null,null,null,null,{"$f":"Control!$C$20+Control!$C$21*A5460+Control!$C$22*A5460^2","v":1466.5464723430771},2192.6733330909269,2009.3266669090733]
[5463,2099,2039,null,null,null,null,null,null,null,null,null,{"$f":"Control!$C$20+Control!$C$21*A5463+Control!$C$22*A5463^2","v":1467.354384677901},2190.6296895116425,2007.3703104883575]
[5467,2096,2090,null,null,null,null,null,null,null,null,null,{"$f":"Control!$C$20+Control!$C$21*A5467+Control!$C$22*A5467^2","v":1468.4316011111546},2187.5641851380769,2004.4358148619233]
[5470,2094,2096,null,null,null,null,null,null,null,null,null,{"$f":"Control!$C$20+Control!$C$21*A5470+Control!$C$22*A5470^2","v":1469.2395134262113},2185.5204895091806,2002.4795104908196]
[5471,2093,2085,null,null,null,null,null,null,null,null,null,{"$f":"Control!$C$20+Control!$C$21*A5471+Control!$C$22*A5471^2","v":1469.5088175293474},2184.498633869583,2001.501366130417]
[5473,2092,2081,null,null,null,null,null,null,null,null,null,{"$f":"Control!$C$20+Control!$C$21*A5473+Control!$C$22*A5473^2","v":1470.0474257327962},2183.476773008234,2000.5232269917658]
[5476,2090,2054,null,null,null,null,null,null,null,null,null,{"$f":"Control!$C$20+Control!$C$21*A5476+Control!$C$22*A5476^2","v":1470.8553380309095},2181.4330356052997,1998.5669643947003]
[5480,2087,2095,null,null,null,null,null,null,null,null,null,{"$f":"Control!$C$20+Control!$C$21*A5480+Control!$C$22*A5480^2","v":1471.9325544152157},2178.3673902440032,1995.6326097559966]
[5483,2085,2085,null,null,null,null,null,null,null,null,null,{"$f":"Control!$C$20+Control!$C$21*A5483+Control!$C$22*A5483^2","v":1472.7404666935618},2176.323600454647,1993.676399545353]
[5486,2082,1939,null,null,null,null,null,null,null,null,null,{"$f":"Control!$C$20+Control!$C$21*A5486+Control!$C$22*A5486^2","v":1473.5483789634363},2173.2578763723986,1990.7421236276014]
[5490,2079,2114,null,null,null,null,null,null,null,null,null,{"$f":"Control!$C$20+Control!$C$21*A5490+Control!$C$22*A5490^2","v":1474.6255953100906},2170.1921049214238,1987.8078950785759]
[5492,2078,2098,null,null,null,null,null,null,null,null,null,{"$f":"Control!$C$20+Control!$C$21*A5492+Control!$C$22*A5492^2","v":1475.1642034777701},2169.1701705603318,1986.8298294396682]
[5493,2077,2107,null,null,null,null,null,null,null,null,null,{"$f":"Control!$C$20+Control!$C$21*A5493+Control!$C$22*A5493^2","v":1475.4335075601978},2168.1482309208468,1985.8517690791532]
[5496,2075,2152,null,null,null,null,null,null,null,null,null,{"$f":"Control!$C$20+Control!$C$21*A5496+Control!$C$22*A5496^2","v":1476.2414198018332},2166.1043357914432,1983.895664208557]
[5499,2073,2176,null,null,null,null,null,null,null,null,null,{"$f":"Control!$C$20+Control!$C$21*A5499+Control!$C$22*A5499^2","v":1477.0493320349972},2164.0604195026576,1981.9395804973424]
[5503,2070,2048,null,null,null,null,null,null,null,null,null,{"$f":"Control!$C$20+Control!$C$21*A5503+Control!$C$22*A5503^2","v":1478.126548332704},2160.9945053286187,1979.0054946713815]
[5506,2068,2063,null,null,null,null,null,null,null,null,null,{"$f":"Control!$C$20+Control!$C$21*A5506+Control!$C$22*A5506^2","v":1478.9344605461006},2158.9505360072167,1977.0494639927833]
[5510,2065,2043,null,null,null,null,null,null,null,null,null,{"$f":"Control!$C$20+Control!$C$21*A5510+Control!$C$22*A5510^2","v":1480.0116768174512},2155.8845421400142,1974.1154578599858]
[5511,2064,2017,null,null,null,null,null,null,null,null,null,{"$f":"Control!$C$20+Control!$C$21*A5511+Control!$C$22*A5511^2","v":1480.2809808829356},2154.8625335328043,1973.1374664671957]
[5515,2061,2136,null,null,null,null,null,null,null,null,null,{"$f":"Control!$C$20+Control!$C$21*A5515+Control!$C$22*A5515^2","v":1481.3581971354604},2151.7964757025293,1970.2035242974707]
[5516,2060,2043,null,null,null,null,null,null,null,null,null,{"$f":"Control!$C$20+Control!$C$21*A5516+Control!$C$22*A5516^2","v":1481.6275011962384},2150.7744457432818,1969.2255542567182]
[5519,2058,2095,null,null,null,null,null,null,null,null,null,{"$f":"Control!$C$20+Control!$C$21*A5519+Control!$C$22*A5519^2","v":1482.4354133729244},2148.7303697777102,1967.2696302222901]
[5522,2056,2150,null,null,null,null,null,null,null,null,null,{"$f":"Control!$C$20+Control!$C$21*A5522+Control!$C$22*A5522^2","v":1483.2433255411388},2146.6862723900372,1965.3137276099628]
[5526,2053,2040,null,null,null,null,null,null,null,null,null,{"$f":"Control!$C$20+Control!$C$21*A5526+Control!$C$22*A5526^2","v":1484.3205417522463},2143.6200860736735,1962.3799139263265]
[5529,2051,2028,null,null,null,null,null,null,null,null,null,{"$f":"Control!$C$20+Control!$C$21*A5529+Control!$C$22*A5529^2","v":1485.1284539006936},2141.5759349937939,1960.4240650062061]
[5532,2049,2003,null,null,null,null,null,null,null,null,null,{"$f":"Control!$C$20+Control!$C$21*A5532+Control!$C$22*A5532^2","v":1485.9363660406689},2139.5317623820501,1958.4682376179499]
[5535,2047,2009,null,null,null,null,null,null,null,null,null,{"$f":"Control!$C$20+Control!$C$21*A5535+Control!$C$22*A5535^2","v":1486.7442781721727},2137.4875682069091,1956.5124317930911]
[5538,2044,2036,null,null,null,null,null,null,null,null,null,{"$f":"Control!$C$20+Control!$C$21*A5538+Control!$C$22*A5538^2","v":1487.5521902952048},2134.4212364436585,1953.5787635563415]
[5539,2044,2054,null,null,null,null,null,null,null,null,null,{"$f":"Control!$C$20+Control!$C$21*A5539+Control!$C$22*A5539^2","v":1487.8214943343328},2134.4212364436585,1953.5787635563415]
[5542,2041,2070,null,null,null,null,null,null,null,null,null,{"$f":"Control!$C$20+Control!$C$21*A5542+Control!$C$22*A5542^2","v":1488.6294064460694},2131.3548559846122,1950.6451440153878]
[5546,2038,2033,null,null,null,null,null,null,null,null,null,{"$f":"Control!$C$20+Control!$C$21*A5546+Control!$C$22*A5546^2","v":1489.7066225818733},2128.2884267223658,1947.7115732776342]
[5549,2036,1996,null,null,null,null,null,null,null,null,null,{"$f":"Control!$C$20+Control!$C$21*A5549+Control!$C$22*A5549^2","v":1490.5145346738425},2126.2441133814277,1945.7558866185723]
[5551,2035,2104,null,null,null,null,null,null,null,null,null,{"$f":"Control!$C$20+Control!$C$21*A5551+Control!$C$22*A5551^2","v":1491.0531427304491},2125.2219485491196,1944.7780514508804]
[5555,2032,1929,null,null,null,null,null,null,null,null,null,{"$f":"Control!$C$20+Control!$C$21*A5555+Control!$C$22*A5555^2","v":1492.1303588323663},2122.1554213566769,1941.8445786433228]
[5558,2030,1991,null,null,null,null,null,null,null,null,null,{"$f":"Control!$C$20+Control!$C$21*A5558+Control!$C$22*A5558^2","v":1492.9382708989206},2120.1110426085506,1939.8889573914496]
[5561,2027,2034,null,null,null,null,null,null,null,null,null,{"$f":"Control!$C$20+Control!$C$21*A5561+Control!$C$22*A5561^2","v":1493.7461829570032},2117.0444334759236,1936.9555665240766]
[5562,2027,2002,null,null,null,null,null,null,null,null,null,{"$f":"Control!$C$20+Control!$C$21*A5562+Control!$C$22*A5562^2","v":1494.0154869744813},2117.0444334759236,1936.9555665240766]
[5565,2025,2130,null,null,null,null,null,null,null,null,null,{"$f":"Control!$C$20+Control!$C$21*A5565+Control!$C$22*A5565^2","v":1494.8233990212684},2115,1935]
[5569,2022,2090,null,null,null,null,null,null,null,null,null,{"$f":"Control!$C$20+Control!$C$21*A5569+Control!$C$22*A5569^2","v":1495.9006150704731},2111.9333086236684,1932.0666913763316]
[5572,2019,2070,null,null,null,null,null,null,null,null,null,{"$f":"Control!$C$20+Control!$C$21*A5572+Control!$C$22*A5572^2","v":1496.7085270974928},2108.8665677546437,1929.1334322453561]
[5574,2018,2084,null,null,null,null,null,null,null,null,null,{"$f":"Control!$C$20+Control!$C$21*A5574+Control!$C$22*A5574^2","v":1497.2471351107995},2107.8443097808649,1928.1556902191353]
[5578,2181,2187,166,null,null,null,null,null,null,null,null,{"$f":"Control!$C$20+Control!$C$21*A5578+Control!$C$22*A5578^2","v":1498.3243511261176},2107.8443097808649,1928.1556902191353]
[5581,2762,2817,749,null,null,null,null,null,null,null,null,{"$f":"Control!$C$20+Control!$C$21*A5581+Control!$C$22*A5581^2","v":1499.1322631277224},2107.8443097808649,1928.1556902191353]
[5584,3309,3358,1298,null,null,null,null,null,null,null,null,{"$f":"Control!$C$20+Control!$C$21*A5584+Control!$C$22*A5584^2","v":1499.9401751208554},2107.8443097808649,1928.1556902191353]
[5585,3270,3349,1260,null,null,null,null,null,null,null,null,{"$f":"Control!$C$20+Control!$C$21*A5585+Control!$C$22*A5585^2","v":1500.209479116684},2107.8443097808649,1928.1556902191353]
[5589,2393,2385,386,null,null,null,null,null,null,null,null,{"$f":"Control!$C$20+Control!$C$21*A5589+Control!$C$22*A5589^2","v":1501.2866950905848},2107.8443097808649,1928.1556902191353]
[5591,2118,2135,113,null,null,null,null,null,null,null,null,{"$f":"Control!$C$20+Control!$C$21*A5591+Control!$C$22*A5591^2","v":1501.8253030718874},2107.8443097808649,1928.1556902191353]
[5594,2003,1984,null,null,null,null,null,null,null,null,null,{"$f":"Control!$C$20+Control!$C$21*A5594+Control!$C$22*A5594^2","v":1502.6332150367816},2092.5097760024009,1913.4902239975991]
[5597,2001,2059,null,null,null,null,null,null,null,null,null,{"$f":"Control!$C$20+Control!$C$21*A5597+Control!$C$22*A5597^2","v":1503.4411269932041},2090.4650769853802,1911.5349230146198]
[5601,1998,2020,null,null,null,null,null,null,null,null,null,{"$f":"Control!$C$20+Control!$C$21*A5601+Control!$C$22*A5601^2","v":1504.5183429219228},2087.397986554508,1908.602013445492]
[5604,1996,2007,null,null,null,null,null,null,null,null,null,{"$f":"Control!$C$20+Control!$C$21*A5604+Control!$C$22*A5604^2","v":1505.3262548585781},2085.3532316147548,1906.6467683852452]
[5605,1995,1910,null,null,null,null,null,null,null,null,null,{"$f":"Control!$C$20+Control!$C$21*A5605+Control!$C$22*A5605^2","v":1505.5955588355805},2084.3308457365092,1905.6691542634908]
[5608,1993,2068,null,null,null,null,null,null,null,null,null,{"$f":"Control!$C$20+Control!$C$21*A5608+Control!$C$22*A5608^2","v":1506.4034707609403},2082.2860571421988,1903.7139428578012]
[5610,1992,2071,null,null,null,null,null,null,null,null,null,{"$f":"Control!$C$20+Control!$C$21*A5610+Control!$C$22*A5610^2","v":1506.9420787064737},2081.2636544176858,1902.7363455823145]
[5614,1989,2025,null,null,null,null,null,null,null,null,null,{"$f":"Control!$C$20+Control!$C$21*A5614+Control!$C$22*A5614^2","v":1508.019294586245},2078.196412483911,1899.803587516089]
[5617,1986,1965,null,null,null,null,null,null,null,null,null,{"$f":"Control!$C$20+Control!$C$21*A5617+Control!$C$22*A5617^2","v":1508.8272064861897},2075.1291198206286,1896.8708801793712]
[5620,1984,1986,null,null,null,null,null,null,null,null,null,{"$f":"Control!$C$20+Control!$C$21*A5620+Control!$C$22*A5620^2","v":1509.6351183776628},2073.0842298052803,1894.9157701947197]
[5624,1981,1933,null,null,null,null,null,null,null,null,null,{"$f":"Control!$C$20+Control!$C$21*A5624+Control!$C$22*A5624^2","v":1510.712334219782},2070.0168523370717,1891.9831476629286]
[5627,1979,2050,null,null,null,null,null,null,null,null,null,{"$f":"Control!$C$20+Control!$C$21*A5627+Control!$C$22*A5627^2","v":1511.5202460914879},2067.971905678141,1890.028094321859]
[5629,1978,1944,null,null,null,null,null,null,null,null,null,{"$f":"Control!$C$20+Control!$C$21*A5629+Control!$C$22*A5629^2","v":1512.058854001252},2066.9494238317484,1889.0505761682516]
[5630,1977,2015,null,null,null,null,null,null,null,null,null,{"$f":"Control!$C$20+Control!$C$21*A5630+Control!$C$22*A5630^2","v":1512.328157954722},2065.9269363016629,1888.0730636983371]
[5633,1975,1987,null,null,null,null,null,null,null,null,null,{"$f":"Control!$C$20+Control!$C$21*A5633+Control!$C$22*A5633^2","v":1513.1360698094845},2063.8819441731557,1886.1180558268441]
[5637,1972,1896,null,null,null,null,null,null,null,null,null,{"$f":"Control!$C$20+Control!$C$21*A5637+Control!$C$22*A5637^2","v":1514.2132856026565},2060.8144132446982,1883.185586755302]
[5640,1970,1938,null,null,null,null,null,null,null,null,null,{"$f":"Control!$C$20+Control!$C$21*A5640+Control!$C$22*A5640^2","v":1515.0211974376516},2058.7693640846887,1881.2306359153115]
[5644,1967,1977,null,null,null,null,null,null,null,null,null,{"$f":"Control!$C$20+Control!$C$21*A5644+Control!$C$22*A5644^2","v":1516.0984132044673},2055.7017474461468,1878.2982525538532]
[5647,1964,1973,null,null,null,null,null,null,null,null,null,{"$f":"Control!$C$20+Control!$C$21*A5647+Control!$C$22*A5647^2","v":1516.9063250196953},2052.6340792246415,1875.3659207753587]
[5648,1964,1987,null,null,null,null,null,null,null,null,null,{"$f":"Control!$C$20+Control!$C$21*A5648+Control!$C$22*A5648^2","v":1517.175628956222},2052.6340792246415,1875.3659207753587]
[5650,1962,1944,null,null,null,null,null,null,null,null,null,{"$f":"Control!$C$20+Control!$C$21*A5650+Control!$C$22*A5650^2","v":1517.7142368264517},2050.5889383614003,1873.4110616385997]
[5653,1960,1902,null,null,null,null,null,null,null,null,null,{"$f":"Control!$C$20+Control!$C$21*A5653+Control!$C$22*A5653^2","v":1518.5221486247362},2048.5437744847145,1871.4562255152855]
[5656,1958,1936,null,null,null,null,null,null,null,null,null,{"$f":"Control!$C$20+Control!$C$21*A5656+Control!$C$22*A5656^2","v":1519.3300604145493},2046.4985875593504,1869.5014124406496]
[5660,1955,1976,null,null,null,null,null,null,null,null,null,{"$f":"Control!$C$20+Control!$C$21*A5660+Control!$C$22*A5660^2","v":1520.4072761211219},2043.4307638777366,1866.5692361222634]
[5663,1953,1897,null,null,null,null,null,null,null,null,null,{"$f":"Control!$C$20+Control!$C$21*A5663+Control!$C$22*A5663^2","v":1521.2151878911677},2041.3855191759374,1864.6144808240626]
[5667,1950,2022,null,null,null,null,null,null,null,null,null,{"$f":"Control!$C$20+Control!$C$21*A5667+Control!$C$22*A5667^2","v":1522.2924035713838},2038.3176086632784,1861.6823913367216]
[5669,1948,1941,null,null,null,null,null,null,null,null,null,{"$f":"Control!$C$20+Control!$C$21*A5669+Control!$C$22*A5669^2","v":1522.8310114058443},2036.2723059628556,1859.7276940371444]
[5672,1946,1930,null,null,null,null,null,null,null,null,null,{"$f":"Control!$C$20+Control!$C$21*A5672+Control!$C$22*A5672^2","v":1523.638923150475},2034.226980000451,1857.773019999549]
[5673,1945,1949,null,null,null,null,null,null,null,null,null,{"$f":"Control!$C$20+Control!$C$21*A5673+Control!$C$22*A5673^2","v":1523.9082270634694},2033.2043082847997,1856.7956917152003]
[5676,1943,1915,null,null,null,null,null,null,null,null,null,{"$f":"Control!$C$20+Control!$C$21*A5676+Control!$C$22*A5676^2","v":1524.7161387968047},2031.1589473621368,1854.8410526378632]
[5679,1941,1955,null,null,null,null,null,null,null,null,null,{"$f":"Control!$C$20+Control!$C$21*A5679+Control!$C$22*A5679^2","v":1525.5240505216682},2029.1135630876427,1852.8864369123573]
[5683,1938,1926,null,null,null,null,null,null,null,null,null,{"$f":"Control!$C$20+Control!$C$21*A5683+Control!$C$22*A5683^2","v":1526.6012661416414},2026.0454428122205,1849.9545571877795]
[5686,1936,1964,null,null,null,null,null,null,null,null,null,{"$f":"Control!$C$20+Control!$C$21*A5686+Control!$C$22*A5686^2","v":1527.4091778467377},2024,1848]
[5688,1934,1892,null,null,null,null,null,null,null,null,null,{"$f":"Control!$C$20+Control!$C$21*A5688+Control!$C$22*A5688^2","v":1527.9477856454287},2021.954533709184,1846.045466290816]
[5692,1932,1989,null,null,null,null,null,null,null,null,null,{"$f":"Control!$C$20+Control!$C$21*A5692+Control!$C$22*A5692^2","v":1529.0250012315153},2019.9090439033437,1844.0909560966563]
[5695,1929,1959,null,null,null,null,null,null,null,null,null,{"$f":"Control!$C$20+Control!$C$21*A5695+Control!$C$22*A5695^2","v":1529.8329129111967},2016.840765023991,1841.159234976009]
[5696,1929,1949,null,null,null,null,null,null,null,null,null,{"$f":"Control!$C$20+Control!$C$21*A5696+Control!$C$22*A5696^2","v":1530.1022168025411},2016.840765023991,1841.159234976009]
[5699,1926,1938,null,null,null,null,null,null,null,null,null,{"$f":"Control!$C$20+Control!$C$21*A5699+Control!$C$22*A5699^2","v":1530.9101284709268},{"$f":"IF(D5699=0,B5699+2*SQRT(B5699),N5698)","v":2013.7724330299668},{"$f":"IF(D5699=0,B5699-2*SQRT(B5699),O5698)","v":1838.2275669700332}]
[5703,1923,1850,null,null,null,null,null,null,null,null,null,{"$f":"Control!$C$20+Control!$C$21*A5703+Control!$C$22*A5703^2","v":1531.9873440155964},2010.7040477971227,1835.2959522028773]
[5706,1921,1920,null,null,null,null,null,null,null,null,null,{"$f":"Control!$C$20+Control!$C$21*A5706+Control!$C$22*A5706^2","v":1532.7952556642149},2008.6584280032446,1833.3415719967554]
[5709,1919,1855,null,null,null,null,null,null,null,null,null,{"$f":"Control!$C$20+Control!$C$21*A5709+Control!$C$22*A5709^2","v":1533.6031673043617},2006.6127844552379,1831.3872155447621]
[5712,1917,1960,null,null,null,null,null,null,null,null,null,{"$f":"Control!$C$20+Control!$C$21*A5712+Control!$C$22*A5712^2","v":1534.4110789360368},2004.5671171159586,1829.4328828840414]
[5715,1915,1918,null,null,null,null,null,null,null,null,null,{"$f":"Control!$C$20+Control!$C$21*A5715+Control!$C$22*A5715^2","v":1535.2189905592402},2002.5214259481643,1827.4785740518357]
[5718,1912,1927,null,null,null,null,null,null,null,null,null,{"$f":"Control!$C$20+Control!$C$21*A5718+Control!$C$22*A5718^2","v":1536.0269021739721},1999.4528444363018,1824.5471555636982]
[5719,1912,1870,null,null,null,null,null,null,null,null,null,{"$f":"Control!$C$20+Control!$C$21*A5719+Control!$C$22*A5719^2","v":1536.2962060436669},1999.4528444363018,1824.5471555636982]
[5722,1910,1914,null,null,null,null,null,null,null,null,null,{"$f":"Control!$C$20+Control!$C$21*A5722+Control!$C$22*A5722^2","v":1537.1041176471031},1997.4070935336485,1822.5929064663515]
[5726,2004,1963,97,null,null,null,null,null,null,null,null,{"$f":"Control!$C$20+Control!$C$21*A5726+Control!$C$22*A5726^2","v":1538.1813331051733},1996.3842090998139,1821.6157909001861]
[5728,2224,2224,319,null,null,null,null,null,null,null,null,{"$f":"Control!$C$20+Control!$C$21*A5728+Control!$C$22*A5728^2","v":1538.7199408285605},1996.3842090998139,1821.6157909001861]
[5731,2779,2778,876,null,null,null,null,null,null,null,null,{"$f":"Control!$C$20+Control!$C$21*A5731+Control!$C$22*A5731^2","v":1539.5278524065818},1996.3842090998139,1821.6157909001861]
[5735,2691,2664,791,null,null,null,null,null,null,null,null,{"$f":"Control!$C$20+Control!$C$21*A5735+Control!$C$22*A5735^2","v":1540.6050678307654},1996.3842090998139,1821.6157909001861]
[5738,2145,2224,247,null,null,null,null,null,null,null,null,{"$f":"Control!$C$20+Control!$C$21*A5738+Control!$C$22*A5738^2","v":1541.4129793890193},1996.3842090998139,1821.6157909001861]
[5741,1926,1888,30,null,null,null,null,null,null,null,null,{"$f":"Control!$C$20+Control!$C$21*A5741+Control!$C$22*A5741^2","v":1542.2208909388016},1996.3842090998139,1821.6157909001861]
[5742,1907,1952,12,null,null,null,null,null,null,null,null,{"$f":"Control!$C$20+Control!$C$21*A5742+Control!$C$22*A5742^2","v":1542.4901947868466},1996.3842090998139,1821.6157909001861]
[5745,1893,1928,null,null,null,null,null,null,null,null,null,{"$f":"Control!$C$20+Control!$C$21*A5745+Control!$C$22*A5745^2","v":1543.2981063253333},1980.0172396712283,1805.9827603287717]
[5749,1890,1864,null,null,null,null,null,null,null,null,null,{"$f":"Control!$C$20+Control!$C$21*A5749+Control!$C$22*A5749^2","v":1544.3753216968041},1976.9482604771367,1803.0517395228633]
[5751,1888,1989,null,null,null,null,null,null,null,null,null,{"$f":"Control!$C$20+Control!$C$21*A5751+Control!$C$22*A5751^2","v":1544.9139293768917},1974.9022439296018,1801.0977560703982]
[5754,1886,1899,null,null,null,null,null,null,null,null,null,{"$f":"Control!$C$20+Control!$C$21*A5754+Control!$C$22*A5754^2","v":1545.7218408899635},1972.8562030024339,1799.1437969975661]
[5758,1883,1876,null,null,null,null,null,null,null,null,null,{"$f":"Control!$C$20+Control!$C$21*A5758+Control!$C$22*A5758^2","v":1546.7990562275477},1969.7870958149886,1796.2129041850114]
[5761,1881,1878,null,null,null,null,null,null,null,null,null,{"$f":"Control!$C$20+Control!$C$21*A5761+Control!$C$22*A5761^2","v":1547.6069677208523},1967.7409937688058,1794.2590062311942]
[5762,1880,1851,null,null,null,null,null,null,null,null,null,{"$f":"Control!$C$20+Control!$C$21*A5762+Control!$C$22*A5762^2","v":1547.8762715500711},1966.7179335547153,1793.2820664452847]
[5765,1878,1819,null,null,null,null,null,null,null,null,null,{"$f":"Control!$C$20+Control!$C$21*A5765+Control!$C$22*A5765^2","v":1548.6841830320802},1964.6717947200818,1791.3282052799182]
[5768,1876,1788,null,null,null,null,null,null,null,null,null,{"$f":"Control!$C$20+Control!$C$21*A5768+Control!$C$22*A5768^2","v":1549.4920945056174},1962.6256313108308,1789.3743686891692]
[5771,1874,1860,null,null,null,null,null,null,null,null,null,{"$f":"Control!$C$20+Control!$C$21*A5771+Control!$C$22*A5771^2","v":1550.3000059706831},1960.5794432876535,1787.4205567123465]
[5774,1871,1791,null,null,null,null,null,null,null,null,null,{"$f":"Control!$C$20+Control!$C$21*A5774+Control!$C$22*A5774^2","v":1551.107917427277},1957.5101150155288,1784.4898849844712]
[5777,1869,1928,null,null,null,null,null,null,null,null,null,{"$f":"Control!$C$20+Control!$C$21*A5777+Control!$C$22*A5777^2","v":1551.9158288753993},1955.4638652848691,1782.5361347151309]
[5781,1866,1790,null,null,null,null,null,null,null,null,null,{"$f":"Control!$C$20+Control!$C$21*A5781+Control!$C$22*A5781^2","v":1552.9930441263841},1952.3944442658208,1779.6055557341792]
[5784,1864,1851,null,null,null,null,null,null,null,null,null,{"$f":"Control!$C$20+Control!$C$21*A5784+Control!$C$22*A5784^2","v":1553.8009555547392},1950.3481325796915,1777.6518674203085]
[5785,1863,1855,null,null,null,null,null,null,null,null,null,{"$f":"Control!$C$20+Control!$C$21*A5785+Control!$C$22*A5785^2","v":1554.0702593623084},1949.324967419629,1776.675032580371]
[5789,1860,1984,null,null,null,null,null,null,null,null,null,{"$f":"Control!$C$20+Control!$C$21*A5789+Control!$C$22*A5789^2","v":1555.1474745831717},1946.2554346113914,1773.7445653886086]
[5790,1860,1849,null,null,null,null,null,null,null,null,null,{"$f":"Control!$C$20+Control!$C$21*A5790+Control!$C$22*A5790^2","v":1555.4167783860344},1946.2554346113914,1773.7445653886086]
[5794,1857,1904,null,null,null,null,null,null,null,null,null,{"$f":"Control!$C$20+Control!$C$21*A5794+Control!$C$22*A5794^2","v":1556.4939935880718},1943.185845705661,1770.814154294339]
[5797,1855,1795,null,null,null,null,null,null,null,null,null,{"$f":"Control!$C$20+Control!$C$21*A5797+Control!$C$22*A5797^2","v":1557.3019049797163},1941.1394218694322,1768.8605781305678]
[5801,1852,1858,null,null,null,null,null,null,null,null,null,{"$f":"Control!$C$20+Control!$C$21*A5801+Control!$C$22*A5801^2","v":1558.3791201553975},1938.0697391654001,1765.9302608345999]
[5804,1849,1728,null,null,null,null,null,null,null,null,null,{"$f":"Control!$C$20+Control!$C$21*A5804+Control!$C$22*A5804^2","v":1559.1870315272747},1935,1763]
[5807,1847,1836,null,null,null,null,null,null,null,null,null,{"$f":"Control!$C$20+Control!$C$21*A5807+Control!$C$22*A5807^2","v":1559.9949428906802},1932.9534757877773,1761.0465242122227]
[5808,1847,1774,null,null,null,null,null,null,null,null,null,{"$f":"Control!$C$20+Control!$C$21*A5808+Control!$C$22*A5808^2","v":1560.2642466765994},1932.9534757877773,1761.0465242122227]
[5810,1845,1775,null,null,null,null,null,null,null,null,null,{"$f":"Control!$C$20+Control!$C$21*A5810+Control!$C$22*A5810^2","v":1560.8028542456141},1930.9069263796582,1759.0930736203418]
[5813,1843,1763,null,null,null,null,null,null,null,null,null,{"$f":"Control!$C$20+Control!$C$21*A5813+Control!$C$22*A5813^2","v":1561.6107655920764},1928.8603517346628,1757.1396482653372]
[5817,1840,1892,null,null,null,null,null,null,null,null,null,{"$f":"Control!$C$20+Control!$C$21*A5817+Control!$C$22*A5817^2","v":1562.6879807075145},1925.790442358109,1754.209557641891]
[5820,1838,1876,null,null,null,null,null,null,null,null,null,{"$f":"Control!$C$20+Control!$C$21*A5820+Control!$C$22*A5820^2","v":1563.4958920342094},1923.7438044409041,1752.2561955590959]
[5824,1835,1841,null,null,null,null,null,null,null,null,null,{"$f":"Control!$C$20+Control!$C$21*A5824+Control!$C$22*A5824^2","v":1564.5731071232913},1920.6737999624156,1749.3262000375844]
[5827,1833,1786,null,null,null,null,null,null,null,null,null,{"$f":"Control!$C$20+Control!$C$21*A5827+Control!$C$22*A5827^2","v":1565.381018430219},{"$f":"IF(D5827=0,B5827+2*SQRT(B5827),N5826)","v":1918.6270985144306},{"$f":"IF(D5827=0,B5827-2*SQRT(B5827),O5826)","v":1747.3729014855694}]
[5829,1831,1809,null,null,null,null,null,null,null,null,null,{"$f":"Control!$C$20+Control!$C$21*A5829+Control!$C$22*A5829^2","v":1565.9196259634643},1916.5803715813386,1745.4196284186614]
[5830,1830,1811,null,null,null,null,null,null,null,null,null,{"$f":"Control!$C$20+Control!$C$21*A5830+Control!$C$22*A5830^2","v":1566.188929728675},1915.5569985448296,1744.4430014551704]
[5833,1828,1897,null,null,null,null,null,null,null,null,null,{"$f":"Control!$C$20+Control!$C$21*A5833+Control!$C$22*A5833^2","v":1566.9968410186596},1913.5102333057278,1742.4897666942722]
[5836,1826,1829,null,null,null,null,null,null,null,null,null,{"$f":"Control!$C$20+Control!$C$21*A5836+Control!$C$22*A5836^2","v":1567.8047523001724},1911.463442476886,1740.536557523114]
[5840,1823,1793,null,null,null,null,null,null,null,null,null,{"$f":"Control!$C$20+Control!$C$21*A5840+Control!$C$22*A5840^2","v":1568.8819673290111},1908.3932081608368,1737.6067918391632]
[5843,1821,1844,null,null,null,null,null,null,null,null,null,{"$f":"Control!$C$20+Control!$C$21*A5843+Control!$C$22*A5843^2","v":1569.6898785907565},1906.3463531734076,1735.6536468265924]
[5847,1818,1867,null,null,null,null,null,null,null,null,null,{"$f":"Control!$C$20+Control!$C$21*A5847+Control!$C$22*A5847^2","v":1570.7670935932392},1903.2760224213114,1732.7239775786886]
[5848,1817,1815,null,null,null,null,null,null,null,null,null,{"$f":"Control!$C$20+Control!$C$21*A5848+Control!$C$22*A5848^2","v":1571.0363973415065},1902.2525659437883,1731.7474340562117]
[5852,1814,1817,null,null,null,null,null,null,null,null,null,{"$f":"Control!$C$20+Control!$C$21*A5852+Control!$C$22*A5852^2","v":1572.1136123251631},1899.1821577561875,1728.8178422438125]
[5853,1814,1815,null,null,null,null,null,null,null,null,null,{"$f":"Control!$C$20+Control!$C$21*A5853+Control!$C$22*A5853^2","v":1572.3829160687239},1899.1821577561875,1728.8178422438125]
[5856,1811,1810,null,null,null,null,null,null,null,null,null,{"$f":"Control!$C$20+Control!$C$21*A5856+Control!$C$22*A5856^2","v":1573.190827293759},1896.1116913238129,1725.8883086761871]
[5860,1808,1747,null,null,null,null,null,null,null,null,null,{"$f":"Control!$C$20+Control!$C$21*A5860+Control!$C$22*A5860^2","v":1574.268042247294},1893.0411665018771,1722.9588334981229]
[5863,1806,1909,null,null,null,null,null,null,null,null,null,{"$f":"Control!$C$20+Control!$C$21*A5863+Control!$C$22*A5863^2","v":1575.0759534525619},1890.994117443503,1721.005882556497]
[5866,1804,1811,null,null,null,null,null,null,null,null,null,{"$f":"Control!$C$20+Control!$C$21*A5866+Control!$C$22*A5866^2","v":1575.8838646493577},1888.9470423263813,1719.0529576736187]
[5869,1802,1853,null,null,null,null,null,null,null,null,null,{"$f":"Control!$C$20+Control!$C$21*A5869+Control!$C$22*A5869^2","v":1576.6917758376821},1886.8999411071645,1717.1000588928355]
[5872,1810,1804,10,null,null,null,null,null,null,null,null,{"$f":"Control!$C$20+Control!$C$21*A5872+Control!$C$22*A5872^2","v":1577.4996870175348},1884.8528137423857,1715.1471862576143]
[5875,1901,1852,104,null,null,null,null,null,null,null,null,{"$f":"Control!$C$20+Control!$C$21*A5875+Control!$C$22*A5875^2","v":1578.3075981889158},1884.8528137423857,1715.1471862576143]
[5876,1983,1896,186,null,null,null,null,null,null,null,null,{"$f":"Control!$C$20+Control!$C$21*A5876+Control!$C$22*A5876^2","v":1578.576901910827},1884.8528137423857,1715.1471862576143]
[5879,2379,2346,584,null,null,null,null,null,null,null,null,{"$f":"Control!$C$20+Control!$C$21*A5879+Control!$C$22*A5879^2","v":1579.3848130709123},1884.8528137423857,1715.1471862576143]
[5883,2447,2436,655,null,null,null,null,null,null,null,null,{"$f":"Control!$C$20+Control!$C$21*A5883+Control!$C$22*A5883^2","v":1580.4620279378482},1884.8528137423857,1715.1471862576143]
[5886,2037,1975,248,null,null,null,null,null,null,null,null,{"$f":"Control!$C$20+Control!$C$21*A5886+Control!$C$22*A5886^2","v":1581.2699390781663},1884.8528137423857,1715.1471862576143]
[5888,1866,1826,78,null,null,null,null,null,null,null,null,{"$f":"Control!$C$20+Control!$C$21*A5888+Control!$C$22*A5888^2","v":1581.8085465003387},1884.8528137423857,1715.1471862576143]
[5892,1785,1764,null,null,null,null,null,null,null,null,null,{"$f":"Control!$C$20+Control!$C$21*A5892+Control!$C$22*A5892^2","v":1582.8857613333878},1869.4985206971105,1700.5014793028895]
[5895,1783,1794,null,null,null,null,null,null,null,null,null,{"$f":"Control!$C$20+Control!$C$21*A5895+Control!$C$22*A5895^2","v":1583.693672448291},1867.4511693228696,1698.5488306771304]
[5896,1782,1795,null,null,null,null,null,null,null,null,null,{"$f":"Control!$C$20+Control!$C$21*A5896+Control!$C$22*A5896^2","v":1583.9629761513761},1866.4274836768218,1697.5725163231782]
[5899,1780,1757,null,null,null,null,null,null,null,null,null,{"$f":"Control!$C$20+Control!$C$21*A5899+Control!$C$22*A5899^2","v":1584.7708872549838},1864.3800924389159,1695.6199075610841]
[5902,1778,1810,null,null,null,null,null,null,null,null,null,{"$f":"Control!$C$20+Control!$C$21*A5902+Control!$C$22*A5902^2","v":1585.5787983501198},1862.332674569232,1693.667325430768]
[5906,1775,1699,null,null,null,null,null,null,null,null,null,{"$f":"Control!$C$20+Control!$C$21*A5906+Control!$C$22*A5906^2","v":1586.6560131304564},1859.2614977317635,1690.7385022682365]
[5909,1773,1798,null,null,null,null,null,null,null,null,null,{"$f":"Control!$C$20+Control!$C$21*A5909+Control!$C$22*A5909^2","v":1587.4639242058249},1857.2140130857092,1688.7859869142908]
[5911,1771,1779,null,null,null,null,null,null,null,null,null,{"$f":"Control!$C$20+Control!$C$21*A5911+Control!$C$22*A5911^2","v":1588.0025315846976},1855.1665016500033,1686.8334983499967]
[5915,1768,1825,null,null,null,null,null,null,null,null,null,{"$f":"Control!$C$20+Control!$C$21*A5915+Control!$C$22*A5915^2","v":1589.0797463311474},1852.0951841665146,1683.9048158334854]
[5918,1766,1815,null,null,null,null,null,null,null,null,null,{"$f":"Control!$C$20+Control!$C$21*A5918+Control!$C$22*A5918^2","v":1589.8876573811012},1850.0476055578029,1681.9523944421971]
[5919,1765,1788,null,null,null,null,null,null,null,null,null,{"$f":"Control!$C$20+Control!$C$21*A5919+Control!$C$22*A5919^2","v":1590.1569610625365},1849.0238061504001,1680.9761938495999]
[5922,1763,1808,null,null,null,null,null,null,null,null,null,{"$f":"Control!$C$20+Control!$C$21*A5922+Control!$C$22*A5922^2","v":1590.9648721011947},1846.9761871008682,1679.0238128991318]
[5925,1761,1764,null,null,null,null,null,null,null,null,null,{"$f":"Control!$C$20+Control!$C$21*A5925+Control!$C$22*A5925^2","v":1591.7727831313812},1844.9285410334292,1677.0714589665708]
[5928,1759,1744,null,null,null,null,null,null,null,null,null,{"$f":"Control!$C$20+Control!$C$21*A5928+Control!$C$22*A5928^2","v":1592.5806941530959},1842.8808679020431,1675.1191320979569]
[5931,1756,1743,null,null,null,null,null,null,null,null,null,{"$f":"Control!$C$20+Control!$C$21*A5931+Control!$C$22*A5931^2","v":1593.3886051663392},1839.8093073590278,1672.1906926409722]
[5934,1754,1783,null,null,null,null,null,null,null,null,null,{"$f":"Control!$C$20+Control!$C$21*A5934+Control!$C$22*A5934^2","v":1594.1965161711107},1837.7615663654876,1670.2384336345124]
[5938,1751,1752,null,null,null,null,null,null,null,null,null,{"$f":"Control!$C$20+Control!$C$21*A5938+Control!$C$22*A5938^2","v":1595.2737308309611},1834.6899038116308,1667.3100961883692]
[5941,1749,1743,null,null,null,null,null,null,null,null,null,{"$f":"Control!$C$20+Control!$C$21*A5941+Control!$C$22*A5941^2","v":1596.0816418159654},1832.6420946653059,1665.3579053346941]
[5942,1748,1764,null,null,null,null,null,null,null,null,null,{"$f":"Control!$C$20+Control!$C$21*A5942+Control!$C$22*A5942^2","v":1596.3509454757509},1831.6181798414675,1664.3818201585325]
[5945,1746,1745,null,null,null,null,null,null,null,null,null,{"$f":"Control!$C$20+Control!$C$21*A5945+Control!$C$22*A5945^2","v":1597.1588564494596},1829.5703296631048,1662.4296703368952]
[5947,1745,1752,null,null,null,null,null,null,null,null,null,{"$f":"Control!$C$20+Control!$C$21*A5947+Control!$C$22*A5947^2","v":1597.6974637605588},1828.5463942968217,1661.4536057031783]
[5951,1742,1716,null,null,null,null,null,null,null,null,null,{"$f":"Control!$C$20+Control!$C$21*A5951+Control!$C$22*A5951^2","v":1598.774678371462},1825.4745470188368,1658.5254529811632]
[5954,1740,1755,null,null,null,null,null,null,null,null,null,{"$f":"Control!$C$20+Control!$C$21*A5954+Control!$C$22*A5954^2","v":1599.5825893197555},1823.4266144584569,1656.5733855415431]
[5958,1737,1747,null,null,null,null,null,null,null,null,null,{"$f":"Control!$C$20+Control!$C$21*A5958+Control!$C$22*A5958^2","v":1600.6598039043022},1820.3546639366989,1653.6453360633011]
[5961,1734,1784,null,null,null,null,null,null,null,null,null,{"$f":"Control!$C$20+Control!$C$21*A5961+Control!$C$22*A5961^2","v":1601.4677148328287},1817.282651254628,1650.717348745372]
[5964,1732,1764,null,null,null,null,null,null,null,null,null,{"$f":"Control!$C$20+Control!$C$21*A5964+Control!$C$22*A5964^2","v":1602.2756257528836},1815.2346081867393,1648.7653918132607]
[5966,1731,1697,null,null,null,null,null,null,null,null,null,{"$f":"Control!$C$20+Control!$C$21*A5966+Control!$C$22*A5966^2","v":1602.8142330282135},1814.2105762508588,1647.7894237491412]
[5967,1730,1703,null,null,null,null,null,null,null,null,null,{"$f":"Control!$C$20+Control!$C$21*A5967+Control!$C$22*A5967^2","v":1603.0835366644665},1813.1865373723417,1646.8134626276583]
[5970,1728,1613,null,null,null,null,null,null,null,null,null,{"$f":"Control!$C$20+Control!$C$21*A5970+Control!$C$22*A5970^2","v":1603.8914475675781},1811.1384387633061,1644.8615612366939]
[5974,1725,1682,null,null,null,null,null,null,null,null,null,{"$f":"Control!$C$20+Control!$C$21*A5974+Control!$C$22*A5974^2","v":1604.9686620918817},1808.0662386291808,1641.9337613708192]
[5977,1723,1756,null,null,null,null,null,null,null,null,null,{"$f":"Control!$C$20+Control!$C$21*A5977+Control!$C$22*A5977^2","v":1605.7765729752259},1806.018070322069,1639.981929677931]
[5981,1720,1757,null,null,null,null,null,null,null,null,null,{"$f":"Control!$C$20+Control!$C$21*A5981+Control!$C$22*A5981^2","v":1606.8537874731733},1802.9457654133109,1637.0542345866891]
[5984,1718,1723,null,null,null,null,null,null,null,null,null,{"$f":"Control!$C$20+Control!$C$21*A5984+Control!$C$22*A5984^2","v":1607.6616983367503},1800.8975271042509,1635.1024728957491]
[5985,1717,1791,null,null,null,null,null,null,null,null,null,{"$f":"Control!$C$20+Control!$C$21*A5985+Control!$C$22*A5985^2","v":1607.9310019560601},1799.8733974204026,1634.1266025795974]
[5987,1715,1699,null,null,null,null,null,null,null,null,null,{"$f":"Control!$C$20+Control!$C$21*A5987+Control!$C$22*A5987^2","v":1608.4696091918556},1797.8251169633945,1632.1748830366055]
[5990,1713,1689,null,null,null,null,null,null,null,null,null,{"$f":"Control!$C$20+Control!$C$21*A5990+Control!$C$22*A5990^2","v":1609.2775200384892},1795.7768083462995,1630.2231916537005]
[5993,1711,1639,null,null,null,null,null,null,null,null,null,{"$f":"Control!$C$20+Control!$C$21*A5993+Control!$C$22*A5993^2","v":1610.0854308766511},1793.7284715197857,1628.2715284802143]
[5997,1708,1680,null,null,null,null,null,null,null,null,null,{"$f":"Control!$C$20+Control!$C$21*A5997+Control!$C$22*A5997^2","v":1611.1626453143556},1790.6559132790874,1625.3440867209126]
[6000,1706,1787,null,null,null,null,null,null,null,null,null,{"$f":"Control!$C$20+Control!$C$21*A6000+Control!$C$22*A6000^2","v":1611.9705561327503},1788.6075057122534,1623.3924942877466]
[6004,1703,1679,null,null,null,null,null,null,null,null,null,{"$f":"Control!$C$20+Control!$C$21*A6004+Control!$C$22*A6004^2","v":1613.0477705440985},1785.5348411278535,1620.4651588721465]
[6006,1701,1636,null,null,null,null,null,null,null,null,null,{"$f":"Control!$C$20+Control!$C$21*A6006+Control!$C$22*A6006^2","v":1613.5863777441248},1783.486362509205,1618.513637490795]
[6009,1699,1740,null,null,null,null,null,null,null,null,null,{"$f":"Control!$C$20+Control!$C$21*A6009+Control!$C$22*A6009^2","v":1614.3942885371043},1781.4378553820998,1616.5621446179002]
[6010,1699,1676,null,null,null,null,null,null,null,null,null,{"$f":"Control!$C$20+Control!$C$21*A6010+Control!$C$22*A6010^2","v":1614.6635921328816},1781.4378553820998,1616.5621446179002]
[6013,1696,1692,null,null,null,null,null,null,null,null,null,{"$f":"Control!$C$20+Control!$C$21*A6013+Control!$C$22*A6013^2","v":1615.4715029145659},1778.3650411278959,1613.6349588721041]
[6017,1693,1653,null,null,null,null,null,null,null,null,null,{"$f":"Control!$C$20+Control!$C$21*A6017+Control!$C$22*A6017^2","v":1616.5487172769665},1775.292162445764,1610.707837554236]
[6020,1691,1622,null,null,null,null,null,null,null,null,null,{"$f":"Control!$C$20+Control!$C$21*A6020+Control!$C$22*A6020^2","v":1617.3566280388834},1773.2435407798084,1608.7564592201916]
[6023,1740,1810,51,null,null,null,null,null,null,null,null,{"$f":"Control!$C$20+Control!$C$21*A6023+Control!$C$22*A6023^2","v":1618.1645387923286},1773.2435407798084,1608.7564592201916]
[6025,1848,1904,160,null,null,null,null,null,null,null,null,{"$f":"Control!$C$20+Control!$C$21*A6025+Control!$C$22*A6025^2","v":1618.7031459565856},1773.2435407798084,1608.7564592201916]
[6029,2169,2171,484,null,null,null,null,null,null,null,null,{"$f":"Control!$C$20+Control!$C$21*A6029+Control!$C$22*A6029^2","v":1619.780360273804},1773.2435407798084,1608.7564592201916]
[6032,2078,2084,396,null,null,null,null,null,null,null,null,{"$f":"Control!$C$20+Control!$C$21*A6032+Control!$C$22*A6032^2","v":1620.5882710018343},1773.2435407798084,1608.7564592201916]
[6033,1986,1962,304,null,null,null,null,null,null,null,null,{"$f":"Control!$C$20+Control!$C$21*A6033+Control!$C$22*A6033^2","v":1620.8575745759617},1773.2435407798084,1608.7564592201916]
[6036,1755,1770,76,null,null,null,null,null,null,null,null,{"$f":"Control!$C$20+Control!$C$21*A6036+Control!$C$22*A6036^2","v":1621.6654852926965},1773.2435407798084,1608.7564592201916]
[6040,1677,1658,null,null,null,null,null,null,null,null,null,{"$f":"Control!$C$20+Control!$C$21*A6040+Control!$C$22*A6040^2","v":1622.7426995684978},1758.9023809177731,1595.0976190822269]
[6043,1674,1652,null,null,null,null,null,null,null,null,null,{"$f":"Control!$C$20+Control!$C$21*A6043+Control!$C$22*A6043^2","v":1623.5506102654651},1755.829090181915,1592.170909818085]
[6046,1672,1726,null,null,null,null,null,null,null,null,null,{"$f":"Control!$C$20+Control!$C$21*A6046+Control!$C$22*A6046^2","v":1624.358520953961},1753.7801932010434,1590.2198067989566]
[6049,1670,1681,null,null,null,null,null,null,null,null,null,{"$f":"Control!$C$20+Control!$C$21*A6049+Control!$C$22*A6049^2","v":1625.166431633985},1751.7312669668102,1588.2687330331898]
[6052,1668,1626,null,null,null,null,null,null,null,null,null,{"$f":"Control!$C$20+Control!$C$21*A6052+Control!$C$22*A6052^2","v":1625.9743423055374},1749.6823114266485,1586.3176885733515]
[6053,1667,1623,null,null,null,null,null,null,null,null,null,{"$f":"Control!$C$20+Control!$C$21*A6053+Control!$C$22*A6053^2","v":1626.243645860839},1748.6578226503743,1585.3421773496257]
[6056,1665,1682,null,null,null,null,null,null,null,null,null,{"$f":"Control!$C$20+Control!$C$21*A6056+Control!$C$22*A6056^2","v":1627.0515565210958},1746.6088230524126,1583.3911769475874]
[6059,1663,1681,null,null,null,null,null,null,null,null,null,{"$f":"Control!$C$20+Control!$C$21*A6059+Control!$C$22*A6059^2","v":1627.8594671728811},1744.5597940164148,1581.4402059835852]
[6063,1660,1601,null,null,null,null,null,null,null,null,null,{"$f":"Control!$C$20+Control!$C$21*A6063+Control!$C$22*A6063^2","v":1628.9366813620832},1741.4861951498535,1578.5138048501465]
[6065,1658,1685,null,null,null,null,null,null,null,null,null,{"$f":"Control!$C$20+Control!$C$21*A6065+Control!$C$22*A6065^2","v":1629.4752884510362},1739.4370922860094,1576.5629077139906]
[6068,1656,1686,null,null,null,null,null,null,null,null,null,{"$f":"Control!$C$20+Control!$C$21*A6068+Control!$C$22*A6068^2","v":1630.2831990774066},1737.3879597975033,1574.6120402024967]
[6072,1653,1635,null,null,null,null,null,null,null,null,null,{"$f":"Control!$C$20+Control!$C$21*A6072+Control!$C$22*A6072^2","v":1631.3604132327218},1734.3142054010245,1571.6857945989755]
[6075,1651,1680,null,null,null,null,null,null,null,null,null,{"$f":"Control!$C$20+Control!$C$21*A6075+Control!$C$22*A6075^2","v":1632.1683238393248},1732.2649986156403,1569.7350013843597]
[6076,1650,1665,null,null,null,null,null,null,null,null,null,{"$f":"Control!$C$20+Control!$C$21*A6076+Control!$C$22*A6076^2","v":1632.4376273729765},1731.2403840463596,1568.7596159536404]
[6079,1648,1654,null,null,null,null,null,null,null,null,null,{"$f":"Control!$C$20+Control!$C$21*A6079+Control!$C$22*A6079^2","v":1633.245537968284},1729.1911325207377,1566.8088674792623]
[6082,1646,1664,null,null,null,null,null,null,null,null,null,{"$f":"Control!$C$20+Control!$C$21*A6082+Control!$C$22*A6082^2","v":1634.0534485551195},1727.1418511004031,1564.8581488995969]
[6086,1643,1650,null,null,null,null,null,null,null,null,null,{"$f":"Control!$C$20+Control!$C$21*A6086+Control!$C$22*A6086^2","v":1635.1306626577223},1724.0678727980451,1561.9321272019549]
[6088,1641,1719,null,null,null,null,null,null,null,null,null,{"$f":"Control!$C$20+Control!$C$21*A6088+Control!$C$22*A6088^2","v":1635.6692697033759},1722.0185164021163,1559.9814835978837]
[6091,1639,1674,null,null,null,null,null,null,null,null,null,{"$f":"Control!$C$20+Control!$C$21*A6091+Control!$C$22*A6091^2","v":1636.4771802647967},1719.9691299199887,1558.0308700800113]
[6095,1636,1624,null,null,null,null,null,null,null,null,null,{"$f":"Control!$C$20+Control!$C$21*A6095+Control!$C$22*A6095^2","v":1637.5543943335126},1716.8949936646268,1555.1050063353732]
[6098,1634,1604,null,null,null,null,null,null,null,null,null,{"$f":"Control!$C$20+Control!$C$21*A6098+Control!$C$22*A6098^2","v":1638.3623048751663},1714.845531725631,1553.154468274369]
[6099,1633,1574,null,null,null,null,null,null,null,null,null,{"$f":"Control!$C$20+Control!$C$21*A6099+Control!$C$22*A6099^2","v":1638.6316083871679},1713.8207894047071,1552.1792105952929]
[6102,1631,1606,null,null,null,null,null,null,null,null,null,{"$f":"Control!$C$20+Control!$C$21*A6102+Control!$C$22*A6102^2","v":1639.4395189175259},1711.7712820252348,1550.2287179747652]
[6105,1629,1617,null,null,null,null,null,null,null,null,null,{"$f":"Control!$C$20+Control!$C$21*A6105+Control!$C$22*A6105^2","v":1640.2474294394121},1709.7217442824422,1548.2782557175578]
[6108,1627,1623,null,null,null,null,null,null,null,null,null,{"$f":"Control!$C$20+Control!$C$21*A6108+Control!$C$22*A6108^2","v":1641.0553399528267},1707.6721761203949,1546.3278238796051]
[6111,1625,1665,null,null,null,null,null,null,null,null,null,{"$f":"Control!$C$20+Control!$C$21*A6111+Control!$C$22*A6111^2","v":1641.8632504577695},1705.6225774829854,1544.3774225170146]
[6115,1622,1618,null,null,null,null,null,null,null,null,null,{"$f":"Control!$C$20+Control!$C$21*A6115+Control!$C$22*A6115^2","v":1642.9404644511819},1702.5481222624092,1541.4518777375908]
[6118,1619,1703,null,null,null,null,null,null,null,null,null,{"$f":"Control!$C$20+Control!$C$21*A6118+Control!$C$22*A6118^2","v":1643.7483749363575},1699.4735981549229,1538.5264018450771]
[6121,1617,1612,null,null,null,null,null,null,null,null,null,{"$f":"Control!$C$20+Control!$C$21*A6121+Control!$C$22*A6121^2","v":1644.5562854130615},1697.4238770515324,1536.5761229484676]
[6122,1616,1631,null,null,null,null,null,null,null,null,null,{"$f":"Control!$C$20+Control!$C$21*A6122+Control!$C$22*A6122^2","v":1644.8255889034135},1696.3990049689671,1535.6009950310329]
[6126,1614,1607,null,null,null,null,null,null,null,null,null,{"$f":"Control!$C$20+Control!$C$21*A6126+Control!$C$22*A6126^2","v":1645.9028028554089},1694.3492377064026,1533.6507622935974]
[6127,1613,1635,null,null,null,null,null,null,null,null,null,{"$f":"Control!$C$20+Control!$C$21*A6127+Control!$C$22*A6127^2","v":1646.1721063410544},1693.3243425120927,1532.6756574879073]
[6131,1610,1650,null,null,null,null,null,null,null,null,null,{"$f":"Control!$C$20+Control!$C$21*A6131+Control!$C$22*A6131^2","v":1647.2493202742237},1690.2496105909554,1529.7503894090446]
[6134,1608,1592,null,null,null,null,null,null,null,null,null,{"$f":"Control!$C$20+Control!$C$21*A6134+Control!$C$22*A6134^2","v":1648.0572307142172},1688.1997506230537,1527.8002493769463]
[6138,1605,1726,null,null,null,null,null,null,null,null,null,{"$f":"Control!$C$20+Control!$C$21*A6138+Control!$C$22*A6138^2","v":1649.1344446210301},1685.1249024960405,1524.8750975039595]
[6141,1603,1545,null,null,null,null,null,null,null,null,null,{"$f":"Control!$C$20+Control!$C$21*A6141+Control!$C$22*A6141^2","v":1649.9423550412564},1683.0749648766705,1522.9250351233295]
[6144,1600,1651,null,null,null,null,null,null,null,null,null,{"$f":"Control!$C$20+Control!$C$21*A6144+Control!$C$22*A6144^2","v":1650.7502654530108},1680,1520]
[6145,1600,1616,null,null,null,null,null,null,null,null,null,{"$f":"Control!$C$20+Control!$C$21*A6145+Control!$C$22*A6145^2","v":1651.019568921713},1680,1520]
[6147,1598,1681,null,null,null,null,null,null,null,null,null,{"$f":"Control!$C$20+Control!$C$21*A6147+Control!$C$22*A6147^2","v":1651.5581758562937},{"$f":"IF(D6147=0,B6147+2*SQRT(B6147),N6146)","v":1677.9499843652268},{"$f":"IF(D6147=0,B6147-2*SQRT(B6147),O6146)","v":1518.0500156347732}]
[6150,1596,1635,null,null,null,null,null,null,null,null,null,{"$f":"Control!$C$20+Control!$C$21*A6150+Control!$C$22*A6150^2","v":1652.3660862511047},1675.8999374217526,1516.1000625782474]
[6154,1593,1597,null,null,null,null,null,null,null,null,null,{"$f":"Control!$C$20+Control!$C$21*A6154+Control!$C$22*A6154^2","v":1653.4433000976749},1672.8248081739005,1513.1751918260995]
[6157,1591,1650,null,null,null,null,null,null,null,null,null,{"$f":"Control!$C$20+Control!$C$21*A6157+Control!$C$22*A6157^2","v":1654.2512104727186},1670.7746827007165,1511.2253172992835]
[6161,1588,1554,null,null,null,null,null,null,null,null,null,{"$f":"Control!$C$20+Control!$C$21*A6161+Control!$C$22*A6161^2","v":1655.3284242929324},1667.6994353806851,1508.3005646193149]
[6164,1586,1571,null,null,null,null,null,null,null,null,null,{"$f":"Control!$C$20+Control!$C$21*A6164+Control!$C$22*A6164^2","v":1656.1363346482092},1665.6492310069596,1506.3507689930404]
[6166,1584,1632,null,null,null,null,null,null,null,null,null,{"$f":"Control!$C$20+Control!$C$21*A6166+Control!$C$22*A6166^2","v":1656.6749415470204},1663.5989949685295,1504.4010050314705]
[6167,1584,1591,null,null,null,null,null,null,null,null,null,{"$f":"Control!$C$20+Control!$C$21*A6167+Control!$C$22*A6167^2","v":1656.9442449950141},1663.5989949685295,1504.4010050314705]
[6170,1590,1621,9,null,null,null,null,null,null,null,null,{"$f":"Control!$C$20+Control!$C$21*A6170+Control!$C$22*A6170^2","v":1657.7521553333474},1662.573865056311,1503.426134943689]
[6174,1678,1680,100,null,null,null,null,null,null,null,null,{"$f":"Control!$C$20+Control!$C$21*A6174+Control!$C$22*A6174^2","v":1658.8293691046138},1662.573865056311,1503.426134943689]
[6177,1802,1836,226,null,null,null,null,null,null,null,null,{"$f":"Control!$C$20+Control!$C$21*A6177+Control!$C$22*A6177^2","v":1659.6372794231797},1662.573865056311,1503.426134943689]
[6180,1791,1871,217,null,null,null,null,null,null,null,null,{"$f":"Control!$C$20+Control!$C$21*A6180+Control!$C$22*A6180^2","v":1660.4451897332742},1662.573865056311,1503.426134943689]
[6184,1624,1610,53,null,null,null,null,null,null,null,null,{"$f":"Control!$C$20+Control!$C$21*A6184+Control!$C$22*A6184^2","v":1661.5224034668886},1662.573865056311,1503.426134943689]
[6185,1600,1560,30,null,null,null,null,null,null,null,null,{"$f":"Control!$C$20+Control!$C$21*A6185+Control!$C$22*A6185^2","v":1661.7917068979391},1662.573865056311,1503.426134943689]
[6189,1567,1557,null,null,null,null,null,null,null,null,null,{"$f":"Control!$C$20+Control!$C$21*A6189+Control!$C$22*A6189^2","v":1662.8689206127274},1646.1707016515579,1487.8292983484421]
[6190,1567,1536,null,null,null,null,null,null,null,null,null,{"$f":"Control!$C$20+Control!$C$21*A6190+Control!$C$22*A6190^2","v":1663.1382240390715},1646.1707016515579,1487.8292983484421]
[6193,1564,1563,null,null,null,null,null,null,null,null,null,{"$f":"Control!$C$20+Control!$C$21*A6193+Control!$C$22*A6193^2","v":1663.9461343124551},1643.0948797331407,1484.9051202668593]
[6197,1562,1550,null,null,null,null,null,null,null,null,null,{"$f":"Control!$C$20+Control!$C$21*A6197+Control!$C$22*A6197^2","v":1665.0233479971223},1641.0442913814779,1482.9557086185221]
[6200,1559,1608,null,null,null,null,null,null,null,null,null,{"$f":"Control!$C$20+Control!$C$21*A6200+Control!$C$22*A6200^2","v":1665.8312582507388},1637.9683480895985,1480.0316519104015]
[6203,1557,1504,null,null,null,null,null,null,null,null,null,{"$f":"Control!$C$20+Control!$C$21*A6203+Control!$C$22*A6203^2","v":1666.6391684958837},1635.9176786277953,1478.0823213722047]
[6206,1555,1563,null,null,null,null,null,null,null,null,null,{"$f":"Control!$C$20+Control!$C$21*A6206+Control!$C$22*A6206^2","v":1667.447078732557},1633.8669766125215,1476.1330233874785]
[6209,1553,1571,null,null,null,null,null,null,null,null,null,{"$f":"Control!$C$20+Control!$C$21*A6209+Control!$C$22*A6209^2","v":1668.2549889607587},1631.8162419809521,1474.1837580190479]
[6210,1552,1569,null,null,null,null,null,null,null,null,null,{"$f":"Control!$C$20+Control!$C$21*A6210+Control!$C$22*A6210^2","v":1668.5242923682765},1630.7908624143688,1473.2091375856312]
[6213,1550,1573,null,null,null,null,null,null,null,null,null,{"$f":"Control!$C$20+Control!$C$21*A6213+Control!$C$22*A6213^2","v":1669.3322025851826},1628.7400787401182,1471.2599212598818]
[6216,1548,1619,null,null,null,null,null,null,null,null,null,{"$f":"Control!$C$20+Control!$C$21*A6216+Control!$C$22*A6216^2","v":1670.1401127936169},1626.6892622916239,1469.3107377083761]
[6220,1545,1457,null,null,null,null,null,null,null,null,null,{"$f":"Control!$C$20+Control!$C$21*A6220+Control!$C$22*A6220^2","v":1671.2173263916848},1623.6129760281342,1466.3870239718658]
[6223,1542,1546,null,null,null,null,null,null,null,null,null,{"$f":"Control!$C$20+Control!$C$21*A6223+Control!$C$22*A6223^2","v":1672.0252365803517},1620.5366156642874,1463.4633843357126]
[6225,1541,1480,null,null,null,null,null,null,null,null,null,{"$f":"Control!$C$20+Control!$C$21*A6225+Control!$C$22*A6225^2","v":1672.5638433680901},1619.5111457055621,1462.4888542944379]
[6229,1538,1514,null,null,null,null,null,null,null,null,null,{"$f":"Control!$C$20+Control!$C$21*A6229+Control!$C$22*A6229^2","v":1673.6410569322711},1616.4346862045104,1459.5653137954896]
[6232,1536,1529,null,null,null,null,null,null,null,null,null,{"$f":"Control!$C$20+Control!$C$21*A6232+Control!$C$22*A6232^2","v":1674.4489670955231},1614.3836717690617,1457.6163282309383]
[6233,1535,1579,null,null,null,null,null,null,null,null,null,{"$f":"Control!$C$20+Control!$C$21*A6233+Control!$C$22*A6233^2","v":1674.7182704813913},1613.3581520966388,1456.6418479033612]
[6236,1533,1503,null,null,null,null,null,null,null,null,null,{"$f":"Control!$C$20+Control!$C$21*A6236+Control!$C$22*A6236^2","v":1675.5261806333478},1611.3070878018075,1454.6929121981925]
[6239,1531,1542,null,null,null,null,null,null,null,null,null,{"$f":"Control!$C$20+Control!$C$21*A6239+Control!$C$22*A6239^2","v":1676.3340907768327},1609.2559901860554,1452.7440098139446]
[6243,1528,1518,null,null,null,null,null,null,null,null,null,{"$f":"Control!$C$20+Control!$C$21*A6243+Control!$C$22*A6243^2","v":1677.4113042883012},1606.1792811427683,1449.8207188572317]
[6246,1526,1512,null,null,null,null,null,null,null,null,null,{"$f":"Control!$C$20+Control!$C$21*A6246+Control!$C$22*A6246^2","v":1678.2192144120188},1604.1280999384985,1447.8719000615015]
[6248,1524,1603,null,null,null,null,null,null,null,null,null,{"$f":"Control!$C$20+Control!$C$21*A6248+Control!$C$22*A6248^2","v":1678.7578211564573},1602.0768851837724,1445.9231148162276]
[6252,1521,1505,null,null,null,null,null,null,null,null,null,{"$f":"Control!$C$20+Control!$C$21*A6252+Control!$C$22*A6252^2","v":1679.8350346340392},1599,1443]
[6255,1519,1467,null,null,null,null,null,null,null,null,null,{"$f":"Control!$C$20+Control!$C$21*A6255+Control!$C$22*A6255^2","v":1680.6429447323417},1596.9487010796204,1441.0512989203796]
[6256,1518,1563,null,null,null,null,null,null,null,null,null,{"$f":"Control!$C$20+Control!$C$21*A6256+Control!$C$22*A6256^2","v":1680.91224809656},1595.9230389551126,1440.0769610448874]
[6259,1516,1556,null,null,null,null,null,null,null,null,null,{"$f":"Control!$C$20+Control!$C$21*A6259+Control!$C$22*A6259^2","v":1681.720158183567},1593.8716893357271,1438.1283106642729]
[6262,1514,1431,null,null,null,null,null,null,null,null,null,{"$f":"Control!$C$20+Control!$C$21*A6262+Control!$C$22*A6262^2","v":1682.5280682621026},1591.820305833375,1436.179694166625]
[6265,1512,1555,null,null,null,null,null,null,null,null,null,{"$f":"Control!$C$20+Control!$C$21*A6265+Control!$C$22*A6265^2","v":1683.3359783321662},1589.7688883808944,1434.2311116191056]
[6268,1510,1555,null,null,null,null,null,null,null,null,null,{"$f":"Control!$C$20+Control!$C$21*A6268+Control!$C$22*A6268^2","v":1684.1438883937583},1587.7174369109018,1432.2825630890982]
[6272,1507,1556,null,null,null,null,null,null,null,null,null,{"$f":"Control!$C$20+Control!$C$21*A6272+Control!$C$22*A6272^2","v":1685.2211017960362},1584.6401957751266,1429.3598042248734]
[6275,1504,1502,null,null,null,null,null,null,null,null,null,{"$f":"Control!$C$20+Control!$C$21*A6275+Control!$C$22*A6275^2","v":1686.0290118378612},{"$f":"IF(D6275=0,B6275+2*SQRT(B6275),N6274)","v":1581.5628777186612},{"$f":"IF(D6275=0,B6275-2*SQRT(B6275),O6274)","v":1426.4371222813388}]
[6278,1502,1491,null,null,null,null,null,null,null,null,null,{"$f":"Control!$C$20+Control!$C$21*A6278+Control!$C$22*A6278^2","v":1686.8369218712141},1579.5112895003044,1424.4887104996956]
[6279,1501,1523,null,null,null,null,null,null,null,null,null,{"$f":"Control!$C$20+Control!$C$21*A6279+Control!$C$22*A6279^2","v":1687.1062252137826},1578.485482511242,1423.514517488758]
[6282,1499,1535,null,null,null,null,null,null,null,null,null,{"$f":"Control!$C$20+Control!$C$21*A6282+Control!$C$22*A6282^2","v":1687.9141352358404},1576.4338427304237,1421.5661572695763]
[6286,1496,1536,null,null,null,null,null,null,null,null,null,{"$f":"Control!$C$20+Control!$C$21*A6286+Control!$C$22*A6286^2","v":1688.9913485854056},1573.3563184232548,1418.6436815767452]
[6288,1495,1533,null,null,null,null,null,null,null,null,null,{"$f":"Control!$C$20+Control!$C$21*A6288+Control!$C$22*A6288^2","v":1689.5299552545405},1572.3304597167248,1417.6695402832752]
[6291,1493,1527,null,null,null,null,null,null,null,null,null,{"$f":"Control!$C$20+Control!$C$21*A6291+Control!$C$22*A6291^2","v":1690.3378652511831},1570.2787163454466,1415.7212836545534]
[6295,1490,1551,null,null,null,null,null,null,null,null,null,{"$f":"Control!$C$20+Control!$C$21*A6295+Control!$C$22*A6295^2","v":1691.4150785668617},1567.2010362624751,1412.7989637375249]
[6298,1488,1510,null,null,null,null,null,null,null,null,null,{"$f":"Control!$C$20+Control!$C$21*A6298+Control!$C$22*A6298^2","v":1692.2229885437371},1565.1492060879436,1410.8507939120564]
[6301,1485,1542,null,null,null,null,null,null,null,null,null,{"$f":"Control!$C$20+Control!$C$21*A6301+Control!$C$22*A6301^2","v":1693.0308985121408},1562.0713954719909,1407.9286045280091]
[6303,1484,1523,null,null,null,null,null,null,null,null,null,{"$f":"Control!$C$20+Control!$C$21*A6303+Control!$C$22*A6303^2","v":1693.5695051530367},1561.0454411370329,1406.9545588629671]
[6304,1483,1466,null,null,null,null,null,null,null,null,null,{"$f":"Control!$C$20+Control!$C$21*A6304+Control!$C$22*A6304^2","v":1693.8388084720727},1560.0194780558788,1405.9805219441212]
[6308,1480,1392,null,null,null,null,null,null,null,null,null,{"$f":"Control!$C$20+Control!$C$21*A6308+Control!$C$22*A6308^2","v":1694.9160217388039},1556.9415362466855,1403.0584637533145]
[6311,1478,1476,null,null,null,null,null,null,null,null,null,{"$f":"Control!$C$20+Control!$C$21*A6311+Control!$C$22*A6311^2","v":1695.7239316789687},1554.8895311469644,1401.1104688530356]
[6314,1476,1579,null,null,null,null,null,null,null,null,null,{"$f":"Control!$C$20+Control!$C$21*A6314+Control!$C$22*A6314^2","v":1696.5318416106618},1552.8374908491942,1399.1625091508058]
[6318,1476,1445,3,null,null,null,null,null,null,null,null,{"$f":"Control!$C$20+Control!$C$21*A6318+Control!$C$22*A6318^2","v":1697.6090548397412},1550.7854152818099,1397.2145847181901]
[6321,1495,1451,24,null,null,null,null,null,null,null,null,{"$f":"Control!$C$20+Control!$C$21*A6321+Control!$C$22*A6321^2","v":1698.4169647516669},1550.7854152818099,1397.2145847181901]
[6322,1510,1522,40,null,null,null,null,null,null,null,null,{"$f":"Control!$C$20+Control!$C$21*A6322+Control!$C$22*A6322^2","v":1698.6862680537597},1550.7854152818099,1397.2145847181901]
[6324,1551,1516,83,null,null,null,null,null,null,null,null,{"$f":"Control!$C$20+Control!$C$21*A6324+Control!$C$22*A6324^2","v":1699.2248746551213},1550.7854152818099,1397.2145847181901]
[6327,1588,1631,122,null,null,null,null,null,null,null,null,{"$f":"Control!$C$20+Control!$C$21*A6327+Control!$C$22*A6327^2","v":1700.0327845501038},1550.7854152818099,1397.2145847181901]
[6331,1518,1480,55,null,null,null,null,null,null,null,null,{"$f":"Control!$C$20+Control!$C$21*A6331+Control!$C$22*A6331^2","v":1701.1099977302356},1550.7854152818099,1397.2145847181901]
[6334,1472,1498,11,null,null,null,null,null,null,null,null,{"$f":"Control!$C$20+Control!$C$21*A6334+Control!$C$22*A6334^2","v":1701.9179076054509},1550.7854152818099,1397.2145847181901]
[6337,1459,1524,null,null,null,null,null,null,null,null,null,{"$f":"Control!$C$20+Control!$C$21*A6337+Control!$C$22*A6337^2","v":1702.7258174721946},1535.3937170191371,1382.6062829808629]
[6341,1456,1440,null,null,null,null,null,null,null,null,null,{"$f":"Control!$C$20+Control!$C$21*A6341+Control!$C$22*A6341^2","v":1703.8030306146745},1532.3151361133557,1379.6848638866443]
[6343,1455,1412,null,null,null,null,null,null,null,null,null,{"$f":"Control!$C$20+Control!$C$21*A6343+Control!$C$22*A6343^2","v":1704.3416371802668},1531.2889244910425,1378.7110755089575]
[6346,1452,1415,null,null,null,null,null,null,null,null,null,{"$f":"Control!$C$20+Control!$C$21*A6346+Control!$C$22*A6346^2","v":1705.1495470215955},1528.2102355330305,1375.7897644669695]
[6347,1452,1460,null,null,null,null,null,null,null,null,null,{"$f":"Control!$C$20+Control!$C$21*A6347+Control!$C$22*A6347^2","v":1705.4188503001558},1528.2102355330305,1375.7897644669695]
[6350,1449,1422,null,null,null,null,null,null,null,null,null,{"$f":"Control!$C$20+Control!$C$21*A6350+Control!$C$22*A6350^2","v":1706.2267601301887},1525.1314652426972,1372.8685347573028]
[6354,1447,1397,null,null,null,null,null,null,null,null,null,{"$f":"Control!$C$20+Control!$C$21*A6354+Control!$C$22*A6354^2","v":1707.3039732237214},1523.0789064064409,1370.9210935935591]
[6357,1444,1462,null,null,null,null,null,null,null,null,null,{"$f":"Control!$C$20+Control!$C$21*A6357+Control!$C$22*A6357^2","v":1708.1118830339872},1520,1368]
[6360,1442,1396,null,null,null,null,null,null,null,null,null,{"$f":"Control!$C$20+Control!$C$21*A6360+Control!$C$22*A6360^2","v":1708.9197928357812},1517.9473501841901,1366.0526498158099]
[6362,1441,1446,null,null,null,null,null,null,null,null,null,{"$f":"Control!$C$20+Control!$C$21*A6362+Control!$C$22*A6362^2","v":1709.4583993656042},1516.9210115844091,1365.0789884155909]
[6366,1438,1426,null,null,null,null,null,null,null,null,null,{"$f":"Control!$C$20+Control!$C$21*A6366+Control!$C$22*A6366^2","v":1710.5356124139546},1513.8419409034341,1362.1580590965659]
[6367,1437,1421,null,null,null,null,null,null,null,null,null,{"$f":"Control!$C$20+Control!$C$21*A6367+Control!$C$22*A6367^2","v":1710.8049156736888},1512.8155656840995,1361.1844343159005]
[6370,1435,1352,null,null,null,null,null,null,null,null,null,{"$f":"Control!$C$20+Control!$C$21*A6370+Control!$C$22*A6370^2","v":1711.6128254472442},1510.7627876995032,1359.2372123004968]
[6373,1433,1398,null,null,null,null,null,null,null,null,null,{"$f":"Control!$C$20+Control!$C$21*A6373+Control!$C$22*A6373^2","v":1712.4207352123276},1508.7099729229908,1357.2900270770092]
[6377,1430,1401,null,null,null,null,null,null,null,null,null,{"$f":"Control!$C$20+Control!$C$21*A6377+Control!$C$22*A6377^2","v":1713.4979482192609},1505.6306816047561,1354.3693183952439]
[6380,1427,1432,null,null,null,null,null,null,null,null,null,{"$f":"Control!$C$20+Control!$C$21*A6380+Control!$C$22*A6380^2","v":1714.3058579645774},1502.5513070700963,1351.4486929299037]
[6383,1425,1380,null,null,null,null,null,null,null,null,null,{"$f":"Control!$C$20+Control!$C$21*A6383+Control!$C$22*A6383^2","v":1715.1137677014219},1500.4983443527076,1349.5016556472924]
[6386,1423,1388,null,null,null,null,null,null,null,null,null,{"$f":"Control!$C$20+Control!$C$21*A6386+Control!$C$22*A6386^2","v":1715.921677429795},1498.4453444554401,1347.5546555445599]
[6389,1421,1422,null,null,null,null,null,null,null,null,null,{"$f":"Control!$C$20+Control!$C$21*A6389+Control!$C$22*A6389^2","v":1716.7295871496963},1496.392307299883,1345.607692700117]
[6390,1420,1435,null,null,null,null,null,null,null,null,null,{"$f":"Control!$C$20+Control!$C$21*A6390+Control!$C$22*A6390^2","v":1716.9988903877809},1495.3657747256671,1344.6342252743329]
[6393,1418,1406,null,null,null,null,null,null,null,null,null,{"$f":"Control!$C$20+Control!$C$21*A6393+Control!$C$22*A6393^2","v":1717.8068000963865},1493.3126815350508,1342.6873184649492]
[6396,1416,1430,null,null,null,null,null,null,null,null,null,{"$f":"Control!$C$20+Control!$C$21*A6396+Control!$C$22*A6396^2","v":1718.6147097965206},1491.2595508889071,1340.7404491110929]
[6400,1413,1429,null,null,null,null,null,null,null,null,null,{"$f":"Control!$C$20+Control!$C$21*A6400+Control!$C$22*A6400^2","v":1719.6919227168546},1488.1797845168501,1337.8202154831499]
[6402,1411,1420,null,null,null,null,null,null,null,null,null,{"$f":"Control!$C$20+Control!$C$21*A6402+Control!$C$22*A6402^2","v":1720.2305291713737},1486.1265598839718,1335.8734401160282]
[6405,1409,1423,null,null,null,null,null,null,null,null,null,{"$f":"Control!$C$20+Control!$C$21*A6405+Control!$C$22*A6405^2","v":1721.038438846093},1484.0732975164938,1333.9267024835062]
[6409,1406,1409,null,null,null,null,null,null,null,null,null,{"$f":"Control!$C$20+Control!$C$21*A6409+Control!$C$22*A6409^2","v":1722.1156517325401},1480.9933330370106,1331.0066669629894]
[6412,1404,1374,null,null,null,null,null,null,null,null,null,{"$f":"Control!$C$20+Control!$C$21*A6412+Control!$C$22*A6412^2","v":1722.9235613874921},1478.9399759807807,1329.0600240192193]
[6413,1403,1442,null,null,null,null,null,null,null,null,null,{"$f":"Control!$C$20+Control!$C$21*A6413+Control!$C$22*A6413^2","v":1723.1928646039266},1477.9132832013122,1328.0867167986878]
[6416,1401,1409,null,null,null,null,null,null,null,null,null,{"$f":"Control!$C$20+Control!$C$21*A6416+Control!$C$22*A6416^2","v":1724.000774247583},1475.8598690888516,1326.1401309111484]
[6419,1399,1432,null,null,null,null,null,null,null,null,null,{"$f":"Control!$C$20+Control!$C$21*A6419+Control!$C$22*A6419^2","v":1724.8086838827676},1473.8064168370602,1324.1935831629398]
[6423,1396,1397,null,null,null,null,null,null,null,null,null,{"$f":"Control!$C$20+Control!$C$21*A6423+Control!$C$22*A6423^2","v":1725.8858967165022},1470.7261667690777,1321.2738332309223]
[6425,1395,1415,null,null,null,null,null,null,null,null,null,{"$f":"Control!$C$20+Control!$C$21*A6425+Control!$C$22*A6425^2","v":1726.4245031277219},1469.6993975879325,1320.3006024120675]
[6429,1392,1387,null,null,null,null,null,null,null,null,null,{"$f":"Control!$C$20+Control!$C$21*A6429+Control!$C$22*A6429^2","v":1727.5017159388653},1466.6190324247104,1317.3809675752896]
[6432,1389,1428,null,null,null,null,null,null,null,null,null,{"$f":"Control!$C$20+Control!$C$21*A6432+Control!$C$22*A6432^2","v":1728.3096255373393},1463.538580614337,1314.461419385663]
[6435,1387,1381,null,null,null,null,null,null,null,null,null,{"$f":"Control!$C$20+Control!$C$21*A6435+Control!$C$22*A6435^2","v":1729.1175351273416},1461.4848977981442,1312.5151022018558]
[6436,1386,1392,null,null,null,null,null,null,null,null,null,{"$f":"Control!$C$20+Control!$C$21*A6436+Control!$C$22*A6436^2","v":1729.3868383221266},1460.4580418759451,1311.5419581240549]
[6439,1384,1416,null,null,null,null,null,null,null,null,null,{"$f":"Control!$C$20+Control!$C$21*A6439+Control!$C$22*A6439^2","v":1730.1947479008334},1458.404300950953,1309.595699049047]
[6442,1382,1393,null,null,null,null,null,null,null,null,null,{"$f":"Control!$C$20+Control!$C$21*A6442+Control!$C$22*A6442^2","v":1731.0026574710685},1456.3505211817644,1307.6494788182356]
[6445,1380,1445,null,null,null,null,null,null,null,null,null,{"$f":"Control!$C$20+Control!$C$21*A6445+Control!$C$22*A6445^2","v":1731.8105670328318},1454.2967024840268,1305.7032975159732]
[6448,1378,1344,null,null,null,null,null,null,null,null,null,{"$f":"Control!$C$20+Control!$C$21*A6448+Control!$C$22*A6448^2","v":1732.6184765861237},1452.2428447730824,1303.7571552269176]
[6452,1375,1411,null,null,null,null,null,null,null,null,null,{"$f":"Control!$C$20+Control!$C$21*A6452+Control!$C$22*A6452^2","v":1733.6956893106681},1449.1619848709565,1300.8380151290435]
[6455,1373,1384,null,null,null,null,null,null,null,null,null,{"$f":"Control!$C$20+Control!$C$21*A6455+Control!$C$22*A6455^2","v":1734.5035988441925},1447.1080292545955,1298.8919707454045]
[6458,1370,1350,null,null,null,null,null,null,null,null,null,{"$f":"Control!$C$20+Control!$C$21*A6458+Control!$C$22*A6458^2","v":1735.3115083692453},1444.0270220932871,1295.9729779067129]
[6459,1370,1356,null,null,null,null,null,null,null,null,null,{"$f":"Control!$C$20+Control!$C$21*A6459+Control!$C$22*A6459^2","v":1735.5808115423804},1444.0270220932871,1295.9729779067129]
[6463,1367,1358,null,null,null,null,null,null,null,null,null,{"$f":"Control!$C$20+Control!$C$21*A6463+Control!$C$22*A6463^2","v":1736.6580242255077},1440.9459261893446,1293.0540738106554]
[6465,1365,1303,0,null,null,null,null,null,null,null,null,{"$f":"Control!$C$20+Control!$C$21*A6465+Control!$C$22*A6465^2","v":1737.1966305614235},1438.8918128076448,1291.1081871923552]
[6468,1368,1322,5,null,null,null,null,null,null,null,null,{"$f":"Control!$C$20+Control!$C$21*A6468+Control!$C$22*A6468^2","v":1738.0045400582374},1438.8918128076448,1291.1081871923552]
[6471,1386,1392,25,null,null,null,null,null,null,null,null,{"$f":"Control!$C$20+Control!$C$21*A6471+Control!$C$22*A6471^2","v":1738.8124495465797},1438.8918128076448,1291.1081871923552]
[6475,1418,1409,60,null,null,null,null,null,null,null,null,{"$f":"Control!$C$20+Control!$C$21*A6475+Control!$C$22*A6475^2","v":1739.8896621845247},1438.8918128076448,1291.1081871923552]
[6478,1400,1373,44,null,null,null,null,null,null,null,null,{"$f":"Control!$C$20+Control!$C$21*A6478+Control!$C$22*A6478^2","v":1740.6975716530997},1438.8918128076448,1291.1081871923552]
[6481,1367,1377,14,null,null,null,null,null,null,null,null,{"$f":"Control!$C$20+Control!$C$21*A6481+Control!$C$22*A6481^2","v":1741.5054811132031},1438.8918128076448,1291.1081871923552]
[6482,1361,1356,8,null,null,null,null,null,null,null,null,{"$f":"Control!$C$20+Control!$C$21*A6482+Control!$C$22*A6482^2","v":1741.7747842646884},1438.8918128076448,1291.1081871923552]
[6484,1353,1358,2,null,null,null,null,null,null,null,null,{"$f":"Control!$C$20+Control!$C$21*A6484+Control!$C$22*A6484^2","v":1742.3133905648349},1438.8918128076448,1291.1081871923552]
[6488,1348,1365,null,null,null,null,null,null,null,null,null,{"$f":"Control!$C$20+Control!$C$21*A6488+Control!$C$22*A6488^2","v":1743.3906031538322},1421.4302390027433,1274.5697609972567]
[6491,1346,1320,null,null,null,null,null,null,null,null,null,{"$f":"Control!$C$20+Control!$C$21*A6491+Control!$C$22*A6491^2","v":1744.1985125856968},1419.3757453113765,1272.6242546886235]
[6494,1344,1361,null,null,null,null,null,null,null,null,null,{"$f":"Control!$C$20+Control!$C$21*A6494+Control!$C$22*A6494^2","v":1745.0064220090896},1417.3212111192934,1270.6787888807066]
[6498,1341,1327,null,null,null,null,null,null,null,null,null,{"$f":"Control!$C$20+Control!$C$21*A6498+Control!$C$22*A6498^2","v":1746.0836345604353},1414.2393336944021,1267.7606663055979]
[6501,1339,1285,null,null,null,null,null,null,null,null,null,{"$f":"Control!$C$20+Control!$C$21*A6501+Control!$C$22*A6501^2","v":1746.8915439640607},1412.184697854128,1265.815302145872]
[6503,1337,1394,null,null,null,null,null,null,null,null,null,{"$f":"Control!$C$20+Control!$C$21*A6503+Control!$C$22*A6503^2","v":1747.4301502284382},1410.1300211951288,1263.8699788048712]
[6504,1337,1374,null,null,null,null,null,null,null,null,null,{"$f":"Control!$C$20+Control!$C$21*A6504+Control!$C$22*A6504^2","v":1747.6994533592147},1410.1300211951288,1263.8699788048712]
[6507,1334,1354,null,null,null,null,null,null,null,null,null,{"$f":"Control!$C$20+Control!$C$21*A6507+Control!$C$22*A6507^2","v":1748.5073627458969},1407.0479294709987,1260.9520705290013]
[6511,1332,1280,null,null,null,null,null,null,null,null,null,{"$f":"Control!$C$20+Control!$C$21*A6511+Control!$C$22*A6511^2","v":1749.5845752482951},1404.9931503635787,1259.0068496364213]
[6514,1329,1307,null,null,null,null,null,null,null,null,null,{"$f":"Control!$C$20+Control!$C$21*A6514+Control!$C$22*A6514^2","v":1750.3924846152102},1401.9109045342327,1256.0890954657673]
[6517,1327,1352,null,null,null,null,null,null,null,null,null,{"$f":"Control!$C$20+Control!$C$21*A6517+Control!$C$22*A6517^2","v":1751.2003939736535},1399.8560224003479,1254.1439775996521]
[6521,1324,1328,null,null,null,null,null,null,null,null,null,{"$f":"Control!$C$20+Control!$C$21*A6521+Control!$C$22*A6521^2","v":1752.2776064383997},1396.7736215946411,1251.2263784053589]
[6522,1323,1342,null,null,null,null,null,null,null,null,null,{"$f":"Control!$C$20+Control!$C$21*A6522+Control!$C$22*A6522^2","v":1752.546909552233},1395.7461339178928,1250.2538660821072]
[6524,1322,1367,null,null,null,null,null,null,null,null,null,{"$f":"Control!$C$20+Control!$C$21*A6524+Control!$C$22*A6524^2","v":1753.0855157770759},1394.7186358507913,1249.2813641492087]
[6527,1320,1297,null,null,null,null,null,null,null,null,null,{"$f":"Control!$C$20+Control!$C$21*A6527+Control!$C$22*A6527^2","v":1753.8934251072803},1392.6636084983397,1247.3363915016603]
[6530,1318,1276,null,null,null,null,null,null,null,null,null,{"$f":"Control!$C$20+Control!$C$21*A6530+Control!$C$22*A6530^2","v":1754.7013344290131},1390.6085394426855,1245.3914605573145]
[6534,1315,1296,null,null,null,null,null,null,null,null,null,{"$f":"Control!$C$20+Control!$C$21*A6534+Control!$C$22*A6534^2","v":1755.7785468448119},1387.525857457875,1242.474142542125]
[6537,1312,1297,null,null,null,null,null,null,null,null,null,{"$f":"Control!$C$20+Control!$C$21*A6537+Control!$C$22*A6537^2","v":1756.5864561467774},1384.4430811050993,1239.5569188949007]
[6540,1310,1286,null,null,null,null,null,null,null,null,null,{"$f":"Control!$C$20+Control!$C$21*A6540+Control!$C$22*A6540^2","v":1757.3943654402715},1382.3878442834155,1237.6121557165845]
[6543,1308,1391,null,null,null,null,null,null,null,null,null,{"$f":"Control!$C$20+Control!$C$21*A6543+Control!$C$22*A6543^2","v":1758.2022747252936},1380.3325652801004,1235.6674347198996]
[6546,1306,1292,null,null,null,null,null,null,null,null,null,{"$f":"Control!$C$20+Control!$C$21*A6546+Control!$C$22*A6546^2","v":1759.0101840018442},1378.2772439983705,1233.7227560016295]
[6547,1305,1277,null,null,null,null,null,null,null,null,null,{"$f":"Control!$C$20+Control!$C$21*A6547+Control!$C$22*A6547^2","v":1759.279487092145},1377.2495674727538,1232.7504325272462]
[6550,1303,1300,null,null,null,null,null,null,null,null,null,{"$f":"Control!$C$20+Control!$C$21*A6550+Control!$C$22*A6550^2","v":1760.0873963573999},1375.1941825911201,1230.8058174088799]
[6553,1301,1225,null,null,null,null,null,null,null,null,null,{"$f":"Control!$C$20+Control!$C$21*A6553+Control!$C$22*A6553^2","v":1760.8953056141834},1373.1387551874857,1228.8612448125143]
[6557,1298,1220,null,null,null,null,null,null,null,null,null,{"$f":"Control!$C$20+Control!$C$21*A6557+Control!$C$22*A6557^2","v":1761.9725179433829},1370.0555341386073,1225.9444658613927]
[6560,1296,1293,null,null,null,null,null,null,null,null,null,{"$f":"Control!$C$20+Control!$C$21*A6560+Control!$C$22*A6560^2","v":1762.7804271803989},1368,1224]
[6562,1294,1335,null,null,null,null,null,null,null,null,null,{"$f":"Control!$C$20+Control!$C$21*A6562+Control!$C$22*A6562^2","v":1763.3190333337031},1365.9444229944197,1222.0555770055803]
[6566,1291,1303,null,null,null,null,null,null,null,null,null,{"$f":"Control!$C$20+Control!$C$21*A6566+Control!$C$22*A6566^2","v":1764.396245629016},1362.8609768928868,1219.1390231071132]
[6569,1289,1312,null,null,null,null,null,null,null,null,null,{"$f":"Control!$C$20+Control!$C$21*A6569+Control!$C$22*A6569^2","v":1765.2041548406171},1360.805292284065,1217.194707715935]
[6570,1288,1375,null,null,null,null,null,null,null,null,null,{"$f":"Control!$C$20+Control!$C$21*A6570+Control!$C$22*A6570^2","v":1765.4734579092681},1359.7774337797055,1216.2225662202945]
[6573,1286,1225,null,null,null,null,null,null,null,null,null,{"$f":"Control!$C$20+Control!$C$21*A6573+Control!$C$22*A6573^2","v":1766.2813671095735},1357.7216843081644,1214.2783156918356]
[6576,1284,1242,null,null,null,null,null,null,null,null,null,{"$f":"Control!$C$20+Control!$C$21*A6576+Control!$C$22*A6576^2","v":1767.0892763014074},1355.6658914686757,1212.3341085313243]
[6580,1281,1311,null,null,null,null,null,null,null,null,null,{"$f":"Control!$C$20+Control!$C$21*A6580+Control!$C$22*A6580^2","v":1768.1664885440077},1352.5821206726932,1209.4178793273068]
[6583,1279,1259,null,null,null,null,null,null,null,null,null,{"$f":"Control!$C$20+Control!$C$21*A6583+Control!$C$22*A6583^2","v":1768.9743977160742},1350.5262189689906,1207.4737810310094]
[6586,1277,1292,null,null,null,null,null,null,null,null,null,{"$f":"Control!$C$20+Control!$C$21*A6586+Control!$C$22*A6586^2","v":1769.782306879669},1348.4702735408225,1205.5297264591775]
[6589,1274,1269,null,null,null,null,null,null,null,null,null,{"$f":"Control!$C$20+Control!$C$21*A6589+Control!$C$22*A6589^2","v":1770.5902160347923},1345.3862731902991,1202.6137268097009]
[6592,1272,1306,null,null,null,null,null,null,null,null,null,{"$f":"Control!$C$20+Control!$C$21*A6592+Control!$C$22*A6592^2","v":1771.3981251814439},1343.330218000508,1200.669781999492]
[6593,1271,1303,null,null,null,null,null,null,null,null,null,{"$f":"Control!$C$20+Control!$C$21*A6593+Control!$C$22*A6593^2","v":1771.6674282284453},1342.3021738799036,1199.6978261200964]
[6596,1269,1240,null,null,null,null,null,null,null,null,null,{"$f":"Control!$C$20+Control!$C$21*A6596+Control!$C$22*A6596^2","v":1772.4753373638011},1340.2460525222275,1197.7539474777725]
[6599,1267,1220,null,null,null,null,null,null,null,null,null,{"$f":"Control!$C$20+Control!$C$21*A6599+Control!$C$22*A6599^2","v":1773.2832464906855},1338.1898869222307,1195.8101130777693]
[6602,1265,1206,null,null,null,null,null,null,null,null,null,{"$f":"Control!$C$20+Control!$C$21*A6602+Control!$C$22*A6602^2","v":1774.0911556090982},1336.1336769751149,1193.8663230248851]
[6605,1263,1339,null,null,null,null,null,null,null,null,null,{"$f":"Control!$C$20+Control!$C$21*A6605+Control!$C$22*A6605^2","v":1774.8990647190392},1334.0774225756675,1191.9225774243325]
[6609,1260,1272,null,null,null,null,null,null,null,null,null,{"$f":"Control!$C$20+Control!$C$21*A6609+Control!$C$22*A6609^2","v":1775.976276852449},1330.9929573971954,1189.0070426028046]
[6612,1258,1287,null,null,null,null,null,null,null,null,null,{"$f":"Control!$C$20+Control!$C$21*A6612+Control!$C$22*A6612^2","v":1776.7841859426228},1328.9365914038729,1187.0634085961271]
[6615,1289,1254,34,null,null,null,null,null,null,null,null,{"$f":"Control!$C$20+Control!$C$21*A6615+Control!$C$22*A6615^2","v":1777.5920950243249},1327.9083916049433,1186.0916083950567]
[6616,1326,1306,71,null,null,null,null,null,null,null,null,{"$f":"Control!$C$20+Control!$C$21*A6616+Control!$C$22*A6616^2","v":1777.8613980496762},1327.9083916049433,1186.0916083950567]
[6619,1653,1715,401,null,null,null,null,null,null,null,null,{"$f":"Control!$C$20+Control!$C$21*A6619+Control!$C$22*A6619^2","v":1778.6693071200827},1327.9083916049433,1186.0916083950567]
[6623,2395,2353,1146,null,null,null,null,null,null,null,null,{"$f":"Control!$C$20+Control!$C$21*A6623+Control!$C$22*A6623^2","v":1779.7465192007799},1327.9083916049433,1186.0916083950567]
[6625,2382,2321,1134,null,null,null,null,null,null,null,null,{"$f":"Control!$C$20+Control!$C$21*A6625+Control!$C$22*A6625^2","v":1780.2851252354808},1327.9083916049433,1186.0916083950567]
[6628,1817,1829,571,null,null,null,null,null,null,null,null,{"$f":"Control!$C$20+Control!$C$21*A6628+Control!$C$22*A6628^2","v":1781.0930342804722},1327.9083916049433,1186.0916083950567]
[6632,1309,1309,66,null,null,null,null,null,null,null,null,{"$f":"Control!$C$20+Control!$C$21*A6632+Control!$C$22*A6632^2","v":1782.1702463272827},1327.9083916049433,1186.0916083950567]
[6635,1241,1291,null,null,null,null,null,null,null,null,null,{"$f":"Control!$C$20+Control!$C$21*A6635+Control!$C$22*A6635^2","v":1782.978155352507},1311.4556598152342,1170.5443401847658]
[6638,1238,1210,null,null,null,null,null,null,null,null,null,{"$f":"Control!$C$20+Control!$C$21*A6638+Control!$C$22*A6638^2","v":1783.7860643692597},1308.3704483430367,1167.6295516569633]
[6639,1238,1273,null,null,null,null,null,null,null,null,null,{"$f":"Control!$C$20+Control!$C$21*A6639+Control!$C$22*A6639^2","v":1784.0553673729612},1308.3704483430367,1167.6295516569633]
[6642,1236,1194,null,null,null,null,null,null,null,null,null,{"$f":"Control!$C$20+Control!$C$21*A6642+Control!$C$22*A6642^2","v":1784.8632763784183},1306.3135833249878,1165.6864166750122]
[6645,1233,1205,null,null,null,null,null,null,null,null,null,{"$f":"Control!$C$20+Control!$C$21*A6645+Control!$C$22*A6645^2","v":1785.6711853754036},1303.2281994643176,1162.7718005356824]
[6648,1231,1295,null,null,null,null,null,null,null,null,null,{"$f":"Control!$C$20+Control!$C$21*A6648+Control!$C$22*A6648^2","v":1786.4790943639173},1301.1712191713953,1160.8287808286047]
[6651,1229,1221,null,null,null,null,null,null,null,null,null,{"$f":"Control!$C$20+Control!$C$21*A6651+Control!$C$22*A6651^2","v":1787.2870033439594},1299.1141925718325,1158.8858074281675]
[6655,1226,1178,null,null,null,null,null,null,null,null,null,{"$f":"Control!$C$20+Control!$C$21*A6655+Control!$C$22*A6655^2","v":1788.3642153041706},1296.0285656000465,1155.9714343999535]
[6658,1224,1277,null,null,null,null,null,null,null,null,null,{"$f":"Control!$C$20+Control!$C$21*A6658+Control!$C$22*A6658^2","v":1789.1721242644453},1293.9714227381437,1154.0285772618563]
[6659,1223,1181,null,null,null,null,null,null,null,null,null,{"$f":"Control!$C$20+Control!$C$21*A6659+Control!$C$22*A6659^2","v":1789.4414272493211},{"$f":"IF(D6659=0,B6659+2*SQRT(B6659),N6658)","v":1292.9428338001828},{"$f":"IF(D6659=0,B6659-2*SQRT(B6659),O6658)","v":1153.0571661998172}]
[6661,1222,1235,null,null,null,null,null,null,null,null,null,{"$f":"Control!$C$20+Control!$C$21*A6661+Control!$C$22*A6661^2","v":1789.9800332162486},1291.9142331717942,1152.0857668282058]
[6664,1219,1200,null,null,null,null,null,null,null,null,null,{"$f":"Control!$C$20+Control!$C$21*A6664+Control!$C$22*A6664^2","v":1790.7879421595799},1288.8283610003843,1149.1716389996157]
[6668,1216,1231,null,null,null,null,null,null,null,null,null,{"$f":"Control!$C$20+Control!$C$21*A6668+Control!$C$22*A6668^2","v":1791.8651540708438},1285.7423830966509,1146.2576169033491]
[6671,1214,1256,null,null,null,null,null,null,null,null,null,{"$f":"Control!$C$20+Control!$C$21*A6671+Control!$C$22*A6671^2","v":1792.6730629944079},1283.6850055607374,1144.3149944392626]
[6674,1212,1164,null,null,null,null,null,null,null,null,null,{"$f":"Control!$C$20+Control!$C$21*A6674+Control!$C$22*A6674^2","v":1793.4809719095006},1281.6275807421168,1142.3724192578832]
[6678,1209,1175,null,null,null,null,null,null,null,null,null,{"$f":"Control!$C$20+Control!$C$21*A6678+Control!$C$22*A6678^2","v":1794.5581837831123},1278.5413546028549,1139.4586453971451]
[6680,1208,1162,null,null,null,null,null,null,null,null,null,{"$f":"Control!$C$20+Control!$C$21*A6680+Control!$C$22*A6680^2","v":1795.0967897142705},1277.512588787931,1138.487411212069]
[6681,1207,1193,null,null,null,null,null,null,null,null,null,{"$f":"Control!$C$20+Control!$C$21*A6681+Control!$C$22*A6681^2","v":1795.3660926784378},1276.4838110641608,1137.5161889358392]
[6684,1205,1178,null,null,null,null,null,null,null,null,null,{"$f":"Control!$C$20+Control!$C$21*A6684+Control!$C$22*A6684^2","v":1796.1740015652913},1274.426219830839,1135.573780169161]
[6687,1203,1235,null,null,null,null,null,null,null,null,null,{"$f":"Control!$C$20+Control!$C$21*A6687+Control!$C$22*A6687^2","v":1796.9819104436733},1272.3685807840984,1133.6314192159016]
[6691,1200,1227,null,null,null,null,null,null,null,null,null,{"$f":"Control!$C$20+Control!$C$21*A6691+Control!$C$22*A6691^2","v":1798.0591222683377},1269.2820323027552,1130.7179676972448]
[6694,1197,1254,null,null,null,null,null,null,null,null,null,{"$f":"Control!$C$20+Control!$C$21*A6694+Control!$C$22*A6694^2","v":1798.8670311269525},1266.1953755680247,1127.8046244319753]
[6697,1195,1152,null,null,null,null,null,null,null,null,null,{"$f":"Control!$C$20+Control!$C$21*A6697+Control!$C$22*A6697^2","v":1799.6749399770956},1264.1375440697743,1125.8624559302257]
[6699,1194,1225,null,null,null,null,null,null,null,null,null,{"$f":"Control!$C$20+Control!$C$21*A6699+Control!$C$22*A6699^2","v":1800.2135458724845},1263.1086101726839,1124.8913898273161]
[6703,1191,1237,null,null,null,null,null,null,null,null,null,{"$f":"Control!$C$20+Control!$C$21*A6703+Control!$C$22*A6703^2","v":1801.2907576519667},1260.0217357069496,1121.9782642930504]
[6704,1190,1210,null,null,null,null,null,null,null,null,null,{"$f":"Control!$C$20+Control!$C$21*A6704+Control!$C$22*A6704^2","v":1801.560060594484},1258.9927532426414,1121.0072467573586]
[6707,1188,1177,null,null,null,null,null,null,null,null,null,{"$f":"Control!$C$20+Control!$C$21*A6707+Control!$C$22*A6707^2","v":1802.3679694163882},1256.9347517584563,1119.0652482415437]
[6710,1186,1184,null,null,null,null,null,null,null,null,null,{"$f":"Control!$C$20+Control!$C$21*A6710+Control!$C$22*A6710^2","v":1803.1758782298207},1254.8767014308903,1117.1232985691097]
[6714,1183,1215,null,null,null,null,null,null,null,null,null,{"$f":"Control!$C$20+Control!$C$21*A6714+Control!$C$22*A6714^2","v":1804.2530899678857},1251.7895340876794,1114.2104659123206]
[6717,1181,1125,null,null,null,null,null,null,null,null,null,{"$f":"Control!$C$20+Control!$C$21*A6717+Control!$C$22*A6717^2","v":1805.060998761551},1249.7313611097584,1112.2686388902416]
[6720,1178,1210,null,null,null,null,null,null,null,null,null,{"$f":"Control!$C$20+Control!$C$21*A6720+Control!$C$22*A6720^2","v":1805.8689075467446},1246.644009206922,1109.355990793078]
[6723,1176,1212,null,null,null,null,null,null,null,null,null,{"$f":"Control!$C$20+Control!$C$21*A6723+Control!$C$22*A6723^2","v":1806.6768163234665},{"$f":"IF(D6723=0,B6723+2*SQRT(B6723),N6722)","v":1244.5857127979291},{"$f":"IF(D6723=0,B6723-2*SQRT(B6723),O6722)","v":1107.4142872020709}]
[6726,1174,1174,null,null,null,null,null,null,null,null,null,{"$f":"Control!$C$20+Control!$C$21*A6726+Control!$C$22*A6726^2","v":1807.4847250917167},1242.5273667960473,1105.4726332039527]
[6727,1173,1103,null,null,null,null,null,null,null,null,null,{"$f":"Control!$C$20+Control!$C$21*A6727+Control!$C$22*A6727^2","v":1807.7540280125843},1241.4981751581749,1104.5018248418251]
[6730,1171,1082,null,null,null,null,null,null,null,null,null,{"$f":"Control!$C$20+Control!$C$21*A6730+Control!$C$22*A6730^2","v":1808.561936769539},1239.4397545290747,1102.5602454709253]
[6733,1169,1177,null,null,null,null,null,null,null,null,null,{"$f":"Control!$C$20+Control!$C$21*A6733+Control!$C$22*A6733^2","v":1809.369845518022},1237.381283989115,1100.618716010885]
[6737,1166,1164,null,null,null,null,null,null,null,null,null,{"$f":"Control!$C$20+Control!$C$21*A6737+Control!$C$22*A6737^2","v":1810.4470571694878},1234.2934843158555,1097.7065156841445]
[6739,1164,1136,null,null,null,null,null,null,null,null,null,{"$f":"Control!$C$20+Control!$C$21*A6739+Control!$C$22*A6739^2","v":1810.9856629895728},1232.234888436928,1095.765111563072]
[6743,1162,1137,null,null,null,null,null,null,null,null,null,{"$f":"Control!$C$20+Control!$C$21*A6743+Control!$C$22*A6743^2","v":1812.0628746184477},1230.1762421962371,1093.8237578037629]
[6746,1159,1228,null,null,null,null,null,null,null,null,null,{"$f":"Control!$C$20+Control!$C$21*A6746+Control!$C$22*A6746^2","v":1812.8707833302201},1227.0881781221967,1090.9118218778033]
[6749,1157,1179,null,null,null,null,null,null,null,null,null,{"$f":"Control!$C$20+Control!$C$21*A6749+Control!$C$22*A6749^2","v":1813.6786920335207},1225.0294054067799,1088.9705945932201]
[6750,1156,1099,null,null,null,null,null,null,null,null,null,{"$f":"Control!$C$20+Control!$C$21*A6750+Control!$C$22*A6750^2","v":1813.9479949327385},1224,1088]
[6753,1154,1104,null,null,null,null,null,null,null,null,null,{"$f":"Control!$C$20+Control!$C$21*A6753+Control!$C$22*A6753^2","v":1814.7559036247437},1221.9411510058521,1086.0588489941479]
[6756,1152,1179,null,null,null,null,null,null,null,null,null,{"$f":"Control!$C$20+Control!$C$21*A6756+Control!$C$22*A6756^2","v":1815.5638123082772},1219.8822509939087,1084.1177490060913]
[6760,1149,1122,null,null,null,null,null,null,null,null,null,{"$f":"Control!$C$20+Control!$C$21*A6760+Control!$C$22*A6760^2","v":1816.6410238731437},1216.7938050267132,1081.2061949732868]
[6762,1156,1147,8,null,null,null,null,null,null,null,null,{"$f":"Control!$C$20+Control!$C$21*A6762+Control!$C$22*A6762^2","v":1817.1796296499292},1215.7642973843897,1080.2357026156103]
[6766,1297,1296,152,null,null,null,null,null,null,null,null,{"$f":"Control!$C$20+Control!$C$21*A6766+Control!$C$22*A6766^2","v":1818.2568411922048},1215.7642973843897,1080.2357026156103]
[6769,1699,1647,557,null,null,null,null,null,null,null,null,{"$f":"Control!$C$20+Control!$C$21*A6769+Control!$C$22*A6769^2","v":1819.0647498390276},1215.7642973843897,1080.2357026156103]
[6772,2073,2103,933,null,null,null,null,null,null,null,null,{"$f":"Control!$C$20+Control!$C$21*A6772+Control!$C$22*A6772^2","v":1819.872658477379},1215.7642973843897,1080.2357026156103]
[6773,2071,2085,931,null,null,null,null,null,null,null,null,{"$f":"Control!$C$20+Control!$C$21*A6773+Control!$C$22*A6773^2","v":1820.1419613549467},1215.7642973843897,1080.2357026156103]
[6776,1685,1713,548,null,null,null,null,null,null,null,null,{"$f":"Control!$C$20+Control!$C$21*A6776+Control!$C$22*A6776^2","v":1820.9498699820024},1215.7642973843897,1080.2357026156103]
[6779,1282,1349,147,null,null,null,null,null,null,null,null,{"$f":"Control!$C$20+Control!$C$21*A6779+Control!$C$22*A6779^2","v":1821.7577786005866},1215.7642973843897,1080.2357026156103]
[6782,1151,1171,18,null,null,null,null,null,null,null,null,{"$f":"Control!$C$20+Control!$C$21*A6782+Control!$C$22*A6782^2","v":1822.5656872106988},1215.7642973843897,1080.2357026156103]
[6785,1131,1121,null,null,null,null,null,null,null,null,null,{"$f":"Control!$C$20+Control!$C$21*A6785+Control!$C$22*A6785^2","v":1823.3735958123395},1198.2606868832008,1063.7393131167992]
[6789,1128,1155,null,null,null,null,null,null,null,null,null,{"$f":"Control!$C$20+Control!$C$21*A6789+Control!$C$22*A6789^2","v":1824.4508072680158},1195.1714224949867,1060.8285775050133]
[6792,1126,1139,null,null,null,null,null,null,null,null,null,{"$f":"Control!$C$20+Control!$C$21*A6792+Control!$C$22*A6792^2","v":1825.2587158498891},1193.1118469422502,1058.8881530577498]
[6795,1123,1155,null,null,null,null,null,null,null,null,null,{"$f":"Control!$C$20+Control!$C$21*A6795+Control!$C$22*A6795^2","v":1826.0666244232909},1190.0223843204642,1055.9776156795358]
[6796,1123,1101,null,null,null,null,null,null,null,null,null,{"$f":"Control!$C$20+Control!$C$21*A6796+Control!$C$22*A6796^2","v":1826.335927279209},1190.0223843204642,1055.9776156795358]
[6800,1120,1052,null,null,null,null,null,null,null,null,null,{"$f":"Control!$C$20+Control!$C$21*A6800+Control!$C$22*A6800^2","v":1827.413138693468},1186.9328021227261,1053.0671978772739]
[6802,1118,1075,null,null,null,null,null,null,null,null,null,{"$f":"Control!$C$20+Control!$C$21*A6802+Control!$C$22*A6802^2","v":1827.9517443949499},1184.873013989202,1051.126986010798]
[6805,1116,1110,null,null,null,null,null,null,null,null,null,{"$f":"Control!$C$20+Control!$C$21*A6805+Control!$C$22*A6805^2","v":1828.7596529401126},1182.8131723539602,1049.1868276460398]
[6808,1114,1090,null,null,null,null,null,null,null,null,null,{"$f":"Control!$C$20+Control!$C$21*A6808+Control!$C$22*A6808^2","v":1829.5675614768038},1180.7532770731145,1047.2467229268855]
[6812,1111,1162,null,null,null,null,null,null,null,null,null,{"$f":"Control!$C$20+Control!$C$21*A6812+Control!$C$22*A6812^2","v":1830.6447728458807},1177.6633332499957,1044.3366667500043]
[6815,1109,1111,null,null,null,null,null,null,null,null,null,{"$f":"Control!$C$20+Control!$C$21*A6815+Control!$C$22*A6815^2","v":1831.4526813628047},1175.6033032213868,1042.3966967786132]
[6818,1107,1154,null,null,null,null,null,null,null,null,null,{"$f":"Control!$C$20+Control!$C$21*A6818+Control!$C$22*A6818^2","v":1832.260589871257},1173.5432190384565,1040.4567809615435]
[6819,1106,1106,null,null,null,null,null,null,null,null,null,{"$f":"Control!$C$20+Control!$C$21*A6819+Control!$C$22*A6819^2","v":1832.5298927055251},1172.5131565932636,1039.4868434067364]
[6821,1104,1134,null,null,null,null,null,null,null,null,null,{"$f":"Control!$C$20+Control!$C$21*A6821+Control!$C$22*A6821^2","v":1833.0684983712376},1170.4529909033447,1037.5470090966553]
[6825,1101,1090,null,null,null,null,null,null,null,null,null,{"$f":"Control!$C$20+Control!$C$21*A6825+Control!$C$22*A6825^2","v":1834.1457096913671},1167.3626400921482,1034.6373599078518]
[6828,1099,1085,null,null,null,null,null,null,null,null,null,{"$f":"Control!$C$20+Control!$C$21*A6828+Control!$C$22*A6828^2","v":1834.9536181715805},1165.302337817003,1032.697662182997]
[6831,1097,1079,null,null,null,null,null,null,null,null,null,{"$f":"Control!$C$20+Control!$C$21*A6831+Control!$C$22*A6831^2","v":1835.7615266433222},1163.2419806467167,1030.7580193532833]
[6835,1094,1077,null,null,null,null,null,null,null,null,null,{"$f":"Control!$C$20+Control!$C$21*A6835+Control!$C$22*A6835^2","v":1836.8387379257997},1160.151341634165,1027.848658365835]
[6838,1092,1135,null,null,null,null,null,null,null,null,null,{"$f":"Control!$C$20+Control!$C$21*A6838+Control!$C$22*A6838^2","v":1837.6466463777742},1158.0908465674331,1025.9091534325669]
[6840,1090,1078,null,null,null,null,null,null,null,null,null,{"$f":"Control!$C$20+Control!$C$21*A6840+Control!$C$22*A6840^2","v":1838.1852520077173},1156.0302960768768,1023.9697039231232]
[6841,1090,1044,null,null,null,null,null,null,null,null,null,{"$f":"Control!$C$20+Control!$C$21*A6841+Control!$C$22*A6841^2","v":1838.454554821277},1156.0302960768768,1023.9697039231232]
[6844,1088,1097,null,null,null,null,null,null,null,null,null,{"$f":"Control!$C$20+Control!$C$21*A6844+Control!$C$22*A6844^2","v":1839.2624632563081},1153.9696900098825,1022.0303099901174]
[6848,1085,1131,null,null,null,null,null,null,null,null,null,{"$f":"Control!$C$20+Control!$C$21*A6848+Control!$C$22*A6848^2","v":1840.3396744898382},1150.8786763680025,1019.1213236319976]
[6851,1082,1061,null,null,null,null,null,null,null,null,null,{"$f":"Control!$C$20+Control!$C$21*A6851+Control!$C$22*A6851^2","v":1841.1475829051021},{"$f":"IF(D6851=0,B6851+2*SQRT(B6851),N6850)","v":1147.7875368135942},{"$f":"IF(D6851=0,B6851-2*SQRT(B6851),O6850)","v":1016.2124631864059}]
[6854,1080,1073,null,null,null,null,null,null,null,null,null,{"$f":"Control!$C$20+Control!$C$21*A6854+Control!$C$22*A6854^2","v":1841.9554913118943},1145.72670690062,1014.2732930993801]
[6858,1077,1081,null,null,null,null,null,null,null,null,null,{"$f":"Control!$C$20+Control!$C$21*A6858+Control!$C$22*A6858^2","v":1843.0327025077727},1142.6353563256878,1011.3646436743122]
[6859,1077,1104,null,null,null,null,null,null,null,null,null,{"$f":"Control!$C$20+Control!$C$21*A6859+Control!$C$22*A6859^2","v":1843.302005304389},1142.6353563256878,1011.3646436743122]
[6861,1075,1171,null,null,null,null,null,null,null,null,null,{"$f":"Control!$C$20+Control!$C$21*A6861+Control!$C$22*A6861^2","v":1843.8406108947977},1140.5743852430201,1009.4256147569799]
[6864,1073,1095,null,null,null,null,null,null,null,null,null,{"$f":"Control!$C$20+Control!$C$21*A6864+Control!$C$22*A6864^2","v":1844.648519273351},1138.5133574166368,1007.4866425833632]
[6867,1071,1045,null,null,null,null,null,null,null,null,null,{"$f":"Control!$C$20+Control!$C$21*A6867+Control!$C$22*A6867^2","v":1845.4564276434326},1136.4522726878142,1005.5477273121858]
[6871,1068,1067,null,null,null,null,null,null,null,null,null,{"$f":"Control!$C$20+Control!$C$21*A6871+Control!$C$22*A6871^2","v":1846.5336387903635},1133.3605385534727,1002.6394614465272]
[6874,1066,1013,null,null,null,null,null,null,null,null,null,{"$f":"Control!$C$20+Control!$C$21*A6874+Control!$C$22*A6874^2","v":1847.3415471406779},1131.2993108692581,1000.7006891307419]
[6878,1063,1053,null,null,null,null,null,null,null,null,null,{"$f":"Control!$C$20+Control!$C$21*A6878+Control!$C$22*A6878^2","v":1848.4187582612524},1128.2073615476045,997.79263845239552]
[6880,1061,1084,null,null,null,null,null,null,null,null,null,{"$f":"Control!$C$20+Control!$C$21*A6880+Control!$C$22*A6880^2","v":1848.9573638158918},1126.1459898996093,995.85401010039072]
[6883,1059,1032,null,null,null,null,null,null,null,null,null,{"$f":"Control!$C$20+Control!$C$21*A6883+Control!$C$22*A6883^2","v":1849.7652721407912},1124.0845603810919,993.91543961890807]
[6884,1058,1078,null,null,null,null,null,null,null,null,null,{"$f":"Control!$C$20+Control!$C$21*A6884+Control!$C$22*A6884^2","v":1850.0345749138751},1123.0538238691624,992.94617613083767]
[6887,1056,996,null,null,null,null,null,null,null,null,null,{"$f":"Control!$C$20+Control!$C$21*A6887+Control!$C$22*A6887^2","v":1850.8424832274791},1120.9923072370877,991.00769276291226]
[6890,1054,1083,null,null,null,null,null,null,null,null,null,{"$f":"Control!$C$20+Control!$C$21*A6890+Control!$C$22*A6890^2","v":1851.6503915326111},1118.9307323229916,989.06926767700827]
[6894,1051,1047,null,null,null,null,null,null,null,null,null,{"$f":"Control!$C$20+Control!$C$21*A6894+Control!$C$22*A6894^2","v":1852.7276025929427},1115.8382603097893,986.16173969021065]
[6897,1049,1052,null,null,null,null,null,null,null,null,null,{"$f":"Control!$C$20+Control!$C$21*A6897+Control!$C$22*A6897^2","v":1853.5355108783076},1113.7765389628066,984.22346103719337]
[6899,1047,1053,null,null,null,null,null,null,null,null,null,{"$f":"Control!$C$20+Control!$C$21*A6899+Control!$C$22*A6899^2","v":1854.0741163971777},1111.7147587494537,982.28524125054628]
[6903,1044,1028,null,null,null,null,null,null,null,null,null,{"$f":"Control!$C$20+Control!$C$21*A6903+Control!$C$22*A6903^2","v":1855.1513274236224},1108.621977685614,979.37802231438593]
[6906,1042,1100,null,null,null,null,null,null,null,null,null,{"$f":"Control!$C$20+Control!$C$21*A6906+Control!$C$22*A6906^2","v":1855.9592356835724},1106.5600495662759,977.43995043372411]
[6907,1041,1127,null,null,null,null,null,null,null,null,null,{"$f":"Control!$C$20+Control!$C$21*A6907+Control!$C$22*A6907^2","v":1856.2285384350066},1105.5290632196068,976.47093678039323]
[6910,1039,991,null,null,null,null,null,null,null,null,null,{"$f":"Control!$C$20+Control!$C$21*A6910+Control!$C$22*A6910^2","v":1857.0364466836609},1103.4670458451449,974.53295415485525]
[6913,1082,1050,45,null,null,null,null,null,null,null,null,{"$f":"Control!$C$20+Control!$C$21*A6913+Control!$C$22*A6913^2","v":1857.8443549238436},1103.4670458451449,974.53295415485525]
[6917,1387,1366,353,null,null,null,null,null,null,null,null,{"$f":"Control!$C$20+Control!$C$21*A6917+Control!$C$22*A6917^2","v":1858.9215658975759},1103.4670458451449,974.53295415485525]
[6920,1702,1730,670,null,null,null,null,null,null,null,null,{"$f":"Control!$C$20+Control!$C$21*A6920+Control!$C$22*A6920^2","v":1859.7294741179912},1103.4670458451449,974.53295415485525]
[6923,1620,1646,590,null,null,null,null,null,null,null,null,{"$f":"Control!$C$20+Control!$C$21*A6923+Control!$C$22*A6923^2","v":1860.5373823299351},1103.4670458451449,974.53295415485525]
[6926,1268,1262,241,null,null,null,null,null,null,null,null,{"$f":"Control!$C$20+Control!$C$21*A6926+Control!$C$22*A6926^2","v":1861.3452905334073},1103.4670458451449,974.53295415485525]
[6929,1071,1046,46,null,null,null,null,null,null,null,null,{"$f":"Control!$C$20+Control!$C$21*A6929+Control!$C$22*A6929^2","v":1862.1531987284077},1103.4670458451449,974.53295415485525]
[6930,1047,1057,22,null,null,null,null,null,null,null,null,{"$f":"Control!$C$20+Control!$C$21*A6930+Control!$C$22*A6930^2","v":1862.4225014581921},1103.4670458451449,974.53295415485525]
[6933,1022,1063,null,null,null,null,null,null,null,null,null,{"$f":"Control!$C$20+Control!$C$21*A6933+Control!$C$22*A6933^2","v":1863.2304096418968},1085.9374694525832,958.06253054741683]
[6937,1019,1000,null,null,null,null,null,null,null,null,null,{"$f":"Control!$C$20+Control!$C$21*A6937+Control!$C$22*A6937^2","v":1864.3076205403254},1082.8435587980496,955.15644120195054]
[6939,1018,1038,null,null,null,null,null,null,null,null,null,{"$f":"Control!$C$20+Control!$C$21*A6939+Control!$C$22*A6939^2","v":1864.8462259838916},1081.8122245341754,954.18777546582476]
[6942,1016,1116,null,null,null,null,null,null,null,null,null,{"$f":"Control!$C$20+Control!$C$21*A6942+Control!$C$22*A6942^2","v":1865.6541341421816},1079.749509802037,952.25049019796313]
[6946,1013,1015,null,null,null,null,null,null,null,null,null,{"$f":"Control!$C$20+Control!$C$21*A6946+Control!$C$22*A6946^2","v":1866.7313450067234},1076.6553218513582,949.34467814864183]
[6949,1011,974,null,null,null,null,null,null,null,null,null,{"$f":"Control!$C$20+Control!$C$21*A6949+Control!$C$22*A6949^2","v":1867.539253145246},1074.5924523823385,947.40754761766141]
[6952,1008,1013,null,null,null,null,null,null,null,null,null,{"$f":"Control!$C$20+Control!$C$21*A6952+Control!$C$22*A6952^2","v":1868.3471612752969},1071.4980314655502,944.50196853444982]
[6953,1008,966,null,null,null,null,null,null,null,null,null,{"$f":"Control!$C$20+Control!$C$21*A6953+Control!$C$22*A6953^2","v":1868.6164639834315},1071.4980314655502,944.50196853444982]
[6956,1005,1025,null,null,null,null,null,null,null,null,null,{"$f":"Control!$C$20+Control!$C$21*A6956+Control!$C$22*A6956^2","v":1869.4243721021869},1068.4034699365893,941.59653006341057]
[6960,1003,1042,null,null,null,null,null,null,null,null,null,{"$f":"Control!$C$20+Control!$C$21*A6960+Control!$C$22*A6960^2","v":1870.5015829140159},1066.3403504884525,939.65964951154751]
[6962,1001,1043,null,null,null,null,null,null,null,null,null,{"$f":"Control!$C$20+Control!$C$21*A6962+Control!$C$22*A6962^2","v":1871.0401883142827},1064.2771680782255,937.72283192177451]
[6965,999,982,null,null,null,null,null,null,null,null,null,{"$f":"Control!$C$20+Control!$C$21*A6965+Control!$C$22*A6965^2","v":1871.8480964076232},1062.2139225171163,935.78607748288357]
[6969,996,998,null,null,null,null,null,null,null,null,null,{"$f":"Control!$C$20+Control!$C$21*A6969+Control!$C$22*A6969^2","v":1872.9253071855655},1059.1189353522379,932.88106464776206]
[6972,994,1054,null,null,null,null,null,null,null,null,null,{"$f":"Control!$C$20+Control!$C$21*A6972+Control!$C$22*A6972^2","v":1873.7332152591387},1057.0555310817379,930.94446891826226]
[6973,993,997,null,null,null,null,null,null,null,null,null,{"$f":"Control!$C$20+Control!$C$21*A6973+Control!$C$22*A6973^2","v":1874.0025179484471},1056.0238050263549,929.97619497364508]
[6976,991,956,null,null,null,null,null,null,null,null,null,{"$f":"Control!$C$20+Control!$C$21*A6976+Control!$C$22*A6976^2","v":1874.8104260107248},1053.9603049547889,928.03969504521126]
[6979,989,967,null,null,null,null,null,null,null,null,null,{"$f":"Control!$C$20+Control!$C$21*A6979+Control!$C$22*A6979^2","v":1875.6183340645307},{"$f":"IF(D6979=0,B6979+2*SQRT(B6979),N6978)","v":1051.8967407740656},{"$f":"IF(D6979=0,B6979-2*SQRT(B6979),O6978)","v":926.10325922593449}]
[6982,986,1029,null,null,null,null,null,null,null,null,null,{"$f":"Control!$C$20+Control!$C$21*A6982+Control!$C$22*A6982^2","v":1876.4262421098649},1048.8012738724303,923.19872612756967]
[6985,984,965,null,null,null,null,null,null,null,null,null,{"$f":"Control!$C$20+Control!$C$21*A6985+Control!$C$22*A6985^2","v":1877.2341501467276},1046.7375485654325,921.26245143456754]
[6988,982,967,null,null,null,null,null,null,null,null,null,{"$f":"Control!$C$20+Control!$C$21*A6988+Control!$C$22*A6988^2","v":1878.0420581751187},1044.6737584639695,919.32624153603047]
[6992,979,998,null,null,null,null,null,null,null,null,null,{"$f":"Control!$C$20+Control!$C$21*A6992+Control!$C$22*A6992^2","v":1879.1192688664617},1041.577951388648,916.4220486113519]
[6995,977,1036,null,null,null,null,null,null,null,null,null,{"$f":"Control!$C$20+Control!$C$21*A6995+Control!$C$22*A6995^2","v":1879.9271768750853},1039.5139984323512,914.48600156764883]
[6996,976,979,null,null,null,null,null,null,null,null,null,{"$f":"Control!$C$20+Control!$C$21*A6996+Control!$C$22*A6996^2","v":1880.1964795427441},1038.4819974072532,913.51800259274683]
[7000,973,995,null,null,null,null,null,null,null,null,null,{"$f":"Control!$C$20+Control!$C$21*A7000+Control!$C$22*A7000^2","v":1881.2736902039655},1035.3858958419289,910.61410415807109]
[7001,973,991,null,null,null,null,null,null,null,null,null,{"$f":"Control!$C$20+Control!$C$21*A7001+Control!$C$22*A7001^2","v":1881.5429928669178},1035.3858958419289,910.61410415807109]
[7005,970,973,null,null,null,null,null,null,null,null,null,{"$f":"Control!$C$20+Control!$C$21*A7005+Control!$C$22*A7005^2","v":1882.6202035093133},1032.2896460095897,907.71035399041023]
[7008,967,921,null,null,null,null,null,null,null,null,null,{"$f":"Control!$C$20+Control!$C$21*A7008+Control!$C$22*A7008^2","v":1883.4281114812266},1029.1932472218648,904.80675277813521]
[7011,965,952,null,null,null,null,null,null,null,null,null,{"$f":"Control!$C$20+Control!$C$21*A7011+Control!$C$22*A7011^2","v":1884.236019444668},1027.1288982680362,902.87110173196379]
[7015,962,947,null,null,null,null,null,null,null,null,null,{"$f":"Control!$C$20+Control!$C$21*A7015+Control!$C$22*A7015^2","v":1885.3132300494119},1024.0322496770832,899.96775032291669]
[7017,961,980,null,null,null,null,null,null,null,null,null,{"$f":"Control!$C$20+Control!$C$21*A7017+Control!$C$22*A7017^2","v":1885.8518353461359},1023,899]
[7018,960,972,null,null,null,null,null,null,null,null,null,{"$f":"Control!$C$20+Control!$C$21*A7018+Control!$C$22*A7018^2","v":1886.121137993086},1021.9677335393187,898.03226646068129]
[7021,958,926,null,null,null,null,null,null,null,null,null,{"$f":"Control!$C$20+Control!$C$21*A7021+Control!$C$22*A7021^2","v":1886.9290459282886},1019.9031501621687,896.09684983783131]
[7024,956,996,null,null,null,null,null,null,null,null,null,{"$f":"Control!$C$20+Control!$C$21*A7024+Control!$C$22*A7024^2","v":1887.7369538550195},1017.8384993349612,894.16150066503883]
[7028,953,935,null,null,null,null,null,null,null,null,null,{"$f":"Control!$C$20+Control!$C$21*A7028+Control!$C$22*A7028^2","v":1888.8141644108159},1014.7413961617325,891.2586038382675]
[7031,951,931,null,null,null,null,null,null,null,null,null,{"$f":"Control!$C$20+Control!$C$21*A7031+Control!$C$22*A7031^2","v":1889.6220723177794},1012.6765757804371,889.32342421956287]
[7035,948,949,null,null,null,null,null,null,null,null,null,{"$f":"Control!$C$20+Control!$C$21*A7035+Control!$C$22*A7035^2","v":1890.6992828472196},1009.5792172733626,886.42078272663741]
[7036,947,946,null,null,null,null,null,null,null,null,null,{"$f":"Control!$C$20+Control!$C$21*A7036+Control!$C$22*A7036^2","v":1890.9685854772263},1008.5467302137165,885.4532697862835]
[7040,944,966,null,null,null,null,null,null,null,null,null,{"$f":"Control!$C$20+Control!$C$21*A7040+Control!$C$22*A7040^2","v":1892.0457959878404},1005.4491659829489,882.5508340170511]
[7041,943,941,null,null,null,null,null,null,null,null,null,{"$f":"Control!$C$20+Control!$C$21*A7041+Control!$C$22*A7041^2","v":1892.3150986131407},1004.4166101311364,881.58338986886361]
[7044,941,959,null,null,null,null,null,null,null,null,null,{"$f":"Control!$C$20+Control!$C$21*A7044+Control!$C$22*A7044^2","v":1893.1230064833937},1002.3514466007118,879.64855339928818]
[7047,939,980,null,null,null,null,null,null,null,null,null,{"$f":"Control!$C$20+Control!$C$21*A7047+Control!$C$22*A7047^2","v":1893.9309143451751},1000.2862137841782,877.71378621582176]
[7051,936,1002,null,null,null,null,null,null,null,null,null,{"$f":"Control!$C$20+Control!$C$21*A7051+Control!$C$22*A7051^2","v":1895.0081248143722},997.18823416311341,874.81176583688659]
[7054,934,955,null,null,null,null,null,null,null,null,null,{"$f":"Control!$C$20+Control!$C$21*A7054+Control!$C$22*A7054^2","v":1895.8160326563864},995.12282715974447,872.87717284025553]
[7057,932,901,null,null,null,null,null,null,null,null,null,{"$f":"Control!$C$20+Control!$C$21*A7057+Control!$C$22*A7057^2","v":1896.6239404899288},993.05735008989495,870.94264991010505]
[7060,939,976,10,null,null,null,null,null,null,null,null,{"$f":"Control!$C$20+Control!$C$21*A7060+Control!$C$22*A7060^2","v":1897.4318483149998},990.99180272790761,869.00819727209239]
[7063,1004,994,77,null,null,null,null,null,null,null,null,{"$f":"Control!$C$20+Control!$C$21*A7063+Control!$C$22*A7063^2","v":1898.2397561315988},990.99180272790761,869.00819727209239]
[7064,1054,1052,128,null,null,null,null,null,null,null,null,{"$f":"Control!$C$20+Control!$C$21*A7064+Control!$C$22*A7064^2","v":1898.5090587352493},990.99180272790761,869.00819727209239]
[7067,1277,1227,353,null,null,null,null,null,null,null,null,{"$f":"Control!$C$20+Control!$C$21*A7067+Control!$C$22*A7067^2","v":1899.3169665405528},990.99180272790761,869.00819727209239]
[7070,1379,1379,457,null,null,null,null,null,null,null,null,{"$f":"Control!$C$20+Control!$C$21*A7070+Control!$C$22*A7070^2","v":1900.1248743373849},990.99180272790761,869.00819727209239]
[7074,1120,1092,201,null,null,null,null,null,null,null,null,{"$f":"Control!$C$20+Control!$C$21*A7074+Control!$C$22*A7074^2","v":1901.2020847199826},990.99180272790761,869.00819727209239]
[7076,999,999,81,null,null,null,null,null,null,null,null,{"$f":"Control!$C$20+Control!$C$21*A7076+Control!$C$22*A7076^2","v":1901.7406899056336},990.99180272790761,869.00819727209239]
[7080,920,892,5,null,null,null,null,null,null,null,null,{"$f":"Control!$C$20+Control!$C$21*A7080+Control!$C$22*A7080^2","v":1902.8179002656402},990.99180272790761,869.00819727209239]
[7083,912,868,null,null,null,null,null,null,null,null,null,{"$f":"Control!$C$20+Control!$C$21*A7083+Control!$C$22*A7083^2","v":1903.6258080257617},972.39867548216603,851.60132451783397]
[7086,910,944,null,null,null,null,null,null,null,null,null,{"$f":"Control!$C$20+Control!$C$21*A7086+Control!$C$22*A7086^2","v":1904.4337157774114},970.33241251599338,849.66758748400662]
[7087,910,916,null,null,null,null,null,null,null,null,null,{"$f":"Control!$C$20+Control!$C$21*A7087+Control!$C$22*A7087^2","v":1904.703018359412},970.33241251599338,849.66758748400662]
[7090,907,940,null,null,null,null,null,null,null,null,null,{"$f":"Control!$C$20+Control!$C$21*A7090+Control!$C$22*A7090^2","v":1905.510926099766},967.23288138550242,846.76711861449758]
[7094,904,856,null,null,null,null,null,null,null,null,null,{"$f":"Control!$C$20+Control!$C$21*A7094+Control!$C$22*A7094^2","v":1906.5881364070601},964.13318551349164,843.86681448650836]
[7097,902,912,null,null,null,null,null,null,null,null,null,{"$f":"Control!$C$20+Control!$C$21*A7097+Control!$C$22*A7097^2","v":1907.396044127647},962.06662967072486,841.93337032927514]
[7099,901,904,null,null,null,null,null,null,null,null,null,{"$f":"Control!$C$20+Control!$C$21*A7099+Control!$C$22*A7099^2","v":1907.9346492699983},961.03332407921448,840.96667592078552]
[7103,898,924,null,null,null,null,null,null,null,null,null,{"$f":"Control!$C$20+Control!$C$21*A7103+Control!$C$22*A7103^2","v":1909.0118595434058},957.93329625508682,838.06670374491318]
[7106,896,900,null,null,null,null,null,null,null,null,null,{"$f":"Control!$C$20+Control!$C$21*A7106+Control!$C$22*A7106^2","v":1909.8197672385775},955.86651818838311,836.13348181161689]
[7109,893,908,null,null,null,null,null,null,null,null,null,{"$f":"Control!$C$20+Control!$C$21*A7109+Control!$C$22*A7109^2","v":1910.6276749252777},952.76621118993569,833.23378881006431]
[7110,893,891,null,null,null,null,null,null,null,null,null,{"$f":"Control!$C$20+Control!$C$21*A7110+Control!$C$22*A7110^2","v":1910.8969774856284},952.76621118993569,833.23378881006431]
[7113,890,861,null,null,null,null,null,null,null,null,null,{"$f":"Control!$C$20+Control!$C$21*A7113+Control!$C$22*A7113^2","v":1911.7048851610332},949.66573556070523,830.33426443929477]
[7116,888,868,null,null,null,null,null,null,null,null,null,{"$f":"Control!$C$20+Control!$C$21*A7116+Control!$C$22*A7116^2","v":1912.5127928279662},947.5986577030053,828.4013422969947]
[7119,886,889,null,null,null,null,null,null,null,null,null,{"$f":"Control!$C$20+Control!$C$21*A7119+Control!$C$22*A7119^2","v":1913.3207004864273},945.53150426454886,826.46849573545114]
[7122,884,876,null,null,null,null,null,null,null,null,null,{"$f":"Control!$C$20+Control!$C$21*A7122+Control!$C$22*A7122^2","v":1914.1286081364171},943.46427498927403,824.53572501072597]
[7126,881,854,null,null,null,null,null,null,null,null,null,{"$f":"Control!$C$20+Control!$C$21*A7126+Control!$C$22*A7126^2","v":1915.205818323225},940.36328831862329,821.63671168137671]
[7129,879,874,null,null,null,null,null,null,null,null,null,{"$f":"Control!$C$20+Control!$C$21*A7129+Control!$C$22*A7129^2","v":1916.0137259534474},938.29586832149437,819.70413167850563]
[7130,878,876,null,null,null,null,null,null,null,null,null,{"$f":"Control!$C$20+Control!$C$21*A7130+Control!$C$22*A7130^2","v":1916.2830284949723},937.26212956011625,818.73787043988375]
[7133,876,893,null,null,null,null,null,null,null,null,null,{"$f":"Control!$C$20+Control!$C$21*A7133+Control!$C$22*A7133^2","v":1917.090936113899},935.19459434779492,816.80540565220508]
[7137,873,882,null,null,null,null,null,null,null,null,null,{"$f":"Control!$C$20+Control!$C$21*A7137+Control!$C$22*A7137^2","v":1918.1681462592901},932.0931468107766,813.9068531892234]
[7139,871,882,null,null,null,null,null,null,null,null,null,{"$f":"Control!$C$20+Control!$C$21*A7139+Control!$C$22*A7139^2","v":1918.7067513263378},930.02541825349488,811.97458174650512]
[7142,869,891,null,null,null,null,null,null,null,null,null,{"$f":"Control!$C$20+Control!$C$21*A7142+Control!$C$22*A7142^2","v":1919.5146589198496},927.95761189193468,810.04238810806532]
[7145,867,866,null,null,null,null,null,null,null,null,null,{"$f":"Control!$C$20+Control!$C$21*A7145+Control!$C$22*A7145^2","v":1920.3225665048897},925.88972745734179,808.11027254265821]
[7149,864,889,null,null,null,null,null,null,null,null,null,{"$f":"Control!$C$20+Control!$C$21*A7149+Control!$C$22*A7149^2","v":1921.3997766050984},922.78775382679623,805.21224617320377]
[7152,862,845,null,null,null,null,null,null,null,null,null,{"$f":"Control!$C$20+Control!$C$21*A7152+Control!$C$22*A7152^2","v":1922.2076841703713},920.71967302361281,803.28032697638719]
[7153,861,846,null,null,null,null,null,null,null,null,null,{"$f":"Control!$C$20+Control!$C$21*A7153+Control!$C$22*A7153^2","v":1922.4769866902463},919.68560300448485,802.31439699551515]
[7156,859,889,null,null,null,null,null,null,null,null,null,{"$f":"Control!$C$20+Control!$C$21*A7156+Control!$C$22*A7156^2","v":1923.2848942442238},917.61740355901134,800.38259644098866]
[7158,858,844,null,null,null,null,null,null,null,null,null,{"$f":"Control!$C$20+Control!$C$21*A7158+Control!$C$22*A7158^2","v":1923.8234992755022},916.58327406350725,799.41672593649275]
[7162,855,888,null,null,null,null,null,null,null,null,null,{"$f":"Control!$C$20+Control!$C$21*A7162+Control!$C$22*A7162^2","v":1924.9007093267633},913.48076606885377,796.51923393114623]
[7165,852,880,null,null,null,null,null,null,null,null,null,{"$f":"Control!$C$20+Control!$C$21*A7165+Control!$C$22*A7165^2","v":1925.7086168553258},910.37807807730564,793.62192192269436]
[7168,850,855,null,null,null,null,null,null,null,null,null,{"$f":"Control!$C$20+Control!$C$21*A7168+Control!$C$22*A7168^2","v":1926.5165243754163},908.30951894845305,791.69048105154695]
[7172,847,821,null,null,null,null,null,null,null,null,null,{"$f":"Control!$C$20+Control!$C$21*A7172+Control!$C$22*A7172^2","v":1927.5937343890257},905.20652884342098,788.79347115657902]
[7175,845,799,null,null,null,null,null,null,null,null,null,{"$f":"Control!$C$20+Control!$C$21*A7175+Control!$C$22*A7175^2","v":1928.4016418893491},903.13776741499453,786.86223258500547]
[7177,844,876,null,null,null,null,null,null,null,null,null,{"$f":"Control!$C$20+Control!$C$21*A7177+Control!$C$22*A7177^2","v":1928.9402468848582},902.10335618533577,785.89664381466423]
[7178,843,868,null,null,null,null,null,null,null,null,null,{"$f":"Control!$C$20+Control!$C$21*A7178+Control!$C$22*A7178^2","v":1929.209549381201},901.06892456383184,784.93107543616816]
[7181,841,843,null,null,null,null,null,null,null,null,null,{"$f":"Control!$C$20+Control!$C$21*A7181+Control!$C$22*A7181^2","v":1930.0174568645809},899,783]
[7185,838,863,null,null,null,null,null,null,null,null,null,{"$f":"Control!$C$20+Control!$C$21*A7185+Control!$C$22*A7185^2","v":1931.0946668292429},895.89645930452048,780.10354069547952]
[7188,836,787,null,null,null,null,null,null,null,null,null,{"$f":"Control!$C$20+Control!$C$21*A7188+Control!$C$22*A7188^2","v":1931.9025742928559},893.82732917920384,778.17267082079616]
[7192,833,828,null,null,null,null,null,null,null,null,null,{"$f":"Control!$C$20+Control!$C$21*A7192+Control!$C$22*A7192^2","v":1932.9797842311614},890.72347875864727,775.27652124135273]
[7195,830,824,null,null,null,null,null,null,null,null,null,{"$f":"Control!$C$20+Control!$C$21*A7195+Control!$C$22*A7195^2","v":1933.787691675007},887.61944116355176,772.38055883644824]
[7196,830,838,null,null,null,null,null,null,null,null,null,{"$f":"Control!$C$20+Control!$C$21*A7196+Control!$C$22*A7196^2","v":1934.0569941544063},887.61944116355176,772.38055883644824]
[7198,828,884,null,null,null,null,null,null,null,null,null,{"$f":"Control!$C$20+Control!$C$21*A7198+Control!$C$22*A7198^2","v":1934.595599110381},885.54997827975262,770.45002172024738]
[7201,826,833,null,null,null,null,null,null,null,null,null,{"$f":"Control!$C$20+Control!$C$21*A7201+Control!$C$22*A7201^2","v":1935.4035065372832},883.48043145279962,768.51956854720038]
[7204,824,830,null,null,null,null,null,null,null,null,null,{"$f":"Control!$C$20+Control!$C$21*A7204+Control!$C$22*A7204^2","v":1936.2114139557139},881.41080037762924,766.58919962237076]
[7208,825,841,4,null,null,null,null,null,null,null,null,{"$f":"Control!$C$20+Control!$C$21*A7208+Control!$C$22*A7208^2","v":1937.2886238337765},879.34108474732579,764.65891525267421]
[7211,849,825,30,null,null,null,null,null,null,null,null,{"$f":"Control!$C$20+Control!$C$21*A7211+Control!$C$22*A7211^2","v":1938.0965312324399},879.34108474732579,764.65891525267421]
[7215,971,970,155,null,null,null,null,null,null,null,null,{"$f":"Control!$C$20+Control!$C$21*A7215+Control!$C$22*A7215^2","v":1939.1737410841463},879.34108474732579,764.65891525267421]
[7217,1032,1082,218,null,null,null,null,null,null,null,null,{"$f":"Control!$C$20+Control!$C$21*A7217+Control!$C$22*A7217^2","v":1939.7123460043515},879.34108474732579,764.65891525267421]
[7220,1008,954,196,null,null,null,null,null,null,null,null,{"$f":"Control!$C$20+Control!$C$21*A7220+Control!$C$22*A7220^2","v":1940.5202533776001},879.34108474732579,764.65891525267421]
[7221,972,1067,161,null,null,null,null,null,null,null,null,{"$f":"Control!$C$20+Control!$C$21*A7221+Control!$C$22*A7221^2","v":1940.7895558334669},879.34108474732579,764.65891525267421]
[7224,863,864,54,null,null,null,null,null,null,null,null,{"$f":"Control!$C$20+Control!$C$21*A7224+Control!$C$22*A7224^2","v":1941.5974631954196},879.34108474732579,764.65891525267421]
[7227,816,805,9,null,null,null,null,null,null,null,null,{"$f":"Control!$C$20+Control!$C$21*A7227+Control!$C$22*A7227^2","v":1942.4053705489007},879.34108474732579,764.65891525267421]
[7231,804,792,null,null,null,null,null,null,null,null,null,{"$f":"Control!$C$20+Control!$C$21*A7231+Control!$C$22*A7231^2","v":1943.4825803403642},860.70978751503128,747.29021248496872]
[7234,802,802,null,null,null,null,null,null,null,null,null,{"$f":"Control!$C$20+Control!$C$21*A7234+Control!$C$22*A7234^2","v":1944.2904876740779},858.63920903402516,745.36079096597484]
[7236,800,799,null,null,null,null,null,null,null,null,null,{"$f":"Control!$C$20+Control!$C$21*A7236+Control!$C$22*A7236^2","v":1944.829092558514},856.5685424949238,743.4314575050762]
[7240,797,819,null,null,null,null,null,null,null,null,null,{"$f":"Control!$C$20+Control!$C$21*A7240+Control!$C$22*A7240^2","v":1945.9063023160907},853.46237685397239,740.53762314602761]
[7243,795,721,null,null,null,null,null,null,null,null,null,{"$f":"Control!$C$20+Control!$C$21*A7243+Control!$C$22*A7243^2","v":1946.7142096243897},851.39148871948669,738.60851128051331]
[7244,795,797,null,null,null,null,null,null,null,null,null,{"$f":"Control!$C$20+Control!$C$21*A7244+Control!$C$22*A7244^2","v":1946.9835120586067},851.39148871948669,738.60851128051331]
[7247,792,799,null,null,null,null,null,null,null,null,null,{"$f":"Control!$C$20+Control!$C$21*A7247+Control!$C$22*A7247^2","v":1947.7914193556098},848.2849891178812,735.7150108821188]
[7251,789,791,null,null,null,null,null,null,null,null,null,{"$f":"Control!$C$20+Control!$C$21*A7251+Control!$C$22*A7251^2","v":1948.8686290717694},845.1782876207526,732.8217123792474]
[7254,787,779,null,null,null,null,null,null,null,null,null,{"$f":"Control!$C$20+Control!$C$21*A7254+Control!$C$22*A7254^2","v":1949.6765363490056},843.10704055642213,730.89295944357787]
[7257,785,753,null,null,null,null,null,null,null,null,null,{"$f":"Control!$C$20+Control!$C$21*A7257+Control!$C$22*A7257^2","v":1950.48444361777},841.03570290448761,728.96429709551239]
[7260,783,795,null,null,null,null,null,null,null,null,null,{"$f":"Control!$C$20+Control!$C$21*A7260+Control!$C$22*A7260^2","v":1951.2923508780627},838.96427431853294,727.03572568146706]
[7263,781,748,null,null,null,null,null,null,null,null,null,{"$f":"Control!$C$20+Control!$C$21*A7263+Control!$C$22*A7263^2","v":1952.1002581298837},836.89275444992847,725.10724555007153]
[7266,778,732,null,null,null,null,null,null,null,null,null,{"$f":"Control!$C$20+Control!$C$21*A7266+Control!$C$22*A7266^2","v":1952.9081653732333},833.78530272392538,722.21469727607462]
[7267,778,790,null,null,null,null,null,null,null,null,null,{"$f":"Control!$C$20+Control!$C$21*A7267+Control!$C$22*A7267^2","v":1953.1774677858004},833.78530272392538,722.21469727607462]
[7270,775,728,null,null,null,null,null,null,null,null,null,{"$f":"Control!$C$20+Control!$C$21*A7270+Control!$C$22*A7270^2","v":1953.9853750178543},830.67764362830019,719.32235637169981]
[7274,773,785,null,null,null,null,null,null,null,null,null,{"$f":"Control!$C$20+Control!$C$21*A7274+Control!$C$22*A7274^2","v":1955.0625846474145},828.60575509783143,717.39424490216857]
[7276,771,815,null,null,null,null,null,null,null,null,null,{"$f":"Control!$C$20+Control!$C$21*A7276+Control!$C$22*A7276^2","v":1955.601189456547},826.53377350765925,715.46622649234075]
[7279,769,735,null,null,null,null,null,null,null,null,null,{"$f":"Control!$C$20+Control!$C$21*A7279+Control!$C$22*A7279^2","v":1956.4090966631857},824.46169849544822,713.53830150455178]
[7283,766,779,null,null,null,null,null,null,null,null,null,{"$f":"Control!$C$20+Control!$C$21*A7283+Control!$C$22*A7283^2","v":1957.4863062588593},821.35341001239215,710.64658998760785]
[7286,764,749,null,null,null,null,null,null,null,null,null,{"$f":"Control!$C$20+Control!$C$21*A7286+Control!$C$22*A7286^2","v":1958.294213445731},819.28109984434104,708.71890015565896]
[7287,763,714,null,null,null,null,null,null,null,null,null,{"$f":"Control!$C$20+Control!$C$21*A7287+Control!$C$22*A7287^2","v":1958.5635158394721},818.24490926773251,707.75509073226749]
[7290,761,717,null,null,null,null,null,null,null,null,null,{"$f":"Control!$C$20+Control!$C$21*A7290+Control!$C$22*A7290^2","v":1959.3714230150481},816.17245689653487,705.82754310346513]
[7293,759,765,null,null,null,null,null,null,null,null,null,{"$f":"Control!$C$20+Control!$C$21*A7293+Control!$C$22*A7293^2","v":1960.1793301821526},814.0999092558236,703.9000907441764]
[7297,756,763,null,null,null,null,null,null,null,null,null,{"$f":"Control!$C$20+Control!$C$21*A7297+Control!$C$22*A7297^2","v":1961.2565397251135},810.99090833947002,701.00909166052998]
[7299,754,749,null,null,null,null,null,null,null,null,null,{"$f":"Control!$C$20+Control!$C$21*A7299+Control!$C$22*A7299^2","v":1961.7951444909463},{"$f":"IF(D7299=0,B7299+2*SQRT(B7299),N7298)","v":808.9181208709839},{"$f":"IF(D7299=0,B7299-2*SQRT(B7299),O7298)","v":699.0818791290161}]
[7302,752,764,null,null,null,null,null,null,null,null,null,{"$f":"Control!$C$20+Control!$C$21*A7302+Control!$C$22*A7302^2","v":1962.6030516326355},806.84523680320831,697.15476319679169]
[7306,749,742,null,null,null,null,null,null,null,null,null,{"$f":"Control!$C$20+Control!$C$21*A7306+Control!$C$22*A7306^2","v":1963.6802611417099},803.73572873361604,694.26427126638396]
[7309,747,728,null,null,null,null,null,null,null,null,null,{"$f":"Control!$C$20+Control!$C$21*A7309+Control!$C$22*A7309^2","v":1964.4881682636319},801.66260147486582,692.33739852513418]
[7310,746,719,null,null,null,null,null,null,null,null,null,{"$f":"Control!$C$20+Control!$C$21*A7310+Control!$C$22*A7310^2","v":1964.7574706357234},800.6260011349907,691.3739988650093]
[7313,744,697,null,null,null,null,null,null,null,null,null,{"$f":"Control!$C$20+Control!$C$21*A7313+Control!$C$22*A7313^2","v":1965.5653777463499},798.55272678794347,689.44727321205653]
[7316,742,781,null,null,null,null,null,null,null,null,null,{"$f":"Control!$C$20+Control!$C$21*A7316+Control!$C$22*A7316^2","v":1966.3732848485049},796.47935388750489,687.52064611249511]
[7319,740,742,null,null,null,null,null,null,null,null,null,{"$f":"Control!$C$20+Control!$C$21*A7319+Control!$C$22*A7319^2","v":1967.181191942188},794.40588203494178,685.59411796505822]
[7322,737,712,null,null,null,null,null,null,null,null,null,{"$f":"Control!$C$20+Control!$C$21*A7322+Control!$C$22*A7322^2","v":1967.9890990273996},791.29548784199289,682.70451215800711]
[7325,735,726,null,null,null,null,null,null,null,null,null,{"$f":"Control!$C$20+Control!$C$21*A7325+Control!$C$22*A7325^2","v":1968.7970061041394},789.22176684690385,680.77823315309615]
[7329,732,718,null,null,null,null,null,null,null,null,null,{"$f":"Control!$C$20+Control!$C$21*A7329+Control!$C$22*A7329^2","v":1969.8742155266143},786.1109970338747,677.8890029661253]
[7332,730,691,null,null,null,null,null,null,null,null,null,{"$f":"Control!$C$20+Control!$C$21*A7332+Control!$C$22*A7332^2","v":1970.682122583587},784.03702434442516,675.96297565557484]
[7333,729,734,null,null,null,null,null,null,null,null,null,{"$f":"Control!$C$20+Control!$C$21*A7333+Control!$C$22*A7333^2","v":1970.9514249340286},783,675]
[7337,726,704,null,null,null,null,null,null,null,null,null,{"$f":"Control!$C$20+Control!$C$21*A7337+Control!$C$22*A7337^2","v":1972.0286343263822},779.88877434122992,672.11122565877008]
[7338,726,671,null,null,null,null,null,null,null,null,null,{"$f":"Control!$C$20+Control!$C$21*A7338+Control!$C$22*A7338^2","v":1972.2979366721172},779.88877434122992,672.11122565877008]
[7342,723,699,null,null,null,null,null,null,null,null,null,{"$f":"Control!$C$20+Control!$C$21*A7342+Control!$C$22*A7342^2","v":1973.3751460456449},776.77731863899498,669.22268136100502]
[7345,721,700,null,null,null,null,null,null,null,null,null,{"$f":"Control!$C$20+Control!$C$21*A7345+Control!$C$22*A7345^2","v":1974.1830530659067},774.70288632839015,667.29711367160985]
[7349,718,693,null,null,null,null,null,null,null,null,null,{"$f":"Control!$C$20+Control!$C$21*A7349+Control!$C$22*A7349^2","v":1975.2602624130782},771.59104402789706,664.40895597210294]
[7352,715,725,null,null,null,null,null,null,null,null,null,{"$f":"Control!$C$20+Control!$C$21*A7352+Control!$C$22*A7352^2","v":1976.0681694135728},768.47896782848375,661.52103217151625]
[7355,713,729,null,null,null,null,null,null,null,null,null,{"$f":"Control!$C$20+Control!$C$21*A7355+Control!$C$22*A7355^2","v":1976.876076405596},766.40411969127479,659.59588030872521]
[7356,712,693,null,null,null,null,null,null,null,null,null,{"$f":"Control!$C$20+Control!$C$21*A7356+Control!$C$22*A7356^2","v":1977.1453787343878},765.36665625650539,658.63334374349461]
[7358,717,702,6,null,null,null,null,null,null,null,null,{"$f":"Control!$C$20+Control!$C$21*A7358+Control!$C$22*A7358^2","v":1977.6839833891474},765.36665625650539,658.63334374349461]
[7361,741,722,32,null,null,null,null,null,null,null,null,{"$f":"Control!$C$20+Control!$C$21*A7361+Control!$C$22*A7361^2","v":1978.4918903642274},765.36665625650539,658.63334374349461]
[7365,808,814,102,null,null,null,null,null,null,null,null,{"$f":"Control!$C$20+Control!$C$21*A7365+Control!$C$22*A7365^2","v":1979.5690996511555},765.36665625650539,658.63334374349461]
[7368,808,737,104,null,null,null,null,null,null,null,null,{"$f":"Control!$C$20+Control!$C$21*A7368+Control!$C$22*A7368^2","v":1980.3770066064681},765.36665625650539,658.63334374349461]
[7372,736,785,35,null,null,null,null,null,null,null,null,{"$f":"Control!$C$20+Control!$C$21*A7372+Control!$C$22*A7372^2","v":1981.4542158670401},765.36665625650539,658.63334374349461]
[7373,722,710,22,null,null,null,null,null,null,null,null,{"$f":"Control!$C$20+Control!$C$21*A7373+Control!$C$22*A7373^2","v":1981.7235181798299},765.36665625650539,658.63334374349461]
[7377,698,723,1,null,null,null,null,null,null,null,null,{"$f":"Control!$C$20+Control!$C$21*A7377+Control!$C$22*A7377^2","v":1982.8007274215759},765.36665625650539,658.63334374349461]
[7378,696,701,null,null,null,null,null,null,null,null,null,{"$f":"Control!$C$20+Control!$C$21*A7378+Control!$C$22*A7378^2","v":1983.0700297296592},748.76362383309163,643.23637616690837]
[7381,694,677,null,null,null,null,null,null,null,null,null,{"$f":"Control!$C$20+Control!$C$21*A7381+Control!$C$22*A7381^2","v":1983.8779366482611},746.68775948927794,641.31224051072206]
[7385,691,701,null,null,null,null,null,null,null,null,null,{"$f":"Control!$C$20+Control!$C$21*A7385+Control!$C$22*A7385^2","v":1984.9551458598855},743.57375771237969,638.42624228762031]
[7388,689,667,null,null,null,null,null,null,null,null,null,{"$f":"Control!$C$20+Control!$C$21*A7388+Control!$C$22*A7388^2","v":1985.7630527587203},741.4976189936267,636.5023810063733]
[7391,687,681,null,null,null,null,null,null,null,null,null,{"$f":"Control!$C$20+Control!$C$21*A7391+Control!$C$22*A7391^2","v":1986.5709596490833},739.4213696883246,634.5786303116754]
[7394,685,704,null,null,null,null,null,null,null,null,null,{"$f":"Control!$C$20+Control!$C$21*A7394+Control!$C$22*A7394^2","v":1987.3788665309748},737.34500931320963,632.65499068679037]
[7397,682,648,null,null,null,null,null,null,null,null,null,{"$f":"Control!$C$20+Control!$C$21*A7397+Control!$C$22*A7397^2","v":1988.1867734043944},734.23025942880236,629.76974057119764]
[7400,680,682,null,null,null,null,null,null,null,null,null,{"$f":"Control!$C$20+Control!$C$21*A7400+Control!$C$22*A7400^2","v":1988.9946802693426},732.15361924162119,627.84638075837881]
[7401,679,647,null,null,null,null,null,null,null,null,null,{"$f":"Control!$C$20+Control!$C$21*A7401+Control!$C$22*A7401^2","v":1989.263982555776},731.11525688318147,626.88474311681853]
[7404,677,673,null,null,null,null,null,null,null,null,null,{"$f":"Control!$C$20+Control!$C$21*A7404+Control!$C$22*A7404^2","v":1990.0718894094286},729.0384473250308,624.9615526749692]
[7408,674,670,null,null,null,null,null,null,null,null,null,{"$f":"Control!$C$20+Control!$C$21*A7408+Control!$C$22*A7408^2","v":1991.1490985344537},725.92301994298873,622.07698005701127]
[7411,672,718,null,null,null,null,null,null,null,null,null,{"$f":"Control!$C$20+Control!$C$21*A7411+Control!$C$22*A7411^2","v":1991.957005368339},723.84592558726285,620.15407441273715]
[7413,671,659,null,null,null,null,null,null,null,null,null,{"$f":"Control!$C$20+Control!$C$21*A7413+Control!$C$22*A7413^2","v":1992.495609919556},722.80733538795448,619.19266461204552]
[7417,668,662,null,null,null,null,null,null,null,null,null,{"$f":"Control!$C$20+Control!$C$21*A7417+Control!$C$22*A7417^2","v":1993.5728190106945},719.69139193328033,616.30860806671967]
[7420,666,653,null,null,null,null,null,null,null,null,null,{"$f":"Control!$C$20+Control!$C$21*A7420+Control!$C$22*A7420^2","v":1994.3807258191648},717.61395160225572,614.38604839774428]
[7423,663,638,null,null,null,null,null,null,null,null,null,{"$f":"Control!$C$20+Control!$C$21*A7423+Control!$C$22*A7423^2","v":1995.1886326191634},714.49757275833497,611.50242724166503]
[7424,663,642,null,null,null,null,null,null,null,null,null,{"$f":"Control!$C$20+Control!$C$21*A7424+Control!$C$22*A7424^2","v":1995.457934883947},714.49757275833497,611.50242724166503]
[7427,660,656,null,null,null,null,null,null,null,null,null,{"$f":"Control!$C$20+Control!$C$21*A7427+Control!$C$22*A7427^2","v":1996.2658416726501},{"$f":"IF(D7427=0,B7427+2*SQRT(B7427),N7426)","v":711.38093031466053},{"$f":"IF(D7427=0,B7427-2*SQRT(B7427),O7426)","v":608.61906968533947}]
[7431,658,662,null,null,null,null,null,null,null,null,null,{"$f":"Control!$C$20+Control!$C$21*A7431+Control!$C$22*A7431^2","v":1997.3430507110759},709.30302135352258,606.69697864647742]
[7434,655,624,null,null,null,null,null,null,null,null,null,{"$f":"Control!$C$20+Control!$C$21*A7434+Control!$C$22*A7434^2","v":1998.1509574800118},706.18593556827886,603.81406443172114]
[7436,654,663,null,null,null,null,null,null,null,null,null,{"$f":"Control!$C$20+Control!$C$21*A7436+Control!$C$22*A7436^2","v":1998.6895619879292},705.14684741017766,602.85315258982234]
[7440,651,597,null,null,null,null,null,null,null,null,null,{"$f":"Control!$C$20+Control!$C$21*A7440+Control!$C$22*A7440^2","v":1999.7667709924683},702.02940328869227,599.97059671130773]
[7443,649,587,null,null,null,null,null,null,null,null,null,{"$f":"Control!$C$20+Control!$C$21*A7443+Control!$C$22*A7443^2","v":2000.5746777359891},699.950956811428,598.049043188572]
[7444,648,635,null,null,null,null,null,null,null,null,null,{"$f":"Control!$C$20+Control!$C$21*A7444+Control!$C$22*A7444^2","v":2000.8439799819469},698.91168824543138,597.08831175456862]
[7447,646,608,null,null,null,null,null,null,null,null,null,{"$f":"Control!$C$20+Control!$C$21*A7447+Control!$C$22*A7447^2","v":2001.651886714172},696.83306010855529,595.16693989144471]
[7450,644,659,null,null,null,null,null,null,null,null,null,{"$f":"Control!$C$20+Control!$C$21*A7450+Control!$C$22*A7450^2","v":2002.4597934379256},694.75431016179812,593.24568983820188]
[7453,641,636,null,null,null,null,null,null,null,null,null,{"$f":"Control!$C$20+Control!$C$21*A7453+Control!$C$22*A7453^2","v":2003.2677001532074},691.63595560468866,590.36404439531134]
[7456,639,628,null,null,null,null,null,null,null,null,null,{"$f":"Control!$C$20+Control!$C$21*A7456+Control!$C$22*A7456^2","v":2004.0756068600176},689.5568986390582,588.4431013609418]
[7459,637,635,null,null,null,null,null,null,null,null,null,{"$f":"Control!$C$20+Control!$C$21*A7459+Control!$C$22*A7459^2","v":2004.8835135583561},687.47771785649581,586.52228214350419]
[7463,634,660,null,null,null,null,null,null,null,null,null,{"$f":"Control!$C$20+Control!$C$21*A7463+Control!$C$22*A7463^2","v":2005.960722476296},684.35871324805669,583.64128675194331]
[7466,632,645,null,null,null,null,null,null,null,null,null,{"$f":"Control!$C$20+Control!$C$21*A7466+Control!$C$22*A7466^2","v":2006.7686291548673},682.27922035990616,581.72077964009384]
[7467,631,639,null,null,null,null,null,null,null,null,null,{"$f":"Control!$C$20+Control!$C$21*A7467+Control!$C$22*A7467^2","v":2007.0379313791752},681.23942674832188,580.76057325167812]
[7470,629,596,null,null,null,null,null,null,null,null,null,{"$f":"Control!$C$20+Control!$C$21*A7470+Control!$C$22*A7470^2","v":2007.845838046451},679.15974481593776,578.84025518406224]
[7474,626,657,null,null,null,null,null,null,null,null,null,{"$f":"Control!$C$20+Control!$C$21*A7474+Control!$C$22*A7474^2","v":2008.9230469229738},676.03998401278727,575.96001598721273]
[7476,625,651,null,null,null,null,null,null,null,null,null,{"$f":"Control!$C$20+Control!$C$21*A7476+Control!$C$22*A7476^2","v":2009.4616513555875},675,575]
[7479,622,636,null,null,null,null,null,null,null,null,null,{"$f":"Control!$C$20+Control!$C$21*A7479+Control!$C$22*A7479^2","v":2010.2695579974481},671.87985565335975,572.12014434664025]
[7482,620,628,null,null,null,null,null,null,null,null,null,{"$f":"Control!$C$20+Control!$C$21*A7482+Control!$C$22*A7482^2","v":2011.0774646308371},669.79959839195499,570.20040160804501]
[7486,617,614,null,null,null,null,null,null,null,null,null,{"$f":"Control!$C$20+Control!$C$21*A7486+Control!$C$22*A7486^2","v":2012.1546734621777},666.67896939349691,567.32103060650309]
[7489,615,603,null,null,null,null,null,null,null,null,null,{"$f":"Control!$C$20+Control!$C$21*A7489+Control!$C$22*A7489^2","v":2012.9625800757997},664.59838707054894,565.40161292945106]
[7490,614,609,null,null,null,null,null,null,null,null,null,{"$f":"Control!$C$20+Control!$C$21*A7490+Control!$C$22*A7490^2","v":2013.2318822784575},663.55804677345543,564.44195322654457]
[7493,612,607,null,null,null,null,null,null,null,null,null,{"$f":"Control!$C$20+Control!$C$21*A7493+Control!$C$22*A7493^2","v":2014.0397888807838},661.47726750741197,562.52273249258803]
[7495,611,634,null,null,null,null,null,null,null,null,null,{"$f":"Control!$C$20+Control!$C$21*A7495+Control!$C$22*A7495^2","v":2014.5783932776283},660.43682837723304,561.56317162276696]
[7499,608,617,null,null,null,null,null,null,null,null,null,{"$f":"Control!$C$20+Control!$C$21*A7499+Control!$C$22*A7499^2","v":2015.6556020600215},657.31531202375186,558.68468797624814]
[7502,605,639,null,null,null,null,null,null,null,null,null,{"$f":"Control!$C$20+Control!$C$21*A7502+Control!$C$22*A7502^2","v":2016.4635086369326},654.19349550499533,555.80650449500467]
[7506,605,603,2,null,null,null,null,null,null,null,null,{"$f":"Control!$C$20+Control!$C$21*A7506+Control!$C$22*A7506^2","v":2017.5407173929696},653.15282290977802,554.84717709022198]
[7509,613,636,13,null,null,null,null,null,null,null,null,{"$f":"Control!$C$20+Control!$C$21*A7509+Control!$C$22*A7509^2","v":2018.3486239501135},653.15282290977802,554.84717709022198]
[7512,636,632,38,null,null,null,null,null,null,null,null,{"$f":"Control!$C$20+Control!$C$21*A7512+Control!$C$22*A7512^2","v":2019.1565304987857},653.15282290977802,554.84717709022198]
[7514,650,685,53,null,null,null,null,null,null,null,null,{"$f":"Control!$C$20+Control!$C$21*A7514+Control!$C$22*A7514^2","v":2019.6951348598609},653.15282290977802,554.84717709022198]
[7515,652,685,56,null,null,null,null,null,null,null,null,{"$f":"Control!$C$20+Control!$C$21*A7515+Control!$C$22*A7515^2","v":2019.9644370389865},653.15282290977802,554.84717709022198]
[7518,634,630,40,null,null,null,null,null,null,null,null,{"$f":"Control!$C$20+Control!$C$21*A7518+Control!$C$22*A7518^2","v":2020.7723435707155},653.15282290977802,554.84717709022198]
[7522,600,591,9,null,null,null,null,null,null,null,null,{"$f":"Control!$C$20+Control!$C$21*A7522+Control!$C$22*A7522^2","v":2021.8495522665094},653.15282290977802,554.84717709022198]
[7525,590,603,1,null,null,null,null,null,null,null,null,{"$f":"Control!$C$20+Control!$C$21*A7525+Control!$C$22*A7525^2","v":2022.657458778471},653.15282290977802,554.84717709022198]
[7529,586,590,null,null,null,null,null,null,null,null,null,{"$f":"Control!$C$20+Control!$C$21*A7529+Control!$C$22*A7529^2","v":2023.7346674479086},634.41487374764085,537.58512625235915]
[7532,584,614,null,null,null,null,null,null,null,null,null,{"$f":"Control!$C$20+Control!$C$21*A7532+Control!$C$22*A7532^2","v":2024.5425739401032},632.33218389437832,535.66781610562168]
[7533,583,533,null,null,null,null,null,null,null,null,null,{"$f":"Control!$C$20+Control!$C$21*A7533+Control!$C$22*A7533^2","v":2024.8118761022854},631.2907858705986,534.7092141294014]
[7535,581,577,null,null,null,null,null,null,null,null,null,{"$f":"Control!$C$20+Control!$C$21*A7535+Control!$C$22*A7535^2","v":2025.350480423826},629.20788317277584,532.79211682722416]
[7538,579,574,null,null,null,null,null,null,null,null,null,{"$f":"Control!$C$20+Control!$C$21*A7538+Control!$C$22*A7538^2","v":2026.1583868990772},627.1248376620639,530.8751623379361]
[7542,576,651,null,null,null,null,null,null,null,null,null,{"$f":"Control!$C$20+Control!$C$21*A7542+Control!$C$22*A7542^2","v":2027.2355955195674},624,528]
[7545,574,616,null,null,null,null,null,null,null,null,null,{"$f":"Control!$C$20+Control!$C$21*A7545+Control!$C$22*A7545^2","v":2028.0435019750512},621.91659420284373,526.08340579715627]
[7548,572,529,null,null,null,null,null,null,null,null,null,{"$f":"Control!$C$20+Control!$C$21*A7548+Control!$C$22*A7548^2","v":2028.8514084220635},619.83304297240556,524.16695702759444]
[7552,569,614,null,null,null,null,null,null,null,null,null,{"$f":"Control!$C$20+Control!$C$21*A7552+Control!$C$22*A7552^2","v":2029.9286170049018},616.70744176750623,521.29255823249377]
[7554,567,597,null,null,null,null,null,null,null,null,null,{"$f":"Control!$C$20+Control!$C$21*A7554+Control!$C$22*A7554^2","v":2030.467221290673},614.62352359916258,519.37647640083742]
[7557,565,609,null,null,null,null,null,null,null,null,null,{"$f":"Control!$C$20+Control!$C$21*A7557+Control!$C$22*A7557^2","v":2031.2751277122704},612.5394572960189,517.4605427039811]
[7558,564,520,null,null,null,null,null,null,null,null,null,{"$f":"Control!$C$20+Control!$C$21*A7558+Control!$C$22*A7558^2","v":2031.5444298509201},611.49736834815167,516.50263165184833]
[7561,562,535,null,null,null,null,null,null,null,null,null,{"$f":"Control!$C$20+Control!$C$21*A7561+Control!$C$22*A7561^2","v":2032.3523362612218},609.41307836451881,514.58692163548119]
[7565,559,566,null,null,null,null,null,null,null,null,null,{"$f":"Control!$C$20+Control!$C$21*A7565+Control!$C$22*A7565^2","v":2033.4295447951126},606.28636167014758,511.71363832985242]
[7568,557,547,null,null,null,null,null,null,null,null,null,{"$f":"Control!$C$20+Control!$C$21*A7568+Control!$C$22*A7568^2","v":2034.2374511856472},604.20169488482384,509.79830511517622]
[7571,555,552,null,null,null,null,null,null,null,null,null,{"$f":"Control!$C$20+Control!$C$21*A7571+Control!$C$22*A7571^2","v":2035.04535756771},602.11687595755893,507.88312404244101]
[7573,553,521,null,null,null,null,null,null,null,null,null,{"$f":"Control!$C$20+Control!$C$21*A7573+Control!$C$22*A7573^2","v":2035.583961817712},600.03190406521935,505.96809593478059]
[7577,551,544,null,null,null,null,null,null,null,null,null,{"$f":"Control!$C$20+Control!$C$21*A7577+Control!$C$22*A7577^2","v":2036.6611703064207},597.94677837722202,504.05322162277798]
[7580,548,567,null,null,null,null,null,null,null,null,null,{"$f":"Control!$C$20+Control!$C$21*A7580+Control!$C$22*A7580^2","v":2037.4690766630683},594.8187996428785,501.1812003571215]
[7581,548,579,null,null,null,null,null,null,null,null,null,{"$f":"Control!$C$20+Control!$C$21*A7581+Control!$C$22*A7581^2","v":2037.7383787800684},594.8187996428785,501.1812003571215]
[7584,545,530,null,null,null,null,null,null,null,null,null,{"$f":"Control!$C$20+Control!$C$21*A7584+Control!$C$22*A7584^2","v":2038.5462851254206},591.69047011971497,498.30952988028497]
[7588,542,518,null,null,null,null,null,null,null,null,null,{"$f":"Control!$C$20+Control!$C$21*A7588+Control!$C$22*A7588^2","v":2039.6234935727121},588.56178690729121,495.43821309270874]
[7591,540,530,null,null,null,null,null,null,null,null,null,{"$f":"Control!$C$20+Control!$C$21*A7591+Control!$C$22*A7591^2","v":2040.4313998982971},586.47580015448898,493.52419984551102]
[7594,538,501,null,null,null,null,null,null,null,null,null,{"$f":"Control!$C$20+Control!$C$21*A7594+Control!$C$22*A7594^2","v":2041.2393062154104},584.38965401897281,491.61034598102719]
[7597,536,506,null,null,null,null,null,null,null,null,null,{"$f":"Control!$C$20+Control!$C$21*A7597+Control!$C$22*A7597^2","v":2042.0472125240519},582.30334761116092,489.69665238883908]
[7600,534,549,null,null,null,null,null,null,null,null,null,{"$f":"Control!$C$20+Control!$C$21*A7600+Control!$C$22*A7600^2","v":2042.855118824222},580.21688003316535,487.78311996683465]
[7601,533,511,null,null,null,null,null,null,null,null,null,{"$f":"Control!$C$20+Control!$C$21*A7601+Control!$C$22*A7601^2","v":2043.124420922396},579.17358552246083,486.82641447753923]
[7604,531,552,null,null,null,null,null,null,null,null,null,{"$f":"Control!$C$20+Control!$C$21*A7604+Control!$C$22*A7604^2","v":2043.9323272112706},577.08687448721162,484.91312551278833]
[7607,529,537,null,null,null,null,null,null,null,null,null,{"$f":"Control!$C$20+Control!$C$21*A7607+Control!$C$22*A7607^2","v":2044.7402334916733},575,483]
[7611,526,528,null,null,null,null,null,null,null,null,null,{"$f":"Control!$C$20+Control!$C$21*A7611+Control!$C$22*A7611^2","v":2045.8174418523654},571.86937976471881,480.13062023528113]
[7613,524,561,null,null,null,null,null,null,null,null,null,{"$f":"Control!$C$20+Control!$C$21*A7613+Control!$C$22*A7613^2","v":2046.3560460270637},569.78209256903835,478.21790743096159]
[7616,522,497,null,null,null,null,null,null,null,null,null,{"$f":"Control!$C$20+Control!$C$21*A7616+Control!$C$22*A7616^2","v":2047.1639522820515},567.69463863518342,476.30536136481658]
[7620,519,549,null,null,null,null,null,null,null,null,null,{"$f":"Control!$C$20+Control!$C$21*A7620+Control!$C$22*A7620^2","v":2048.2411606088572},564.56314299957808,473.43685700042192]
[7623,517,528,null,null,null,null,null,null,null,null,null,{"$f":"Control!$C$20+Control!$C$21*A7623+Control!$C$22*A7623^2","v":2049.0490668440775},562.47526800360833,471.52473199639172]
[7624,516,481,null,null,null,null,null,null,null,null,null,{"$f":"Control!$C$20+Control!$C$21*A7624+Control!$C$22*A7624^2","v":2049.3183689206016},561.43126676640213,470.56873323359781]
[7627,514,488,null,null,null,null,null,null,null,null,null,{"$f":"Control!$C$20+Control!$C$21*A7627+Control!$C$22*A7627^2","v":2050.1262751445265},559.34313619501859,468.65686380498147]
[7630,512,486,null,null,null,null,null,null,null,null,null,{"$f":"Control!$C$20+Control!$C$21*A7630+Control!$C$22*A7630^2","v":2050.9341813599799},557.25483399593907,466.74516600406093]
[7634,509,508,null,null,null,null,null,null,null,null,null,{"$f":"Control!$C$20+Control!$C$21*A7634+Control!$C$22*A7634^2","v":2052.0113896340727},554.12205669071386,463.87794330928608]
[7636,507,525,null,null,null,null,null,null,null,null,null,{"$f":"Control!$C$20+Control!$C$21*A7636+Control!$C$22*A7636^2","v":2052.5499937654713},552.03332099679085,461.96667900320921]
[7640,504,520,null,null,null,null,null,null,null,null,null,{"$f":"Control!$C$20+Control!$C$21*A7640+Control!$C$22*A7640^2","v":2053.6272020169731},548.89988864128725,459.1001113587127]
[7643,502,529,null,null,null,null,null,null,null,null,null,{"$f":"Control!$C$20+Control!$C$21*A7643+Control!$C$22*A7643^2","v":2054.4351081957157},546.81071300481619,457.18928699518386]
[7646,500,481,null,null,null,null,null,null,null,null,null,{"$f":"Control!$C$20+Control!$C$21*A7646+Control!$C$22*A7646^2","v":2055.2430143659867},544.72135954999578,455.27864045000422]
[7647,499,505,null,null,null,null,null,null,null,null,null,{"$f":"Control!$C$20+Control!$C$21*A7647+Control!$C$22*A7647^2","v":2055.5123164208612},543.6766158073774,454.32338419262265]
[7650,497,481,null,null,null,null,null,null,null,null,null,{"$f":"Control!$C$20+Control!$C$21*A7650+Control!$C$22*A7650^2","v":2056.3202225798368},541.58699361921595,452.41300638078411]
[7653,495,464,null,null,null,null,null,null,null,null,null,{"$f":"Control!$C$20+Control!$C$21*A7653+Control!$C$22*A7653^2","v":2057.1281287303404},539.49719092257396,450.50280907742604]
[7656,608,607,115,null,null,null,null,null,null,null,null,{"$f":"Control!$C$20+Control!$C$21*A7656+Control!$C$22*A7656^2","v":2057.9360348723726},539.49719092257396,450.50280907742604]
[7659,969,941,479,null,null,null,null,null,null,null,null,{"$f":"Control!$C$20+Control!$C$21*A7659+Control!$C$22*A7659^2","v":2058.7439410059333},539.49719092257396,450.50280907742604]
[7663,1576,1613,1088,null,null,null,null,null,null,null,null,{"$f":"Control!$C$20+Control!$C$21*A7663+Control!$C$22*A7663^2","v":2059.8211491708357},539.49719092257396,450.50280907742604]
[7666,1382,1359,897,null,null,null,null,null,null,null,null,{"$f":"Control!$C$20+Control!$C$21*A7666+Control!$C$22*A7666^2","v":2060.629055284629},539.49719092257396,450.50280907742604]
[7669,853,829,370,null,null,null,null,null,null,null,null,{"$f":"Control!$C$20+Control!$C$21*A7669+Control!$C$22*A7669^2","v":2061.4369613899503},539.49719092257396,450.50280907742604]
[7670,718,696,236,null,null,null,null,null,null,null,null,{"$f":"Control!$C$20+Control!$C$21*A7670+Control!$C$22*A7670^2","v":2061.7062634231747},539.49719092257396,450.50280907742604]
[7674,497,489,18,null,null,null,null,null,null,null,null,{"$f":"Control!$C$20+Control!$C$21*A7674+Control!$C$22*A7674^2","v":2062.7834715466602},539.49719092257396,450.50280907742604]
[7675,479,475,null,null,null,null,null,null,null,null,null,{"$f":"Control!$C$20+Control!$C$21*A7675+Control!$C$22*A7675^2","v":2063.0527735751784},522.77213725647857,435.22786274352143]
[7679,476,453,null,null,null,null,null,null,null,null,null,{"$f":"Control!$C$20+Control!$C$21*A7679+Control!$C$22*A7679^2","v":2064.1299816798378},519.63484845854282,432.36515154145712]
[7682,474,471,null,null,null,null,null,null,null,null,null,{"$f":"Control!$C$20+Control!$C$21*A7682+Control!$C$22*A7682^2","v":2064.9378877484487},517.54308211415446,430.45691788584554]
[7686,471,485,null,null,null,null,null,null,null,null,null,{"$f":"Control!$C$20+Control!$C$21*A7686+Control!$C$22*A7686^2","v":2066.0150958267518},514.40506882842146,427.59493117157859]
[7689,468,452,null,null,null,null,null,null,null,null,null,{"$f":"Control!$C$20+Control!$C$21*A7689+Control!$C$22*A7689^2","v":2066.8230018755958},511.26661530556788,424.73338469443212]
[7692,466,494,null,null,null,null,null,null,null,null,null,{"$f":"Control!$C$20+Control!$C$21*A7692+Control!$C$22*A7692^2","v":2067.6309079159678},509.17406628984583,422.82593371015417]
[7693,466,447,null,null,null,null,null,null,null,null,null,{"$f":"Control!$C$20+Control!$C$21*A7693+Control!$C$22*A7693^2","v":2067.9002099275426},509.17406628984583,422.82593371015417]
[7695,464,476,null,null,null,null,null,null,null,null,null,{"$f":"Control!$C$20+Control!$C$21*A7695+Control!$C$22*A7695^2","v":2068.4388139478679},507.08131845707601,420.91868154292399]
[7699,461,485,null,null,null,null,null,null,null,null,null,{"$f":"Control!$C$20+Control!$C$21*A7699+Control!$C$22*A7699^2","v":2069.5160219772238},503.94182110716775,418.05817889283225]
[7702,459,451,null,null,null,null,null,null,null,null,null,{"$f":"Control!$C$20+Control!$C$21*A7702+Control!$C$22*A7702^2","v":2070.3239279893569},501.84857057125708,416.15142942874292]
[7705,457,452,null,null,null,null,null,null,null,null,null,{"$f":"Control!$C$20+Control!$C$21*A7705+Control!$C$22*A7705^2","v":2071.1318339930185},499.75511665286388,414.24488334713612]
[7709,454,445,null,null,null,null,null,null,null,null,null,{"$f":"Control!$C$20+Control!$C$21*A7709+Control!$C$22*A7709^2","v":2072.2090419847223},496.61455150532504,411.38544849467496]
[7712,452,444,null,null,null,null,null,null,null,null,null,{"$f":"Control!$C$20+Control!$C$21*A7712+Control!$C$22*A7712^2","v":2073.0169479686165},494.52058325093861,409.47941674906139]
[7713,451,453,null,null,null,null,null,null,null,null,null,{"$f":"Control!$C$20+Control!$C$21*A7713+Control!$C$22*A7713^2","v":2073.2862499613652},493.47352116319058,408.52647883680942]
[7714,450,442,null,null,null,null,null,null,null,null,null,{"$f":"Control!$C$20+Control!$C$21*A7714+Control!$C$22*A7714^2","v":2073.5555519531727},492.42640687119285,407.57359312880715]
[7715,449,458,null,null,null,null,null,null,null,null,null,{"$f":"Control!$C$20+Control!$C$21*A7715+Control!$C$22*A7715^2","v":2073.8248539440392},491.3792402008342,406.6207597991658]
[7716,449,465,null,null,null,null,null,null,null,null,null,{"$f":"Control!$C$20+Control!$C$21*A7716+Control!$C$22*A7716^2","v":2074.094155933964},491.3792402008342,406.6207597991658]
[7717,448,462,null,null,null,null,null,null,null,null,null,{"$f":"Control!$C$20+Control!$C$21*A7717+Control!$C$22*A7717^2","v":2074.3634579229474},490.33202097703344,405.66797902296656]
[7718,447,472,null,null,null,null,null,null,null,null,null,{"$f":"Control!$C$20+Control!$C$21*A7718+Control!$C$22*A7718^2","v":2074.63275991099},489.28474902373193,404.71525097626807]
[7719,447,467,null,null,null,null,null,null,null,null,null,{"$f":"Control!$C$20+Control!$C$21*A7719+Control!$C$22*A7719^2","v":2074.9020618980912},489.28474902373193,404.71525097626807]
[7720,446,480,null,null,null,null,null,null,null,null,null,{"$f":"Control!$C$20+Control!$C$21*A7720+Control!$C$22*A7720^2","v":2075.1713638842507},488.23742416388575,403.76257583611425]
[7721,445,438,null,null,null,null,null,null,null,null,null,{"$f":"Control!$C$20+Control!$C$21*A7721+Control!$C$22*A7721^2","v":2075.4406658694693},487.190046219458,402.809953780542]
[7722,444,415,null,null,null,null,null,null,null,null,null,{"$f":"Control!$C$20+Control!$C$21*A7722+Control!$C$22*A7722^2","v":2075.7099678537465},486.14261501141095,401.85738498858905]
[7723,444,439,null,null,null,null,null,null,null,null,null,{"$f":"Control!$C$20+Control!$C$21*A7723+Control!$C$22*A7723^2","v":2075.979269837082},486.14261501141095,401.85738498858905]
[7724,443,415,null,null,null,null,null,null,null,null,null,{"$f":"Control!$C$20+Control!$C$21*A7724+Control!$C$22*A7724^2","v":2076.2485718194766},485.09513035969837,400.90486964030163]
[7725,442,430,null,null,null,null,null,null,null,null,null,{"$f":"Control!$C$20+Control!$C$21*A7725+Control!$C$22*A7725^2","v":2076.5178738009299},484.04759208325726,399.95240791674274]
[7726,441,444,null,null,null,null,null,null,null,null,null,{"$f":"Control!$C$20+Control!$C$21*A7726+Control!$C$22*A7726^2","v":2076.7871757814419},483,399]
[7727,441,426,null,null,null,null,null,null,null,null,null,{"$f":"Control!$C$20+Control!$C$21*A7727+Control!$C$22*A7727^2","v":2077.0564777610125},483,399]
[7728,440,440,null,null,null,null,null,null,null,null,null,{"$f":"Control!$C$20+Control!$C$21*A7728+Control!$C$22*A7728^2","v":2077.3257797396418},481.95235392680604,398.04764607319396]
[7729,439,457,null,null,null,null,null,null,null,null,null,{"$f":"Control!$C$20+Control!$C$21*A7729+Control!$C$22*A7729^2","v":2077.5950817173302},480.9046536795139,397.0953463204861]
[7730,438,432,null,null,null,null,null,null,null,null,null,{"$f":"Control!$C$20+Control!$C$21*A7730+Control!$C$22*A7730^2","v":2077.8643836940769},479.85689907291271,396.14310092708729]
[7731,438,454,null,null,null,null,null,null,null,null,null,{"$f":"Control!$C$20+Control!$C$21*A7731+Control!$C$22*A7731^2","v":2078.1336856698822},479.85689907291271,396.14310092708729]
[7732,437,451,null,null,null,null,null,null,null,null,null,{"$f":"Control!$C$20+Control!$C$21*A7732+Control!$C$22*A7732^2","v":2078.4029876447466},478.80908992073375,395.19091007926625]
[7733,436,433,null,null,null,null,null,null,null,null,null,{"$f":"Control!$C$20+Control!$C$21*A7733+Control!$C$22*A7733^2","v":2078.6722896186693},477.76122603564221,394.23877396435779]
[7734,436,481,null,null,null,null,null,null,null,null,null,{"$f":"Control!$C$20+Control!$C$21*A7734+Control!$C$22*A7734^2","v":2078.9415915916511},477.76122603564221,394.23877396435779]
[7735,435,463,null,null,null,null,null,null,null,null,null,{"$f":"Control!$C$20+Control!$C$21*A7735+Control!$C$22*A7735^2","v":2079.2108935636911},476.71330722922841,393.28669277077159]
[7736,434,419,null,null,null,null,null,null,null,null,null,{"$f":"Control!$C$20+Control!$C$21*A7736+Control!$C$22*A7736^2","v":2079.4801955347903},475.66533331199935,392.33466668800065]
[7737,433,480,null,null,null,null,null,null,null,null,null,{"$f":"Control!$C$20+Control!$C$21*A7737+Control!$C$22*A7737^2","v":2079.7494975049481},474.61730409336963,391.38269590663037]
[7738,433,421,null,null,null,null,null,null,null,null,null,{"$f":"Control!$C$20+Control!$C$21*A7738+Control!$C$22*A7738^2","v":2080.0187994741646},474.61730409336963,391.38269590663037]
[7739,432,416,null,null,null,null,null,null,null,null,null,{"$f":"Control!$C$20+Control!$C$21*A7739+Control!$C$22*A7739^2","v":2080.2881014424397},473.56921938165306,390.43078061834694]
[7740,431,415,null,null,null,null,null,null,null,null,null,{"$f":"Control!$C$20+Control!$C$21*A7740+Control!$C$22*A7740^2","v":2080.5574034097735},472.52107898405336,389.47892101594664]
[7741,430,407,null,null,null,null,null,null,null,null,null,{"$f":"Control!$C$20+Control!$C$21*A7741+Control!$C$22*A7741^2","v":2080.826705376166},471.47288270665547,388.52711729334453]
[7742,430,437,null,null,null,null,null,null,null,null,null,{"$f":"Control!$C$20+Control!$C$21*A7742+Control!$C$22*A7742^2","v":2081.0960073416172},471.47288270665547,388.52711729334453]
[7743,429,404,null,null,null,null,null,null,null,null,null,{"$f":"Control!$C$20+Control!$C$21*A7743+Control!$C$22*A7743^2","v":2081.3653093061271},470.42463035441597,387.57536964558403]
[7744,428,415,null,null,null,null,null,null,null,null,null,{"$f":"Control!$C$20+Control!$C$21*A7744+Control!$C$22*A7744^2","v":2081.6346112696956},469.37632173115441,386.62367826884559]
[7745,427,418,null,null,null,null,null,null,null,null,null,{"$f":"Control!$C$20+Control!$C$21*A7745+Control!$C$22*A7745^2","v":2081.9039132323228},468.32795663954363,385.67204336045637]
[7746,427,448,null,null,null,null,null,null,null,null,null,{"$f":"Control!$C$20+Control!$C$21*A7746+Control!$C$22*A7746^2","v":2082.1732151940091},468.32795663954363,385.67204336045637]
[7747,426,446,null,null,null,null,null,null,null,null,null,{"$f":"Control!$C$20+Control!$C$21*A7747+Control!$C$22*A7747^2","v":2082.4425171547537},{"$f":"IF(D7747=0,B7747+2*SQRT(B7747),N7746)","v":467.27953488110057},{"$f":"IF(D7747=0,B7747-2*SQRT(B7747),O7746)","v":384.72046511889943}]
[7748,425,461,null,null,null,null,null,null,null,null,null,{"$f":"Control!$C$20+Control!$C$21*A7748+Control!$C$22*A7748^2","v":2082.7118191145573},466.2310562561766,383.7689437438234]
[7749,425,474,null,null,null,null,null,null,null,null,null,{"$f":"Control!$C$20+Control!$C$21*A7749+Control!$C$22*A7749^2","v":2082.9811210734192},466.2310562561766,383.7689437438234]
[7750,424,432,null,null,null,null,null,null,null,null,null,{"$f":"Control!$C$20+Control!$C$21*A7750+Control!$C$22*A7750^2","v":2083.2504230313402},465.182520563948,382.817479436052]
[7751,423,404,null,null,null,null,null,null,null,null,null,{"$f":"Control!$C$20+Control!$C$21*A7751+Control!$C$22*A7751^2","v":2083.5197249883195},464.13392760240629,381.86607239759371]
[7752,422,433,null,null,null,null,null,null,null,null,null,{"$f":"Control!$C$20+Control!$C$21*A7752+Control!$C$22*A7752^2","v":2083.7890269443578},463.08527716834828,380.91472283165172]
[7753,422,478,null,null,null,null,null,null,null,null,null,{"$f":"Control!$C$20+Control!$C$21*A7753+Control!$C$22*A7753^2","v":2084.0583288994549},463.08527716834828,380.91472283165172]
[7754,421,421,null,null,null,null,null,null,null,null,null,{"$f":"Control!$C$20+Control!$C$21*A7754+Control!$C$22*A7754^2","v":2084.3276308536106},462.03656905736636,379.96343094263364]
[7755,420,428,null,null,null,null,null,null,null,null,null,{"$f":"Control!$C$20+Control!$C$21*A7755+Control!$C$22*A7755^2","v":2084.596932806825},460.98780306383838,379.01219693616162]
[7756,419,406,null,null,null,null,null,null,null,null,null,{"$f":"Control!$C$20+Control!$C$21*A7756+Control!$C$22*A7756^2","v":2084.866234759098},459.93897898091745,378.06102101908255]
[7757,419,396,null,null,null,null,null,null,null,null,null,{"$f":"Control!$C$20+Control!$C$21*A7757+Control!$C$22*A7757^2","v":2085.1355367104297},459.93897898091745,378.06102101908255]
[7758,418,413,null,null,null,null,null,null,null,null,null,{"$f":"Control!$C$20+Control!$C$21*A7758+Control!$C$22*A7758^2","v":2085.4048386608201},458.89009660052176,377.10990339947824]
[7759,417,376,null,null,null,null,null,null,null,null,null,{"$f":"Control!$C$20+Control!$C$21*A7759+Control!$C$22*A7759^2","v":2085.6741406102692},457.84115571332427,376.15884428667573]
[7760,416,420,null,null,null,null,null,null,null,null,null,{"$f":"Control!$C$20+Control!$C$21*A7760+Control!$C$22*A7760^2","v":2085.943442558777},456.79215610874229,375.20784389125771]
[7761,416,377,null,null,null,null,null,null,null,null,null,{"$f":"Control!$C$20+Control!$C$21*A7761+Control!$C$22*A7761^2","v":2086.2127445063438},456.79215610874229,375.20784389125771]
[7762,415,426,null,null,null,null,null,null,null,null,null,{"$f":"Control!$C$20+Control!$C$21*A7762+Control!$C$22*A7762^2","v":2086.4820464529689},455.74309757492671,374.25690242507329]
[7763,414,424,null,null,null,null,null,null,null,null,null,{"$f":"Control!$C$20+Control!$C$21*A7763+Control!$C$22*A7763^2","v":2086.7513483986531},454.69397989875159,373.30602010124841]
[7764,414,399,null,null,null,null,null,null,null,null,null,{"$f":"Control!$C$20+Control!$C$21*A7764+Control!$C$22*A7764^2","v":2087.0206503433956},454.69397989875159,373.30602010124841]
[7765,413,436,null,null,null,null,null,null,null,null,null,{"$f":"Control!$C$20+Control!$C$21*A7765+Control!$C$22*A7765^2","v":2087.2899522871971},453.64480286580317,372.35519713419683]
[7766,412,381,null,null,null,null,null,null,null,null,null,{"$f":"Control!$C$20+Control!$C$21*A7766+Control!$C$22*A7766^2","v":2087.5592542300574},452.59556626036886,371.40443373963114]
[7767,411,404,null,null,null,null,null,null,null,null,null,{"$f":"Control!$C$20+Control!$C$21*A7767+Control!$C$22*A7767^2","v":2087.8285561719758},451.54626986542661,370.45373013457339]
[7768,411,384,null,null,null,null,null,null,null,null,null,{"$f":"Control!$C$20+Control!$C$21*A7768+Control!$C$22*A7768^2","v":2088.0978581129534},451.54626986542661,370.45373013457339]
[7769,410,404,null,null,null,null,null,null,null,null,null,{"$f":"Control!$C$20+Control!$C$21*A7769+Control!$C$22*A7769^2","v":2088.3671600529897},450.49691346263319,369.50308653736681]
[7770,409,415,null,null,null,null,null,null,null,null,null,{"$f":"Control!$C$20+Control!$C$21*A7770+Control!$C$22*A7770^2","v":2088.6364619920846},449.44749683231339,368.55250316768661]
[7771,408,408,null,null,null,null,null,null,null,null,null,{"$f":"Control!$C$20+Control!$C$21*A7771+Control!$C$22*A7771^2","v":2088.9057639302382},448.3980197534483,367.6019802465517]
[7772,408,395,null,null,null,null,null,null,null,null,null,{"$f":"Control!$C$20+Control!$C$21*A7772+Control!$C$22*A7772^2","v":2089.1750658674505},448.3980197534483,367.6019802465517]
[7773,407,435,null,null,null,null,null,null,null,null,null,{"$f":"Control!$C$20+Control!$C$21*A7773+Control!$C$22*A7773^2","v":2089.4443678037214},447.348482003664,366.651517996336]
[7774,406,394,null,null,null,null,null,null,null,null,null,{"$f":"Control!$C$20+Control!$C$21*A7774+Control!$C$22*A7774^2","v":2089.7136697390511},446.29888335921976,365.70111664078024]
[7775,405,393,null,null,null,null,null,null,null,null,null,{"$f":"Control!$C$20+Control!$C$21*A7775+Control!$C$22*A7775^2","v":2089.9829716734398},445.24922359499624,364.75077640500376]
[7776,405,431,null,null,null,null,null,null,null,null,null,{"$f":"Control!$C$20+Control!$C$21*A7776+Control!$C$22*A7776^2","v":2090.2522736068868},445.24922359499624,364.75077640500376]
[7777,404,409,null,null,null,null,null,null,null,null,null,{"$f":"Control!$C$20+Control!$C$21*A7777+Control!$C$22*A7777^2","v":2090.5215755393924},444.19950248448356,363.80049751551644]
[7778,403,380,null,null,null,null,null,null,null,null,null,{"$f":"Control!$C$20+Control!$C$21*A7778+Control!$C$22*A7778^2","v":2090.7908774709572},443.14971979976946,362.85028020023054]
[7779,403,417,null,null,null,null,null,null,null,null,null,{"$f":"Control!$C$20+Control!$C$21*A7779+Control!$C$22*A7779^2","v":2091.0601794015802},443.14971979976946,362.85028020023054]
[7780,402,400,null,null,null,null,null,null,null,null,null,{"$f":"Control!$C$20+Control!$C$21*A7780+Control!$C$22*A7780^2","v":2091.3294813312623},442.09987531152683,361.90012468847317]
[7781,401,394,null,null,null,null,null,null,null,null,null,{"$f":"Control!$C$20+Control!$C$21*A7781+Control!$C$22*A7781^2","v":2091.5987832600031},441.04996878900158,360.95003121099842]
[7782,400,387,null,null,null,null,null,null,null,null,null,{"$f":"Control!$C$20+Control!$C$21*A7782+Control!$C$22*A7782^2","v":2091.8680851878021},440,360]
[7783,400,428,null,null,null,null,null,null,null,null,null,{"$f":"Control!$C$20+Control!$C$21*A7783+Control!$C$22*A7783^2","v":2092.1373871146602},440,360]
[7784,399,386,null,null,null,null,null,null,null,null,null,{"$f":"Control!$C$20+Control!$C$21*A7784+Control!$C$22*A7784^2","v":2092.406689040577},438.94996871087636,359.05003128912364]
[7785,398,404,null,null,null,null,null,null,null,null,null,{"$f":"Control!$C$20+Control!$C$21*A7785+Control!$C$22*A7785^2","v":2092.6759909655525},437.89987468651998,358.10012531348002]
[7786,397,369,null,null,null,null,null,null,null,null,null,{"$f":"Control!$C$20+Control!$C$21*A7786+Control!$C$22*A7786^2","v":2092.9452928895867},436.84971769034257,357.15028230965743]
[7787,397,426,null,null,null,null,null,null,null,null,null,{"$f":"Control!$C$20+Control!$C$21*A7787+Control!$C$22*A7787^2","v":2093.2145948126795},436.84971769034257,357.15028230965743]
[7788,396,456,null,null,null,null,null,null,null,null,null,{"$f":"Control!$C$20+Control!$C$21*A7788+Control!$C$22*A7788^2","v":2093.483896734831},435.7994974842648,356.2005025157352]
[7789,395,401,null,null,null,null,null,null,null,null,null,{"$f":"Control!$C$20+Control!$C$21*A7789+Control!$C$22*A7789^2","v":2093.7531986560411},434.7492138287036,355.2507861712964]
[7790,395,386,null,null,null,null,null,null,null,null,null,{"$f":"Control!$C$20+Control!$C$21*A7790+Control!$C$22*A7790^2","v":2094.0225005763104},434.7492138287036,355.2507861712964]
[7791,394,403,null,null,null,null,null,null,null,null,null,{"$f":"Control!$C$20+Control!$C$21*A7791+Control!$C$22*A7791^2","v":2094.291802495638},433.6988664825584,354.3011335174416]
[7792,393,380,null,null,null,null,null,null,null,null,null,{"$f":"Control!$C$20+Control!$C$21*A7792+Control!$C$22*A7792^2","v":2094.5611044140242},432.64845520319801,353.35154479680199]
[7793,392,385,null,null,null,null,null,null,null,null,null,{"$f":"Control!$C$20+Control!$C$21*A7793+Control!$C$22*A7793^2","v":2094.8304063314695},431.59797974644664,352.40202025355336]
[7794,392,396,null,null,null,null,null,null,null,null,null,{"$f":"Control!$C$20+Control!$C$21*A7794+Control!$C$22*A7794^2","v":2095.0997082479735},431.59797974644664,352.40202025355336]
[7795,391,392,null,null,null,null,null,null,null,null,null,{"$f":"Control!$C$20+Control!$C$21*A7795+Control!$C$22*A7795^2","v":2095.3690101635357},430.54743986657036,351.45256013342964]
[7796,390,368,null,null,null,null,null,null,null,null,null,{"$f":"Control!$C$20+Control!$C$21*A7796+Control!$C$22*A7796^2","v":2095.638312078157},429.496835316263,350.503164683737]
[7797,389,382,null,null,null,null,null,null,null,null,null,{"$f":"Control!$C$20+Control!$C$21*A7797+Control!$C$22*A7797^2","v":2095.907613991837},428.44616584663203,349.55383415336797]
[7798,389,384,null,null,null,null,null,null,null,null,null,{"$f":"Control!$C$20+Control!$C$21*A7798+Control!$C$22*A7798^2","v":2096.1769159045753},428.44616584663203,349.55383415336797]
[7799,388,359,null,null,null,null,null,null,null,null,null,{"$f":"Control!$C$20+Control!$C$21*A7799+Control!$C$22*A7799^2","v":2096.4462178163726},427.3954312071844,348.6045687928156]
[7800,387,389,null,null,null,null,null,null,null,null,null,{"$f":"Control!$C$20+Control!$C$21*A7800+Control!$C$22*A7800^2","v":2096.7155197272286},426.344631145812,347.655368854188]
[7801,386,330,null,null,null,null,null,null,null,null,null,{"$f":"Control!$C$20+Control!$C$21*A7801+Control!$C$22*A7801^2","v":2096.9848216371433},425.29376540877701,346.70623459122299]
[7802,386,385,null,null,null,null,null,null,null,null,null,{"$f":"Control!$C$20+Control!$C$21*A7802+Control!$C$22*A7802^2","v":2097.2541235461167},425.29376540877701,346.70623459122299]
[7803,385,380,null,null,null,null,null,null,null,null,null,{"$f":"Control!$C$20+Control!$C$21*A7803+Control!$C$22*A7803^2","v":2097.5234254541488},424.24283374069717,345.75716625930283]
[7804,384,335,null,null,null,null,null,null,null,null,null,{"$f":"Control!$C$20+Control!$C$21*A7804+Control!$C$22*A7804^2","v":2097.7927273612399},423.19183588453086,344.80816411546914]
[7805,384,378,null,null,null,null,null,null,null,null,null,{"$f":"Control!$C$20+Control!$C$21*A7805+Control!$C$22*A7805^2","v":2098.0620292673893},423.19183588453086,344.80816411546914]
[7806,383,355,null,null,null,null,null,null,null,null,null,{"$f":"Control!$C$20+Control!$C$21*A7806+Control!$C$22*A7806^2","v":2098.3313311725974},422.14077158156186,343.85922841843814]
[7807,382,365,null,null,null,null,null,null,null,null,null,{"$f":"Control!$C$20+Control!$C$21*A7807+Control!$C$22*A7807^2","v":2098.6006330768646},421.08964057138411,342.91035942861589]
[7808,381,373,null,null,null,null,null,null,null,null,null,{"$f":"Control!$C$20+Control!$C$21*A7808+Control!$C$22*A7808^2","v":2098.86993498019},420.03844259188628,341.96155740811372]
[7809,381,371,null,null,null,null,null,null,null,null,null,{"$f":"Control!$C$20+Control!$C$21*A7809+Control!$C$22*A7809^2","v":2099.1392368825746},420.03844259188628,341.96155740811372]
[7810,380,383,null,null,null,null,null,null,null,null,null,{"$f":"Control!$C$20+Control!$C$21*A7810+Control!$C$22*A7810^2","v":2099.4085387840173},418.98717737923585,341.01282262076415]
[7811,379,397,null,null,null,null,null,null,null,null,null,{"$f":"Control!$C$20+Control!$C$21*A7811+Control!$C$22*A7811^2","v":2099.6778406845192},{"$f":"IF(D7811=0,B7811+2*SQRT(B7811),N7810)","v":417.93584466786359},{"$f":"IF(D7811=0,B7811-2*SQRT(B7811),O7810)","v":340.06415533213641}]
[7812,378,364,null,null,null,null,null,null,null,null,null,{"$f":"Control!$C$20+Control!$C$21*A7812+Control!$C$22*A7812^2","v":2099.9471425840798},416.88444419044714,339.11555580955286]
[7813,378,391,null,null,null,null,null,null,null,null,null,{"$f":"Control!$C$20+Control!$C$21*A7813+Control!$C$22*A7813^2","v":2100.2164444826985},416.88444419044714,339.11555580955286]
[7814,377,361,null,null,null,null,null,null,null,null,null,{"$f":"Control!$C$20+Control!$C$21*A7814+Control!$C$22*A7814^2","v":2100.4857463803764},415.83297567789521,338.16702432210479]
[7815,376,371,null,null,null,null,null,null,null,null,null,{"$f":"Control!$C$20+Control!$C$21*A7815+Control!$C$22*A7815^2","v":2100.755048277113},414.78143885933065,337.21856114066935]
[7816,375,368,null,null,null,null,null,null,null,null,null,{"$f":"Control!$C$20+Control!$C$21*A7816+Control!$C$22*A7816^2","v":2101.0243501729083},413.72983346207417,336.27016653792583]
[7817,375,345,null,null,null,null,null,null,null,null,null,{"$f":"Control!$C$20+Control!$C$21*A7817+Control!$C$22*A7817^2","v":2101.2936520677622},413.72983346207417,336.27016653792583]
[7818,374,354,null,null,null,null,null,null,null,null,null,{"$f":"Control!$C$20+Control!$C$21*A7818+Control!$C$22*A7818^2","v":2101.5629539616748},412.67815921162742,335.32184078837258]
[7819,373,385,null,null,null,null,null,null,null,null,null,{"$f":"Control!$C$20+Control!$C$21*A7819+Control!$C$22*A7819^2","v":2101.8322558546465},411.62641583165595,334.37358416834405]
[7820,373,392,null,null,null,null,null,null,null,null,null,{"$f":"Control!$C$20+Control!$C$21*A7820+Control!$C$22*A7820^2","v":2102.1015577466765},411.62641583165595,334.37358416834405]
[7821,372,346,null,null,null,null,null,null,null,null,null,{"$f":"Control!$C$20+Control!$C$21*A7821+Control!$C$22*A7821^2","v":2102.3708596377651},410.57460304397182,333.42539695602818]
[7822,371,360,null,null,null,null,null,null,null,null,null,{"$f":"Control!$C$20+Control!$C$21*A7822+Control!$C$22*A7822^2","v":2102.6401615279128},409.52272056851643,332.47727943148357]
[7823,370,351,null,null,null,null,null,null,null,null,null,{"$f":"Control!$C$20+Control!$C$21*A7823+Control!$C$22*A7823^2","v":2102.9094634171188},408.47076812334268,331.52923187665732]
[7824,370,369,null,null,null,null,null,null,null,null,null,{"$f":"Control!$C$20+Control!$C$21*A7824+Control!$C$22*A7824^2","v":2103.1787653053834},408.47076812334268,331.52923187665732]
[7825,369,374,null,null,null,null,null,null,null,null,null,{"$f":"Control!$C$20+Control!$C$21*A7825+Control!$C$22*A7825^2","v":2103.4480671927072},407.41874542459709,330.58125457540291]
[7826,368,359,null,null,null,null,null,null,null,null,null,{"$f":"Control!$C$20+Control!$C$21*A7826+Control!$C$22*A7826^2","v":2103.7173690790896},406.36665218650177,329.63334781349823]
[7827,367,314,null,null,null,null,null,null,null,null,null,{"$f":"Control!$C$20+Control!$C$21*A7827+Control!$C$22*A7827^2","v":2103.9866709645303},405.31448812133601,328.68551187866399]
[7828,367,348,null,null,null,null,null,null,null,null,null,{"$f":"Control!$C$20+Control!$C$21*A7828+Control!$C$22*A7828^2","v":2104.2559728490301},405.31448812133601,328.68551187866399]
[7829,366,366,null,null,null,null,null,null,null,null,null,{"$f":"Control!$C$20+Control!$C$21*A7829+Control!$C$22*A7829^2","v":2104.5252747325885},404.26225293941798,327.73774706058202]
[7830,365,372,null,null,null,null,null,null,null,null,null,{"$f":"Control!$C$20+Control!$C$21*A7830+Control!$C$22*A7830^2","v":2104.7945766152056},403.20994634908561,326.79005365091439]
[7831,364,336,null,null,null,null,null,null,null,null,null,{"$f":"Control!$C$20+Control!$C$21*A7831+Control!$C$22*A7831^2","v":2105.0638784968814},402.1575680566778,325.8424319433222]
[7832,364,370,null,null,null,null,null,null,null,null,null,{"$f":"Control!$C$20+Control!$C$21*A7832+Control!$C$22*A7832^2","v":2105.3331803776159},402.1575680566778,325.8424319433222]
[7833,363,363,null,null,null,null,null,null,null,null,null,{"$f":"Control!$C$20+Control!$C$21*A7833+Control!$C$22*A7833^2","v":2105.6024822574091},401.10511776651532,324.89488223348468]
[7834,362,367,null,null,null,null,null,null,null,null,null,{"$f":"Control!$C$20+Control!$C$21*A7834+Control!$C$22*A7834^2","v":2105.8717841362609},400.05259518088087,323.94740481911913]
[7835,362,362,null,null,null,null,null,null,null,null,null,{"$f":"Control!$C$20+Control!$C$21*A7835+Control!$C$22*A7835^2","v":2106.1410860141718},400.05259518088087,323.94740481911913]
[7836,361,364,null,null,null,null,null,null,null,null,null,{"$f":"Control!$C$20+Control!$C$21*A7836+Control!$C$22*A7836^2","v":2106.410387891141},399,323]
[7837,360,374,null,null,null,null,null,null,null,null,null,{"$f":"Control!$C$20+Control!$C$21*A7837+Control!$C$22*A7837^2","v":2106.6796897671688},397.94733192202057,322.05266807797943]
[7838,359,360,null,null,null,null,null,null,null,null,null,{"$f":"Control!$C$20+Control!$C$21*A7838+Control!$C$22*A7838^2","v":2106.9489916422558},396.89459064299285,321.10540935700715]
[7839,359,378,null,null,null,null,null,null,null,null,null,{"$f":"Control!$C$20+Control!$C$21*A7839+Control!$C$22*A7839^2","v":2107.218293516401},396.89459064299285,321.10540935700715]
[7840,358,392,null,null,null,null,null,null,null,null,null,{"$f":"Control!$C$20+Control!$C$21*A7840+Control!$C$22*A7840^2","v":2107.4875953896053},395.84177585684898,320.15822414315102]
[7841,357,344,null,null,null,null,null,null,null,null,null,{"$f":"Control!$C$20+Control!$C$21*A7841+Control!$C$22*A7841^2","v":2107.7568972618683},394.78888725538235,319.21111274461765]
[7842,356,356,null,null,null,null,null,null,null,null,null,{"$f":"Control!$C$20+Control!$C$21*A7842+Control!$C$22*A7842^2","v":2108.0261991331895},393.73592452822641,318.26407547177359]
[7843,356,357,null,null,null,null,null,null,null,null,null,{"$f":"Control!$C$20+Control!$C$21*A7843+Control!$C$22*A7843^2","v":2108.2955010035698},393.73592452822641,318.26407547177359]
[7844,355,387,null,null,null,null,null,null,null,null,null,{"$f":"Control!$C$20+Control!$C$21*A7844+Control!$C$22*A7844^2","v":2108.5648028730088},392.68288736283353,317.31711263716647]
[7845,354,356,null,null,null,null,null,null,null,null,null,{"$f":"Control!$C$20+Control!$C$21*A7845+Control!$C$22*A7845^2","v":2108.8341047415065},391.62977544445357,316.37022455554643]
[7846,353,339,null,null,null,null,null,null,null,null,null,{"$f":"Control!$C$20+Control!$C$21*A7846+Control!$C$22*A7846^2","v":2109.1034066090629},390.57658845611189,315.42341154388811]
[7847,353,369,null,null,null,null,null,null,null,null,null,{"$f":"Control!$C$20+Control!$C$21*A7847+Control!$C$22*A7847^2","v":2109.3727084756779},390.57658845611189,315.42341154388811]
[7848,352,374,null,null,null,null,null,null,null,null,null,{"$f":"Control!$C$20+Control!$C$21*A7848+Control!$C$22*A7848^2","v":2109.6420103413516},389.52332607858744,314.47667392141256]
[7849,351,343,null,null,null,null,null,null,null,null,null,{"$f":"Control!$C$20+Control!$C$21*A7849+Control!$C$22*A7849^2","v":2109.9113122060839},388.46998799039039,313.53001200960961]
[7850,351,342,null,null,null,null,null,null,null,null,null,{"$f":"Control!$C$20+Control!$C$21*A7850+Control!$C$22*A7850^2","v":2110.1806140698754},388.46998799039039,313.53001200960961]
[7851,350,377,null,null,null,null,null,null,null,null,null,{"$f":"Control!$C$20+Control!$C$21*A7851+Control!$C$22*A7851^2","v":2110.4499159327252},387.41657386773943,312.58342613226057]
[7852,349,353,null,null,null,null,null,null,null,null,null,{"$f":"Control!$C$20+Control!$C$21*A7852+Control!$C$22*A7852^2","v":2110.7192177946336},386.36308338453881,311.63691661546119]
[7853,348,332,null,null,null,null,null,null,null,null,null,{"$f":"Control!$C$20+Control!$C$21*A7853+Control!$C$22*A7853^2","v":2110.9885196556011},385.30951621235528,310.69048378764472]
[7854,348,340,null,null,null,null,null,null,null,null,null,{"$f":"Control!$C$20+Control!$C$21*A7854+Control!$C$22*A7854^2","v":2111.2578215156268},385.30951621235528,310.69048378764472]
[7855,347,352,null,null,null,null,null,null,null,null,null,{"$f":"Control!$C$20+Control!$C$21*A7855+Control!$C$22*A7855^2","v":2111.5271233747117},384.25587202039429,309.74412797960571]
[7856,346,339,null,null,null,null,null,null,null,null,null,{"$f":"Control!$C$20+Control!$C$21*A7856+Control!$C$22*A7856^2","v":2111.7964252328547},383.20215047547657,308.79784952452343]
[7857,345,364,null,null,null,null,null,null,null,null,null,{"$f":"Control!$C$20+Control!$C$21*A7857+Control!$C$22*A7857^2","v":2112.065727090057},382.1483512420134,307.8516487579866]
[7858,345,374,null,null,null,null,null,null,null,null,null,{"$f":"Control!$C$20+Control!$C$21*A7858+Control!$C$22*A7858^2","v":2112.3350289463178},382.1483512420134,307.8516487579866]
[7859,344,312,null,null,null,null,null,null,null,null,null,{"$f":"Control!$C$20+Control!$C$21*A7859+Control!$C$22*A7859^2","v":2112.6043308016374},381.09447398198279,306.90552601801721]
[7860,343,338,null,null,null,null,null,null,null,null,null,{"$f":"Control!$C$20+Control!$C$21*A7860+Control!$C$22*A7860^2","v":2112.8736326560156},380.04051835490429,305.95948164509571]
[7861,342,324,null,null,null,null,null,null,null,null,null,{"$f":"Control!$C$20+Control!$C$21*A7861+Control!$C$22*A7861^2","v":2113.1429345094525},378.98648401781384,305.01351598218616]
[7862,342,355,null,null,null,null,null,null,null,null,null,{"$f":"Control!$C$20+Control!$C$21*A7862+Control!$C$22*A7862^2","v":2113.4122363619481},378.98648401781384,305.01351598218616]
[7863,341,357,null,null,null,null,null,null,null,null,null,{"$f":"Control!$C$20+Control!$C$21*A7863+Control!$C$22*A7863^2","v":2113.6815382135023},377.93237062523878,304.06762937476122]
[7864,340,317,null,null,null,null,null,null,null,null,null,{"$f":"Control!$C$20+Control!$C$21*A7864+Control!$C$22*A7864^2","v":2113.9508400641153},376.87817782917153,303.12182217082847]
[7865,340,337,null,null,null,null,null,null,null,null,null,{"$f":"Control!$C$20+Control!$C$21*A7865+Control!$C$22*A7865^2","v":2114.2201419137868},376.87817782917153,303.12182217082847]
[7866,339,313,null,null,null,null,null,null,null,null,null,{"$f":"Control!$C$20+Control!$C$21*A7866+Control!$C$22*A7866^2","v":2114.4894437625176},375.82390527904391,302.17609472095609]
[7867,338,356,null,null,null,null,null,null,null,null,null,{"$f":"Control!$C$20+Control!$C$21*A7867+Control!$C$22*A7867^2","v":2114.7587456103065},374.76955262170048,301.23044737829952]
[7868,337,334,null,null,null,null,null,null,null,null,null,{"$f":"Control!$C$20+Control!$C$21*A7868+Control!$C$22*A7868^2","v":2115.0280474571546},373.71511950137165,300.28488049862835]
[7869,337,334,null,null,null,null,null,null,null,null,null,{"$f":"Control!$C$20+Control!$C$21*A7869+Control!$C$22*A7869^2","v":2115.2973493030609},373.71511950137165,300.28488049862835]
[7870,336,336,null,null,null,null,null,null,null,null,null,{"$f":"Control!$C$20+Control!$C$21*A7870+Control!$C$22*A7870^2","v":2115.5666511480263},372.66060555964674,299.33939444035326]
[7871,335,330,null,null,null,null,null,null,null,null,null,{"$f":"Control!$C$20+Control!$C$21*A7871+Control!$C$22*A7871^2","v":2115.8359529920499},371.60601043544625,298.39398956455375]
[7872,334,330,null,null,null,null,null,null,null,null,null,{"$f":"Control!$C$20+Control!$C$21*A7872+Control!$C$22*A7872^2","v":2116.1052548351327},370.55133376499413,297.44866623500587]
[7873,334,329,null,null,null,null,null,null,null,null,null,{"$f":"Control!$C$20+Control!$C$21*A7873+Control!$C$22*A7873^2","v":2116.3745566772741},370.55133376499413,297.44866623500587]
[7874,333,333,null,null,null,null,null,null,null,null,null,{"$f":"Control!$C$20+Control!$C$21*A7874+Control!$C$22*A7874^2","v":2116.6438585184742},369.4965751817893,296.5034248182107]
[7875,332,343,null,null,null,null,null,null,null,null,null,{"$f":"Control!$C$20+Control!$C$21*A7875+Control!$C$22*A7875^2","v":2116.913160358733},{"$f":"IF(D7875=0,B7875+2*SQRT(B7875),N7874)","v":368.4417343165772},{"$f":"IF(D7875=0,B7875-2*SQRT(B7875),O7874)","v":295.5582656834228}]
[7876,332,284,null,null,null,null,null,null,null,null,null,{"$f":"Control!$C$20+Control!$C$21*A7876+Control!$C$22*A7876^2","v":2117.1824621980504},368.4417343165772,295.5582656834228]
[7877,331,328,null,null,null,null,null,null,null,null,null,{"$f":"Control!$C$20+Control!$C$21*A7877+Control!$C$22*A7877^2","v":2117.4517640364265},367.38681079732049,294.61318920267951]
[7878,330,318,null,null,null,null,null,null,null,null,null,{"$f":"Control!$C$20+Control!$C$21*A7878+Control!$C$22*A7878^2","v":2117.7210658738613},366.33180424916992,293.66819575083008]
[7879,329,309,null,null,null,null,null,null,null,null,null,{"$f":"Control!$C$20+Control!$C$21*A7879+Control!$C$22*A7879^2","v":2117.9903677103548},365.2767142944341,292.7232857055659]
[7880,329,342,null,null,null,null,null,null,null,null,null,{"$f":"Control!$C$20+Control!$C$21*A7880+Control!$C$22*A7880^2","v":2118.2596695459069},365.2767142944341,292.7232857055659]
[7881,328,335,null,null,null,null,null,null,null,null,null,{"$f":"Control!$C$20+Control!$C$21*A7881+Control!$C$22*A7881^2","v":2118.5289713805178},364.22154055254964,291.77845944745036]
[7882,327,337,null,null,null,null,null,null,null,null,null,{"$f":"Control!$C$20+Control!$C$21*A7882+Control!$C$22*A7882^2","v":2118.7982732141877},363.16628264005027,290.83371735994973]
[7883,326,312,null,null,null,null,null,null,null,null,null,{"$f":"Control!$C$20+Control!$C$21*A7883+Control!$C$22*A7883^2","v":2119.0675750469159},362.11094017053557,289.88905982946443]
[7884,326,327,null,null,null,null,null,null,null,null,null,{"$f":"Control!$C$20+Control!$C$21*A7884+Control!$C$22*A7884^2","v":2119.3368768787032},362.11094017053557,289.88905982946443]
[7885,325,318,null,null,null,null,null,null,null,null,null,{"$f":"Control!$C$20+Control!$C$21*A7885+Control!$C$22*A7885^2","v":2119.6061787095487},361.05551275463989,288.94448724536011]
[7886,324,341,null,null,null,null,null,null,null,null,null,{"$f":"Control!$C$20+Control!$C$21*A7886+Control!$C$22*A7886^2","v":2119.8754805394533},360,288]
[7887,323,310,null,null,null,null,null,null,null,null,null,{"$f":"Control!$C$20+Control!$C$21*A7887+Control!$C$22*A7887^2","v":2120.1447823684166},358.94440151122285,287.05559848877715]
[7888,323,346,null,null,null,null,null,null,null,null,null,{"$f":"Control!$C$20+Control!$C$21*A7888+Control!$C$22*A7888^2","v":2120.4140841964381},358.94440151122285,287.05559848877715]
[7889,322,332,null,null,null,null,null,null,null,null,null,{"$f":"Control!$C$20+Control!$C$21*A7889+Control!$C$22*A7889^2","v":2120.6833860235188},357.88871688985273,286.11128311014727]
[7890,321,319,null,null,null,null,null,null,null,null,null,{"$f":"Control!$C$20+Control!$C$21*A7890+Control!$C$22*A7890^2","v":2120.9526878496581},356.83294573433784,285.16705426566216]
[7891,321,365,null,null,null,null,null,null,null,null,null,{"$f":"Control!$C$20+Control!$C$21*A7891+Control!$C$22*A7891^2","v":2121.2219896748561},356.83294573433784,285.16705426566216]
[7892,320,310,null,null,null,null,null,null,null,null,null,{"$f":"Control!$C$20+Control!$C$21*A7892+Control!$C$22*A7892^2","v":2121.4912914991128},355.77708763999664,284.22291236000336]
[7893,319,330,null,null,null,null,null,null,null,null,null,{"$f":"Control!$C$20+Control!$C$21*A7893+Control!$C$22*A7893^2","v":2121.7605933224281},354.7211421989835,283.2788578010165]
[7894,318,321,null,null,null,null,null,null,null,null,null,{"$f":"Control!$C$20+Control!$C$21*A7894+Control!$C$22*A7894^2","v":2122.0298951448026},353.66510900025401,282.33489099974599]
[7895,318,321,null,null,null,null,null,null,null,null,null,{"$f":"Control!$C$20+Control!$C$21*A7895+Control!$C$22*A7895^2","v":2122.2991969662353},353.66510900025401,282.33489099974599]
[7896,317,322,null,null,null,null,null,null,null,null,null,{"$f":"Control!$C$20+Control!$C$21*A7896+Control!$C$22*A7896^2","v":2122.5684987867266},352.60898762952974,281.39101237047026]
[7897,316,301,null,null,null,null,null,null,null,null,null,{"$f":"Control!$C$20+Control!$C$21*A7897+Control!$C$22*A7897^2","v":2122.8378006062771},351.55277766926235,280.44722233073765]
[7898,315,315,null,null,null,null,null,null,null,null,null,{"$f":"Control!$C$20+Control!$C$21*A7898+Control!$C$22*A7898^2","v":2123.1071024248859},350.49647869859768,279.50352130140232]
[7899,315,319,null,null,null,null,null,null,null,null,null,{"$f":"Control!$C$20+Control!$C$21*A7899+Control!$C$22*A7899^2","v":2123.3764042425532},350.49647869859768,279.50352130140232]
[7900,314,269,null,null,null,null,null,null,null,null,null,{"$f":"Control!$C$20+Control!$C$21*A7900+Control!$C$22*A7900^2","v":2123.6457060592797},349.4400902933387,278.5599097066613]
[7901,313,310,null,null,null,null,null,null,null,null,null,{"$f":"Control!$C$20+Control!$C$21*A7901+Control!$C$22*A7901^2","v":2123.9150078750649},348.38361202590829,277.61638797409171]
[7902,312,335,null,null,null,null,null,null,null,null,null,{"$f":"Control!$C$20+Control!$C$21*A7902+Control!$C$22*A7902^2","v":2124.1843096899083},347.32704346531136,276.67295653468864]
[7903,312,275,null,null,null,null,null,null,null,null,null,{"$f":"Control!$C$20+Control!$C$21*A7903+Control!$C$22*A7903^2","v":2124.4536115038109},347.32704346531136,276.67295653468864]
[7904,311,316,null,null,null,null,null,null,null,null,null,{"$f":"Control!$C$20+Control!$C$21*A7904+Control!$C$22*A7904^2","v":2124.7229133167721},346.27038417709679,275.72961582290321]
[7905,310,315,null,null,null,null,null,null,null,null,null,{"$f":"Control!$C$20+Control!$C$21*A7905+Control!$C$22*A7905^2","v":2124.9922151287919},345.21363372331803,274.78636627668197]
[7906,310,324,null,null,null,null,null,null,null,null,null,{"$f":"Control!$C$20+Control!$C$21*A7906+Control!$C$22*A7906^2","v":2125.2615169398705},345.21363372331803,274.78636627668197]
[7907,309,332,null,null,null,null,null,null,null,null,null,{"$f":"Control!$C$20+Control!$C$21*A7907+Control!$C$22*A7907^2","v":2125.5308187500077},344.1567916624939,273.8432083375061]
[7908,308,320,null,null,null,null,null,null,null,null,null,{"$f":"Control!$C$20+Control!$C$21*A7908+Control!$C$22*A7908^2","v":2125.8001205592036},343.09985754956847,272.90014245043153]
[7909,307,312,null,null,null,null,null,null,null,null,null,{"$f":"Control!$C$20+Control!$C$21*A7909+Control!$C$22*A7909^2","v":2126.0694223674582},342.04283093587048,271.95716906412952]
[7910,307,314,null,null,null,null,null,null,null,null,null,{"$f":"Control!$C$20+Control!$C$21*A7910+Control!$C$22*A7910^2","v":2126.3387241747714},342.04283093587048,271.95716906412952]
[7911,306,313,null,null,null,null,null,null,null,null,null,{"$f":"Control!$C$20+Control!$C$21*A7911+Control!$C$22*A7911^2","v":2126.6080259811438},340.98571136907179,271.01428863092821]
[7912,305,343,null,null,null,null,null,null,null,null,null,{"$f":"Control!$C$20+Control!$C$21*A7912+Control!$C$22*A7912^2","v":2126.8773277865744},339.92849839314596,270.07150160685404]
[7913,304,319,null,null,null,null,null,null,null,null,null,{"$f":"Control!$C$20+Control!$C$21*A7913+Control!$C$22*A7913^2","v":2127.1466295910641},338.87119154832538,269.12880845167462]
[7914,304,282,null,null,null,null,null,null,null,null,null,{"$f":"Control!$C$20+Control!$C$21*A7914+Control!$C$22*A7914^2","v":2127.415931394612},338.87119154832538,269.12880845167462]
[7915,303,305,null,null,null,null,null,null,null,null,null,{"$f":"Control!$C$20+Control!$C$21*A7915+Control!$C$22*A7915^2","v":2127.6852331972191},337.81379037105842,268.18620962894158]
[7916,302,290,null,null,null,null,null,null,null,null,null,{"$f":"Control!$C$20+Control!$C$21*A7916+Control!$C$22*A7916^2","v":2127.9545349988844},336.7562943939655,267.2437056060345]
[7917,301,270,null,null,null,null,null,null,null,null,null,{"$f":"Control!$C$20+Control!$C$21*A7917+Control!$C$22*A7917^2","v":2128.2238367996088},335.69870314579492,266.30129685420508]
[7918,301,305,null,null,null,null,null,null,null,null,null,{"$f":"Control!$C$20+Control!$C$21*A7918+Control!$C$22*A7918^2","v":2128.4931385993918},335.69870314579492,266.30129685420508]
[7919,300,283,null,null,null,null,null,null,null,null,null,{"$f":"Control!$C$20+Control!$C$21*A7919+Control!$C$22*A7919^2","v":2128.7624403982336},334.64101615137753,265.35898384862247]
[7920,299,294,null,null,null,null,null,null,null,null,null,{"$f":"Control!$C$20+Control!$C$21*A7920+Control!$C$22*A7920^2","v":2129.0317421961336},333.58323293158116,264.41676706841884]
[7921,299,306,null,null,null,null,null,null,null,null,null,{"$f":"Control!$C$20+Control!$C$21*A7921+Control!$C$22*A7921^2","v":2129.3010439930927},333.58323293158116,264.41676706841884]
[7922,298,308,null,null,null,null,null,null,null,null,null,{"$f":"Control!$C$20+Control!$C$21*A7922+Control!$C$22*A7922^2","v":2129.5703457891109},332.52535300326412,263.47464699673588]
[7923,297,285,null,null,null,null,null,null,null,null,null,{"$f":"Control!$C$20+Control!$C$21*A7923+Control!$C$22*A7923^2","v":2129.8396475841873},331.46737587922814,262.53262412077186]
[7924,296,301,null,null,null,null,null,null,null,null,null,{"$f":"Control!$C$20+Control!$C$21*A7924+Control!$C$22*A7924^2","v":2130.1089493783224},330.40930106817052,261.59069893182948]
[7925,296,264,null,null,null,null,null,null,null,null,null,{"$f":"Control!$C$20+Control!$C$21*A7925+Control!$C$22*A7925^2","v":2130.3782511715162},330.40930106817052,261.59069893182948]
[7926,295,276,null,null,null,null,null,null,null,null,null,{"$f":"Control!$C$20+Control!$C$21*A7926+Control!$C$22*A7926^2","v":2130.6475529637687},329.35112807463531,260.64887192536469]
[7927,294,289,null,null,null,null,null,null,null,null,null,{"$f":"Control!$C$20+Control!$C$21*A7927+Control!$C$22*A7927^2","v":2130.9168547550803},328.29285639896449,259.70714360103551]
[7928,293,308,null,null,null,null,null,null,null,null,null,{"$f":"Control!$C$20+Control!$C$21*A7928+Control!$C$22*A7928^2","v":2131.1861565454501},327.23448553724739,258.76551446275261]
[7929,293,332,null,null,null,null,null,null,null,null,null,{"$f":"Control!$C$20+Control!$C$21*A7929+Control!$C$22*A7929^2","v":2131.455458334879},327.23448553724739,258.76551446275261]
[7930,292,272,null,null,null,null,null,null,null,null,null,{"$f":"Control!$C$20+Control!$C$21*A7930+Control!$C$22*A7930^2","v":2131.7247601233662},326.1760149812701,257.8239850187299]
[7931,291,293,null,null,null,null,null,null,null,null,null,{"$f":"Control!$C$20+Control!$C$21*A7931+Control!$C$22*A7931^2","v":2131.9940619109125},325.11744421846396,256.88255578153604]
[7932,290,289,null,null,null,null,null,null,null,null,null,{"$f":"Control!$C$20+Control!$C$21*A7932+Control!$C$22*A7932^2","v":2132.2633636975174},324.0587727318528,255.9412272681472]
[7933,290,307,null,null,null,null,null,null,null,null,null,{"$f":"Control!$C$20+Control!$C$21*A7933+Control!$C$22*A7933^2","v":2132.5326654831806},324.0587727318528,255.9412272681472]
[7934,289,286,null,null,null,null,null,null,null,null,null,{"$f":"Control!$C$20+Control!$C$21*A7934+Control!$C$22*A7934^2","v":2132.8019672679029},323,255]
[7935,288,262,null,null,null,null,null,null,null,null,null,{"$f":"Control!$C$20+Control!$C$21*A7935+Control!$C$22*A7935^2","v":2133.0712690516839},321.94112549695427,254.05887450304573]
[7936,288,287,null,null,null,null,null,null,null,null,null,{"$f":"Control!$C$20+Control!$C$21*A7936+Control!$C$22*A7936^2","v":2133.3405708345235},321.94112549695427,254.05887450304573]
[7937,287,260,null,null,null,null,null,null,null,null,null,{"$f":"Control!$C$20+Control!$C$21*A7937+Control!$C$22*A7937^2","v":2133.6098726164219},320.88214869219485,253.11785130780515]
[7938,286,306,null,null,null,null,null,null,null,null,null,{"$f":"Control!$C$20+Control!$C$21*A7938+Control!$C$22*A7938^2","v":2133.8791743973788},319.82306905057555,252.17693094942447]
[7939,285,254,null,null,null,null,null,null,null,null,null,{"$f":"Control!$C$20+Control!$C$21*A7939+Control!$C$22*A7939^2","v":2134.1484761773945},{"$f":"IF(D7939=0,B7939+2*SQRT(B7939),N7938)","v":318.76388603226826},{"$f":"IF(D7939=0,B7939-2*SQRT(B7939),O7938)","v":251.23611396773174}]
[7940,285,267,null,null,null,null,null,null,null,null,null,{"$f":"Control!$C$20+Control!$C$21*A7940+Control!$C$22*A7940^2","v":2134.4177779564693},318.76388603226826,251.23611396773174]
[7941,284,284,null,null,null,null,null,null,null,null,null,{"$f":"Control!$C$20+Control!$C$21*A7941+Control!$C$22*A7941^2","v":2134.6870797346023},317.70459909270545,250.29540090729455]
[7942,283,263,null,null,null,null,null,null,null,null,null,{"$f":"Control!$C$20+Control!$C$21*A7942+Control!$C$22*A7942^2","v":2134.956381511794},316.64520768252146,249.35479231747854]
[7943,282,275,null,null,null,null,null,null,null,null,null,{"$f":"Control!$C$20+Control!$C$21*A7943+Control!$C$22*A7943^2","v":2135.2256832880448},315.58571124749335,248.41428875250668]
[7944,282,290,null,null,null,null,null,null,null,null,null,{"$f":"Control!$C$20+Control!$C$21*A7944+Control!$C$22*A7944^2","v":2135.4949850633539},315.58571124749335,248.41428875250668]
[7945,281,298,null,null,null,null,null,null,null,null,null,{"$f":"Control!$C$20+Control!$C$21*A7945+Control!$C$22*A7945^2","v":2135.764286837722},314.52610922848044,247.47389077151956]
[7946,280,288,null,null,null,null,null,null,null,null,null,{"$f":"Control!$C$20+Control!$C$21*A7946+Control!$C$22*A7946^2","v":2136.0335886111484},313.466401061363,246.53359893863697]
[7947,279,271,null,null,null,null,null,null,null,null,null,{"$f":"Control!$C$20+Control!$C$21*A7947+Control!$C$22*A7947^2","v":2136.3028903836339},312.40658617698011,245.59341382301986]
[7948,279,258,null,null,null,null,null,null,null,null,null,{"$f":"Control!$C$20+Control!$C$21*A7948+Control!$C$22*A7948^2","v":2136.5721921551781},312.40658617698011,245.59341382301986]
[7949,278,275,null,null,null,null,null,null,null,null,null,{"$f":"Control!$C$20+Control!$C$21*A7949+Control!$C$22*A7949^2","v":2136.8414939257809},311.34666400106613,244.65333599893387]
[7950,277,288,null,null,null,null,null,null,null,null,null,{"$f":"Control!$C$20+Control!$C$21*A7950+Control!$C$22*A7950^2","v":2137.1107956954424},310.28663395418647,243.71336604581353]
[7951,277,283,null,null,null,null,null,null,null,null,null,{"$f":"Control!$C$20+Control!$C$21*A7951+Control!$C$22*A7951^2","v":2137.3800974641622},310.28663395418647,243.71336604581353]
[7952,276,293,null,null,null,null,null,null,null,null,null,{"$f":"Control!$C$20+Control!$C$21*A7952+Control!$C$22*A7952^2","v":2137.6493992319411},309.22649545167229,242.77350454832771]
[7953,275,271,null,null,null,null,null,null,null,null,null,{"$f":"Control!$C$20+Control!$C$21*A7953+Control!$C$22*A7953^2","v":2137.9187009987791},308.16624790355399,241.83375209644601]
[7954,274,282,null,null,null,null,null,null,null,null,null,{"$f":"Control!$C$20+Control!$C$21*A7954+Control!$C$22*A7954^2","v":2138.1880027646753},307.10589071449368,240.89410928550632]
[7955,274,261,null,null,null,null,null,null,null,null,null,{"$f":"Control!$C$20+Control!$C$21*A7955+Control!$C$22*A7955^2","v":2138.4573045296302},307.10589071449368,240.89410928550632]
[7956,273,268,null,null,null,null,null,null,null,null,null,{"$f":"Control!$C$20+Control!$C$21*A7956+Control!$C$22*A7956^2","v":2138.7266062936437},306.04542328371662,239.95457671628338]
[7957,272,284,null,null,null,null,null,null,null,null,null,{"$f":"Control!$C$20+Control!$C$21*A7957+Control!$C$22*A7957^2","v":2138.9959080567164},304.98484500494129,239.01515499505871]
[7958,271,272,null,null,null,null,null,null,null,null,null,{"$f":"Control!$C$20+Control!$C$21*A7958+Control!$C$22*A7958^2","v":2139.2652098188473},303.92415526630867,238.07584473369133]
[7959,271,279,null,null,null,null,null,null,null,null,null,{"$f":"Control!$C$20+Control!$C$21*A7959+Control!$C$22*A7959^2","v":2139.5345115800374},303.92415526630867,238.07584473369133]
[7960,270,288,null,null,null,null,null,null,null,null,null,{"$f":"Control!$C$20+Control!$C$21*A7960+Control!$C$22*A7960^2","v":2139.8038133402856},302.86335345030994,237.13664654969003]
[7961,269,251,null,null,null,null,null,null,null,null,null,{"$f":"Control!$C$20+Control!$C$21*A7961+Control!$C$22*A7961^2","v":2140.073115099593},301.80243893371346,236.19756106628654]
[7962,268,293,null,null,null,null,null,null,null,null,null,{"$f":"Control!$C$20+Control!$C$21*A7962+Control!$C$22*A7962^2","v":2140.3424168579586},300.74141108748978,235.25858891251019]
[7963,268,277,null,null,null,null,null,null,null,null,null,{"$f":"Control!$C$20+Control!$C$21*A7963+Control!$C$22*A7963^2","v":2140.6117186153833},300.74141108748978,235.25858891251019]
[7964,267,278,null,null,null,null,null,null,null,null,null,{"$f":"Control!$C$20+Control!$C$21*A7964+Control!$C$22*A7964^2","v":2140.8810203718667},299.6802692767364,234.3197307232636]
[7965,266,251,null,null,null,null,null,null,null,null,null,{"$f":"Control!$C$20+Control!$C$21*A7965+Control!$C$22*A7965^2","v":2141.1503221274088},298.61901286060015,233.38098713939982]
[7966,266,264,null,null,null,null,null,null,null,null,null,{"$f":"Control!$C$20+Control!$C$21*A7966+Control!$C$22*A7966^2","v":2141.4196238820095},298.61901286060015,233.38098713939982]
[7967,265,272,null,null,null,null,null,null,null,null,null,{"$f":"Control!$C$20+Control!$C$21*A7967+Control!$C$22*A7967^2","v":2141.688925635669},297.55764119219941,232.44235880780059]
[7968,264,242,null,null,null,null,null,null,null,null,null,{"$f":"Control!$C$20+Control!$C$21*A7968+Control!$C$22*A7968^2","v":2141.9582273883871},296.49615361854387,231.50384638145616]
[7969,263,252,null,null,null,null,null,null,null,null,null,{"$f":"Control!$C$20+Control!$C$21*A7969+Control!$C$22*A7969^2","v":2142.2275291401638},295.43454948045371,230.56545051954629]
[7970,263,265,null,null,null,null,null,null,null,null,null,{"$f":"Control!$C$20+Control!$C$21*A7970+Control!$C$22*A7970^2","v":2142.4968308909993},295.43454948045371,230.56545051954629]
[7971,262,270,null,null,null,null,null,null,null,null,null,{"$f":"Control!$C$20+Control!$C$21*A7971+Control!$C$22*A7971^2","v":2142.7661326408938},294.37282811247729,229.62717188752271]
[7972,261,269,null,null,null,null,null,null,null,null,null,{"$f":"Control!$C$20+Control!$C$21*A7972+Control!$C$22*A7972^2","v":2143.0354343898466},293.31098884280703,228.68901115719297]
[7973,260,262,null,null,null,null,null,null,null,null,null,{"$f":"Control!$C$20+Control!$C$21*A7973+Control!$C$22*A7973^2","v":2143.3047361378581},292.2490309931942,227.7509690068058]
[7974,260,248,null,null,null,null,null,null,null,null,null,{"$f":"Control!$C$20+Control!$C$21*A7974+Control!$C$22*A7974^2","v":2143.5740378849287},292.2490309931942,227.7509690068058]
[7975,259,264,null,null,null,null,null,null,null,null,null,{"$f":"Control!$C$20+Control!$C$21*A7975+Control!$C$22*A7975^2","v":2143.8433396310579},291.18695387886214,226.81304612113783]
[7976,258,251,null,null,null,null,null,null,null,null,null,{"$f":"Control!$C$20+Control!$C$21*A7976+Control!$C$22*A7976^2","v":2144.1126413762454},290.124756808418,225.87524319158197]
[7977,258,237,null,null,null,null,null,null,null,null,null,{"$f":"Control!$C$20+Control!$C$21*A7977+Control!$C$22*A7977^2","v":2144.381943120492},290.124756808418,225.87524319158197]
[7978,257,253,null,null,null,null,null,null,null,null,null,{"$f":"Control!$C$20+Control!$C$21*A7978+Control!$C$22*A7978^2","v":2144.6512448637973},289.0624390837628,224.9375609162372]
[7979,256,266,null,null,null,null,null,null,null,null,null,{"$f":"Control!$C$20+Control!$C$21*A7979+Control!$C$22*A7979^2","v":2144.9205466061608},288,224]
[7980,255,238,null,null,null,null,null,null,null,null,null,{"$f":"Control!$C$20+Control!$C$21*A7980+Control!$C$22*A7980^2","v":2145.1898483475834},286.93743884534263,223.06256115465737]
[7981,255,242,null,null,null,null,null,null,null,null,null,{"$f":"Control!$C$20+Control!$C$21*A7981+Control!$C$22*A7981^2","v":2145.4591500880647},286.93743884534263,223.06256115465737]
[7982,254,258,null,null,null,null,null,null,null,null,null,{"$f":"Control!$C$20+Control!$C$21*A7982+Control!$C$22*A7982^2","v":2145.7284518276047},285.87475490101843,222.12524509898154]
[7983,253,237,null,null,null,null,null,null,null,null,null,{"$f":"Control!$C$20+Control!$C$21*A7983+Control!$C$22*A7983^2","v":2145.9977535662033},284.81194744117374,221.18805255882626]
[7984,252,248,null,null,null,null,null,null,null,null,null,{"$f":"Control!$C$20+Control!$C$21*A7984+Control!$C$22*A7984^2","v":2146.2670553038606},283.74901573277509,220.25098426722491]
[7985,252,251,null,null,null,null,null,null,null,null,null,{"$f":"Control!$C$20+Control!$C$21*A7985+Control!$C$22*A7985^2","v":2146.5363570405771},283.74901573277509,220.25098426722491]
[7986,251,261,null,null,null,null,null,null,null,null,null,{"$f":"Control!$C$20+Control!$C$21*A7986+Control!$C$22*A7986^2","v":2146.8056587763517},282.68595903550971,219.31404096449029]
[7987,250,272,null,null,null,null,null,null,null,null,null,{"$f":"Control!$C$20+Control!$C$21*A7987+Control!$C$22*A7987^2","v":2147.0749605111851},281.62277660168377,218.3772233983162]
[7988,249,228,null,null,null,null,null,null,null,null,null,{"$f":"Control!$C$20+Control!$C$21*A7988+Control!$C$22*A7988^2","v":2147.3442622450775},280.55946767611897,217.440532323881]
[7989,249,226,null,null,null,null,null,null,null,null,null,{"$f":"Control!$C$20+Control!$C$21*A7989+Control!$C$22*A7989^2","v":2147.6135639780282},280.55946767611897,217.440532323881]
[7990,248,255,null,null,null,null,null,null,null,null,null,{"$f":"Control!$C$20+Control!$C$21*A7990+Control!$C$22*A7990^2","v":2147.882865710038},279.49603149604724,216.50396850395276]
[7991,247,269,null,null,null,null,null,null,null,null,null,{"$f":"Control!$C$20+Control!$C$21*A7991+Control!$C$22*A7991^2","v":2148.152167441106},278.43246729100343,215.56753270899657]
[7992,247,223,null,null,null,null,null,null,null,null,null,{"$f":"Control!$C$20+Control!$C$21*A7992+Control!$C$22*A7992^2","v":2148.4214691712332},278.43246729100343,215.56753270899657]
[7993,246,211,null,null,null,null,null,null,null,null,null,{"$f":"Control!$C$20+Control!$C$21*A7993+Control!$C$22*A7993^2","v":2148.690770900419},277.36877428271623,214.63122571728377]
[7994,245,250,null,null,null,null,null,null,null,null,null,{"$f":"Control!$C$20+Control!$C$21*A7994+Control!$C$22*A7994^2","v":2148.9600726286635},276.30495168499704,213.69504831500294]
[7995,244,256,null,null,null,null,null,null,null,null,null,{"$f":"Control!$C$20+Control!$C$21*A7995+Control!$C$22*A7995^2","v":2149.2293743559667},275.24099870362659,212.75900129637338]
[7996,244,240,null,null,null,null,null,null,null,null,null,{"$f":"Control!$C$20+Control!$C$21*A7996+Control!$C$22*A7996^2","v":2149.4986760823285},275.24099870362659,212.75900129637338]
[7997,243,248,null,null,null,null,null,null,null,null,null,{"$f":"Control!$C$20+Control!$C$21*A7997+Control!$C$22*A7997^2","v":2149.767977807749},274.17691453623979,211.82308546376021]
[7998,242,244,null,null,null,null,null,null,null,null,null,{"$f":"Control!$C$20+Control!$C$21*A7998+Control!$C$22*A7998^2","v":2150.0372795322282},273.11269837220811,210.88730162779191]
[7999,241,229,null,null,null,null,null,null,null,null,null,{"$f":"Control!$C$20+Control!$C$21*A7999+Control!$C$22*A7999^2","v":2150.3065812557661},272.04834939252004,209.95165060747996]
[8000,241,230,null,null,null,null,null,null,null,null,null,{"$f":"Control!$C$20+Control!$C$21*A8000+Control!$C$22*A8000^2","v":2150.5758829783626},272.04834939252004,209.95165060747996]
[8001,240,257,null,null,null,null,null,null,null,null,null,{"$f":"Control!$C$20+Control!$C$21*A8001+Control!$C$22*A8001^2","v":2150.8451847000179},270.98386676965936,209.01613323034067]
[8002,239,213,null,null,null,null,null,null,null,null,null,{"$f":"Control!$C$20+Control!$C$21*A8002+Control!$C$22*A8002^2","v":2151.1144864207322},269.91924966748059,208.08075033251939]
[8003,238,224,null,null,null,null,null,null,null,null,null,{"$f":"Control!$C$20+Control!$C$21*A8003+Control!$C$22*A8003^2","v":2151.3837881405047},{"$f":"IF(D8003=0,B8003+2*SQRT(B8003),N8002)","v":268.85449724108304},{"$f":"IF(D8003=0,B8003-2*SQRT(B8003),O8002)","v":207.14550275891696}]
[8004,238,248,null,null,null,null,null,null,null,null,null,{"$f":"Control!$C$20+Control!$C$21*A8004+Control!$C$22*A8004^2","v":2151.6530898593364},268.85449724108304,207.14550275891696]
[8005,237,271,null,null,null,null,null,null,null,null,null,{"$f":"Control!$C$20+Control!$C$21*A8005+Control!$C$22*A8005^2","v":2151.9223915772263},267.78960863668129,206.21039136331871]
[8006,236,254,null,null,null,null,null,null,null,null,null,{"$f":"Control!$C$20+Control!$C$21*A8006+Control!$C$22*A8006^2","v":2152.1916932941754},266.72458299147445,205.27541700852558]
[8007,236,231,null,null,null,null,null,null,null,null,null,{"$f":"Control!$C$20+Control!$C$21*A8007+Control!$C$22*A8007^2","v":2152.4609950101826},266.72458299147445,205.27541700852558]
[8008,235,227,null,null,null,null,null,null,null,null,null,{"$f":"Control!$C$20+Control!$C$21*A8008+Control!$C$22*A8008^2","v":2152.730296725249},265.6594194335118,204.34058056648823]
[8009,234,232,null,null,null,null,null,null,null,null,null,{"$f":"Control!$C$20+Control!$C$21*A8009+Control!$C$22*A8009^2","v":2152.999598439374},264.5941170815567,203.4058829184433]
[8010,233,217,null,null,null,null,null,null,null,null,null,{"$f":"Control!$C$20+Control!$C$21*A8010+Control!$C$22*A8010^2","v":2153.2689001525578},263.52867504494748,202.47132495505249]
[8011,233,213,null,null,null,null,null,null,null,null,null,{"$f":"Control!$C$20+Control!$C$21*A8011+Control!$C$22*A8011^2","v":2153.5382018648002},263.52867504494748,202.47132495505249]
[8012,232,224,null,null,null,null,null,null,null,null,null,{"$f":"Control!$C$20+Control!$C$21*A8012+Control!$C$22*A8012^2","v":2153.8075035761012},262.46309242345563,201.53690757654437]
[8013,231,236,null,null,null,null,null,null,null,null,null,{"$f":"Control!$C$20+Control!$C$21*A8013+Control!$C$22*A8013^2","v":2154.076805286461},261.39736830714133,200.60263169285867]
[8014,230,238,null,null,null,null,null,null,null,null,null,{"$f":"Control!$C$20+Control!$C$21*A8014+Control!$C$22*A8014^2","v":2154.3461069958794},260.33150177620621,199.66849822379379]
[8015,230,228,null,null,null,null,null,null,null,null,null,{"$f":"Control!$C$20+Control!$C$21*A8015+Control!$C$22*A8015^2","v":2154.6154087043565},260.33150177620621,199.66849822379379]
[8016,229,240,null,null,null,null,null,null,null,null,null,{"$f":"Control!$C$20+Control!$C$21*A8016+Control!$C$22*A8016^2","v":2154.8847104118922},259.26549190084313,198.7345080991569]
[8017,228,233,null,null,null,null,null,null,null,null,null,{"$f":"Control!$C$20+Control!$C$21*A8017+Control!$C$22*A8017^2","v":2155.1540121184871},258.19933774108301,197.80066225891699]
[8018,227,251,null,null,null,null,null,null,null,null,null,{"$f":"Control!$C$20+Control!$C$21*A8018+Control!$C$22*A8018^2","v":2155.4233138241402},257.13303834663873,196.86696165336127]
[8019,227,239,null,null,null,null,null,null,null,null,null,{"$f":"Control!$C$20+Control!$C$21*A8019+Control!$C$22*A8019^2","v":2155.6926155288525},257.13303834663873,196.86696165336127]
[8020,226,241,null,null,null,null,null,null,null,null,null,{"$f":"Control!$C$20+Control!$C$21*A8020+Control!$C$22*A8020^2","v":2155.9619172326229},256.06659275674582,195.93340724325418]
[8021,225,234,null,null,null,null,null,null,null,null,null,{"$f":"Control!$C$20+Control!$C$21*A8021+Control!$C$22*A8021^2","v":2156.2312189354525},255,195]
[8022,225,246,null,null,null,null,null,null,null,null,null,{"$f":"Control!$C$20+Control!$C$21*A8022+Control!$C$22*A8022^2","v":2156.5005206373407},255,195]
[8023,224,224,null,null,null,null,null,null,null,null,null,{"$f":"Control!$C$20+Control!$C$21*A8023+Control!$C$22*A8023^2","v":2156.7698223382872},253.93325909419153,194.06674090580847]
[8024,223,214,null,null,null,null,null,null,null,null,null,{"$f":"Control!$C$20+Control!$C$21*A8024+Control!$C$22*A8024^2","v":2157.0391240382928},252.86636904613616,193.13363095386384]
[8025,222,222,null,null,null,null,null,null,null,null,null,{"$f":"Control!$C$20+Control!$C$21*A8025+Control!$C$22*A8025^2","v":2157.3084257373571},251.79932885150268,192.20067114849732]
[8026,222,221,null,null,null,null,null,null,null,null,null,{"$f":"Control!$C$20+Control!$C$21*A8026+Control!$C$22*A8026^2","v":2157.57772743548},251.79932885150268,192.20067114849732]
[8027,221,230,null,null,null,null,null,null,null,null,null,{"$f":"Control!$C$20+Control!$C$21*A8027+Control!$C$22*A8027^2","v":2157.8470291326616},250.73213749463702,191.26786250536298]
[8028,220,217,null,null,null,null,null,null,null,null,null,{"$f":"Control!$C$20+Control!$C$21*A8028+Control!$C$22*A8028^2","v":2158.1163308289019},249.66479394838265,190.33520605161735]
[8029,219,208,null,null,null,null,null,null,null,null,null,{"$f":"Control!$C$20+Control!$C$21*A8029+Control!$C$22*A8029^2","v":2158.3856325242009},248.59729717389749,189.40270282610251]
[8030,219,243,null,null,null,null,null,null,null,null,null,{"$f":"Control!$C$20+Control!$C$21*A8030+Control!$C$22*A8030^2","v":2158.6549342185585},248.59729717389749,189.40270282610251]
[8031,218,218,null,null,null,null,null,null,null,null,null,{"$f":"Control!$C$20+Control!$C$21*A8031+Control!$C$22*A8031^2","v":2158.9242359119753},247.52964612046679,188.47035387953321]
[8032,217,251,null,null,null,null,null,null,null,null,null,{"$f":"Control!$C$20+Control!$C$21*A8032+Control!$C$22*A8032^2","v":2159.1935376044503},246.46183972531247,187.53816027468753]
[8033,216,236,null,null,null,null,null,null,null,null,null,{"$f":"Control!$C$20+Control!$C$21*A8033+Control!$C$22*A8033^2","v":2159.4628392959839},245.39387691339815,186.60612308660185]
[8034,216,250,null,null,null,null,null,null,null,null,null,{"$f":"Control!$C$20+Control!$C$21*A8034+Control!$C$22*A8034^2","v":2159.7321409865767},245.39387691339815,186.60612308660185]
[8035,215,229,null,null,null,null,null,null,null,null,null,{"$f":"Control!$C$20+Control!$C$21*A8035+Control!$C$22*A8035^2","v":2160.0014426762277},244.32575659723037,185.67424340276963]
[8036,214,225,null,null,null,null,null,null,null,null,null,{"$f":"Control!$C$20+Control!$C$21*A8036+Control!$C$22*A8036^2","v":2160.2707443649379},243.25747767665558,184.74252232334442]
[8037,214,267,null,null,null,null,null,null,null,null,null,{"$f":"Control!$C$20+Control!$C$21*A8037+Control!$C$22*A8037^2","v":2160.5400460527067},243.25747767665558,184.74252232334442]
[8038,213,213,null,null,null,null,null,null,null,null,null,{"$f":"Control!$C$20+Control!$C$21*A8038+Control!$C$22*A8038^2","v":2160.8093477395337},242.18903903865285,183.81096096134715]
[8039,212,208,null,null,null,null,null,null,null,null,null,{"$f":"Control!$C$20+Control!$C$21*A8039+Control!$C$22*A8039^2","v":2161.0786494254198},241.12043955712207,182.87956044287793]
[8040,211,201,null,null,null,null,null,null,null,null,null,{"$f":"Control!$C$20+Control!$C$21*A8040+Control!$C$22*A8040^2","v":2161.3479511103646},240.05167809266788,181.94832190733212]
[8041,211,176,null,null,null,null,null,null,null,null,null,{"$f":"Control!$C$20+Control!$C$21*A8041+Control!$C$22*A8041^2","v":2161.6172527943681},240.05167809266788,181.94832190733212]
[8042,210,230,null,null,null,null,null,null,null,null,null,{"$f":"Control!$C$20+Control!$C$21*A8042+Control!$C$22*A8042^2","v":2161.8865544774303},238.98275349237889,181.01724650762111]
[8043,209,200,null,null,null,null,null,null,null,null,null,{"$f":"Control!$C$20+Control!$C$21*A8043+Control!$C$22*A8043^2","v":2162.1558561595511},237.91366458960192,180.08633541039808]
[8044,208,234,null,null,null,null,null,null,null,null,null,{"$f":"Control!$C$20+Control!$C$21*A8044+Control!$C$22*A8044^2","v":2162.4251578407307},236.8444102037119,179.1555897962881]
[8045,208,198,null,null,null,null,null,null,null,null,null,{"$f":"Control!$C$20+Control!$C$21*A8045+Control!$C$22*A8045^2","v":2162.6944595209688},236.8444102037119,179.1555897962881]
[8046,207,200,null,null,null,null,null,null,null,null,null,{"$f":"Control!$C$20+Control!$C$21*A8046+Control!$C$22*A8046^2","v":2162.9637612002662},235.77498913987631,178.22501086012369]
[8047,206,208,null,null,null,null,null,null,null,null,null,{"$f":"Control!$C$20+Control!$C$21*A8047+Control!$C$22*A8047^2","v":2163.2330628786217},234.70540018881465,177.29459981118535]
[8048,205,203,null,null,null,null,null,null,null,null,null,{"$f":"Control!$C$20+Control!$C$21*A8048+Control!$C$22*A8048^2","v":2163.5023645560359},233.63564212655271,176.36435787344729]
[8049,205,190,null,null,null,null,null,null,null,null,null,{"$f":"Control!$C$20+Control!$C$21*A8049+Control!$C$22*A8049^2","v":2163.7716662325092},233.63564212655271,176.36435787344729]
[8050,204,190,null,null,null,null,null,null,null,null,null,{"$f":"Control!$C$20+Control!$C$21*A8050+Control!$C$22*A8050^2","v":2164.0409679080412},232.56571371417141,175.43428628582859]
[8051,203,205,null,null,null,null,null,null,null,null,null,{"$f":"Control!$C$20+Control!$C$21*A8051+Control!$C$22*A8051^2","v":2164.3102695826315},231.49561369755003,174.50438630244997]
[8052,203,209,null,null,null,null,null,null,null,null,null,{"$f":"Control!$C$20+Control!$C$21*A8052+Control!$C$22*A8052^2","v":2164.5795712562808},231.49561369755003,174.50438630244997]
[8053,202,193,null,null,null,null,null,null,null,null,null,{"$f":"Control!$C$20+Control!$C$21*A8053+Control!$C$22*A8053^2","v":2164.8488729289888},230.42534080710379,173.57465919289621]
[8054,201,196,null,null,null,null,null,null,null,null,null,{"$f":"Control!$C$20+Control!$C$21*A8054+Control!$C$22*A8054^2","v":2165.1181746007551},229.35489375751564,172.64510624248436]
[8055,200,188,null,null,null,null,null,null,null,null,null,{"$f":"Control!$C$20+Control!$C$21*A8055+Control!$C$22*A8055^2","v":2165.3874762715805},228.2842712474619,171.7157287525381]
[8056,200,200,null,null,null,null,null,null,null,null,null,{"$f":"Control!$C$20+Control!$C$21*A8056+Control!$C$22*A8056^2","v":2165.6567779414645},228.2842712474619,171.7157287525381]
[8057,199,201,null,null,null,null,null,null,null,null,null,{"$f":"Control!$C$20+Control!$C$21*A8057+Control!$C$22*A8057^2","v":2165.9260796104072},227.21347195933177,170.78652804066823]
[8058,198,193,null,null,null,null,null,null,null,null,null,{"$f":"Control!$C$20+Control!$C$21*A8058+Control!$C$22*A8058^2","v":2166.1953812784086},226.14249455894057,169.85750544105943]
[8059,197,196,null,null,null,null,null,null,null,null,null,{"$f":"Control!$C$20+Control!$C$21*A8059+Control!$C$22*A8059^2","v":2166.4646829454687},225.07133769523639,168.92866230476361]
[8060,197,205,null,null,null,null,null,null,null,null,null,{"$f":"Control!$C$20+Control!$C$21*A8060+Control!$C$22*A8060^2","v":2166.7339846115879},225.07133769523639,168.92866230476361]
[8061,196,190,null,null,null,null,null,null,null,null,null,{"$f":"Control!$C$20+Control!$C$21*A8061+Control!$C$22*A8061^2","v":2167.0032862767653},224,168]
[8062,195,202,null,null,null,null,null,null,null,null,null,{"$f":"Control!$C$20+Control!$C$21*A8062+Control!$C$22*A8062^2","v":2167.2725879410013},222.92848008753788,167.07151991246212]
[8063,195,179,null,null,null,null,null,null,null,null,null,{"$f":"Control!$C$20+Control!$C$21*A8063+Control!$C$22*A8063^2","v":2167.5418896042966},222.92848008753788,167.07151991246212]
[8064,194,187,null,null,null,null,null,null,null,null,null,{"$f":"Control!$C$20+Control!$C$21*A8064+Control!$C$22*A8064^2","v":2167.81119126665},221.85677655436825,166.14322344563175]
[8065,193,169,null,null,null,null,null,null,null,null,null,{"$f":"Control!$C$20+Control!$C$21*A8065+Control!$C$22*A8065^2","v":2168.0804929280625},220.7848879788996,165.2151120211004]
[8066,192,208,null,null,null,null,null,null,null,null,null,{"$f":"Control!$C$20+Control!$C$21*A8066+Control!$C$22*A8066^2","v":2168.3497945885333},219.71281292110203,164.28718707889797]
[8067,192,202,null,null,null,null,null,null,null,null,null,{"$f":"Control!$C$20+Control!$C$21*A8067+Control!$C$22*A8067^2","v":2168.6190962480632},{"$f":"IF(D8067=0,B8067+2*SQRT(B8067),N8066)","v":219.71281292110203},{"$f":"IF(D8067=0,B8067-2*SQRT(B8067),O8066)","v":164.28718707889797}]
[8068,191,171,null,null,null,null,null,null,null,null,null,{"$f":"Control!$C$20+Control!$C$21*A8068+Control!$C$22*A8068^2","v":2168.8883979066518},218.64054992217052,163.35945007782948]
[8069,190,164,null,null,null,null,null,null,null,null,null,{"$f":"Control!$C$20+Control!$C$21*A8069+Control!$C$22*A8069^2","v":2169.1576995642986},217.56809750418046,162.43190249581954]
[8070,189,180,null,null,null,null,null,null,null,null,null,{"$f":"Control!$C$20+Control!$C$21*A8070+Control!$C$22*A8070^2","v":2169.4270012210045},216.49545416973504,161.50454583026496]
[8071,189,190,null,null,null,null,null,null,null,null,null,{"$f":"Control!$C$20+Control!$C$21*A8071+Control!$C$22*A8071^2","v":2169.6963028767691},216.49545416973504,161.50454583026496]
[8072,188,195,null,null,null,null,null,null,null,null,null,{"$f":"Control!$C$20+Control!$C$21*A8072+Control!$C$22*A8072^2","v":2169.9656045315924},215.42261840160418,160.57738159839582]
[8073,187,178,null,null,null,null,null,null,null,null,null,{"$f":"Control!$C$20+Control!$C$21*A8073+Control!$C$22*A8073^2","v":2170.2349061854743},214.34958866235468,159.65041133764532]
[8074,186,182,null,null,null,null,null,null,null,null,null,{"$f":"Control!$C$20+Control!$C$21*A8074+Control!$C$22*A8074^2","v":2170.5042078384149},213.27636339397171,158.72363660602829]
[8075,186,210,null,null,null,null,null,null,null,null,null,{"$f":"Control!$C$20+Control!$C$21*A8075+Control!$C$22*A8075^2","v":2170.7735094904147},213.27636339397171,158.72363660602829]
[8076,185,169,null,null,null,null,null,null,null,null,null,{"$f":"Control!$C$20+Control!$C$21*A8076+Control!$C$22*A8076^2","v":2171.0428111414726},212.20294101747089,157.79705898252911]
[8077,184,186,null,null,null,null,null,null,null,null,null,{"$f":"Control!$C$20+Control!$C$21*A8077+Control!$C$22*A8077^2","v":2171.3121127915892},211.12931993250106,156.87068006749894]
[8078,184,194,null,null,null,null,null,null,null,null,null,{"$f":"Control!$C$20+Control!$C$21*A8078+Control!$C$22*A8078^2","v":2171.581414440765},211.12931993250106,156.87068006749894]
[8079,183,186,null,null,null,null,null,null,null,null,null,{"$f":"Control!$C$20+Control!$C$21*A8079+Control!$C$22*A8079^2","v":2171.850716088999},210.05549851693738,155.94450148306262]
[8080,182,199,null,null,null,null,null,null,null,null,null,{"$f":"Control!$C$20+Control!$C$21*A8080+Control!$C$22*A8080^2","v":2172.1200177362916},208.98147512646409,155.01852487353591]
[8081,181,179,null,null,null,null,null,null,null,null,null,{"$f":"Control!$C$20+Control!$C$21*A8081+Control!$C$22*A8081^2","v":2172.3893193826434},207.90724809414741,154.09275190585259]
[8082,181,194,null,null,null,null,null,null,null,null,null,{"$f":"Control!$C$20+Control!$C$21*A8082+Control!$C$22*A8082^2","v":2172.6586210280539},207.90724809414741,154.09275190585259]
[8083,180,177,null,null,null,null,null,null,null,null,null,{"$f":"Control!$C$20+Control!$C$21*A8083+Control!$C$22*A8083^2","v":2172.9279226725225},206.83281572999749,153.16718427000251]
[8084,179,173,null,null,null,null,null,null,null,null,null,{"$f":"Control!$C$20+Control!$C$21*A8084+Control!$C$22*A8084^2","v":2173.1972243160503},205.75817632051931,152.24182367948069]
[8085,178,172,null,null,null,null,null,null,null,null,null,{"$f":"Control!$C$20+Control!$C$21*A8085+Control!$C$22*A8085^2","v":2173.4665259586368},204.68332812825267,151.31667187174733]
[8086,178,168,null,null,null,null,null,null,null,null,null,{"$f":"Control!$C$20+Control!$C$21*A8086+Control!$C$22*A8086^2","v":2173.7358276002819},204.68332812825267,151.31667187174733]
[8087,177,167,null,null,null,null,null,null,null,null,null,{"$f":"Control!$C$20+Control!$C$21*A8087+Control!$C$22*A8087^2","v":2174.0051292409858},203.60826939130015,150.39173060869985]
[8088,176,169,null,null,null,null,null,null,null,null,null,{"$f":"Control!$C$20+Control!$C$21*A8088+Control!$C$22*A8088^2","v":2174.2744308807482},202.53299832284318,149.46700167715682]
[8089,175,209,null,null,null,null,null,null,null,null,null,{"$f":"Control!$C$20+Control!$C$21*A8089+Control!$C$22*A8089^2","v":2174.5437325195694},201.45751311064589,148.54248688935411]
[8090,175,178,null,null,null,null,null,null,null,null,null,{"$f":"Control!$C$20+Control!$C$21*A8090+Control!$C$22*A8090^2","v":2174.8130341574492},201.45751311064589,148.54248688935411]
[8091,174,145,null,null,null,null,null,null,null,null,null,{"$f":"Control!$C$20+Control!$C$21*A8091+Control!$C$22*A8091^2","v":2175.0823357943882},200.38181191654584,147.61818808345416]
[8092,173,179,null,null,null,null,null,null,null,null,null,{"$f":"Control!$C$20+Control!$C$21*A8092+Control!$C$22*A8092^2","v":2175.3516374303854},199.30589287593182,146.69410712406818]
[8093,173,151,null,null,null,null,null,null,null,null,null,{"$f":"Control!$C$20+Control!$C$21*A8093+Control!$C$22*A8093^2","v":2175.6209390654412},199.30589287593182,146.69410712406818]
[8094,172,152,null,null,null,null,null,null,null,null,null,{"$f":"Control!$C$20+Control!$C$21*A8094+Control!$C$22*A8094^2","v":2175.8902406995562},198.229754097208,145.770245902792]
[8095,171,171,null,null,null,null,null,null,null,null,null,{"$f":"Control!$C$20+Control!$C$21*A8095+Control!$C$22*A8095^2","v":2176.1595423327294},197.15339366124405,144.84660633875595]
[8096,170,192,null,null,null,null,null,null,null,null,null,{"$f":"Control!$C$20+Control!$C$21*A8096+Control!$C$22*A8096^2","v":2176.4288439649617},196.07680962081059,143.92319037918941]
[8097,170,182,null,null,null,null,null,null,null,null,null,{"$f":"Control!$C$20+Control!$C$21*A8097+Control!$C$22*A8097^2","v":2176.6981455962527},196.07680962081059,143.92319037918941]
[8098,169,162,null,null,null,null,null,null,null,null,null,{"$f":"Control!$C$20+Control!$C$21*A8098+Control!$C$22*A8098^2","v":2176.967447226602},195,143]
[8099,168,156,null,null,null,null,null,null,null,null,null,{"$f":"Control!$C$20+Control!$C$21*A8099+Control!$C$22*A8099^2","v":2177.2367488560103},193.92296279363143,142.07703720636857]
[8100,167,182,null,null,null,null,null,null,null,null,null,{"$f":"Control!$C$20+Control!$C$21*A8100+Control!$C$22*A8100^2","v":2177.5060504844773},192.84569596664016,141.15430403335984]
[8101,167,153,null,null,null,null,null,null,null,null,null,{"$f":"Control!$C$20+Control!$C$21*A8101+Control!$C$22*A8101^2","v":2177.775352112003},192.84569596664016,141.15430403335984]
[8102,166,169,null,null,null,null,null,null,null,null,null,{"$f":"Control!$C$20+Control!$C$21*A8102+Control!$C$22*A8102^2","v":2178.0446537385874},191.76819745345026,140.23180254654974]
[8103,165,167,null,null,null,null,null,null,null,null,null,{"$f":"Control!$C$20+Control!$C$21*A8103+Control!$C$22*A8103^2","v":2178.3139553642304},190.69046515733027,139.30953484266973]
[8104,164,186,null,null,null,null,null,null,null,null,null,{"$f":"Control!$C$20+Control!$C$21*A8104+Control!$C$22*A8104^2","v":2178.5832569889321},189.61249694973139,138.38750305026861]
[8105,164,168,null,null,null,null,null,null,null,null,null,{"$f":"Control!$C$20+Control!$C$21*A8105+Control!$C$22*A8105^2","v":2178.8525586126925},189.61249694973139,138.38750305026861]
[8106,163,173,null,null,null,null,null,null,null,null,null,{"$f":"Control!$C$20+Control!$C$21*A8106+Control!$C$22*A8106^2","v":2179.121860235512},188.5342906696074,137.4657093303926]
[8107,162,151,null,null,null,null,null,null,null,null,null,{"$f":"Control!$C$20+Control!$C$21*A8107+Control!$C$22*A8107^2","v":2179.3911618573898},187.45584412271572,136.54415587728428]
[8108,162,183,null,null,null,null,null,null,null,null,null,{"$f":"Control!$C$20+Control!$C$21*A8108+Control!$C$22*A8108^2","v":2179.6604634783262},187.45584412271572,136.54415587728428]
[8109,161,143,null,null,null,null,null,null,null,null,null,{"$f":"Control!$C$20+Control!$C$21*A8109+Control!$C$22*A8109^2","v":2179.9297650983217},186.37715508089903,135.62284491910097]
[8110,160,141,null,null,null,null,null,null,null,null,null,{"$f":"Control!$C$20+Control!$C$21*A8110+Control!$C$22*A8110^2","v":2180.1990667173754},185.29822128134703,134.70177871865297]
[8111,159,149,null,null,null,null,null,null,null,null,null,{"$f":"Control!$C$20+Control!$C$21*A8111+Control!$C$22*A8111^2","v":2180.4683683354883},184.21904042583699,133.78095957416301]
[8112,159,167,null,null,null,null,null,null,null,null,null,{"$f":"Control!$C$20+Control!$C$21*A8112+Control!$C$22*A8112^2","v":2180.7376699526594},184.21904042583699,133.78095957416301]
[8113,158,159,null,null,null,null,null,null,null,null,null,{"$f":"Control!$C$20+Control!$C$21*A8113+Control!$C$22*A8113^2","v":2181.0069715688896},183.13961017995308,132.86038982004692]
[8114,157,155,null,null,null,null,null,null,null,null,null,{"$f":"Control!$C$20+Control!$C$21*A8114+Control!$C$22*A8114^2","v":2181.2762731841785},182.05992817228332,131.94007182771668]
[8115,156,161,null,null,null,null,null,null,null,null,null,{"$f":"Control!$C$20+Control!$C$21*A8115+Control!$C$22*A8115^2","v":2181.5455747985261},180.97999199359359,131.02000800640641]
[8116,156,135,null,null,null,null,null,null,null,null,null,{"$f":"Control!$C$20+Control!$C$21*A8116+Control!$C$22*A8116^2","v":2181.8148764119323},180.97999199359359,131.02000800640641]
[8117,155,157,null,null,null,null,null,null,null,null,null,{"$f":"Control!$C$20+Control!$C$21*A8117+Control!$C$22*A8117^2","v":2182.0841780243973},179.89979919597747,130.10020080402253]
[8118,154,157,null,null,null,null,null,null,null,null,null,{"$f":"Control!$C$20+Control!$C$21*A8118+Control!$C$22*A8118^2","v":2182.3534796359208},178.81934729198173,129.18065270801827]
[8119,153,156,null,null,null,null,null,null,null,null,null,{"$f":"Control!$C$20+Control!$C$21*A8119+Control!$C$22*A8119^2","v":2182.6227812465031},177.73863375370595,128.26136624629405]
[8120,153,156,null,null,null,null,null,null,null,null,null,{"$f":"Control!$C$20+Control!$C$21*A8120+Control!$C$22*A8120^2","v":2182.892082856144},177.73863375370595,128.26136624629405]
[8121,152,131,null,null,null,null,null,null,null,null,null,{"$f":"Control!$C$20+Control!$C$21*A8121+Control!$C$22*A8121^2","v":2183.1613844648436},176.6576560118759,127.3423439881241]
[8122,151,164,null,null,null,null,null,null,null,null,null,{"$f":"Control!$C$20+Control!$C$21*A8122+Control!$C$22*A8122^2","v":2183.4306860726024},175.57641145488901,126.42358854511099]
[8123,151,129,null,null,null,null,null,null,null,null,null,{"$f":"Control!$C$20+Control!$C$21*A8123+Control!$C$22*A8123^2","v":2183.6999876794193},175.57641145488901,126.42358854511099]
[8124,150,141,null,null,null,null,null,null,null,null,null,{"$f":"Control!$C$20+Control!$C$21*A8124+Control!$C$22*A8124^2","v":2183.9692892852954},174.49489742783177,125.50510257216823]
[8125,149,158,null,null,null,null,null,null,null,null,null,{"$f":"Control!$C$20+Control!$C$21*A8125+Control!$C$22*A8125^2","v":2184.2385908902297},173.41311123146741,124.58688876853259]
[8126,148,168,null,null,null,null,null,null,null,null,null,{"$f":"Control!$C$20+Control!$C$21*A8126+Control!$C$22*A8126^2","v":2184.5078924942231},172.33105012119287,123.66894987880713]
[8127,148,160,null,null,null,null,null,null,null,null,null,{"$f":"Control!$C$20+Control!$C$21*A8127+Control!$C$22*A8127^2","v":2184.7771940972748},172.33105012119287,123.66894987880713]
[8128,147,110,null,null,null,null,null,null,null,null,null,{"$f":"Control!$C$20+Control!$C$21*A8128+Control!$C$22*A8128^2","v":2185.0464956993856},171.24871130596429,122.75128869403572]
[8129,146,150,null,null,null,null,null,null,null,null,null,{"$f":"Control!$C$20+Control!$C$21*A8129+Control!$C$22*A8129^2","v":2185.315797300555},170.16609194718916,121.83390805281086]
[8130,145,129,null,null,null,null,null,null,null,null,null,{"$f":"Control!$C$20+Control!$C$21*A8130+Control!$C$22*A8130^2","v":2185.5850989007831},169.0831891575846,120.9168108424154]
[8131,145,163,null,null,null,null,null,null,null,null,null,{"$f":"Control!$C$20+Control!$C$21*A8131+Control!$C$22*A8131^2","v":2185.8544005000699},{"$f":"IF(D8131=0,B8131+2*SQRT(B8131),N8130)","v":169.0831891575846},{"$f":"IF(D8131=0,B8131-2*SQRT(B8131),O8130)","v":120.9168108424154}]
[8132,144,138,null,null,null,null,null,null,null,null,null,{"$f":"Control!$C$20+Control!$C$21*A8132+Control!$C$22*A8132^2","v":2186.1237020984154},168,120]
[8133,143,134,null,null,null,null,null,null,null,null,null,{"$f":"Control!$C$20+Control!$C$21*A8133+Control!$C$22*A8133^2","v":2186.3930036958195},166.91652148620278,119.0834785137972]
[8134,142,168,null,null,null,null,null,null,null,null,null,{"$f":"Control!$C$20+Control!$C$21*A8134+Control!$C$22*A8134^2","v":2186.6623052922823},165.83275057562597,118.16724942437403]
[8135,142,138,null,null,null,null,null,null,null,null,null,{"$f":"Control!$C$20+Control!$C$21*A8135+Control!$C$22*A8135^2","v":2186.9316068878038},165.83275057562597,118.16724942437403]
[8136,141,151,null,null,null,null,null,null,null,null,null,{"$f":"Control!$C$20+Control!$C$21*A8136+Control!$C$22*A8136^2","v":2187.200908482384},164.74868417407583,117.25131582592417]
[8137,140,150,null,null,null,null,null,null,null,null,null,{"$f":"Control!$C$20+Control!$C$21*A8137+Control!$C$22*A8137^2","v":2187.4702100760228},163.66431913239848,116.33568086760154]
[8138,140,153,null,null,null,null,null,null,null,null,null,{"$f":"Control!$C$20+Control!$C$21*A8138+Control!$C$22*A8138^2","v":2187.7395116687208},163.66431913239848,116.33568086760154]
[8139,139,125,null,null,null,null,null,null,null,null,null,{"$f":"Control!$C$20+Control!$C$21*A8139+Control!$C$22*A8139^2","v":2188.0088132604769},162.5796522451032,115.42034775489681]
[8140,138,126,null,null,null,null,null,null,null,null,null,{"$f":"Control!$C$20+Control!$C$21*A8140+Control!$C$22*A8140^2","v":2188.2781148512922},161.49468024894145,114.50531975105854]
[8141,137,135,null,null,null,null,null,null,null,null,null,{"$f":"Control!$C$20+Control!$C$21*A8141+Control!$C$22*A8141^2","v":2188.5474164411658},160.40939982143925,113.59060017856075]
[8142,137,132,null,null,null,null,null,null,null,null,null,{"$f":"Control!$C$20+Control!$C$21*A8142+Control!$C$22*A8142^2","v":2188.8167180300984},160.40939982143925,113.59060017856075]
[8143,136,116,null,null,null,null,null,null,null,null,null,{"$f":"Control!$C$20+Control!$C$21*A8143+Control!$C$22*A8143^2","v":2189.0860196180897},159.3238075793812,112.6761924206188]
[8144,135,133,null,null,null,null,null,null,null,null,null,{"$f":"Control!$C$20+Control!$C$21*A8144+Control!$C$22*A8144^2","v":2189.3553212051393},158.23790007724449,111.7620999227555]
[8145,134,138,null,null,null,null,null,null,null,null,null,{"$f":"Control!$C$20+Control!$C$21*A8145+Control!$C$22*A8145^2","v":2189.6246227912479},157.15167380558046,110.84832619441954]
[8146,134,128,null,null,null,null,null,null,null,null,null,{"$f":"Control!$C$20+Control!$C$21*A8146+Control!$C$22*A8146^2","v":2189.8939243764153},157.15167380558046,110.84832619441954]
[8147,133,142,null,null,null,null,null,null,null,null,null,{"$f":"Control!$C$20+Control!$C$21*A8147+Control!$C$22*A8147^2","v":2190.1632259606413},156.06512518934159,109.93487481065841]
[8148,132,141,null,null,null,null,null,null,null,null,null,{"$f":"Control!$C$20+Control!$C$21*A8148+Control!$C$22*A8148^2","v":2190.432527543926},154.97825058615211,109.02174941384789]
[8149,132,132,null,null,null,null,null,null,null,null,null,{"$f":"Control!$C$20+Control!$C$21*A8149+Control!$C$22*A8149^2","v":2190.7018291262693},154.97825058615211,109.02174941384789]
[8150,131,133,null,null,null,null,null,null,null,null,null,{"$f":"Control!$C$20+Control!$C$21*A8150+Control!$C$22*A8150^2","v":2190.9711307076718},153.89104628451921,108.10895371548081]
[8151,130,105,null,null,null,null,null,null,null,null,null,{"$f":"Control!$C$20+Control!$C$21*A8151+Control!$C$22*A8151^2","v":2191.2404322881325},152.80350850198275,107.19649149801724]
[8152,129,128,null,null,null,null,null,null,null,null,null,{"$f":"Control!$C$20+Control!$C$21*A8152+Control!$C$22*A8152^2","v":2191.5097338676519},151.71563338320109,106.28436661679891]
[8153,129,123,null,null,null,null,null,null,null,null,null,{"$f":"Control!$C$20+Control!$C$21*A8153+Control!$C$22*A8153^2","v":2191.7790354462304},151.71563338320109,106.28436661679891]
[8154,128,121,null,null,null,null,null,null,null,null,null,{"$f":"Control!$C$20+Control!$C$21*A8154+Control!$C$22*A8154^2","v":2192.0483370238671},150.62741699796953,105.37258300203048]
[8155,127,131,null,null,null,null,null,null,null,null,null,{"$f":"Control!$C$20+Control!$C$21*A8155+Control!$C$22*A8155^2","v":2192.3176386005625},149.53885533916929,104.46114466083071]
[8156,126,113,null,null,null,null,null,null,null,null,null,{"$f":"Control!$C$20+Control!$C$21*A8156+Control!$C$22*A8156^2","v":2192.5869401763171},148.44994432064365,103.55005567935635]
[8157,126,112,null,null,null,null,null,null,null,null,null,{"$f":"Control!$C$20+Control!$C$21*A8157+Control!$C$22*A8157^2","v":2192.8562417511303},148.44994432064365,103.55005567935635]
[8158,125,126,null,null,null,null,null,null,null,null,null,{"$f":"Control!$C$20+Control!$C$21*A8158+Control!$C$22*A8158^2","v":2193.1255433250017},147.36067977499789,102.63932022500211]
[8159,124,142,null,null,null,null,null,null,null,null,null,{"$f":"Control!$C$20+Control!$C$21*A8159+Control!$C$22*A8159^2","v":2193.3948448979322},146.27105745132008,101.72894254867991]
[8160,123,104,null,null,null,null,null,null,null,null,null,{"$f":"Control!$C$20+Control!$C$21*A8160+Control!$C$22*A8160^2","v":2193.6641464699214},145.18107301281884,100.81892698718116]
[8161,123,109,null,null,null,null,null,null,null,null,null,{"$f":"Control!$C$20+Control!$C$21*A8161+Control!$C$22*A8161^2","v":2193.9334480409693},145.18107301281884,100.81892698718116]
[8162,122,124,null,null,null,null,null,null,null,null,null,{"$f":"Control!$C$20+Control!$C$21*A8162+Control!$C$22*A8162^2","v":2194.2027496110759},144.09072203437452,99.909277965625478]
[8163,121,127,null,null,null,null,null,null,null,null,null,{"$f":"Control!$C$20+Control!$C$21*A8163+Control!$C$22*A8163^2","v":2194.4720511802411},143,99]
[8164,121,117,null,null,null,null,null,null,null,null,null,{"$f":"Control!$C$20+Control!$C$21*A8164+Control!$C$22*A8164^2","v":2194.741352748465},143,99]
[8165,120,124,null,null,null,null,null,null,null,null,null,{"$f":"Control!$C$20+Control!$C$21*A8165+Control!$C$22*A8165^2","v":2195.0106543157476},141.90890230020665,98.091097699793352]
[8166,119,124,null,null,null,null,null,null,null,null,null,{"$f":"Control!$C$20+Control!$C$21*A8166+Control!$C$22*A8166^2","v":2195.2799558820889},140.81742422927144,97.182575770728576]
[8167,118,123,null,null,null,null,null,null,null,null,null,{"$f":"Control!$C$20+Control!$C$21*A8167+Control!$C$22*A8167^2","v":2195.5492574474893},139.72556098240042,96.274439017599576]
[8168,118,134,null,null,null,null,null,null,null,null,null,{"$f":"Control!$C$20+Control!$C$21*A8168+Control!$C$22*A8168^2","v":2195.8185590119479},139.72556098240042,96.274439017599576]
[8169,117,122,null,null,null,null,null,null,null,null,null,{"$f":"Control!$C$20+Control!$C$21*A8169+Control!$C$22*A8169^2","v":2196.0878605754656},138.63330765278394,95.366692347216059]
[8170,116,119,null,null,null,null,null,null,null,null,null,{"$f":"Control!$C$20+Control!$C$21*A8170+Control!$C$22*A8170^2","v":2196.3571621380415},137.540659228538,94.459340771461981]
[8171,115,105,null,null,null,null,null,null,null,null,null,{"$f":"Control!$C$20+Control!$C$21*A8171+Control!$C$22*A8171^2","v":2196.6264636996766},136.44761058952722,93.552389410472784]
[8172,115,111,null,null,null,null,null,null,null,null,null,{"$f":"Control!$C$20+Control!$C$21*A8172+Control!$C$22*A8172^2","v":2196.8957652603699},136.44761058952722,93.552389410472784]
[8173,114,120,null,null,null,null,null,null,null,null,null,{"$f":"Control!$C$20+Control!$C$21*A8173+Control!$C$22*A8173^2","v":2197.1650668201223},135.35415650406262,92.645843495937385]
[8174,113,117,null,null,null,null,null,null,null,null,null,{"$f":"Control!$C$20+Control!$C$21*A8174+Control!$C$22*A8174^2","v":2197.4343683789334},134.26029162546931,91.739708374530693]
[8175,112,99,null,null,null,null,null,null,null,null,null,{"$f":"Control!$C$20+Control!$C$21*A8175+Control!$C$22*A8175^2","v":2197.7036699368032},133.16601048851672,90.833989511483281]
[8176,112,106,null,null,null,null,null,null,null,null,null,{"$f":"Control!$C$20+Control!$C$21*A8176+Control!$C$22*A8176^2","v":2197.9729714937312},133.16601048851672,90.833989511483281]
[8177,111,98,null,null,null,null,null,null,null,null,null,{"$f":"Control!$C$20+Control!$C$21*A8177+Control!$C$22*A8177^2","v":2198.2422730497183},132.07130750570548,89.928692494294523]
[8178,110,131,null,null,null,null,null,null,null,null,null,{"$f":"Control!$C$20+Control!$C$21*A8178+Control!$C$22*A8178^2","v":2198.5115746047645},130.97617696340302,89.023823036596966]
[8179,110,112,null,null,null,null,null,null,null,null,null,{"$f":"Control!$C$20+Control!$C$21*A8179+Control!$C$22*A8179^2","v":2198.780876158869},130.97617696340302,89.023823036596966]
[8180,109,97,null,null,null,null,null,null,null,null,null,{"$f":"Control!$C$20+Control!$C$21*A8180+Control!$C$22*A8180^2","v":2199.0501777120321},129.8806130178211,88.119386982178895]
[8181,108,106,null,null,null,null,null,null,null,null,null,{"$f":"Control!$C$20+Control!$C$21*A8181+Control!$C$22*A8181^2","v":2199.3194792642539},128.78460969082653,87.215390309173472]
[8182,107,113,null,null,null,null,null,null,null,null,null,{"$f":"Control!$C$20+Control!$C$21*A8182+Control!$C$22*A8182^2","v":2199.5887808155344},127.6881608655772,86.311839134422797]
[8183,107,107,null,null,null,null,null,null,null,null,null,{"$f":"Control!$C$20+Control!$C$21*A8183+Control!$C$22*A8183^2","v":2199.858082365874},127.6881608655772,86.311839134422797]
[8184,106,94,null,null,null,null,null,null,null,null,null,{"$f":"Control!$C$20+Control!$C$21*A8184+Control!$C$22*A8184^2","v":2200.1273839152718},126.591260281974,85.408739718025998]
[8185,105,92,null,null,null,null,null,null,null,null,null,{"$f":"Control!$C$20+Control!$C$21*A8185+Control!$C$22*A8185^2","v":2200.3966854637288},125.49390153191919,84.506098468080808]
[8186,104,103,null,null,null,null,null,null,null,null,null,{"$f":"Control!$C$20+Control!$C$21*A8186+Control!$C$22*A8186^2","v":2200.6659870112439},124.39607805437115,83.603921945628855]
[8187,104,106,null,null,null,null,null,null,null,null,null,{"$f":"Control!$C$20+Control!$C$21*A8187+Control!$C$22*A8187^2","v":2200.9352885578182},124.39607805437115,83.603921945628855]
[8188,103,110,null,null,null,null,null,null,null,null,null,{"$f":"Control!$C$20+Control!$C$21*A8188+Control!$C$22*A8188^2","v":2201.2045901034512},123.29778313018444,82.702216869815558]
[8189,102,92,null,null,null,null,null,null,null,null,null,{"$f":"Control!$C$20+Control!$C$21*A8189+Control!$C$22*A8189^2","v":2201.4738916481424},122.19900987672415,81.800990123275852]
[8190,101,107,null,null,null,null,null,null,null,null,null,{"$f":"Control!$C$20+Control!$C$21*A8190+Control!$C$22*A8190^2","v":2201.7431931918927},121.09975124224178,80.90024875775822]
[8191,101,97,null,null,null,null,null,null,null,null,null,{"$f":"Control!$C$20+Control!$C$21*A8191+Control!$C$22*A8191^2","v":2202.0124947347017},121.09975124224178,80.90024875775822]
[]
[]
[]
[]
[]
[]
[]
[]
[]
[{"$f":"IF(B8201<>\"\",1+A8200,\"\")","v":""}]
[""]
[""]
[""]
[""]
[""]
[""]
[""]
[""]
[""]
[""]
[""]

{"sheet":"Check","index":3,"n_rows":32,"n_cols":10,"rows_kept":32,"cut":false,"hidden":false,"merged":[[3,8,3,13]]}
[]
[null,"SpecMaker - Check Consistency of Results"]
[null,{"$f":"CELL(\"filename\",B2)","v":"C:\\Temp Files\\SpecMaker 2025\\specmaker 2025\\[SpecMaker 2025.xlsm]Check"}]
[null,"Spreadsheet prepared by Dr. Gordon Gilmore of Nuclear Training Services Ltd.",null,null,null,null,null,null,"Only take notice of this sheet if there is no gradient on the continuum and there are no peaks superimposed."]
[]
[null,"Bin Edge","Centre","Bin Edge","Frequency","Frequency","Theor.","Difference"]
[null,"in SU units"," of Bin","Counts","No. Cts","%","%"]
[null,"Bin Hwidth:",-0.25]
[null,{"$f":"-4","v":-4},{"$f":"B9+$C$8","v":-4.25},{"$f":"INT(Control!$C$9+Check!B9*SQRT(Control!$C$9))","v":5787},{"$f":"FREQUENCY(Spectrum!C2:C8193,D9:D26)","v":7713},{"$f":"E9/$E$27","v":0.94175824175824174},{"$f":"EXP(-((B9-0.25)^2)/2)/SQRT(2*PI())/2","v":2.3859318270602476E-5},{"$f":"(F9-G9)","v":0.9417343824399711}]
[null,{"$f":"B9+0.5","v":-3.5},-3.75,{"$f":"INT(Control!$C$9+Check!B10*SQRT(Control!$C$9))","v":5826},59,7.2039072039072043E-3,1.7629784118372273E-4,7.0276093627234812E-3]
[null,-3,-3.25,{"$f":"INT(Control!$C$9+Check!B11*SQRT(Control!$C$9))","v":5865},51,6.2271062271062275E-3,1.0145240286498841E-3,5.2125821984563437E-3]
[null,-2.5,-2.75,{"$f":"INT(Control!$C$9+Check!B12*SQRT(Control!$C$9))","v":5904},60,7.326007326007326E-3,4.5467812507955264E-3,2.7792260752117996E-3]
[null,-2,-2.25,{"$f":"INT(Control!$C$9+Check!B13*SQRT(Control!$C$9))","v":5943},49,5.9829059829059833E-3,1.5869825917833709E-2,-9.8869199349277265E-3]
[null,-1.5,-1.75,{"$f":"INT(Control!$C$9+Check!B14*SQRT(Control!$C$9))","v":5982},49,5.9829059829059833E-3,4.3138659413255766E-2,-3.7155753430349783E-2]
[null,-1,-1.25,{"$f":"INT(Control!$C$9+Check!B15*SQRT(Control!$C$9))","v":6021},56,6.8376068376068376E-3,9.1324542694510957E-2,-8.4486935856904116E-2]
[null,-0.5,-0.75,{"$f":"INT(Control!$C$9+Check!B16*SQRT(Control!$C$9))","v":6060},51,6.2271062271062275E-3,0.15056871607740221,-0.14434160985029598]
[null,0,-0.25,{"$f":"INT(Control!$C$9+Check!B17*SQRT(Control!$C$9))","v":6100},35,4.2735042735042739E-3,0.19333405840142465,-0.18906055412792036]
[null,0.5,0.25,{"$f":"INT(Control!$C$9+Check!B18*SQRT(Control!$C$9))","v":6139},25,3.0525030525030525E-3,0.19333405840142465,-0.1902815553489216]
[null,1,0.75,{"$f":"INT(Control!$C$9+Check!B19*SQRT(Control!$C$9))","v":6178},12,1.4652014652014652E-3,0.15056871607740221,-0.14910351461220075]
[null,1.5,1.25,{"$f":"INT(Control!$C$9+Check!B20*SQRT(Control!$C$9))","v":6217},3,3.663003663003663E-4,9.1324542694510957E-2,-9.0958242328210592E-2]
[null,2,1.75,{"$f":"INT(Control!$C$9+Check!B21*SQRT(Control!$C$9))","v":6256},3,3.663003663003663E-4,4.3138659413255766E-2,-4.2772359046955401E-2]
[null,2.5,2.25,{"$f":"INT(Control!$C$9+Check!B22*SQRT(Control!$C$9))","v":6295},1,1.221001221001221E-4,1.5869825917833709E-2,-1.5747725795733587E-2]
[null,3,2.75,{"$f":"INT(Control!$C$9+Check!B23*SQRT(Control!$C$9))","v":6334},1,1.221001221001221E-4,4.5467812507955264E-3,-4.4246811286954048E-3]
[null,3.5,3.25,{"$f":"INT(Control!$C$9+Check!B24*SQRT(Control!$C$9))","v":6373},2,2.442002442002442E-4,1.0145240286498841E-3,-7.7032378444963985E-4]
[null,4,3.75,{"$f":"INT(Control!$C$9+Check!B25*SQRT(Control!$C$9))","v":6412},1,1.221001221001221E-4,1.7629784118372273E-4,-5.419771908360063E-5]
[null,"Above",null,null,19,2.3199023199023199E-3]
[null,null,null,"Total Counts:",{"$f":"SUM(E9:E26)","v":8190},null,null,{"$f":"SQRT(SUMSQ(H9:H25)/COUNT(H9:H25))","v":0.24506333351783441}]
[]
[null,null,null,"Total counts before randomization:",{"$f":"SUM(Spectrum!B2:B8193)","v":25622033}]
[null,null,null,"Total counts afterwards:",{"$f":"SUM(Spectrum!C2:C8193)","v":25634294},null,null,null,null,"Press F9 to re-scatter the data"]
[null,null,null,"Difference:",{"$f":"E30-E29","v":12261},{"$f":"E31/E29","v":4.785334559517584E-4}]
[null,null,null,"Standard Uncertainty:",{"$f":"SQRT(D17)","v":78.10249675906654},"counts in each channel"]

{"sheet":"Assessment","index":4,"n_rows":74,"n_cols":18,"rows_kept":74,"cut":false,"hidden":false,"merged":[[17,6,17,7],[17,8,17,12],[17,13,17,16],[6,4,6,5],[7,4,7,5],[8,4,8,5],[9,4,9,5],[17,2,17,5],[15,8,15,10],[16,8,16,10],[14,8,14,10]]}
[]
[null,"SpecMaker - Spectrum Analysis Assessment",null,null,null,null,null,null,null,{"$f":"IF(F6<>\"\",F6,\"\")","v":0}]
[null,{"$f":"CELL(\"filename\",B2)","v":"C:\\Temp Files\\SpecMaker 2025\\specmaker 2025\\[SpecMaker 2025.xlsm]Assessment"},null,null,null,null,null,null,null,{"$f":"IF(E7<>\"\",E7,\"\")","v":""}]
[null,"Spreadsheet prepared by Dr. Gordon Gilmore"]
[]
[null,null,null,null,null,{"$f":"Control!C32","v":0},null,"Peak Analysis"]
[null,null,null,"Analysis Program:",null,null,null,null,null,"Number of peaks created:",{"$f":"COUNT(D21:D70)","v":0}]
[null,null,null,"Version:",null,null,null,null,null,"Number of measured peaks:",{"$f":"M72","v":0}]
[null,null,null,"Date of Analysis:",{"$f":"NOW()","v":"2025-02-10T11:40:03.970"},null,null,null,null,"Number of missed peaks:",{"$f":"K7-K8","v":0}]
[null,null,null,"Comments:",null,null,null,null,null,"Number of spurious peaks:",0]
[null,null,null,"Energy Calibration:",{"$f":"Control!C21","v":0.26930925250053406},"keV/ch",null,null,null,"Peak Detection Index (Target =1):",{"$f":"IF(K7>0,(K8-K10)/K7,\"\")","v":""}]
[]
[null,null,"Centroid and FWHM Differences",null,null,null,null,null,"Area Estimation"]
[null,null,null,null,null,"Channels","keV",null,null,"Centroid of Distribution:",{"$f":"IF(M72>0,Stats!$L$25,\"\")","v":""}]
[null,null,null,null,"RMS Centroid Difference:",{"$f":"IF(K8>2,P72/E11,\"\")","v":""},{"$f":"IF(F15<>\"\",P72,\"\")","v":""},null,{"$f":"IF(M72>0,Stats!M20,\"\")","v":""}]
[null,null,null,null,"RMS FWHM differences:",null,{"$f":"IF(K8>2,Q72,\"\")","v":""},null,{"$f":"IFERROR(\"\",VLOOKUP(ABS(K15),Stats!$J$37:$K$42,2))","v":""}]
[]
[null,null,"Requested Values",null,null,null,"Given Values",null,"Measured Values",null,null,null,null,"Assessments"]
[null,null,"Peak Energy","Peak Area","Peak Centroid","FWHM","Peak Area","Peak Centroid","Peak Energy","Peak Area","Std. Uncert","Peak Centroid","FWHM","Peak Area","Significance","Centroid  Difference","FWHM Diffs","Pk. Area Ratio"]
[null,null,"(keV)","(counts)","(channels)","(keV)","(counts)","(channels)","(keV)","(counts)","(%)","(channels)","(keV)","z-score",null,"(keV)","(keV)"]
[null,1,{"$f":"IF(Control!H9<>\"\",Control!H9,\"\")","v":""},{"$f":"IF(Control!I9<>\"\",Control!I9,\"\")","v":""},{"$f":"Control!J9","v":""},{"$f":"Control!K9","v":""},{"$f":"IF(Control!Q9<>\"\",Control!Q9,\"\")","v":9995},{"$f":"IF(Control!P9<>\"\",Control!P9,\"\")","v":385.68494247123562},null,null,null,null,null,{"$f":"IF(AND(J21<>\"\",K21<>\"\"),(J21-G21)/(K21*J21),\"\")","v":""},{"$f":"IF(N21<>\"\",VLOOKUP(ABS(N21),Stats!$J$37:$K$42,2),\"\")","v":""},{"$f":"IF(L21<>\"\",(I21-C21),\"\")","v":""},{"$f":"IF(M21<>\"\",(M21-F21),\"\")","v":""},{"$f":"IF(J21<>\"\",(J21/D21)^2,\"\")","v":""}]
[null,2,{"$f":"IF(Control!H10<>\"\",Control!H10,\"\")","v":""},{"$f":"IF(Control!I10<>\"\",Control!I10,\"\")","v":""},{"$f":"Control!J10","v":""},{"$f":"Control!K10","v":""},{"$f":"IF(Control!Q10<>\"\",Control!Q10,\"\")","v":7994},{"$f":"IF(Control!P10<>\"\",Control!P10,\"\")","v":534.21003252439334},null,null,null,null,null,{"$f":"IF(AND(J22<>\"\",K22<>\"\"),(J22-G22)/(K22*J22),\"\")","v":""},{"$f":"IF(N22<>\"\",VLOOKUP(ABS(N22),Stats!$J$37:$K$42,2),\"\")","v":""},{"$f":"IF(L22<>\"\",(I22-C22),\"\")","v":""},{"$f":"IF(M22<>\"\",(M22-F22),\"\")","v":""},{"$f":"IF(J22<>\"\",(J22/D22)^2,\"\")","v":""}]
[null,3,{"$f":"IF(Control!H11<>\"\",Control!H11,\"\")","v":""},{"$f":"IF(Control!I11<>\"\",Control!I11,\"\")","v":""},{"$f":"Control!J11","v":""},{"$f":"Control!K11","v":""},{"$f":"IF(Control!Q11<>\"\",Control!Q11,\"\")","v":5993},{"$f":"IF(Control!P11<>\"\",Control!P11,\"\")","v":682.74386784582009},null,null,null,null,null,"",{"$f":"IF(N23<>\"\",VLOOKUP(ABS(N23),Stats!$J$37:$K$42,2),\"\")","v":""},"","",""]
[null,4,{"$f":"IF(Control!H12<>\"\",Control!H12,\"\")","v":""},{"$f":"IF(Control!I12<>\"\",Control!I12,\"\")","v":""},{"$f":"Control!J12","v":""},{"$f":"Control!K12","v":""},{"$f":"IF(Control!Q12<>\"\",Control!Q12,\"\")","v":3993},{"$f":"IF(Control!P12<>\"\",Control!P12,\"\")","v":831.26421237165039},null,null,null,null,null,{"$f":"IF(AND(J24<>\"\",K24<>\"\"),(J24-G24)/(K24*J24),\"\")","v":""},{"$f":"IF(N24<>\"\",VLOOKUP(ABS(N24),Stats!$J$37:$K$42,2),\"\")","v":""},"","",""]
[null,5,{"$f":"IF(Control!H13<>\"\",Control!H13,\"\")","v":""},{"$f":"IF(Control!I13<>\"\",Control!I13,\"\")","v":""},{"$f":"Control!J13","v":""},{"$f":"Control!K13","v":""},{"$f":"IF(Control!Q13<>\"\",Control!Q13,\"\")","v":1999},{"$f":"IF(Control!P13<>\"\",Control!P13,\"\")","v":979.79489744872433},null,null,null,null,null,"",{"$f":"IF(N25<>\"\",VLOOKUP(ABS(N25),Stats!$J$37:$K$42,2),\"\")","v":""},"","",""]
[null,6,{"$f":"IF(Control!H14<>\"\",Control!H14,\"\")","v":""},{"$f":"IF(Control!I14<>\"\",Control!I14,\"\")","v":""},{"$f":"Control!J14","v":""},{"$f":"Control!K14","v":""},{"$f":"IF(Control!Q14<>\"\",Control!Q14,\"\")","v":1000},{"$f":"IF(Control!P14<>\"\",Control!P14,\"\")","v":1128.3240000000001},null,null,null,null,null,"",{"$f":"IF(N26<>\"\",VLOOKUP(ABS(N26),Stats!$J$37:$K$42,2),\"\")","v":""},"","",""]
[null,7,{"$f":"IF(Control!H15<>\"\",Control!H15,\"\")","v":""},{"$f":"IF(Control!I15<>\"\",Control!I15,\"\")","v":""},{"$f":"Control!J15","v":""},{"$f":"Control!K15","v":""},{"$f":"IF(Control!Q15<>\"\",Control!Q15,\"\")","v":501},{"$f":"IF(Control!P15<>\"\",Control!P15,\"\")","v":1276.8642714570858},null,null,null,null,null,"",{"$f":"IF(N27<>\"\",VLOOKUP(ABS(N27),Stats!$J$37:$K$42,2),\"\")","v":""},"","",""]
[null,8,{"$f":"IF(Control!H16<>\"\",Control!H16,\"\")","v":""},{"$f":"IF(Control!I16<>\"\",Control!I16,\"\")","v":""},{"$f":"Control!J16","v":""},{"$f":"Control!K16","v":""},{"$f":"IF(Control!Q16<>\"\",Control!Q16,\"\")","v":9987},{"$f":"IF(Control!P16<>\"\",Control!P16,\"\")","v":1425.37869229999},null,null,null,null,null,"",{"$f":"IF(N28<>\"\",VLOOKUP(ABS(N28),Stats!$J$37:$K$42,2),\"\")","v":""},"","",""]
[null,9,{"$f":"IF(Control!H17<>\"\",Control!H17,\"\")","v":""},{"$f":"IF(Control!I17<>\"\",Control!I17,\"\")","v":""},{"$f":"Control!J17","v":""},{"$f":"Control!K17","v":""},{"$f":"IF(Control!Q17<>\"\",Control!Q17,\"\")","v":7988},{"$f":"IF(Control!P17<>\"\",Control!P17,\"\")","v":1573.9138708062094},null,null,null,null,null,"",{"$f":"IF(N29<>\"\",VLOOKUP(ABS(N29),Stats!$J$37:$K$42,2),\"\")","v":""},"","",""]
[null,10,{"$f":"IF(Control!H18<>\"\",Control!H18,\"\")","v":""},{"$f":"IF(Control!I18<>\"\",Control!I18,\"\")","v":""},{"$f":"Control!J18","v":""},{"$f":"Control!K18","v":""},{"$f":"IF(Control!Q18<>\"\",Control!Q18,\"\")","v":5984},{"$f":"IF(Control!P18<>\"\",Control!P18,\"\")","v":1722.4318181818182},null,null,null,null,null,"",{"$f":"IF(N30<>\"\",VLOOKUP(ABS(N30),Stats!$J$37:$K$42,2),\"\")","v":""},"","",""]
[null,11,{"$f":"IF(Control!H19<>\"\",Control!H19,\"\")","v":""},{"$f":"IF(Control!I19<>\"\",Control!I19,\"\")","v":""},{"$f":"Control!J19","v":""},{"$f":"Control!K19","v":""},{"$f":"IF(Control!Q19<>\"\",Control!Q19,\"\")","v":3989},{"$f":"IF(Control!P19<>\"\",Control!P19,\"\")","v":1911.8185008774128},null,null,null,null,null,"",{"$f":"IF(N31<>\"\",VLOOKUP(ABS(N31),Stats!$J$37:$K$42,2),\"\")","v":""},"","",""]
[null,12,{"$f":"IF(Control!H20<>\"\",Control!H20,\"\")","v":""},{"$f":"IF(Control!I20<>\"\",Control!I20,\"\")","v":""},{"$f":"Control!J20","v":""},{"$f":"Control!K20","v":""},{"$f":"IF(Control!Q20<>\"\",Control!Q20,\"\")","v":1999},{"$f":"IF(Control!P20<>\"\",Control!P20,\"\")","v":2019.4967483741871},null,null,null,null,null,"",{"$f":"IF(N32<>\"\",VLOOKUP(ABS(N32),Stats!$J$37:$K$42,2),\"\")","v":""},"","",""]
[null,13,{"$f":"IF(Control!H21<>\"\",Control!H21,\"\")","v":""},{"$f":"IF(Control!I21<>\"\",Control!I21,\"\")","v":""},{"$f":"Control!J21","v":""},{"$f":"Control!K21","v":""},{"$f":"IF(Control!Q21<>\"\",Control!Q21,\"\")","v":1000},{"$f":"IF(Control!P21<>\"\",Control!P21,\"\")","v":2168.0239999999999},null,null,null,null,null,"",{"$f":"IF(N33<>\"\",VLOOKUP(ABS(N33),Stats!$J$37:$K$42,2),\"\")","v":""},"","",""]
[null,14,{"$f":"IF(Control!H22<>\"\",Control!H22,\"\")","v":""},{"$f":"IF(Control!I22<>\"\",Control!I22,\"\")","v":""},{"$f":"Control!J22","v":""},{"$f":"Control!K22","v":""},{"$f":"IF(Control!Q22<>\"\",Control!Q22,\"\")","v":500},{"$f":"IF(Control!P22<>\"\",Control!P22,\"\")","v":2316.58},null,null,null,null,null,"",{"$f":"IF(N34<>\"\",VLOOKUP(ABS(N34),Stats!$J$37:$K$42,2),\"\")","v":""},"","",""]
[null,15,{"$f":"IF(Control!H23<>\"\",Control!H23,\"\")","v":""},{"$f":"IF(Control!I23<>\"\",Control!I23,\"\")","v":""},{"$f":"Control!J23","v":""},{"$f":"Control!K23","v":""},{"$f":"IF(Control!Q23<>\"\",Control!Q23,\"\")","v":9985},{"$f":"IF(Control!P23<>\"\",Control!P23,\"\")","v":2465.0862293440159},null,null,null,null,null,"",{"$f":"IF(N35<>\"\",VLOOKUP(ABS(N35),Stats!$J$37:$K$42,2),\"\")","v":""},"","",""]
[null,16,{"$f":"IF(Control!H24<>\"\",Control!H24,\"\")","v":""},{"$f":"IF(Control!I24<>\"\",Control!I24,\"\")","v":""},{"$f":"Control!J24","v":""},{"$f":"Control!K24","v":""},{"$f":"IF(Control!Q24<>\"\",Control!Q24,\"\")","v":7981},{"$f":"IF(Control!P24<>\"\",Control!P24,\"\")","v":2613.6267385039469},null,null,null,null,null,"",{"$f":"IF(N36<>\"\",VLOOKUP(ABS(N36),Stats!$J$37:$K$42,2),\"\")","v":""},"","",""]
[null,17,{"$f":"IF(Control!H25<>\"\",Control!H25,\"\")","v":""},{"$f":"IF(Control!I25<>\"\",Control!I25,\"\")","v":""},{"$f":"Control!J25","v":""},{"$f":"Control!K25","v":""},{"$f":"IF(Control!Q25<>\"\",Control!Q25,\"\")","v":5985},{"$f":"IF(Control!P25<>\"\",Control!P25,\"\")","v":2762.1430242272349},null,null,null,null,null,"",{"$f":"IF(N37<>\"\",VLOOKUP(ABS(N37),Stats!$J$37:$K$42,2),\"\")","v":""},"","",""]
[null,18,{"$f":"IF(Control!H26<>\"\",Control!H26,\"\")","v":""},{"$f":"IF(Control!I26<>\"\",Control!I26,\"\")","v":""},{"$f":"Control!J26","v":""},{"$f":"Control!K26","v":""},{"$f":"IF(Control!Q26<>\"\",Control!Q26,\"\")","v":3997},{"$f":"IF(Control!P26<>\"\",Control!P26,\"\")","v":2910.6782586940203},null,null,null,null,null,"",{"$f":"IF(N38<>\"\",VLOOKUP(ABS(N38),Stats!$J$37:$K$42,2),\"\")","v":""},"","",""]
[null,19,{"$f":"IF(Control!H27<>\"\",Control!H27,\"\")","v":""},{"$f":"IF(Control!I27<>\"\",Control!I27,\"\")","v":""},{"$f":"Control!J27","v":""},{"$f":"Control!K27","v":""},{"$f":"IF(Control!Q27<>\"\",Control!Q27,\"\")","v":1999},{"$f":"IF(Control!P27<>\"\",Control!P27,\"\")","v":3059.2036018009003},null,null,null,null,null,"",{"$f":"IF(N39<>\"\",VLOOKUP(ABS(N39),Stats!$J$37:$K$42,2),\"\")","v":""},"","",""]
[null,20,{"$f":"IF(Control!H28<>\"\",Control!H28,\"\")","v":""},{"$f":"IF(Control!I28<>\"\",Control!I28,\"\")","v":""},{"$f":"Control!J28","v":""},{"$f":"Control!K28","v":""},{"$f":"IF(Control!Q28<>\"\",Control!Q28,\"\")","v":999},{"$f":"IF(Control!P28<>\"\",Control!P28,\"\")","v":3207.7357357357359},null,null,null,null,null,"",{"$f":"IF(N40<>\"\",VLOOKUP(ABS(N40),Stats!$J$37:$K$42,2),\"\")","v":""},"","",""]
[null,21,{"$f":"IF(Control!H29<>\"\",Control!H29,\"\")","v":""},{"$f":"IF(Control!I29<>\"\",Control!I29,\"\")","v":""},{"$f":"Control!J29","v":""},{"$f":"Control!K29","v":""},{"$f":"IF(Control!Q29<>\"\",Control!Q29,\"\")","v":500},{"$f":"IF(Control!P29<>\"\",Control!P29,\"\")","v":3356.2620000000002},null,null,null,null,null,"",{"$f":"IF(N41<>\"\",VLOOKUP(ABS(N41),Stats!$J$37:$K$42,2),\"\")","v":""},"","",""]
[null,22,{"$f":"IF(Control!H30<>\"\",Control!H30,\"\")","v":""},{"$f":"IF(Control!I30<>\"\",Control!I30,\"\")","v":""},{"$f":"Control!J30","v":""},{"$f":"Control!K30","v":""},{"$f":"IF(Control!Q30<>\"\",Control!Q30,\"\")","v":9981},{"$f":"IF(Control!P30<>\"\",Control!P30,\"\")","v":3504.7995190862639},null,null,null,null,null,"",{"$f":"IF(N42<>\"\",VLOOKUP(ABS(N42),Stats!$J$37:$K$42,2),\"\")","v":""},"","",""]
[null,23,{"$f":"IF(Control!H31<>\"\",Control!H31,\"\")","v":""},{"$f":"IF(Control!I31<>\"\",Control!I31,\"\")","v":""},{"$f":"Control!J31","v":""},{"$f":"Control!K31","v":""},{"$f":"IF(Control!Q31<>\"\",Control!Q31,\"\")","v":7978},{"$f":"IF(Control!P31<>\"\",Control!P31,\"\")","v":3653.3172474304338},null,null,null,null,null,"",{"$f":"IF(N43<>\"\",VLOOKUP(ABS(N43),Stats!$J$37:$K$42,2),\"\")","v":""},"","",""]
[null,24,{"$f":"IF(Control!H32<>\"\",Control!H32,\"\")","v":""},{"$f":"IF(Control!I32<>\"\",Control!I32,\"\")","v":""},{"$f":"Control!J32","v":""},{"$f":"Control!K32","v":""},{"$f":"IF(Control!Q32<>\"\",Control!Q32,\"\")","v":5984},{"$f":"IF(Control!P32<>\"\",Control!P32,\"\")","v":3801.8586229946523},null,null,null,null,null,"",{"$f":"IF(N44<>\"\",VLOOKUP(ABS(N44),Stats!$J$37:$K$42,2),\"\")","v":""},"","",""]
[null,25,{"$f":"IF(Control!H33<>\"\",Control!H33,\"\")","v":""},{"$f":"IF(Control!I33<>\"\",Control!I33,\"\")","v":""},{"$f":"Control!J33","v":""},{"$f":"Control!K33","v":""},{"$f":"IF(Control!Q33<>\"\",Control!Q33,\"\")","v":3984},{"$f":"IF(Control!P33<>\"\",Control!P33,\"\")","v":3950.3719879518071},null,null,null,null,null,"",{"$f":"IF(N45<>\"\",VLOOKUP(ABS(N45),Stats!$J$37:$K$42,2),\"\")","v":""},"","",""]
[null,26,{"$f":"IF(Control!H34<>\"\",Control!H34,\"\")","v":""},{"$f":"IF(Control!I34<>\"\",Control!I34,\"\")","v":""},{"$f":"Control!J34","v":""},{"$f":"Control!K34","v":""},{"$f":"IF(Control!Q34<>\"\",Control!Q34,\"\")","v":1996},{"$f":"IF(Control!P34<>\"\",Control!P34,\"\")","v":4098.919839679359},null,null,null,null,null,"",{"$f":"IF(N46<>\"\",VLOOKUP(ABS(N46),Stats!$J$37:$K$42,2),\"\")","v":""},"","",""]
[null,27,{"$f":"IF(Control!H35<>\"\",Control!H35,\"\")","v":""},{"$f":"IF(Control!I35<>\"\",Control!I35,\"\")","v":""},{"$f":"Control!J35","v":""},{"$f":"Control!K35","v":""},{"$f":"IF(Control!Q35<>\"\",Control!Q35,\"\")","v":998},{"$f":"IF(Control!P35<>\"\",Control!P35,\"\")","v":4247.4418837675348},null,null,null,null,null,"",{"$f":"IF(N47<>\"\",VLOOKUP(ABS(N47),Stats!$J$37:$K$42,2),\"\")","v":""},"","",""]
[null,28,{"$f":"IF(Control!H36<>\"\",Control!H36,\"\")","v":""},{"$f":"IF(Control!I36<>\"\",Control!I36,\"\")","v":""},{"$f":"Control!J36","v":""},{"$f":"Control!K36","v":""},{"$f":"IF(Control!Q36<>\"\",Control!Q36,\"\")","v":499},{"$f":"IF(Control!P36<>\"\",Control!P36,\"\")","v":4395.9679358717431},null,null,null,null,null,"",{"$f":"IF(N48<>\"\",VLOOKUP(ABS(N48),Stats!$J$37:$K$42,2),\"\")","v":""},"","",""]
[null,29,{"$f":"IF(Control!H37<>\"\",Control!H37,\"\")","v":""},{"$f":"IF(Control!I37<>\"\",Control!I37,\"\")","v":""},{"$f":"Control!J37","v":""},{"$f":"Control!K37","v":""},{"$f":"IF(Control!Q37<>\"\",Control!Q37,\"\")","v":9978},{"$f":"IF(Control!P37<>\"\",Control!P37,\"\")","v":4544.5167368210059},null,null,null,null,null,"",{"$f":"IF(N49<>\"\",VLOOKUP(ABS(N49),Stats!$J$37:$K$42,2),\"\")","v":""},"","",""]
[null,30,{"$f":"IF(Control!H38<>\"\",Control!H38,\"\")","v":""},{"$f":"IF(Control!I38<>\"\",Control!I38,\"\")","v":""},{"$f":"Control!J38","v":""},{"$f":"Control!K38","v":""},{"$f":"IF(Control!Q38<>\"\",Control!Q38,\"\")","v":7982},{"$f":"IF(Control!P38<>\"\",Control!P38,\"\")","v":4693.0362064645451},null,null,null,null,null,"",{"$f":"IF(N50<>\"\",VLOOKUP(ABS(N50),Stats!$J$37:$K$42,2),\"\")","v":""},"","",""]
[null,31,{"$f":"IF(Control!H39<>\"\",Control!H39,\"\")","v":""},{"$f":"IF(Control!I39<>\"\",Control!I39,\"\")","v":""},{"$f":"Control!J39","v":""},{"$f":"Control!K39","v":""},{"$f":"IF(Control!Q39<>\"\",Control!Q39,\"\")","v":5985},{"$f":"IF(Control!P39<>\"\",Control!P39,\"\")","v":4841.5801169590641},null,null,null,null,null,"",{"$f":"IF(N51<>\"\",VLOOKUP(ABS(N51),Stats!$J$37:$K$42,2),\"\")","v":""},"","",""]
[null,32,{"$f":"IF(Control!H40<>\"\",Control!H40,\"\")","v":""},{"$f":"IF(Control!I40<>\"\",Control!I40,\"\")","v":""},{"$f":"Control!J40","v":""},{"$f":"Control!K40","v":""},{"$f":"IF(Control!Q40<>\"\",Control!Q40,\"\")","v":3986},{"$f":"IF(Control!P40<>\"\",Control!P40,\"\")","v":4990.0943301555444},null,null,null,null,null,"",{"$f":"IF(N52<>\"\",VLOOKUP(ABS(N52),Stats!$J$37:$K$42,2),\"\")","v":""},"","",""]
[null,33,{"$f":"IF(Control!H41<>\"\",Control!H41,\"\")","v":""},{"$f":"IF(Control!I41<>\"\",Control!I41,\"\")","v":""},{"$f":"Control!J41","v":""},{"$f":"Control!K41","v":""},{"$f":"IF(Control!Q41<>\"\",Control!Q41,\"\")","v":1992},{"$f":"IF(Control!P41<>\"\",Control!P41,\"\")","v":5138.6495983935747},null,null,null,null,null,"",{"$f":"IF(N53<>\"\",VLOOKUP(ABS(N53),Stats!$J$37:$K$42,2),\"\")","v":""},"","",""]
[null,34,{"$f":"IF(Control!H42<>\"\",Control!H42,\"\")","v":""},{"$f":"IF(Control!I42<>\"\",Control!I42,\"\")","v":""},{"$f":"Control!J42","v":""},{"$f":"Control!K42","v":""},{"$f":"IF(Control!Q42<>\"\",Control!Q42,\"\")","v":1000},{"$f":"IF(Control!P42<>\"\",Control!P42,\"\")","v":5287.1679999999997},null,null,null,null,null,"",{"$f":"IF(N54<>\"\",VLOOKUP(ABS(N54),Stats!$J$37:$K$42,2),\"\")","v":""},"","",""]
[null,35,{"$f":"IF(Control!H43<>\"\",Control!H43,\"\")","v":""},{"$f":"IF(Control!I43<>\"\",Control!I43,\"\")","v":""},{"$f":"Control!J43","v":""},{"$f":"Control!K43","v":""},{"$f":"IF(Control!Q43<>\"\",Control!Q43,\"\")","v":499},{"$f":"IF(Control!P43<>\"\",Control!P43,\"\")","v":5435.7074148296597},null,null,null,null,null,"",{"$f":"IF(N55<>\"\",VLOOKUP(ABS(N55),Stats!$J$37:$K$42,2),\"\")","v":""},"","",""]
[null,36,{"$f":"IF(Control!H44<>\"\",Control!H44,\"\")","v":""},{"$f":"IF(Control!I44<>\"\",Control!I44,\"\")","v":""},{"$f":"Control!J44","v":""},{"$f":"Control!K44","v":""},{"$f":"IF(Control!Q44<>\"\",Control!Q44,\"\")","v":9981},{"$f":"IF(Control!P44<>\"\",Control!P44,\"\")","v":5584.2175132752227},null,null,null,null,null,"",{"$f":"IF(N56<>\"\",VLOOKUP(ABS(N56),Stats!$J$37:$K$42,2),\"\")","v":""},"","",""]
[null,37,{"$f":"IF(Control!H45<>\"\",Control!H45,\"\")","v":""},{"$f":"IF(Control!I45<>\"\",Control!I45,\"\")","v":""},{"$f":"Control!J45","v":""},{"$f":"Control!K45","v":""},{"$f":"IF(Control!Q45<>\"\",Control!Q45,\"\")","v":7982},{"$f":"IF(Control!P45<>\"\",Control!P45,\"\")","v":5732.7583312453016},null,null,null,null,null,"",{"$f":"IF(N57<>\"\",VLOOKUP(ABS(N57),Stats!$J$37:$K$42,2),\"\")","v":""},"","",""]
[null,38,{"$f":"IF(Control!H46<>\"\",Control!H46,\"\")","v":""},{"$f":"IF(Control!I46<>\"\",Control!I46,\"\")","v":""},{"$f":"Control!J46","v":""},{"$f":"Control!K46","v":""},{"$f":"IF(Control!Q46<>\"\",Control!Q46,\"\")","v":5984},{"$f":"IF(Control!P46<>\"\",Control!P46,\"\")","v":5881.2780748663099},null,null,null,null,null,"",{"$f":"IF(N58<>\"\",VLOOKUP(ABS(N58),Stats!$J$37:$K$42,2),\"\")","v":""},"","",""]
[null,39,{"$f":"IF(Control!H47<>\"\",Control!H47,\"\")","v":""},{"$f":"IF(Control!I47<>\"\",Control!I47,\"\")","v":""},{"$f":"Control!J47","v":""},{"$f":"Control!K47","v":""},{"$f":"IF(Control!Q47<>\"\",Control!Q47,\"\")","v":3990},{"$f":"IF(Control!P47<>\"\",Control!P47,\"\")","v":6029.8225563909773},null,null,null,null,null,"",{"$f":"IF(N59<>\"\",VLOOKUP(ABS(N59),Stats!$J$37:$K$42,2),\"\")","v":""},"","",""]
[null,40,{"$f":"IF(Control!H48<>\"\",Control!H48,\"\")","v":""},{"$f":"IF(Control!I48<>\"\",Control!I48,\"\")","v":""},{"$f":"Control!J48","v":""},{"$f":"Control!K48","v":""},{"$f":"IF(Control!Q48<>\"\",Control!Q48,\"\")","v":1995},{"$f":"IF(Control!P48<>\"\",Control!P48,\"\")","v":6178.333333333333},null,null,null,null,null,"",{"$f":"IF(N60<>\"\",VLOOKUP(ABS(N60),Stats!$J$37:$K$42,2),\"\")","v":""},"","",""]
[null,41,{"$f":"IF(Control!H49<>\"\",Control!H49,\"\")","v":""},{"$f":"IF(Control!I49<>\"\",Control!I49,\"\")","v":""},{"$f":"Control!J49","v":""},{"$f":"Control!K49","v":""},{"$f":"IF(Control!Q49<>\"\",Control!Q49,\"\")","v":995},{"$f":"IF(Control!P49<>\"\",Control!P49,\"\")","v":6326.8814070351755},null,null,null,null,null,"",{"$f":"IF(N61<>\"\",VLOOKUP(ABS(N61),Stats!$J$37:$K$42,2),\"\")","v":""},"","",""]
[null,42,{"$f":"IF(Control!H50<>\"\",Control!H50,\"\")","v":""},{"$f":"IF(Control!I50<>\"\",Control!I50,\"\")","v":""},{"$f":"Control!J50","v":""},{"$f":"Control!K50","v":""},{"$f":"IF(Control!Q50<>\"\",Control!Q50,\"\")","v":496},{"$f":"IF(Control!P50<>\"\",Control!P50,\"\")","v":6475.4032258064517},null,null,null,null,null,"",{"$f":"IF(N62<>\"\",VLOOKUP(ABS(N62),Stats!$J$37:$K$42,2),\"\")","v":""},"","",""]
[null,43,{"$f":"IF(Control!H51<>\"\",Control!H51,\"\")","v":""},{"$f":"IF(Control!I51<>\"\",Control!I51,\"\")","v":""},{"$f":"Control!J51","v":""},{"$f":"Control!K51","v":""},{"$f":"IF(Control!Q51<>\"\",Control!Q51,\"\")","v":9984},{"$f":"IF(Control!P51<>\"\",Control!P51,\"\")","v":6623.9428084935898},null,null,null,null,null,"",{"$f":"IF(N63<>\"\",VLOOKUP(ABS(N63),Stats!$J$37:$K$42,2),\"\")","v":""},"","",""]
[null,44,{"$f":"IF(Control!H52<>\"\",Control!H52,\"\")","v":""},{"$f":"IF(Control!I52<>\"\",Control!I52,\"\")","v":""},{"$f":"Control!J52","v":""},{"$f":"Control!K52","v":""},{"$f":"IF(Control!Q52<>\"\",Control!Q52,\"\")","v":7985},{"$f":"IF(Control!P52<>\"\",Control!P52,\"\")","v":6772.4634940513461},null,null,null,null,null,"",{"$f":"IF(N64<>\"\",VLOOKUP(ABS(N64),Stats!$J$37:$K$42,2),\"\")","v":""},"","",""]
[null,45,{"$f":"IF(Control!H53<>\"\",Control!H53,\"\")","v":""},{"$f":"IF(Control!I53<>\"\",Control!I53,\"\")","v":""},{"$f":"Control!J53","v":""},{"$f":"Control!K53","v":""},{"$f":"IF(Control!Q53<>\"\",Control!Q53,\"\")","v":5988},{"$f":"IF(Control!P53<>\"\",Control!P53,\"\")","v":6921.0058450233801},null,null,null,null,null,"",{"$f":"IF(N65<>\"\",VLOOKUP(ABS(N65),Stats!$J$37:$K$42,2),\"\")","v":""},"","",""]
[null,46,{"$f":"IF(Control!H54<>\"\",Control!H54,\"\")","v":""},{"$f":"IF(Control!I54<>\"\",Control!I54,\"\")","v":""},{"$f":"Control!J54","v":""},{"$f":"Control!K54","v":""},{"$f":"IF(Control!Q54<>\"\",Control!Q54,\"\")","v":3991},{"$f":"IF(Control!P54<>\"\",Control!P54,\"\")","v":7069.5507391631172},null,null,null,null,null,"",{"$f":"IF(N66<>\"\",VLOOKUP(ABS(N66),Stats!$J$37:$K$42,2),\"\")","v":""},"","",""]
[null,47,{"$f":"IF(Control!H55<>\"\",Control!H55,\"\")","v":""},{"$f":"IF(Control!I55<>\"\",Control!I55,\"\")","v":""},{"$f":"Control!J55","v":""},{"$f":"Control!K55","v":""},{"$f":"IF(Control!Q55<>\"\",Control!Q55,\"\")","v":1996},{"$f":"IF(Control!P55<>\"\",Control!P55,\"\")","v":7218.0586172344692},null,null,null,null,null,"",{"$f":"IF(N67<>\"\",VLOOKUP(ABS(N67),Stats!$J$37:$K$42,2),\"\")","v":""},"","",""]
[null,48,{"$f":"IF(Control!H56<>\"\",Control!H56,\"\")","v":""},{"$f":"IF(Control!I56<>\"\",Control!I56,\"\")","v":""},{"$f":"Control!J56","v":""},{"$f":"Control!K56","v":""},{"$f":"IF(Control!Q56<>\"\",Control!Q56,\"\")","v":996},{"$f":"IF(Control!P56<>\"\",Control!P56,\"\")","v":7366.6094377510044},null,null,null,null,null,"",{"$f":"IF(N68<>\"\",VLOOKUP(ABS(N68),Stats!$J$37:$K$42,2),\"\")","v":""},"","",""]
[null,49,{"$f":"IF(Control!H57<>\"\",Control!H57,\"\")","v":""},{"$f":"IF(Control!I57<>\"\",Control!I57,\"\")","v":""},{"$f":"Control!J57","v":""},{"$f":"Control!K57","v":""},{"$f":"IF(Control!Q57<>\"\",Control!Q57,\"\")","v":499},{"$f":"IF(Control!P57<>\"\",Control!P57,\"\")","v":7515.1182364729457},null,null,null,null,null,"",{"$f":"IF(N69<>\"\",VLOOKUP(ABS(N69),Stats!$J$37:$K$42,2),\"\")","v":""},"","",""]
[null,50,{"$f":"IF(Control!H58<>\"\",Control!H58,\"\")","v":""},{"$f":"IF(Control!I58<>\"\",Control!I58,\"\")","v":""},{"$f":"Control!J58","v":""},{"$f":"Control!K58","v":""},{"$f":"IF(Control!Q58<>\"\",Control!Q58,\"\")","v":9961},{"$f":"IF(Control!P58<>\"\",Control!P58,\"\")","v":7663.6764381086232},null,null,null,null,null,"",{"$f":"IF(N70<>\"\",VLOOKUP(ABS(N70),Stats!$J$37:$K$42,2),\"\")","v":""},"","",""]
[null,null,null,null,null,null,"Counts",null,null,"Area (counts)","%RSD",null,"Count",null,null,"RMS Cent Diff keV","RMS FWHM","Area  Ratio"]
[null,null,null,null,null,"Mean:",{"$f":"IF($M$72>0,AVERAGE(G21:G70),\"\")","v":""},null,null,{"$f":"IF($M$72>0,AVERAGE(J21:J70),\"\")","v":""},{"$f":"IF($M$72>0,AVERAGE(K21:K70),\"\")","v":""},null,{"$f":"COUNT(L21:L70)","v":0},null,"RMS Deviations:",{"$f":"IF($M$72>0,SQRT(SUMSQ(P21:P70)/P73),\"\")","v":""},{"$f":"IF(Q73<>0,SQRT(SUMSQ(Q21:Q70)/Q73),\"\")","v":""},{"$f":"IF($M$72>0,SQRT(AVERAGE(R21:R70)),\"\")","v":""}]
[null,null,null,null,null,"Stdev:",{"$f":"IF($M$72>0,STDEV(G21:G70),\"\")","v":""},null,null,{"$f":"IF($M$72>0,STDEV(J21:J70),\"\")","v":""},{"$f":"IF($M$72>0,STDEV(K21:K70),\"\")","v":""},null,null,null,"Number Items:",{"$f":"COUNT(L21:L70)","v":0},{"$f":"COUNT(M21:M70)","v":0},{"$f":"COUNT(N21:N70)","v":0}]
[null,null,null,null,null,"%RSD:",{"$f":"IF($M$72>0,G73/G72,\"\")","v":""},null,null,{"$f":"IF($M$72>0,J73/J72,\"\")","v":""},{"$f":"IF($M$72>0,K73/K72,\"\")","v":""}]

{"sheet":"Stats","index":5,"n_rows":57,"n_cols":22,"rows_kept":57,"cut":false,"hidden":false,"merged":[]}
["Assessment of Variable Items"]
[null,null,null,null,null,null,null,null,null,null,{"$f":"Assessment!J2","v":0}]
[null,"Averages:",{"$f":"AVERAGE(C8:C57)","v":{"$error":"#DIV/0!"}},{"$f":"AVERAGE(D8:D57)","v":{"$error":"#DIV/0!"}},{"$f":"AVERAGE(E8:E57)","v":{"$error":"#DIV/0!"}},null,{"$f":"AVERAGE(G8:G57)","v":{"$error":"#DIV/0!"}},null,null,null,{"$f":"Assessment!J3","v":""},null,null,null,null,null,null,null,null,null,-3.5,0]
[null,"St. Unc:",{"$f":"STDEV(C8:C57)","v":{"$error":"#DIV/0!"}},{"$f":"STDEV(D8:D57)","v":{"$error":"#DIV/0!"}},{"$f":"STDEV(E8:E57)","v":{"$error":"#DIV/0!"}},{"$f":"COUNT(F8:F57)","v":0},null," ",null,"Bin","Found","Bin*Found","Fraction","Theoretical",null,null,null,null,null,null,-3.5,5.977006485076819E-3]
[null,"RSD%",{"$f":"C4/C3","v":{"$error":"#DIV/0!"}},{"$f":"D4/D3","v":{"$error":"#DIV/0!"}},{"$f":"E4/E3","v":{"$error":"#DIV/0!"}},"Peaks",null,null,null,null,null,null,null,null,null,null,null,null,null,null,-2.5,5.977006485076819E-3]
[null,null,null,null,null,null,null,null,{"$f":"I7-$E$4","v":{"$error":"#DIV/0!"}},-4,{"$f":"FREQUENCY(E8:E56,I6:I15)","v":0},{"$f":"K6*J6","v":0},{"$f":"K6/$K$17","v":{"$error":"#N/A"}},2.2927257060689765E-4,null,null,null,null,null,null,-2.5,0]
["Item","Expected","Measured","%RSD","Ratio","Diff","Z-score",null,{"$f":"I8-$E$4","v":{"$error":"#DIV/0!"}},-3,0,0,{"$f":"K7/$K$17","v":{"$error":"#N/A"}},5.977006485076819E-3,null,null,null,null,null,null,-2.5,6.0597548934704926E-2]
[{"$f":"IF(B8<>\"\",1,\"\")","v":1},{"$f":"Assessment!G21","v":9995},{"$f":"IF(Assessment!J21<>\"\",Assessment!J21,\"\")","v":""},{"$f":"IF(C8<>\"\",Assessment!K21,\"\")","v":""},{"$f":"IF(C8<>\"\",C8/B8,\"\")","v":""},{"$f":"IF(C8<>\"\",C8-B8,\"\")","v":""},{"$f":"IF(C8<>\"\",(C8-B8)/(C8*D8),\"\")","v":""},null,{"$f":"I9-$E$4","v":{"$error":"#DIV/0!"}},-2,{"$error":"#N/A"},{"$error":"#N/A"},{"$error":"#N/A"},6.0597548934704926E-2,null,null,null,null,null,null,-1.5,6.0597548934704926E-2]
[{"$f":"IF(B9<>\"\",A8+1,\"\")","v":2},{"$f":"Assessment!G22","v":7994},{"$f":"IF(Assessment!J22<>\"\",Assessment!J22,\"\")","v":""},{"$f":"IF(C9<>\"\",Assessment!K22,\"\")","v":""},{"$f":"IF(C9<>\"\",C9/B9,\"\")","v":""},{"$f":"IF(C9<>\"\",C9-B9,\"\")","v":""},{"$f":"IF(C9<>\"\",(C9-B9)/(C9*D9),\"\")","v":""},null,{"$f":"1-E4/2","v":{"$error":"#DIV/0!"}},-1,{"$error":"#N/A"},{"$error":"#N/A"},{"$f":"K9/$K$17","v":{"$error":"#N/A"}},0.24173030384225858,null,null,null,null,null,null,-1.5,0]
[3,{"$f":"Assessment!G23","v":5993},{"$f":"IF(Assessment!J23<>\"\",Assessment!J23,\"\")","v":""},{"$f":"IF(C10<>\"\",Assessment!K23,\"\")","v":""},"","","",null,{"$f":"1+E4/2","v":{"$error":"#DIV/0!"}},0,{"$error":"#N/A"},{"$error":"#N/A"},{"$error":"#N/A"},0.38292493472858191,null,null,null,null,null,null,-1.5,0.24173030384225858]
[4,{"$f":"Assessment!G24","v":3993},{"$f":"IF(Assessment!J24<>\"\",Assessment!J24,\"\")","v":""},{"$f":"IF(C11<>\"\",Assessment!K24,\"\")","v":""},"","","",null,{"$f":"I10+$E$4","v":{"$error":"#DIV/0!"}},1,{"$error":"#N/A"},{"$error":"#N/A"},{"$error":"#N/A"},0.24173030384225835,null,null,null,null,null,null,-0.5,0.24173030384225858]
[5,{"$f":"Assessment!G25","v":1999},{"$f":"IF(Assessment!J25<>\"\",Assessment!J25,\"\")","v":""},{"$f":"IF(C12<>\"\",Assessment!K25,\"\")","v":""},"","","",null,{"$f":"I11+$E$4","v":{"$error":"#DIV/0!"}},2,{"$error":"#N/A"},{"$error":"#N/A"},{"$error":"#N/A"},6.0597548934704926E-2,null,null,null,null,null,null,-0.5,0]
[6,{"$f":"Assessment!G26","v":1000},{"$f":"IF(Assessment!J26<>\"\",Assessment!J26,\"\")","v":""},{"$f":"IF(C13<>\"\",Assessment!K26,\"\")","v":""},"","","",null,{"$f":"I12+$E$4","v":{"$error":"#DIV/0!"}},3,{"$error":"#N/A"},{"$error":"#N/A"},{"$error":"#N/A"},5.977006485076819E-3,null,null,null,null,null,null,-0.5,0.38292493472858191]
[7,{"$f":"Assessment!G27","v":501},{"$f":"IF(Assessment!J27<>\"\",Assessment!J27,\"\")","v":""},{"$f":"IF(C14<>\"\",Assessment!K27,\"\")","v":""},"","","",null,{"$f":"I13+$E$4","v":{"$error":"#DIV/0!"}},4,{"$error":"#N/A"},{"$error":"#N/A"},{"$error":"#N/A"},2.2927257060689765E-4,null,null,null,null,null,null,0.5,0.38292493472858191]
[8,{"$f":"Assessment!G28","v":9987},{"$f":"IF(Assessment!J28<>\"\",Assessment!J28,\"\")","v":""},{"$f":"IF(C15<>\"\",Assessment!K28,\"\")","v":""},"","","",null,{"$f":"I14+$E$4","v":{"$error":"#DIV/0!"}},null,{"$error":"#N/A"},null,null,null,null,null,null,null,null,null,0.5,0]
[9,{"$f":"Assessment!G29","v":7988},{"$f":"IF(Assessment!J29<>\"\",Assessment!J29,\"\")","v":""},{"$f":"IF(C16<>\"\",Assessment!K29,\"\")","v":""},"","","",null,null,null,null,null,null,null,null,null,null,null,null,null,0.5,0.24173030384225835]
[10,{"$f":"Assessment!G30","v":5984},{"$f":"IF(Assessment!J30<>\"\",Assessment!J30,\"\")","v":""},{"$f":"IF(C17<>\"\",Assessment!K30,\"\")","v":""},"","","",null,null,"Sums:",{"$f":"SUM(K6:K15)","v":{"$error":"#N/A"}},{"$f":"SUM(L6:L15)/K17","v":{"$error":"#N/A"}},{"$f":"SUM(M6:M15)","v":{"$error":"#N/A"}},null,null,null,null,null,null,null,1.5,0.24173030384225835]
[11,{"$f":"Assessment!G31","v":3989},{"$f":"IF(Assessment!J31<>\"\",Assessment!J31,\"\")","v":""},{"$f":"IF(C18<>\"\",Assessment!K31,\"\")","v":""},"","","",null,null,null,null,null,null,null,null,null,null,null,null,null,1.5,0]
[12,{"$f":"Assessment!G32","v":1999},{"$f":"IF(Assessment!J32<>\"\",Assessment!J32,\"\")","v":""},{"$f":"IF(C19<>\"\",Assessment!K32,\"\")","v":""},"","","",null,null,null,null,null,null,null,null,null,null,null,null,null,1.5,6.0597548934704926E-2]
[13,{"$f":"Assessment!G33","v":1000},{"$f":"IF(Assessment!J33<>\"\",Assessment!J33,\"\")","v":""},{"$f":"IF(C20<>\"\",Assessment!K33,\"\")","v":""},"","","",null,null,null,"Mean Count  Ratio",{"$f":"AVERAGE(E8:E57)","v":{"$error":"#DIV/0!"}},{"$f":"CONCATENATE(\"Mean Count Ratio:    \",ROUND(L20,3),\" (\",TEXT(L23,\"0.0%\"),\")\")","v":{"$error":"#DIV/0!"}},null,null,null,null,null,null,null,2.5,6.0597548934704926E-2]
[14,{"$f":"Assessment!G34","v":500},{"$f":"IF(Assessment!J34<>\"\",Assessment!J34,\"\")","v":""},{"$f":"IF(C21<>\"\",Assessment!K34,\"\")","v":""},"","","",null,null,null,"Uncertainty of Ratio",{"$f":"STDEV(E8:E57)","v":{"$error":"#DIV/0!"}},null,null,null,null,null,null,null,null,2.5,0]
[15,{"$f":"Assessment!G35","v":9985},{"$f":"IF(Assessment!J35<>\"\",Assessment!J35,\"\")","v":""},{"$f":"IF(C22<>\"\",Assessment!K35,\"\")","v":""},{"$f":"IF(C22<>\"\",C22/B22,\"\")","v":""},{"$f":"IF(C22<>\"\",C22-B22,\"\")","v":""},"",null,null,null,"Significance",{"$f":"(L20-1)/L21","v":{"$error":"#DIV/0!"}},{"$f":"VLOOKUP(ABS(L22),Stats!$J$37:$K$42,2)","v":{"$error":"#DIV/0!"}},null,null,null,null,null,null,null,2.5,5.977006485076819E-3]
[16,{"$f":"Assessment!G36","v":7981},{"$f":"IF(Assessment!J36<>\"\",Assessment!J36,\"\")","v":""},{"$f":"IF(C23<>\"\",Assessment!K36,\"\")","v":""},"","","",null,null,null,"%RSD of Ratio",{"$f":"L21/L20","v":{"$error":"#DIV/0!"}},null,null,null,null,null,null,null,null,3.5,5.977006485076819E-3]
[17,{"$f":"Assessment!G37","v":5985},{"$f":"IF(Assessment!J37<>\"\",Assessment!J37,\"\")","v":""},{"$f":"IF(C24<>\"\",Assessment!K37,\"\")","v":""},"","","",null,null,null,null,null,null,null,null,null,null,null,null,null,3.5,0]
[18,{"$f":"Assessment!G38","v":3997},{"$f":"IF(Assessment!J38<>\"\",Assessment!J38,\"\")","v":""},{"$f":"IF(C25<>\"\",Assessment!K38,\"\")","v":""},"","","",null,null,null,"Centroid of Distribution",{"$f":"L17","v":{"$error":"#N/A"}}]
[19,{"$f":"Assessment!G39","v":1999},{"$f":"IF(Assessment!J39<>\"\",Assessment!J39,\"\")","v":""},{"$f":"IF(C26<>\"\",Assessment!K39,\"\")","v":""},"","","",null,null,null,"Significance",{"$f":"(L20-1)/L21","v":{"$error":"#DIV/0!"}}]
[20,{"$f":"Assessment!G40","v":999},{"$f":"IF(Assessment!J40<>\"\",Assessment!J40,\"\")","v":""},{"$f":"IF(C27<>\"\",Assessment!K40,\"\")","v":""},"","","",null,null,null,"Number of Peaks",{"$f":"COUNT(F8:F57)","v":0}]
[21,{"$f":"Assessment!G41","v":500},{"$f":"IF(Assessment!J41<>\"\",Assessment!J41,\"\")","v":""},{"$f":"IF(C28<>\"\",Assessment!K41,\"\")","v":""},"","","",null,null,null,"Mean z-score",{"$f":"AVERAGE(G8:G57)","v":{"$error":"#DIV/0!"}}]
[22,{"$f":"Assessment!G42","v":9981},{"$f":"IF(Assessment!J42<>\"\",Assessment!J42,\"\")","v":""},{"$f":"IF(C29<>\"\",Assessment!K42,\"\")","v":""},"","",""]
[23,{"$f":"Assessment!G43","v":7978},{"$f":"IF(Assessment!J43<>\"\",Assessment!J43,\"\")","v":""},{"$f":"IF(C30<>\"\",Assessment!K43,\"\")","v":""},"","",""]
[24,{"$f":"Assessment!G44","v":5984},{"$f":"IF(Assessment!J44<>\"\",Assessment!J44,\"\")","v":""},{"$f":"IF(C31<>\"\",Assessment!K44,\"\")","v":""},"","","",null,null,"Plot Limits"]
[25,{"$f":"Assessment!G45","v":3984},{"$f":"IF(Assessment!J45<>\"\",Assessment!J45,\"\")","v":""},{"$f":"IF(C32<>\"\",Assessment!K45,\"\")","v":""},"","","",null,null,0,0]
[26,{"$f":"Assessment!G46","v":1996},{"$f":"IF(Assessment!J46<>\"\",Assessment!J46,\"\")","v":""},{"$f":"IF(C33<>\"\",Assessment!K46,\"\")","v":""},"","","",null,null,0,25]
[27,{"$f":"Assessment!G47","v":998},{"$f":"IF(Assessment!J47<>\"\",Assessment!J47,\"\")","v":""},{"$f":"IF(C34<>\"\",Assessment!K47,\"\")","v":""},"","","",null,null,{"$f":"L25","v":{"$error":"#N/A"}},0]
[28,{"$f":"Assessment!G48","v":499},{"$f":"IF(Assessment!J48<>\"\",Assessment!J48,\"\")","v":""},{"$f":"IF(C35<>\"\",Assessment!K48,\"\")","v":""},"","","",null,null,{"$f":"J34","v":{"$error":"#N/A"}},25]
[29,{"$f":"Assessment!G49","v":9978},{"$f":"IF(Assessment!J49<>\"\",Assessment!J49,\"\")","v":""},{"$f":"IF(C36<>\"\",Assessment!K49,\"\")","v":""},"","",""]
[30,{"$f":"Assessment!G50","v":7982},{"$f":"IF(Assessment!J50<>\"\",Assessment!J50,\"\")","v":""},{"$f":"IF(C37<>\"\",Assessment!K50,\"\")","v":""},"","","",null,null,0," "]
[31,{"$f":"Assessment!G51","v":5985},{"$f":"IF(Assessment!J51<>\"\",Assessment!J51,\"\")","v":""},{"$f":"IF(C38<>\"\",Assessment!K51,\"\")","v":""},"","","",null,null,1,"May be significant at 84%"]
[32,{"$f":"Assessment!G52","v":3986},{"$f":"IF(Assessment!J52<>\"\",Assessment!J52,\"\")","v":""},{"$f":"IF(C39<>\"\",Assessment!K52,\"\")","v":""},"","","",null,null,1.282,"Significant at 90%"]
[33,{"$f":"Assessment!G53","v":1992},{"$f":"IF(Assessment!J53<>\"\",Assessment!J53,\"\")","v":""},{"$f":"IF(C40<>\"\",Assessment!K53,\"\")","v":""},"","","",null,null,1.645,"Significant at 95%"]
[{"$f":"IF(B41<>\"\",A40+1,\"\")","v":34},{"$f":"Assessment!G54","v":1000},{"$f":"IF(Assessment!J54<>\"\",Assessment!J54,\"\")","v":""},{"$f":"IF(C41<>\"\",Assessment!K54,\"\")","v":""},"","","",null,null,2.2360000000000002,"Significant at 99%"]
[35,{"$f":"Assessment!G55","v":499},{"$f":"IF(Assessment!J55<>\"\",Assessment!J55,\"\")","v":""},{"$f":"IF(C42<>\"\",Assessment!K55,\"\")","v":""},"","","",null,null,3,"Significant at 99.9%"]
[36,{"$f":"Assessment!G56","v":9981},{"$f":"IF(Assessment!J56<>\"\",Assessment!J56,\"\")","v":""},{"$f":"IF(C43<>\"\",Assessment!K56,\"\")","v":""},"","",""]
[37,{"$f":"Assessment!G57","v":7982},{"$f":"IF(Assessment!J57<>\"\",Assessment!J57,\"\")","v":""},{"$f":"IF(C44<>\"\",Assessment!K57,\"\")","v":""},"","",""]
[38,{"$f":"Assessment!G58","v":5984},{"$f":"IF(Assessment!J58<>\"\",Assessment!J58,\"\")","v":""},{"$f":"IF(C45<>\"\",Assessment!K58,\"\")","v":""},"","",""]
[39,{"$f":"Assessment!G59","v":3990},{"$f":"IF(Assessment!J59<>\"\",Assessment!J59,\"\")","v":""},{"$f":"IF(C46<>\"\",Assessment!K59,\"\")","v":""},"","",""]
[40,{"$f":"Assessment!G60","v":1995},{"$f":"IF(Assessment!J60<>\"\",Assessment!J60,\"\")","v":""},{"$f":"IF(C47<>\"\",Assessment!K60,\"\")","v":""},"","",""]
[41,{"$f":"Assessment!G61","v":995},{"$f":"IF(Assessment!J61<>\"\",Assessment!J61,\"\")","v":""},{"$f":"IF(C48<>\"\",Assessment!K61,\"\")","v":""},"","",""]
[42,{"$f":"Assessment!G62","v":496},{"$f":"IF(Assessment!J62<>\"\",Assessment!J62,\"\")","v":""},{"$f":"IF(C49<>\"\",Assessment!K62,\"\")","v":""},"","",""]
[43,{"$f":"Assessment!G63","v":9984},{"$f":"IF(Assessment!J63<>\"\",Assessment!J63,\"\")","v":""},{"$f":"IF(C50<>\"\",Assessment!K63,\"\")","v":""},"","",""]
[44,{"$f":"Assessment!G64","v":7985},{"$f":"IF(Assessment!J64<>\"\",Assessment!J64,\"\")","v":""},{"$f":"IF(C51<>\"\",Assessment!K64,\"\")","v":""},"","",""]
[45,{"$f":"Assessment!G65","v":5988},{"$f":"IF(Assessment!J65<>\"\",Assessment!J65,\"\")","v":""},{"$f":"IF(C52<>\"\",Assessment!K65,\"\")","v":""},"","",""]
[46,{"$f":"Assessment!G66","v":3991},{"$f":"IF(Assessment!J66<>\"\",Assessment!J66,\"\")","v":""},{"$f":"IF(C53<>\"\",Assessment!K66,\"\")","v":""},"","",""]
[47,{"$f":"Assessment!G67","v":1996},{"$f":"IF(Assessment!J67<>\"\",Assessment!J67,\"\")","v":""},{"$f":"IF(C54<>\"\",Assessment!K67,\"\")","v":""},"","",""]
[48,{"$f":"Assessment!G68","v":996},{"$f":"IF(Assessment!J68<>\"\",Assessment!J68,\"\")","v":""},{"$f":"IF(C55<>\"\",Assessment!K68,\"\")","v":""},"","",""]
[49,{"$f":"Assessment!G69","v":499},{"$f":"IF(Assessment!J69<>\"\",Assessment!J69,\"\")","v":""},{"$f":"IF(C56<>\"\",Assessment!K69,\"\")","v":""},"","",""]
[50,{"$f":"Assessment!G70","v":9961},{"$f":"IF(Assessment!J70<>\"\",Assessment!J70,\"\")","v":""},{"$f":"IF(C57<>\"\",Assessment!K70,\"\")","v":""},"","",""]

{"sheet":"Plots","index":6,"n_rows":5,"n_cols":8,"rows_kept":5,"cut":false,"hidden":false,"merged":[]}
[]
[]
[]
[null,null,null,null,null,0,8192,"X"]
[null,null,null,null,null,0,0,"Y"]